{"text_format":"1","workbook":"xlsx","n_sheets":12,"sheets":["Startside","Opbygning","Dine valg","RegNøgletal","Indtastningsark","Nøgletalsanalyse","Rapport","Infotekster","Skyggetabeller","Hjælpefane","Data","Økonomidata"],"not_rendered":{"charts":83,"images":55,"macros":1,"external_links":0,"defined_names":216,"comments":0,"pivot_tables":0},"unopened":[],"bounds":{"document_bytes":16777216,"sheet_cells":100000,"rows_first":2000,"rows_last":500,"rows_between":2000,"halvings":0,"cell_chars":16384,"cell_head_chars":4096},"cells_cut":0,"cells_raw":0,"read":"whole","date_system":"1900"}

{"sheet":"Startside","index":0,"n_rows":17,"n_cols":2,"rows_kept":17,"cut":false,"hidden":false,"merged":[[14,1,14,17],[15,1,15,17],[16,1,16,17]]}
[]
[]
[]
[]
[]
[]
[]
[null,"Socialpsykiatriens Nøgletal"]
[]
[]
[null,"Version 1.2"]
[]
[]
[]
[null,"Socialpsykiatriens Nøgletal er udviklet til kommuner, der arbejder med omlægning mod en mere recovery-orienteret og rehabiliterende indsats på området for socialpsykiatrien.  Med redskabet kan kommuner følge omlægningen på en række centrale nøgletal, som er udvalgt i partnerskab mellem Social- og Boligstyrelsen og partnerskabskommunerne Roskilde, Herning, Randers og Rudersdal."]
[null,"Omlægningen til en mere recovery-orienteret og rehabiliterende indsats bygger på en række principper, der alle er forbundne. Alle principper skal opfyldes før end en fuld omlægning har fundet sted. Principperne er udviklet i samarbejde mellem Social- og Boligstyrelsen og partnerskabskommunerne og tager udgangspunkt i personlig recovery."]
[null,"I forlængelse af tilgangen om recovery-orienteret rehabilitering er der udviklet en indsatstrappe for socialpsykiatrien. Socialpsykiatriens Indsatstrappe illustrerer, hvor tæt borgerne er på et almindeligt hverdagsliv. De forskellige indsatser er placeret på trappens trin, afhængigt af hvor langt borgere, der modtager indsatsen, generelt vurderes at være fra et almindeligt hverdagsliv. På de nederste trin er borgerne tæt på et almindeligt hverdagsliv, mens borgerne på de øverste trin er langt fra et almindeligt hverdagsliv. Socialpsykiatriens Indsatstrappe belyst ved nøgletal kan vise progression for den samlede målgruppe. "]

{"sheet":"Opbygning","index":1,"n_rows":6,"n_cols":2,"rows_kept":6,"cut":false,"hidden":false,"merged":[[5,1,16,12]]}
[]
[]
[null,"Redskabets opbygning"]
[]
[]
[null,"Redskabet er opbygget i trin, som vist til højre.\n\nEfter forsiden, og denne side med introduktion til redskabet og dets opbygning, skal du foretage de grundlæggende valg for din analyse. Herunder, hvilken kommune du vil arbejde med og, hvilke du vil sammenligne med.\n\nUnder \"Registerdata\" kan du se data for de nøgletal, der kan belyses med nationale registerdata.\nUnder \"Egne indtastninger\", kan du indtaste data for de nøgletal, som ikke kan belyses med nationale registerdata.\nUnder \"Nøgletalsanalyse\" kan du se udviklingen i de enkelte nøgletal, og sammenligne med et gennemsnit for dine valgte sammenligningskommuner og et landsgennemsnit.\n\nDen røde bjælke øverst er en navigationsbjælke. Herfra kan du tilgå de enkelte sider. Foruden førnævnte sider kan du bruge printikonet, hvis du ønsker til at udskrive en rapport med udvalgte nøgletal."]

{"sheet":"Dine valg","index":2,"n_rows":30,"n_cols":11,"rows_kept":30,"cut":false,"hidden":false,"merged":[[22,3,22,4],[4,1,17,4],[24,1,26,1]]}
[]
[]
[null,"Dine valg"]
[]
[null,"Før du går igang med at bruge redskabet, skal du tage stilling til, hvilken kommune du ønsker at se nøgletal for.\nDesuden kan du vælge op til syv kommuner, som du gerne vil sammenligne den valgte kommune med.\n\nNår du har foretaget dit valg, har du tre muligheder: \n\n1. Du kan se nøgletallene over tid og sammenligne med andre aktører ved at bruge knappen \"Nøgletalsanalyse\".\n\n2. Du kan se datagrundlaget for de nøgletal, der kan understøttes af registerdata ved at bruge knappen \"Registerdata\". \n\n3. Du kan se datagrundlaget for de nøgletal, som du selv har indtastet, ved at bruge knappen \"Egne indtastninger\"."]
[]
[null,null,null,null,null,null,null,null,null,null,"Kommuner:"]
[null,null,null,null,null,null,null,null,null,null,"Allerød"]
[null,null,null,null,null,null,null,null,null,null,"Assens"]
[null,null,null,null,null,null,null,null,null,null,"Ballerup"]
[]
[]
[]
[]
[]
[]
[]
[]
[]
[]
[]
[]
[null,"Vælg kommune",null,"Vælg sammenligningsgruppe",null,null,"Valgte kommuner"]
[null,{"$f":"VLOOKUP(Kom_valg,Data!B1072:C1169,2,FALSE)","v":"Herning"},null,null,null,null,{"$f":"IF(K8=\"\",\"\",K8)","v":"Allerød"}]
[null,"Data for Dragør er sammenlagt med data for Tårnby, da de to kommuner indberetter handicapydelser samlet til Danmarks Statistik",null,null,null,null,"Assens"]
[null,null,null,null,null,null,"Ballerup"]
[null,null,null,null,null,null,""]
[null,null,null,null,null,null,""]
[null,null,null,null,null,null,""]
[null,null,null,null,null,null,""]

{"sheet":"RegNøgletal","index":3,"n_rows":236,"n_cols":14,"rows_kept":236,"cut":false,"hidden":false,"merged":[[226,1,226,2],[205,1,205,2],[213,1,213,3],[216,1,216,2],[59,1,59,4],[72,1,72,4],[154,1,154,2],[166,1,166,2],[186,1,186,2],[194,1,194,2],[151,1,151,3],[177,1,177,2],[89,1,89,2],[84,1,84,4],[130,1,130,2],[142,1,142,2],[2,3,3,3],[118,1,118,2],[100,1,100,2],[109,1,109,2],[28,1,28,2],[35,1,35,4],[40,1,40,2],[52,1,52,2],[61,1,61,3],[74,1,74,3],[65,1,65,2],[77,1,77,2],[5,1,5,5],[47,1,47,4],[9,1,9,2]]}
[]
[]
[null,"Registerdata"]
[]
[]
[null,"En række af nøgletallene i redskabet er baseret på registerdata. På denne side kan du se de registerbaserede nøgletal og se, hvordan de registerebaserede nøgletal for din valgte kommune ændrer sig over tid. \n\nDu kan vælge ét nøgletal af gangen, ved at vælge nøgletallet i rullemenuen nedenfor. Du kan se definitionen af det enkelte nøgletal, ved at klikke på infoknappen til venstre for tabellen.\n\nNøgletallet vil blive opgjort fra 2018 til seneste tilgængelige år i data. Der vil årligt blive tilføjet data, når registrene bliver opdateret af Danmarks Statistik.\n\nDu kan se alle nøgletal over tid og sammenligne med andre aktører ved at vælge knappen \"Nøgletalsanalyse\".\n\nBemærk, at nøgletallet angives med *, hvis antallet af observationer er mindre end 3 individer."]
[]
[]
[]
[null,"Vælg nøgletal"]
[null,{"$f":"VLOOKUP(RegNT_valg,Data!E1098:F1112,2,FALSE)","v":"Nøgletal 1 - Modtagere af længerevarende botilbud"}]
[]
[]
[]
[null,"Valgt nøgletal: Nøgletal 1"]
[]
[null,"Nøgletal 1: \nModtagere af længerevarende botilbud",null,"2018-01-01","2018-07-01","2019-01-01","2019-07-01","2020-01-01","2020-07-01","2021-01-01","2021-07-01","2022-01-01","2022-07-01","2023-01-01"]
[null,{"$f":"IF(Kommune=\"\",\"Kommune\",Kommune)","v":"Herning"},null,20181,20182,20191,20192,20201,20202,20211,20212,20221,20222,20231]
[null,"Andel",null,{"$f":"IF(Datanedslag>D17,IF(OR(D20=\"*\",D21=\"*\"),\"*\",IF(D21=0,0,(D20/D21))),IF(Datanedslag=D17,IF(OR(D20=\"*\",D21=\"*\"),\"*\",IF(D21=0,0,(D20/D21))),\"\"))","v":4.9382716049382713E-2},{"$f":"IF(Datanedslag>E17,IF(OR(E20=\"*\",E21=\"*\"),\"*\",IF(E21=0,0,(E20/E21))),IF(Datanedslag=E17,IF(OR(E20=\"*\",E21=\"*\"),\"*\",IF(E21=0,0,(E20/E21))),\"\"))","v":5.1597051597051594E-2},{"$f":"IF(Datanedslag>F17,IF(OR(F20=\"*\",F21=\"*\"),\"*\",IF(F21=0,0,(F20/F21))),IF(Datanedslag=F17,IF(OR(F20=\"*\",F21=\"*\"),\"*\",IF(F21=0,0,(F20/F21))),\"\"))","v":5.6410256410256411E-2},{"$f":"IF(Datanedslag>G17,IF(OR(G20=\"*\",G21=\"*\"),\"*\",IF(G21=0,0,(G20/G21))),IF(Datanedslag=G17,IF(OR(G20=\"*\",G21=\"*\"),\"*\",IF(G21=0,0,(G20/G21))),\"\"))","v":5.8823529411764705E-2},{"$f":"IF(Datanedslag>H17,IF(OR(H20=\"*\",H21=\"*\"),\"*\",IF(H21=0,0,(H20/H21))),IF(Datanedslag=H17,IF(OR(H20=\"*\",H21=\"*\"),\"*\",IF(H21=0,0,(H20/H21))),\"\"))","v":6.0606060606060608E-2},{"$f":"IF(Datanedslag>I17,IF(OR(I20=\"*\",I21=\"*\"),\"*\",IF(I21=0,0,(I20/I21))),IF(Datanedslag=I17,IF(OR(I20=\"*\",I21=\"*\"),\"*\",IF(I21=0,0,(I20/I21))),\"\"))","v":5.4830287206266322E-2},{"$f":"IF(Datanedslag>J17,IF(OR(J20=\"*\",J21=\"*\"),\"*\",IF(J21=0,0,(J20/J21))),IF(Datanedslag=J17,IF(OR(J20=\"*\",J21=\"*\"),\"*\",IF(J21=0,0,(J20/J21))),\"\"))","v":5.181347150259067E-2},{"$f":"IF(Datanedslag>K17,IF(OR(K20=\"*\",K21=\"*\"),\"*\",IF(K21=0,0,(K20/K21))),IF(Datanedslag=K17,IF(OR(K20=\"*\",K21=\"*\"),\"*\",IF(K21=0,0,(K20/K21))),\"\"))","v":4.859335038363171E-2},{"$f":"IF(Datanedslag>L17,IF(OR(L20=\"*\",L21=\"*\"),\"*\",IF(L21=0,0,(L20/L21))),IF(Datanedslag=L17,IF(OR(L20=\"*\",L21=\"*\"),\"*\",IF(L21=0,0,(L20/L21))),\"\"))","v":4.960835509138381E-2},{"$f":"IF(Datanedslag>M17,IF(OR(M20=\"*\",M21=\"*\"),\"*\",IF(M21=0,0,(M20/M21))),IF(Datanedslag=M17,IF(OR(M20=\"*\",M21=\"*\"),\"*\",IF(M21=0,0,(M20/M21))),\"\"))","v":5.4794520547945202E-2},{"$f":"IF(Datanedslag>N17,IF(OR(N20=\"*\",N21=\"*\"),\"*\",IF(N21=0,0,(N20/N21))),IF(Datanedslag=N17,IF(OR(N20=\"*\",N21=\"*\"),\"*\",IF(N21=0,0,(N20/N21))),\"\"))","v":5.5555555555555552E-2}]
[null,"Antal modtagere",null,{"$f":"IF(Datanedslag>=D17,IF(INDEX(Data_kom2,MATCH(1,(komnavn2=Kommune)*(komaar2=D18),0),4)=\"\",\"*\",INDEX(Data_kom2,MATCH(1,(komnavn2=Kommune)*(komaar2=D18),0),4)),\"\")","v":20},{"$f":"IF(Datanedslag>=E17,IF(INDEX(Data_kom2,MATCH(1,(komnavn2=Kommune)*(komaar2=E18),0),4)=\"\",\"*\",INDEX(Data_kom2,MATCH(1,(komnavn2=Kommune)*(komaar2=E18),0),4)),\"\")","v":21},{"$f":"IF(Datanedslag>=F17,IF(INDEX(Data_kom2,MATCH(1,(komnavn2=Kommune)*(komaar2=F18),0),4)=\"\",\"*\",INDEX(Data_kom2,MATCH(1,(komnavn2=Kommune)*(komaar2=F18),0),4)),\"\")","v":22},{"$f":"IF(Datanedslag>=G17,IF(INDEX(Data_kom2,MATCH(1,(komnavn2=Kommune)*(komaar2=G18),0),4)=\"\",\"*\",INDEX(Data_kom2,MATCH(1,(komnavn2=Kommune)*(komaar2=G18),0),4)),\"\")","v":22},{"$f":"IF(Datanedslag>=H17,IF(INDEX(Data_kom2,MATCH(1,(komnavn2=Kommune)*(komaar2=H18),0),4)=\"\",\"*\",INDEX(Data_kom2,MATCH(1,(komnavn2=Kommune)*(komaar2=H18),0),4)),\"\")","v":22},{"$f":"IF(Datanedslag>=I17,IF(INDEX(Data_kom2,MATCH(1,(komnavn2=Kommune)*(komaar2=I18),0),4)=\"\",\"*\",INDEX(Data_kom2,MATCH(1,(komnavn2=Kommune)*(komaar2=I18),0),4)),\"\")","v":21},{"$f":"IF(Datanedslag>=J17,IF(INDEX(Data_kom2,MATCH(1,(komnavn2=Kommune)*(komaar2=J18),0),4)=\"\",\"*\",INDEX(Data_kom2,MATCH(1,(komnavn2=Kommune)*(komaar2=J18),0),4)),\"\")","v":20},{"$f":"IF(Datanedslag>=K17,IF(INDEX(Data_kom2,MATCH(1,(komnavn2=Kommune)*(komaar2=K18),0),4)=\"\",\"*\",INDEX(Data_kom2,MATCH(1,(komnavn2=Kommune)*(komaar2=K18),0),4)),\"\")","v":19},{"$f":"IF(Datanedslag>=L17,IF(INDEX(Data_kom2,MATCH(1,(komnavn2=Kommune)*(komaar2=L18),0),4)=\"\",\"*\",INDEX(Data_kom2,MATCH(1,(komnavn2=Kommune)*(komaar2=L18),0),4)),\"\")","v":19},{"$f":"IF(Datanedslag>=M17,IF(INDEX(Data_kom2,MATCH(1,(komnavn2=Kommune)*(komaar2=M18),0),4)=\"\",\"*\",INDEX(Data_kom2,MATCH(1,(komnavn2=Kommune)*(komaar2=M18),0),4)),\"\")","v":20},{"$f":"IF(Datanedslag>=N17,IF(INDEX(Data_kom2,MATCH(1,(komnavn2=Kommune)*(komaar2=N18),0),4)=\"\",\"*\",INDEX(Data_kom2,MATCH(1,(komnavn2=Kommune)*(komaar2=N18),0),4)),\"\")","v":20}]
[null,"N",null,{"$f":"IF(Datanedslag>=D17,IF(INDEX(Data_kom2,MATCH(1,(komnavn2=Kommune)*(komaar2=D18),0),7)=\"\",\"*\",INDEX(Data_kom2,MATCH(1,(komnavn2=Kommune)*(komaar2=D18),0),7)),\"\")","v":405},{"$f":"IF(Datanedslag>=E17,IF(INDEX(Data_kom2,MATCH(1,(komnavn2=Kommune)*(komaar2=E18),0),7)=\"\",\"*\",INDEX(Data_kom2,MATCH(1,(komnavn2=Kommune)*(komaar2=E18),0),7)),\"\")","v":407},{"$f":"IF(Datanedslag>=F17,IF(INDEX(Data_kom2,MATCH(1,(komnavn2=Kommune)*(komaar2=F18),0),7)=\"\",\"*\",INDEX(Data_kom2,MATCH(1,(komnavn2=Kommune)*(komaar2=F18),0),7)),\"\")","v":390},{"$f":"IF(Datanedslag>=G17,IF(INDEX(Data_kom2,MATCH(1,(komnavn2=Kommune)*(komaar2=G18),0),7)=\"\",\"*\",INDEX(Data_kom2,MATCH(1,(komnavn2=Kommune)*(komaar2=G18),0),7)),\"\")","v":374},{"$f":"IF(Datanedslag>=H17,IF(INDEX(Data_kom2,MATCH(1,(komnavn2=Kommune)*(komaar2=H18),0),7)=\"\",\"*\",INDEX(Data_kom2,MATCH(1,(komnavn2=Kommune)*(komaar2=H18),0),7)),\"\")","v":363},{"$f":"IF(Datanedslag>=I17,IF(INDEX(Data_kom2,MATCH(1,(komnavn2=Kommune)*(komaar2=I18),0),7)=\"\",\"*\",INDEX(Data_kom2,MATCH(1,(komnavn2=Kommune)*(komaar2=I18),0),7)),\"\")","v":383},{"$f":"IF(Datanedslag>=J17,IF(INDEX(Data_kom2,MATCH(1,(komnavn2=Kommune)*(komaar2=J18),0),7)=\"\",\"*\",INDEX(Data_kom2,MATCH(1,(komnavn2=Kommune)*(komaar2=J18),0),7)),\"\")","v":386},{"$f":"IF(Datanedslag>=K17,IF(INDEX(Data_kom2,MATCH(1,(komnavn2=Kommune)*(komaar2=K18),0),7)=\"\",\"*\",INDEX(Data_kom2,MATCH(1,(komnavn2=Kommune)*(komaar2=K18),0),7)),\"\")","v":391},{"$f":"IF(Datanedslag>=L17,IF(INDEX(Data_kom2,MATCH(1,(komnavn2=Kommune)*(komaar2=L18),0),7)=\"\",\"*\",INDEX(Data_kom2,MATCH(1,(komnavn2=Kommune)*(komaar2=L18),0),7)),\"\")","v":383},{"$f":"IF(Datanedslag>=M17,IF(INDEX(Data_kom2,MATCH(1,(komnavn2=Kommune)*(komaar2=M18),0),7)=\"\",\"*\",INDEX(Data_kom2,MATCH(1,(komnavn2=Kommune)*(komaar2=M18),0),7)),\"\")","v":365},{"$f":"IF(Datanedslag>=N17,IF(INDEX(Data_kom2,MATCH(1,(komnavn2=Kommune)*(komaar2=N18),0),7)=\"\",\"*\",INDEX(Data_kom2,MATCH(1,(komnavn2=Kommune)*(komaar2=N18),0),7)),\"\")","v":360}]
[null,"Anm.: Hvis nøgletallet er angivet med * er der foretaget en diskretionering af data, da der er for få observationer. N angiver målgruppestørrelsen, som er alle borgere registreret med \"Sindslidelse\" i indberetningen til Danmarks Statistik."]
[null,"Kilde: Social- og Boligstyrelsens egne beregninger baseret på handicapstiatistikken ved Danmarks Statistik."]
[]
[]
[]
[null,"Valgt nøgletal: Nøgletal 2"]
[]
[null,"Nøgletal 2: \nModtagere af botilbudslignende tilbud",null,"2018-01-01","2018-07-01","2019-01-01","2019-07-01","2020-01-01","2020-07-01","2021-01-01","2021-07-01","2022-01-01","2022-07-01","2023-01-01"]
[null,{"$f":"IF(Kommune=\"\",\"Kommune\",Kommune)","v":"Herning"},null,20181,20182,20191,20192,20201,20202,20211,20212,20221,20222,20231]
[null,"Andel",null,{"$f":"IF(Datanedslag>D29,IF(OR(D32=\"*\",D33=\"*\"),\"*\",IF(D33=0,0,(D32/D33))),IF(Datanedslag=D29,IF(OR(D32=\"*\",D33=\"*\"),\"*\",IF(D33=0,0,(D32/D33))),\"\"))","v":0.1111111111111111},{"$f":"IF(Datanedslag>E29,IF(OR(E32=\"*\",E33=\"*\"),\"*\",IF(E33=0,0,(E32/E33))),IF(Datanedslag=E29,IF(OR(E32=\"*\",E33=\"*\"),\"*\",IF(E33=0,0,(E32/E33))),\"\"))","v":0.10810810810810811},{"$f":"IF(Datanedslag>F29,IF(OR(F32=\"*\",F33=\"*\"),\"*\",IF(F33=0,0,(F32/F33))),IF(Datanedslag=F29,IF(OR(F32=\"*\",F33=\"*\"),\"*\",IF(F33=0,0,(F32/F33))),\"\"))","v":0.11025641025641025},{"$f":"IF(Datanedslag>G29,IF(OR(G32=\"*\",G33=\"*\"),\"*\",IF(G33=0,0,(G32/G33))),IF(Datanedslag=G29,IF(OR(G32=\"*\",G33=\"*\"),\"*\",IF(G33=0,0,(G32/G33))),\"\"))","v":0.11229946524064172},{"$f":"IF(Datanedslag>H29,IF(OR(H32=\"*\",H33=\"*\"),\"*\",IF(H33=0,0,(H32/H33))),IF(Datanedslag=H29,IF(OR(H32=\"*\",H33=\"*\"),\"*\",IF(H33=0,0,(H32/H33))),\"\"))","v":0.11570247933884298},{"$f":"IF(Datanedslag>I29,IF(OR(I32=\"*\",I33=\"*\"),\"*\",IF(I33=0,0,(I32/I33))),IF(Datanedslag=I29,IF(OR(I32=\"*\",I33=\"*\"),\"*\",IF(I33=0,0,(I32/I33))),\"\"))","v":0.10704960835509138},{"$f":"IF(Datanedslag>J29,IF(OR(J32=\"*\",J33=\"*\"),\"*\",IF(J33=0,0,(J32/J33))),IF(Datanedslag=J29,IF(OR(J32=\"*\",J33=\"*\"),\"*\",IF(J33=0,0,(J32/J33))),\"\"))","v":0.10103626943005181},{"$f":"IF(Datanedslag>K29,IF(OR(K32=\"*\",K33=\"*\"),\"*\",IF(K33=0,0,(K32/K33))),IF(Datanedslag=K29,IF(OR(K32=\"*\",K33=\"*\"),\"*\",IF(K33=0,0,(K32/K33))),\"\"))","v":9.4629156010230184E-2},{"$f":"IF(Datanedslag>L29,IF(OR(L32=\"*\",L33=\"*\"),\"*\",IF(L33=0,0,(L32/L33))),IF(Datanedslag=L29,IF(OR(L32=\"*\",L33=\"*\"),\"*\",IF(L33=0,0,(L32/L33))),\"\"))","v":9.6605744125326368E-2},{"$f":"IF(Datanedslag>M29,IF(OR(M32=\"*\",M33=\"*\"),\"*\",IF(M33=0,0,(M32/M33))),IF(Datanedslag=M29,IF(OR(M32=\"*\",M33=\"*\"),\"*\",IF(M33=0,0,(M32/M33))),\"\"))","v":9.8630136986301367E-2},{"$f":"IF(Datanedslag>N29,IF(OR(N32=\"*\",N33=\"*\"),\"*\",IF(N33=0,0,(N32/N33))),IF(Datanedslag=N29,IF(OR(N32=\"*\",N33=\"*\"),\"*\",IF(N33=0,0,(N32/N33))),\"\"))","v":9.4444444444444442E-2}]
[null,"Antal modtagere",null,{"$f":"IF(Datanedslag>=D29,IF(INDEX(Data_kom2,MATCH(1,(komnavn2=Kommune)*(komaar2=D30),0),8)=\"\",\"*\",INDEX(Data_kom2,MATCH(1,(komnavn2=Kommune)*(komaar2=D30),0),8)),\"\")","v":45},{"$f":"IF(Datanedslag>=E29,IF(INDEX(Data_kom2,MATCH(1,(komnavn2=Kommune)*(komaar2=E30),0),8)=\"\",\"*\",INDEX(Data_kom2,MATCH(1,(komnavn2=Kommune)*(komaar2=E30),0),8)),\"\")","v":44},{"$f":"IF(Datanedslag>=F29,IF(INDEX(Data_kom2,MATCH(1,(komnavn2=Kommune)*(komaar2=F30),0),8)=\"\",\"*\",INDEX(Data_kom2,MATCH(1,(komnavn2=Kommune)*(komaar2=F30),0),8)),\"\")","v":43},{"$f":"IF(Datanedslag>=G29,IF(INDEX(Data_kom2,MATCH(1,(komnavn2=Kommune)*(komaar2=G30),0),8)=\"\",\"*\",INDEX(Data_kom2,MATCH(1,(komnavn2=Kommune)*(komaar2=G30),0),8)),\"\")","v":42},{"$f":"IF(Datanedslag>=H29,IF(INDEX(Data_kom2,MATCH(1,(komnavn2=Kommune)*(komaar2=H30),0),8)=\"\",\"*\",INDEX(Data_kom2,MATCH(1,(komnavn2=Kommune)*(komaar2=H30),0),8)),\"\")","v":42},{"$f":"IF(Datanedslag>=I29,IF(INDEX(Data_kom2,MATCH(1,(komnavn2=Kommune)*(komaar2=I30),0),8)=\"\",\"*\",INDEX(Data_kom2,MATCH(1,(komnavn2=Kommune)*(komaar2=I30),0),8)),\"\")","v":41},{"$f":"IF(Datanedslag>=J29,IF(INDEX(Data_kom2,MATCH(1,(komnavn2=Kommune)*(komaar2=J30),0),8)=\"\",\"*\",INDEX(Data_kom2,MATCH(1,(komnavn2=Kommune)*(komaar2=J30),0),8)),\"\")","v":39},{"$f":"IF(Datanedslag>=K29,IF(INDEX(Data_kom2,MATCH(1,(komnavn2=Kommune)*(komaar2=K30),0),8)=\"\",\"*\",INDEX(Data_kom2,MATCH(1,(komnavn2=Kommune)*(komaar2=K30),0),8)),\"\")","v":37},{"$f":"IF(Datanedslag>=L29,IF(INDEX(Data_kom2,MATCH(1,(komnavn2=Kommune)*(komaar2=L30),0),8)=\"\",\"*\",INDEX(Data_kom2,MATCH(1,(komnavn2=Kommune)*(komaar2=L30),0),8)),\"\")","v":37},{"$f":"IF(Datanedslag>=M29,IF(INDEX(Data_kom2,MATCH(1,(komnavn2=Kommune)*(komaar2=M30),0),8)=\"\",\"*\",INDEX(Data_kom2,MATCH(1,(komnavn2=Kommune)*(komaar2=M30),0),8)),\"\")","v":36},{"$f":"IF(Datanedslag>=N29,IF(INDEX(Data_kom2,MATCH(1,(komnavn2=Kommune)*(komaar2=N30),0),8)=\"\",\"*\",INDEX(Data_kom2,MATCH(1,(komnavn2=Kommune)*(komaar2=N30),0),8)),\"\")","v":34}]
[null,"N",null,{"$f":"IF(Datanedslag>=D29,IF(INDEX(Data_kom2,MATCH(1,(komnavn2=Kommune)*(komaar2=D30),0),11)=\"\",\"*\",INDEX(Data_kom2,MATCH(1,(komnavn2=Kommune)*(komaar2=D30),0),11)),\"\")","v":405},{"$f":"IF(Datanedslag>=E29,IF(INDEX(Data_kom2,MATCH(1,(komnavn2=Kommune)*(komaar2=E30),0),11)=\"\",\"*\",INDEX(Data_kom2,MATCH(1,(komnavn2=Kommune)*(komaar2=E30),0),11)),\"\")","v":407},{"$f":"IF(Datanedslag>=F29,IF(INDEX(Data_kom2,MATCH(1,(komnavn2=Kommune)*(komaar2=F30),0),11)=\"\",\"*\",INDEX(Data_kom2,MATCH(1,(komnavn2=Kommune)*(komaar2=F30),0),11)),\"\")","v":390},{"$f":"IF(Datanedslag>=G29,IF(INDEX(Data_kom2,MATCH(1,(komnavn2=Kommune)*(komaar2=G30),0),11)=\"\",\"*\",INDEX(Data_kom2,MATCH(1,(komnavn2=Kommune)*(komaar2=G30),0),11)),\"\")","v":374},{"$f":"IF(Datanedslag>=H29,IF(INDEX(Data_kom2,MATCH(1,(komnavn2=Kommune)*(komaar2=H30),0),11)=\"\",\"*\",INDEX(Data_kom2,MATCH(1,(komnavn2=Kommune)*(komaar2=H30),0),11)),\"\")","v":363},{"$f":"IF(Datanedslag>=I29,IF(INDEX(Data_kom2,MATCH(1,(komnavn2=Kommune)*(komaar2=I30),0),11)=\"\",\"*\",INDEX(Data_kom2,MATCH(1,(komnavn2=Kommune)*(komaar2=I30),0),11)),\"\")","v":383},{"$f":"IF(Datanedslag>=J29,IF(INDEX(Data_kom2,MATCH(1,(komnavn2=Kommune)*(komaar2=J30),0),11)=\"\",\"*\",INDEX(Data_kom2,MATCH(1,(komnavn2=Kommune)*(komaar2=J30),0),11)),\"\")","v":386},{"$f":"IF(Datanedslag>=K29,IF(INDEX(Data_kom2,MATCH(1,(komnavn2=Kommune)*(komaar2=K30),0),11)=\"\",\"*\",INDEX(Data_kom2,MATCH(1,(komnavn2=Kommune)*(komaar2=K30),0),11)),\"\")","v":391},{"$f":"IF(Datanedslag>=L29,IF(INDEX(Data_kom2,MATCH(1,(komnavn2=Kommune)*(komaar2=L30),0),11)=\"\",\"*\",INDEX(Data_kom2,MATCH(1,(komnavn2=Kommune)*(komaar2=L30),0),11)),\"\")","v":383},{"$f":"IF(Datanedslag>=M29,IF(INDEX(Data_kom2,MATCH(1,(komnavn2=Kommune)*(komaar2=M30),0),11)=\"\",\"*\",INDEX(Data_kom2,MATCH(1,(komnavn2=Kommune)*(komaar2=M30),0),11)),\"\")","v":365},{"$f":"IF(Datanedslag>=N29,IF(INDEX(Data_kom2,MATCH(1,(komnavn2=Kommune)*(komaar2=N30),0),11)=\"\",\"*\",INDEX(Data_kom2,MATCH(1,(komnavn2=Kommune)*(komaar2=N30),0),11)),\"\")","v":360}]
[null,"Anm.: Hvis nøgletallet er angivet med * er der foretaget en diskretionering af data, da der er for få observationer. N angiver målgruppestørrelsen, som er alle borgere registreret med \"Sindslidelse\" i indberetningen til Danmarks Statistik."]
[null,"Kilde: Social- og Boligstyrelsens egne beregninger baseret på handicapstiatistikken ved Danmarks Statistik."]
[]
[]
[]
[null,"Valgt nøgletal: Nøgletal 3"]
[]
[null,"Nøgletal 3: \nModtagere af midlertidigt botilbud",null,"2018-01-01","2018-07-01","2019-01-01","2019-07-01","2020-01-01","2020-07-01","2021-01-01","2021-07-01","2022-01-01","2022-07-01","2023-01-01"]
[null,{"$f":"IF(Kommune=\"\",\"Kommune\",Kommune)","v":"Herning"},null,20181,20182,20191,20192,20201,20202,20211,20212,20221,20222,20231]
[null,"Andel",null,{"$f":"IF(Datanedslag>D41,IF(OR(D44=\"*\",D45=\"*\"),\"*\",IF(D45=0,0,(D44/D45))),IF(Datanedslag=D41,IF(OR(D44=\"*\",D45=\"*\"),\"*\",IF(D45=0,0,(D44/D45))),\"\"))","v":6.9135802469135796E-2},{"$f":"IF(Datanedslag>E41,IF(OR(E44=\"*\",E45=\"*\"),\"*\",IF(E45=0,0,(E44/E45))),IF(Datanedslag=E41,IF(OR(E44=\"*\",E45=\"*\"),\"*\",IF(E45=0,0,(E44/E45))),\"\"))","v":6.3882063882063883E-2},{"$f":"IF(Datanedslag>F41,IF(OR(F44=\"*\",F45=\"*\"),\"*\",IF(F45=0,0,(F44/F45))),IF(Datanedslag=F41,IF(OR(F44=\"*\",F45=\"*\"),\"*\",IF(F45=0,0,(F44/F45))),\"\"))","v":7.179487179487179E-2},{"$f":"IF(Datanedslag>G41,IF(OR(G44=\"*\",G45=\"*\"),\"*\",IF(G45=0,0,(G44/G45))),IF(Datanedslag=G41,IF(OR(G44=\"*\",G45=\"*\"),\"*\",IF(G45=0,0,(G44/G45))),\"\"))","v":8.0213903743315509E-2},{"$f":"IF(Datanedslag>H41,IF(OR(H44=\"*\",H45=\"*\"),\"*\",IF(H45=0,0,(H44/H45))),IF(Datanedslag=H41,IF(OR(H44=\"*\",H45=\"*\"),\"*\",IF(H45=0,0,(H44/H45))),\"\"))","v":8.2644628099173556E-2},{"$f":"IF(Datanedslag>I41,IF(OR(I44=\"*\",I45=\"*\"),\"*\",IF(I45=0,0,(I44/I45))),IF(Datanedslag=I41,IF(OR(I44=\"*\",I45=\"*\"),\"*\",IF(I45=0,0,(I44/I45))),\"\"))","v":6.7885117493472591E-2},{"$f":"IF(Datanedslag>J41,IF(OR(J44=\"*\",J45=\"*\"),\"*\",IF(J45=0,0,(J44/J45))),IF(Datanedslag=J41,IF(OR(J44=\"*\",J45=\"*\"),\"*\",IF(J45=0,0,(J44/J45))),\"\"))","v":6.2176165803108807E-2},{"$f":"IF(Datanedslag>K41,IF(OR(K44=\"*\",K45=\"*\"),\"*\",IF(K45=0,0,(K44/K45))),IF(Datanedslag=K41,IF(OR(K44=\"*\",K45=\"*\"),\"*\",IF(K45=0,0,(K44/K45))),\"\"))","v":5.8823529411764705E-2},{"$f":"IF(Datanedslag>L41,IF(OR(L44=\"*\",L45=\"*\"),\"*\",IF(L45=0,0,(L44/L45))),IF(Datanedslag=L41,IF(OR(L44=\"*\",L45=\"*\"),\"*\",IF(L45=0,0,(L44/L45))),\"\"))","v":5.4830287206266322E-2},{"$f":"IF(Datanedslag>M41,IF(OR(M44=\"*\",M45=\"*\"),\"*\",IF(M45=0,0,(M44/M45))),IF(Datanedslag=M41,IF(OR(M44=\"*\",M45=\"*\"),\"*\",IF(M45=0,0,(M44/M45))),\"\"))","v":4.6575342465753428E-2},{"$f":"IF(Datanedslag>N41,IF(OR(N44=\"*\",N45=\"*\"),\"*\",IF(N45=0,0,(N44/N45))),IF(Datanedslag=N41,IF(OR(N44=\"*\",N45=\"*\"),\"*\",IF(N45=0,0,(N44/N45))),\"\"))","v":4.1666666666666664E-2}]
[null,"Antal modtagere",null,{"$f":"IF(Datanedslag>=D41,IF(INDEX(Data_kom2,MATCH(1,(komnavn2=Kommune)*(komaar2=D42),0),12)=\"\",\"*\",INDEX(Data_kom2,MATCH(1,(komnavn2=Kommune)*(komaar2=D42),0),12)),\"\")","v":28},{"$f":"IF(Datanedslag>=E41,IF(INDEX(Data_kom2,MATCH(1,(komnavn2=Kommune)*(komaar2=E42),0),12)=\"\",\"*\",INDEX(Data_kom2,MATCH(1,(komnavn2=Kommune)*(komaar2=E42),0),12)),\"\")","v":26},{"$f":"IF(Datanedslag>=F41,IF(INDEX(Data_kom2,MATCH(1,(komnavn2=Kommune)*(komaar2=F42),0),12)=\"\",\"*\",INDEX(Data_kom2,MATCH(1,(komnavn2=Kommune)*(komaar2=F42),0),12)),\"\")","v":28},{"$f":"IF(Datanedslag>=G41,IF(INDEX(Data_kom2,MATCH(1,(komnavn2=Kommune)*(komaar2=G42),0),12)=\"\",\"*\",INDEX(Data_kom2,MATCH(1,(komnavn2=Kommune)*(komaar2=G42),0),12)),\"\")","v":30},{"$f":"IF(Datanedslag>=H41,IF(INDEX(Data_kom2,MATCH(1,(komnavn2=Kommune)*(komaar2=H42),0),12)=\"\",\"*\",INDEX(Data_kom2,MATCH(1,(komnavn2=Kommune)*(komaar2=H42),0),12)),\"\")","v":30},{"$f":"IF(Datanedslag>=I41,IF(INDEX(Data_kom2,MATCH(1,(komnavn2=Kommune)*(komaar2=I42),0),12)=\"\",\"*\",INDEX(Data_kom2,MATCH(1,(komnavn2=Kommune)*(komaar2=I42),0),12)),\"\")","v":26},{"$f":"IF(Datanedslag>=J41,IF(INDEX(Data_kom2,MATCH(1,(komnavn2=Kommune)*(komaar2=J42),0),12)=\"\",\"*\",INDEX(Data_kom2,MATCH(1,(komnavn2=Kommune)*(komaar2=J42),0),12)),\"\")","v":24},{"$f":"IF(Datanedslag>=K41,IF(INDEX(Data_kom2,MATCH(1,(komnavn2=Kommune)*(komaar2=K42),0),12)=\"\",\"*\",INDEX(Data_kom2,MATCH(1,(komnavn2=Kommune)*(komaar2=K42),0),12)),\"\")","v":23},{"$f":"IF(Datanedslag>=L41,IF(INDEX(Data_kom2,MATCH(1,(komnavn2=Kommune)*(komaar2=L42),0),12)=\"\",\"*\",INDEX(Data_kom2,MATCH(1,(komnavn2=Kommune)*(komaar2=L42),0),12)),\"\")","v":21},{"$f":"IF(Datanedslag>=M41,IF(INDEX(Data_kom2,MATCH(1,(komnavn2=Kommune)*(komaar2=M42),0),12)=\"\",\"*\",INDEX(Data_kom2,MATCH(1,(komnavn2=Kommune)*(komaar2=M42),0),12)),\"\")","v":17},{"$f":"IF(Datanedslag>=N41,IF(INDEX(Data_kom2,MATCH(1,(komnavn2=Kommune)*(komaar2=N42),0),12)=\"\",\"*\",INDEX(Data_kom2,MATCH(1,(komnavn2=Kommune)*(komaar2=N42),0),12)),\"\")","v":15}]
[null,"N",null,{"$f":"IF(Datanedslag>=D41,IF(INDEX(Data_kom2,MATCH(1,(komnavn2=Kommune)*(komaar2=D42),0),15)=\"\",\"*\",INDEX(Data_kom2,MATCH(1,(komnavn2=Kommune)*(komaar2=D42),0),15)),\"\")","v":405},{"$f":"IF(Datanedslag>=E41,IF(INDEX(Data_kom2,MATCH(1,(komnavn2=Kommune)*(komaar2=E42),0),15)=\"\",\"*\",INDEX(Data_kom2,MATCH(1,(komnavn2=Kommune)*(komaar2=E42),0),15)),\"\")","v":407},{"$f":"IF(Datanedslag>=F41,IF(INDEX(Data_kom2,MATCH(1,(komnavn2=Kommune)*(komaar2=F42),0),15)=\"\",\"*\",INDEX(Data_kom2,MATCH(1,(komnavn2=Kommune)*(komaar2=F42),0),15)),\"\")","v":390},{"$f":"IF(Datanedslag>=G41,IF(INDEX(Data_kom2,MATCH(1,(komnavn2=Kommune)*(komaar2=G42),0),15)=\"\",\"*\",INDEX(Data_kom2,MATCH(1,(komnavn2=Kommune)*(komaar2=G42),0),15)),\"\")","v":374},{"$f":"IF(Datanedslag>=H41,IF(INDEX(Data_kom2,MATCH(1,(komnavn2=Kommune)*(komaar2=H42),0),15)=\"\",\"*\",INDEX(Data_kom2,MATCH(1,(komnavn2=Kommune)*(komaar2=H42),0),15)),\"\")","v":363},{"$f":"IF(Datanedslag>=I41,IF(INDEX(Data_kom2,MATCH(1,(komnavn2=Kommune)*(komaar2=I42),0),15)=\"\",\"*\",INDEX(Data_kom2,MATCH(1,(komnavn2=Kommune)*(komaar2=I42),0),15)),\"\")","v":383},{"$f":"IF(Datanedslag>=J41,IF(INDEX(Data_kom2,MATCH(1,(komnavn2=Kommune)*(komaar2=J42),0),15)=\"\",\"*\",INDEX(Data_kom2,MATCH(1,(komnavn2=Kommune)*(komaar2=J42),0),15)),\"\")","v":386},{"$f":"IF(Datanedslag>=K41,IF(INDEX(Data_kom2,MATCH(1,(komnavn2=Kommune)*(komaar2=K42),0),15)=\"\",\"*\",INDEX(Data_kom2,MATCH(1,(komnavn2=Kommune)*(komaar2=K42),0),15)),\"\")","v":391},{"$f":"IF(Datanedslag>=L41,IF(INDEX(Data_kom2,MATCH(1,(komnavn2=Kommune)*(komaar2=L42),0),15)=\"\",\"*\",INDEX(Data_kom2,MATCH(1,(komnavn2=Kommune)*(komaar2=L42),0),15)),\"\")","v":383},{"$f":"IF(Datanedslag>=M41,IF(INDEX(Data_kom2,MATCH(1,(komnavn2=Kommune)*(komaar2=M42),0),15)=\"\",\"*\",INDEX(Data_kom2,MATCH(1,(komnavn2=Kommune)*(komaar2=M42),0),15)),\"\")","v":365},{"$f":"IF(Datanedslag>=N41,IF(INDEX(Data_kom2,MATCH(1,(komnavn2=Kommune)*(komaar2=N42),0),15)=\"\",\"*\",INDEX(Data_kom2,MATCH(1,(komnavn2=Kommune)*(komaar2=N42),0),15)),\"\")","v":360}]
[null,"Anm.: Hvis nøgletallet er angivet med * er der foretaget en diskretionering af data, da der er for få observationer. N angiver målgruppestørrelsen, som er alle borgere registreret med \"Sindslidelse\" i indberetningen til Danmarks Statistik."]
[null,"Kilde: Social- og Boligstyrelsens egne beregninger baseret på handicapstiatistikken ved Danmarks Statistik."]
[]
[]
[]
[null,"Valgt nøgletal: Nøgletal 4"]
[]
[null,"Nøgletal 4: \nModtagere af socialpædagogisk støtte",null,"2018-01-01","2018-07-01","2019-01-01","2019-07-01","2020-01-01","2020-07-01","2021-01-01","2021-07-01","2022-01-01","2022-07-01","2023-01-01"]
[null,{"$f":"IF(Kommune=\"\",\"Kommune\",Kommune)","v":"Herning"},null,20181,20182,20191,20192,20201,20202,20211,20212,20221,20222,20231]
[null,"Andel",null,{"$f":"IF(Datanedslag>D53,IF(OR(D56=\"*\",D57=\"*\"),\"*\",IF(D57=0,0,(D56/D57))),IF(Datanedslag=D53,IF(OR(D56=\"*\",D57=\"*\"),\"*\",IF(D57=0,0,(D56/D57))),\"\"))","v":0.71851851851851856},{"$f":"IF(Datanedslag>E53,IF(OR(E56=\"*\",E57=\"*\"),\"*\",IF(E57=0,0,(E56/E57))),IF(Datanedslag=E53,IF(OR(E56=\"*\",E57=\"*\"),\"*\",IF(E57=0,0,(E56/E57))),\"\"))","v":0.72481572481572487},{"$f":"IF(Datanedslag>F53,IF(OR(F56=\"*\",F57=\"*\"),\"*\",IF(F57=0,0,(F56/F57))),IF(Datanedslag=F53,IF(OR(F56=\"*\",F57=\"*\"),\"*\",IF(F57=0,0,(F56/F57))),\"\"))","v":0.70769230769230773},{"$f":"IF(Datanedslag>G53,IF(OR(G56=\"*\",G57=\"*\"),\"*\",IF(G57=0,0,(G56/G57))),IF(Datanedslag=G53,IF(OR(G56=\"*\",G57=\"*\"),\"*\",IF(G57=0,0,(G56/G57))),\"\"))","v":0.68983957219251335},{"$f":"IF(Datanedslag>H53,IF(OR(H56=\"*\",H57=\"*\"),\"*\",IF(H57=0,0,(H56/H57))),IF(Datanedslag=H53,IF(OR(H56=\"*\",H57=\"*\"),\"*\",IF(H57=0,0,(H56/H57))),\"\"))","v":0.68595041322314054},{"$f":"IF(Datanedslag>I53,IF(OR(I56=\"*\",I57=\"*\"),\"*\",IF(I57=0,0,(I56/I57))),IF(Datanedslag=I53,IF(OR(I56=\"*\",I57=\"*\"),\"*\",IF(I57=0,0,(I56/I57))),\"\"))","v":0.68407310704960833},{"$f":"IF(Datanedslag>J53,IF(OR(J56=\"*\",J57=\"*\"),\"*\",IF(J57=0,0,(J56/J57))),IF(Datanedslag=J53,IF(OR(J56=\"*\",J57=\"*\"),\"*\",IF(J57=0,0,(J56/J57))),\"\"))","v":0.69170984455958551},{"$f":"IF(Datanedslag>K53,IF(OR(K56=\"*\",K57=\"*\"),\"*\",IF(K57=0,0,(K56/K57))),IF(Datanedslag=K53,IF(OR(K56=\"*\",K57=\"*\"),\"*\",IF(K57=0,0,(K56/K57))),\"\"))","v":0.71611253196930946},{"$f":"IF(Datanedslag>L53,IF(OR(L56=\"*\",L57=\"*\"),\"*\",IF(L57=0,0,(L56/L57))),IF(Datanedslag=L53,IF(OR(L56=\"*\",L57=\"*\"),\"*\",IF(L57=0,0,(L56/L57))),\"\"))","v":0.71801566579634468},{"$f":"IF(Datanedslag>M53,IF(OR(M56=\"*\",M57=\"*\"),\"*\",IF(M57=0,0,(M56/M57))),IF(Datanedslag=M53,IF(OR(M56=\"*\",M57=\"*\"),\"*\",IF(M57=0,0,(M56/M57))),\"\"))","v":0.68219178082191778},{"$f":"IF(Datanedslag>N53,IF(OR(N56=\"*\",N57=\"*\"),\"*\",IF(N57=0,0,(N56/N57))),IF(Datanedslag=N53,IF(OR(N56=\"*\",N57=\"*\"),\"*\",IF(N57=0,0,(N56/N57))),\"\"))","v":0.68611111111111112}]
[null,"Antal modtagere",null,{"$f":"IF(Datanedslag>=D53,IF(INDEX(Data_kom2,MATCH(1,(komnavn2=Kommune)*(komaar2=D54),0),16)=\"\",\"*\",INDEX(Data_kom2,MATCH(1,(komnavn2=Kommune)*(komaar2=D54),0),16)),\"\")","v":291},{"$f":"IF(Datanedslag>=E53,IF(INDEX(Data_kom2,MATCH(1,(komnavn2=Kommune)*(komaar2=E54),0),16)=\"\",\"*\",INDEX(Data_kom2,MATCH(1,(komnavn2=Kommune)*(komaar2=E54),0),16)),\"\")","v":295},{"$f":"IF(Datanedslag>=F53,IF(INDEX(Data_kom2,MATCH(1,(komnavn2=Kommune)*(komaar2=F54),0),16)=\"\",\"*\",INDEX(Data_kom2,MATCH(1,(komnavn2=Kommune)*(komaar2=F54),0),16)),\"\")","v":276},{"$f":"IF(Datanedslag>=G53,IF(INDEX(Data_kom2,MATCH(1,(komnavn2=Kommune)*(komaar2=G54),0),16)=\"\",\"*\",INDEX(Data_kom2,MATCH(1,(komnavn2=Kommune)*(komaar2=G54),0),16)),\"\")","v":258},{"$f":"IF(Datanedslag>=H53,IF(INDEX(Data_kom2,MATCH(1,(komnavn2=Kommune)*(komaar2=H54),0),16)=\"\",\"*\",INDEX(Data_kom2,MATCH(1,(komnavn2=Kommune)*(komaar2=H54),0),16)),\"\")","v":249},{"$f":"IF(Datanedslag>=I53,IF(INDEX(Data_kom2,MATCH(1,(komnavn2=Kommune)*(komaar2=I54),0),16)=\"\",\"*\",INDEX(Data_kom2,MATCH(1,(komnavn2=Kommune)*(komaar2=I54),0),16)),\"\")","v":262},{"$f":"IF(Datanedslag>=J53,IF(INDEX(Data_kom2,MATCH(1,(komnavn2=Kommune)*(komaar2=J54),0),16)=\"\",\"*\",INDEX(Data_kom2,MATCH(1,(komnavn2=Kommune)*(komaar2=J54),0),16)),\"\")","v":267},{"$f":"IF(Datanedslag>=K53,IF(INDEX(Data_kom2,MATCH(1,(komnavn2=Kommune)*(komaar2=K54),0),16)=\"\",\"*\",INDEX(Data_kom2,MATCH(1,(komnavn2=Kommune)*(komaar2=K54),0),16)),\"\")","v":280},{"$f":"IF(Datanedslag>=L53,IF(INDEX(Data_kom2,MATCH(1,(komnavn2=Kommune)*(komaar2=L54),0),16)=\"\",\"*\",INDEX(Data_kom2,MATCH(1,(komnavn2=Kommune)*(komaar2=L54),0),16)),\"\")","v":275},{"$f":"IF(Datanedslag>=M53,IF(INDEX(Data_kom2,MATCH(1,(komnavn2=Kommune)*(komaar2=M54),0),16)=\"\",\"*\",INDEX(Data_kom2,MATCH(1,(komnavn2=Kommune)*(komaar2=M54),0),16)),\"\")","v":249},{"$f":"IF(Datanedslag>=N53,IF(INDEX(Data_kom2,MATCH(1,(komnavn2=Kommune)*(komaar2=N54),0),16)=\"\",\"*\",INDEX(Data_kom2,MATCH(1,(komnavn2=Kommune)*(komaar2=N54),0),16)),\"\")","v":247}]
[null,"N",null,{"$f":"IF(Datanedslag>=D53,IF(INDEX(Data_kom2,MATCH(1,(komnavn2=Kommune)*(komaar2=D54),0),19)=\"\",\"*\",INDEX(Data_kom2,MATCH(1,(komnavn2=Kommune)*(komaar2=D54),0),19)),\"\")","v":405},{"$f":"IF(Datanedslag>=E53,IF(INDEX(Data_kom2,MATCH(1,(komnavn2=Kommune)*(komaar2=E54),0),19)=\"\",\"*\",INDEX(Data_kom2,MATCH(1,(komnavn2=Kommune)*(komaar2=E54),0),19)),\"\")","v":407},{"$f":"IF(Datanedslag>=F53,IF(INDEX(Data_kom2,MATCH(1,(komnavn2=Kommune)*(komaar2=F54),0),19)=\"\",\"*\",INDEX(Data_kom2,MATCH(1,(komnavn2=Kommune)*(komaar2=F54),0),19)),\"\")","v":390},{"$f":"IF(Datanedslag>=G53,IF(INDEX(Data_kom2,MATCH(1,(komnavn2=Kommune)*(komaar2=G54),0),19)=\"\",\"*\",INDEX(Data_kom2,MATCH(1,(komnavn2=Kommune)*(komaar2=G54),0),19)),\"\")","v":374},{"$f":"IF(Datanedslag>=H53,IF(INDEX(Data_kom2,MATCH(1,(komnavn2=Kommune)*(komaar2=H54),0),19)=\"\",\"*\",INDEX(Data_kom2,MATCH(1,(komnavn2=Kommune)*(komaar2=H54),0),19)),\"\")","v":363},{"$f":"IF(Datanedslag>=I53,IF(INDEX(Data_kom2,MATCH(1,(komnavn2=Kommune)*(komaar2=I54),0),19)=\"\",\"*\",INDEX(Data_kom2,MATCH(1,(komnavn2=Kommune)*(komaar2=I54),0),19)),\"\")","v":383},{"$f":"IF(Datanedslag>=J53,IF(INDEX(Data_kom2,MATCH(1,(komnavn2=Kommune)*(komaar2=J54),0),19)=\"\",\"*\",INDEX(Data_kom2,MATCH(1,(komnavn2=Kommune)*(komaar2=J54),0),19)),\"\")","v":386},{"$f":"IF(Datanedslag>=K53,IF(INDEX(Data_kom2,MATCH(1,(komnavn2=Kommune)*(komaar2=K54),0),19)=\"\",\"*\",INDEX(Data_kom2,MATCH(1,(komnavn2=Kommune)*(komaar2=K54),0),19)),\"\")","v":391},{"$f":"IF(Datanedslag>=L53,IF(INDEX(Data_kom2,MATCH(1,(komnavn2=Kommune)*(komaar2=L54),0),19)=\"\",\"*\",INDEX(Data_kom2,MATCH(1,(komnavn2=Kommune)*(komaar2=L54),0),19)),\"\")","v":383},{"$f":"IF(Datanedslag>=M53,IF(INDEX(Data_kom2,MATCH(1,(komnavn2=Kommune)*(komaar2=M54),0),19)=\"\",\"*\",INDEX(Data_kom2,MATCH(1,(komnavn2=Kommune)*(komaar2=M54),0),19)),\"\")","v":365},{"$f":"IF(Datanedslag>=N53,IF(INDEX(Data_kom2,MATCH(1,(komnavn2=Kommune)*(komaar2=N54),0),19)=\"\",\"*\",INDEX(Data_kom2,MATCH(1,(komnavn2=Kommune)*(komaar2=N54),0),19)),\"\")","v":360}]
[null,"Anm.: Hvis nøgletallet er angivet med * er der foretaget en diskretionering af data, da der er for få observationer. N angiver målgruppestørrelsen, som er alle borgere registreret med \"Sindslidelse\" i indberetningen til Danmarks Statistik."]
[null,"Kilde: Social- og Boligstyrelsens egne beregninger baseret på handicapstiatistikken ved Danmarks Statistik."]
[]
[]
[]
[]
[null,"Valgt nøgletal: Nøgletal 5"]
[]
[null,"Nøgletal 5: \nModtagere af beskyttet beskæftigelse og aktivitets- og samværstilbud",null,"2018-01-01","2018-07-01","2019-01-01","2019-07-01","2020-01-01","2020-07-01","2021-01-01","2021-07-01","2022-01-01","2022-07-01","2023-01-01"]
[null,{"$f":"IF(Kommune=\"\",\"Kommune\",Kommune)","v":"Herning"},null,20181,20182,20191,20192,20201,20202,20211,20212,20221,20222,20231]
[null,"Andel",null,{"$f":"IF(Datanedslag>D66,IF(OR(D69=\"*\",D70=\"*\"),\"*\",IF(D70=0,0,(D69/D70))),IF(Datanedslag=D66,IF(OR(D69=\"*\",D70=\"*\"),\"*\",IF(D70=0,0,(D69/D70))),\"\"))","v":2.4691358024691357E-2},{"$f":"IF(Datanedslag>E66,IF(OR(E69=\"*\",E70=\"*\"),\"*\",IF(E70=0,0,(E69/E70))),IF(Datanedslag=E66,IF(OR(E69=\"*\",E70=\"*\"),\"*\",IF(E70=0,0,(E69/E70))),\"\"))","v":2.7027027027027029E-2},{"$f":"IF(Datanedslag>F66,IF(OR(F69=\"*\",F70=\"*\"),\"*\",IF(F70=0,0,(F69/F70))),IF(Datanedslag=F66,IF(OR(F69=\"*\",F70=\"*\"),\"*\",IF(F70=0,0,(F69/F70))),\"\"))","v":2.564102564102564E-2},{"$f":"IF(Datanedslag>G66,IF(OR(G69=\"*\",G70=\"*\"),\"*\",IF(G70=0,0,(G69/G70))),IF(Datanedslag=G66,IF(OR(G69=\"*\",G70=\"*\"),\"*\",IF(G70=0,0,(G69/G70))),\"\"))","v":2.6737967914438502E-2},{"$f":"IF(Datanedslag>H66,IF(OR(H69=\"*\",H70=\"*\"),\"*\",IF(H70=0,0,(H69/H70))),IF(Datanedslag=H66,IF(OR(H69=\"*\",H70=\"*\"),\"*\",IF(H70=0,0,(H69/H70))),\"\"))","v":2.4793388429752067E-2},{"$f":"IF(Datanedslag>I66,IF(OR(I69=\"*\",I70=\"*\"),\"*\",IF(I70=0,0,(I69/I70))),IF(Datanedslag=I66,IF(OR(I69=\"*\",I70=\"*\"),\"*\",IF(I70=0,0,(I69/I70))),\"\"))","v":2.8720626631853787E-2},{"$f":"IF(Datanedslag>J66,IF(OR(J69=\"*\",J70=\"*\"),\"*\",IF(J70=0,0,(J69/J70))),IF(Datanedslag=J66,IF(OR(J69=\"*\",J70=\"*\"),\"*\",IF(J70=0,0,(J69/J70))),\"\"))","v":3.1088082901554404E-2},{"$f":"IF(Datanedslag>K66,IF(OR(K69=\"*\",K70=\"*\"),\"*\",IF(K70=0,0,(K69/K70))),IF(Datanedslag=K66,IF(OR(K69=\"*\",K70=\"*\"),\"*\",IF(K70=0,0,(K69/K70))),\"\"))","v":3.0690537084398978E-2},{"$f":"IF(Datanedslag>L66,IF(OR(L69=\"*\",L70=\"*\"),\"*\",IF(L70=0,0,(L69/L70))),IF(Datanedslag=L66,IF(OR(L69=\"*\",L70=\"*\"),\"*\",IF(L70=0,0,(L69/L70))),\"\"))","v":2.3498694516971279E-2},{"$f":"IF(Datanedslag>M66,IF(OR(M69=\"*\",M70=\"*\"),\"*\",IF(M70=0,0,(M69/M70))),IF(Datanedslag=M66,IF(OR(M69=\"*\",M70=\"*\"),\"*\",IF(M70=0,0,(M69/M70))),\"\"))","v":2.7397260273972601E-2},{"$f":"IF(Datanedslag>N66,IF(OR(N69=\"*\",N70=\"*\"),\"*\",IF(N70=0,0,(N69/N70))),IF(Datanedslag=N66,IF(OR(N69=\"*\",N70=\"*\"),\"*\",IF(N70=0,0,(N69/N70))),\"\"))","v":2.2222222222222223E-2}]
[null,"Antal modtagere",null,{"$f":"IF(Datanedslag>=D66,IF(INDEX(Data_kom2,MATCH(1,(komnavn2=Kommune)*(komaar2=D67),0),20)=\"\",\"*\",INDEX(Data_kom2,MATCH(1,(komnavn2=Kommune)*(komaar2=D67),0),20)),\"\")","v":10},{"$f":"IF(Datanedslag>=E66,IF(INDEX(Data_kom2,MATCH(1,(komnavn2=Kommune)*(komaar2=E67),0),20)=\"\",\"*\",INDEX(Data_kom2,MATCH(1,(komnavn2=Kommune)*(komaar2=E67),0),20)),\"\")","v":11},{"$f":"IF(Datanedslag>=F66,IF(INDEX(Data_kom2,MATCH(1,(komnavn2=Kommune)*(komaar2=F67),0),20)=\"\",\"*\",INDEX(Data_kom2,MATCH(1,(komnavn2=Kommune)*(komaar2=F67),0),20)),\"\")","v":10},{"$f":"IF(Datanedslag>=G66,IF(INDEX(Data_kom2,MATCH(1,(komnavn2=Kommune)*(komaar2=G67),0),20)=\"\",\"*\",INDEX(Data_kom2,MATCH(1,(komnavn2=Kommune)*(komaar2=G67),0),20)),\"\")","v":10},{"$f":"IF(Datanedslag>=H66,IF(INDEX(Data_kom2,MATCH(1,(komnavn2=Kommune)*(komaar2=H67),0),20)=\"\",\"*\",INDEX(Data_kom2,MATCH(1,(komnavn2=Kommune)*(komaar2=H67),0),20)),\"\")","v":9},{"$f":"IF(Datanedslag>=I66,IF(INDEX(Data_kom2,MATCH(1,(komnavn2=Kommune)*(komaar2=I67),0),20)=\"\",\"*\",INDEX(Data_kom2,MATCH(1,(komnavn2=Kommune)*(komaar2=I67),0),20)),\"\")","v":11},{"$f":"IF(Datanedslag>=J66,IF(INDEX(Data_kom2,MATCH(1,(komnavn2=Kommune)*(komaar2=J67),0),20)=\"\",\"*\",INDEX(Data_kom2,MATCH(1,(komnavn2=Kommune)*(komaar2=J67),0),20)),\"\")","v":12},{"$f":"IF(Datanedslag>=K66,IF(INDEX(Data_kom2,MATCH(1,(komnavn2=Kommune)*(komaar2=K67),0),20)=\"\",\"*\",INDEX(Data_kom2,MATCH(1,(komnavn2=Kommune)*(komaar2=K67),0),20)),\"\")","v":12},{"$f":"IF(Datanedslag>=L66,IF(INDEX(Data_kom2,MATCH(1,(komnavn2=Kommune)*(komaar2=L67),0),20)=\"\",\"*\",INDEX(Data_kom2,MATCH(1,(komnavn2=Kommune)*(komaar2=L67),0),20)),\"\")","v":9},{"$f":"IF(Datanedslag>=M66,IF(INDEX(Data_kom2,MATCH(1,(komnavn2=Kommune)*(komaar2=M67),0),20)=\"\",\"*\",INDEX(Data_kom2,MATCH(1,(komnavn2=Kommune)*(komaar2=M67),0),20)),\"\")","v":10},{"$f":"IF(Datanedslag>=N66,IF(INDEX(Data_kom2,MATCH(1,(komnavn2=Kommune)*(komaar2=N67),0),20)=\"\",\"*\",INDEX(Data_kom2,MATCH(1,(komnavn2=Kommune)*(komaar2=N67),0),20)),\"\")","v":8}]
[null,"N",null,{"$f":"IF(Datanedslag>=D66,IF(INDEX(Data_kom2,MATCH(1,(komnavn2=Kommune)*(komaar2=D67),0),23)=\"\",\"*\",INDEX(Data_kom2,MATCH(1,(komnavn2=Kommune)*(komaar2=D67),0),23)),\"\")","v":405},{"$f":"IF(Datanedslag>=E66,IF(INDEX(Data_kom2,MATCH(1,(komnavn2=Kommune)*(komaar2=E67),0),23)=\"\",\"*\",INDEX(Data_kom2,MATCH(1,(komnavn2=Kommune)*(komaar2=E67),0),23)),\"\")","v":407},{"$f":"IF(Datanedslag>=F66,IF(INDEX(Data_kom2,MATCH(1,(komnavn2=Kommune)*(komaar2=F67),0),23)=\"\",\"*\",INDEX(Data_kom2,MATCH(1,(komnavn2=Kommune)*(komaar2=F67),0),23)),\"\")","v":390},{"$f":"IF(Datanedslag>=G66,IF(INDEX(Data_kom2,MATCH(1,(komnavn2=Kommune)*(komaar2=G67),0),23)=\"\",\"*\",INDEX(Data_kom2,MATCH(1,(komnavn2=Kommune)*(komaar2=G67),0),23)),\"\")","v":374},{"$f":"IF(Datanedslag>=H66,IF(INDEX(Data_kom2,MATCH(1,(komnavn2=Kommune)*(komaar2=H67),0),23)=\"\",\"*\",INDEX(Data_kom2,MATCH(1,(komnavn2=Kommune)*(komaar2=H67),0),23)),\"\")","v":363},{"$f":"IF(Datanedslag>=I66,IF(INDEX(Data_kom2,MATCH(1,(komnavn2=Kommune)*(komaar2=I67),0),23)=\"\",\"*\",INDEX(Data_kom2,MATCH(1,(komnavn2=Kommune)*(komaar2=I67),0),23)),\"\")","v":383},{"$f":"IF(Datanedslag>=J66,IF(INDEX(Data_kom2,MATCH(1,(komnavn2=Kommune)*(komaar2=J67),0),23)=\"\",\"*\",INDEX(Data_kom2,MATCH(1,(komnavn2=Kommune)*(komaar2=J67),0),23)),\"\")","v":386},{"$f":"IF(Datanedslag>=K66,IF(INDEX(Data_kom2,MATCH(1,(komnavn2=Kommune)*(komaar2=K67),0),23)=\"\",\"*\",INDEX(Data_kom2,MATCH(1,(komnavn2=Kommune)*(komaar2=K67),0),23)),\"\")","v":391},{"$f":"IF(Datanedslag>=L66,IF(INDEX(Data_kom2,MATCH(1,(komnavn2=Kommune)*(komaar2=L67),0),23)=\"\",\"*\",INDEX(Data_kom2,MATCH(1,(komnavn2=Kommune)*(komaar2=L67),0),23)),\"\")","v":383},{"$f":"IF(Datanedslag>=M66,IF(INDEX(Data_kom2,MATCH(1,(komnavn2=Kommune)*(komaar2=M67),0),23)=\"\",\"*\",INDEX(Data_kom2,MATCH(1,(komnavn2=Kommune)*(komaar2=M67),0),23)),\"\")","v":365},{"$f":"IF(Datanedslag>=N66,IF(INDEX(Data_kom2,MATCH(1,(komnavn2=Kommune)*(komaar2=N67),0),23)=\"\",\"*\",INDEX(Data_kom2,MATCH(1,(komnavn2=Kommune)*(komaar2=N67),0),23)),\"\")","v":360}]
[null,"Anm.: Hvis nøgletallet er angivet med * er der foretaget en diskretionering af data, da der er for få observationer. N angiver målgruppestørrelsen, som er alle borgere registreret med \"Sindslidelse\" i indberetningen til Danmarks Statistik."]
[null,"Kilde: Social- og Boligstyrelsens egne beregninger baseret på handicapstiatistikken ved Danmarks Statistik."]
[]
[]
[]
[null,"Valgt nøgletal: Nøgletal 6"]
[]
[null,"Nøgletal 6: \nModtagere af forebyggende indsatserModtagere af forebyggende indsatser",null,"2018-01-01","2018-07-01","2019-01-01","2019-07-01","2020-01-01","2020-07-01","2021-01-01","2021-07-01","2022-01-01","2022-07-01","2023-01-01"]
[null,{"$f":"IF(Kommune=\"\",\"Kommune\",Kommune)","v":"Herning"},null,20181,20182,20191,20192,20201,20202,20211,20212,20221,20222,20231]
[null,"Andel",null,{"$f":"IF(Datanedslag>D78,IF(OR(D81=\"*\",D82=\"*\"),\"*\",IF(D82=0,0,(D81/D82))),IF(Datanedslag=D78,IF(OR(D81=\"*\",D82=\"*\"),\"*\",IF(D82=0,0,(D81/D82))),\"\"))","v":0},{"$f":"IF(Datanedslag>E78,IF(OR(E81=\"*\",E82=\"*\"),\"*\",IF(E82=0,0,(E81/E82))),IF(Datanedslag=E78,IF(OR(E81=\"*\",E82=\"*\"),\"*\",IF(E82=0,0,(E81/E82))),\"\"))","v":0},{"$f":"IF(Datanedslag>F78,IF(OR(F81=\"*\",F82=\"*\"),\"*\",IF(F82=0,0,(F81/F82))),IF(Datanedslag=F78,IF(OR(F81=\"*\",F82=\"*\"),\"*\",IF(F82=0,0,(F81/F82))),\"\"))","v":0},{"$f":"IF(Datanedslag>G78,IF(OR(G81=\"*\",G82=\"*\"),\"*\",IF(G82=0,0,(G81/G82))),IF(Datanedslag=G78,IF(OR(G81=\"*\",G82=\"*\"),\"*\",IF(G82=0,0,(G81/G82))),\"\"))","v":0},{"$f":"IF(Datanedslag>H78,IF(OR(H81=\"*\",H82=\"*\"),\"*\",IF(H82=0,0,(H81/H82))),IF(Datanedslag=H78,IF(OR(H81=\"*\",H82=\"*\"),\"*\",IF(H82=0,0,(H81/H82))),\"\"))","v":"*"},{"$f":"IF(Datanedslag>I78,IF(OR(I81=\"*\",I82=\"*\"),\"*\",IF(I82=0,0,(I81/I82))),IF(Datanedslag=I78,IF(OR(I81=\"*\",I82=\"*\"),\"*\",IF(I82=0,0,(I81/I82))),\"\"))","v":3.3942558746736295E-2},{"$f":"IF(Datanedslag>J78,IF(OR(J81=\"*\",J82=\"*\"),\"*\",IF(J82=0,0,(J81/J82))),IF(Datanedslag=J78,IF(OR(J81=\"*\",J82=\"*\"),\"*\",IF(J82=0,0,(J81/J82))),\"\"))","v":4.4041450777202069E-2},{"$f":"IF(Datanedslag>K78,IF(OR(K81=\"*\",K82=\"*\"),\"*\",IF(K82=0,0,(K81/K82))),IF(Datanedslag=K78,IF(OR(K81=\"*\",K82=\"*\"),\"*\",IF(K82=0,0,(K81/K82))),\"\"))","v":4.0920716112531973E-2},{"$f":"IF(Datanedslag>L78,IF(OR(L81=\"*\",L82=\"*\"),\"*\",IF(L82=0,0,(L81/L82))),IF(Datanedslag=L78,IF(OR(L81=\"*\",L82=\"*\"),\"*\",IF(L82=0,0,(L81/L82))),\"\"))","v":4.960835509138381E-2},{"$f":"IF(Datanedslag>M78,IF(OR(M81=\"*\",M82=\"*\"),\"*\",IF(M82=0,0,(M81/M82))),IF(Datanedslag=M78,IF(OR(M81=\"*\",M82=\"*\"),\"*\",IF(M82=0,0,(M81/M82))),\"\"))","v":7.6712328767123292E-2},{"$f":"IF(Datanedslag>N78,IF(OR(N81=\"*\",N82=\"*\"),\"*\",IF(N82=0,0,(N81/N82))),IF(Datanedslag=N78,IF(OR(N81=\"*\",N82=\"*\"),\"*\",IF(N82=0,0,(N81/N82))),\"\"))","v":8.611111111111111E-2}]
[null,"Antal modtagere",null,{"$f":"IF(Datanedslag>=D78,IF(INDEX(Data_kom2,MATCH(1,(komnavn2=Kommune)*(komaar2=D79),0),24)=\"\",\"*\",INDEX(Data_kom2,MATCH(1,(komnavn2=Kommune)*(komaar2=D79),0),24)),\"\")","v":0},{"$f":"IF(Datanedslag>=E78,IF(INDEX(Data_kom2,MATCH(1,(komnavn2=Kommune)*(komaar2=E79),0),24)=\"\",\"*\",INDEX(Data_kom2,MATCH(1,(komnavn2=Kommune)*(komaar2=E79),0),24)),\"\")","v":0},{"$f":"IF(Datanedslag>=F78,IF(INDEX(Data_kom2,MATCH(1,(komnavn2=Kommune)*(komaar2=F79),0),24)=\"\",\"*\",INDEX(Data_kom2,MATCH(1,(komnavn2=Kommune)*(komaar2=F79),0),24)),\"\")","v":0},{"$f":"IF(Datanedslag>=G78,IF(INDEX(Data_kom2,MATCH(1,(komnavn2=Kommune)*(komaar2=G79),0),24)=\"\",\"*\",INDEX(Data_kom2,MATCH(1,(komnavn2=Kommune)*(komaar2=G79),0),24)),\"\")","v":0},{"$f":"IF(Datanedslag>=H78,IF(INDEX(Data_kom2,MATCH(1,(komnavn2=Kommune)*(komaar2=H79),0),24)=\"\",\"*\",INDEX(Data_kom2,MATCH(1,(komnavn2=Kommune)*(komaar2=H79),0),24)),\"\")","v":"*"},{"$f":"IF(Datanedslag>=I78,IF(INDEX(Data_kom2,MATCH(1,(komnavn2=Kommune)*(komaar2=I79),0),24)=\"\",\"*\",INDEX(Data_kom2,MATCH(1,(komnavn2=Kommune)*(komaar2=I79),0),24)),\"\")","v":13},{"$f":"IF(Datanedslag>=J78,IF(INDEX(Data_kom2,MATCH(1,(komnavn2=Kommune)*(komaar2=J79),0),24)=\"\",\"*\",INDEX(Data_kom2,MATCH(1,(komnavn2=Kommune)*(komaar2=J79),0),24)),\"\")","v":17},{"$f":"IF(Datanedslag>=K78,IF(INDEX(Data_kom2,MATCH(1,(komnavn2=Kommune)*(komaar2=K79),0),24)=\"\",\"*\",INDEX(Data_kom2,MATCH(1,(komnavn2=Kommune)*(komaar2=K79),0),24)),\"\")","v":16},{"$f":"IF(Datanedslag>=L78,IF(INDEX(Data_kom2,MATCH(1,(komnavn2=Kommune)*(komaar2=L79),0),24)=\"\",\"*\",INDEX(Data_kom2,MATCH(1,(komnavn2=Kommune)*(komaar2=L79),0),24)),\"\")","v":19},{"$f":"IF(Datanedslag>=M78,IF(INDEX(Data_kom2,MATCH(1,(komnavn2=Kommune)*(komaar2=M79),0),24)=\"\",\"*\",INDEX(Data_kom2,MATCH(1,(komnavn2=Kommune)*(komaar2=M79),0),24)),\"\")","v":28},{"$f":"IF(Datanedslag>=N78,IF(INDEX(Data_kom2,MATCH(1,(komnavn2=Kommune)*(komaar2=N79),0),24)=\"\",\"*\",INDEX(Data_kom2,MATCH(1,(komnavn2=Kommune)*(komaar2=N79),0),24)),\"\")","v":31}]
[null,"N",null,{"$f":"IF(Datanedslag>=D78,IF(INDEX(Data_kom2,MATCH(1,(komnavn2=Kommune)*(komaar2=D79),0),27)=\"\",\"*\",INDEX(Data_kom2,MATCH(1,(komnavn2=Kommune)*(komaar2=D79),0),27)),\"\")","v":405},{"$f":"IF(Datanedslag>=E78,IF(INDEX(Data_kom2,MATCH(1,(komnavn2=Kommune)*(komaar2=E79),0),27)=\"\",\"*\",INDEX(Data_kom2,MATCH(1,(komnavn2=Kommune)*(komaar2=E79),0),27)),\"\")","v":407},{"$f":"IF(Datanedslag>=F78,IF(INDEX(Data_kom2,MATCH(1,(komnavn2=Kommune)*(komaar2=F79),0),27)=\"\",\"*\",INDEX(Data_kom2,MATCH(1,(komnavn2=Kommune)*(komaar2=F79),0),27)),\"\")","v":390},{"$f":"IF(Datanedslag>=G78,IF(INDEX(Data_kom2,MATCH(1,(komnavn2=Kommune)*(komaar2=G79),0),27)=\"\",\"*\",INDEX(Data_kom2,MATCH(1,(komnavn2=Kommune)*(komaar2=G79),0),27)),\"\")","v":374},{"$f":"IF(Datanedslag>=H78,IF(INDEX(Data_kom2,MATCH(1,(komnavn2=Kommune)*(komaar2=H79),0),27)=\"\",\"*\",INDEX(Data_kom2,MATCH(1,(komnavn2=Kommune)*(komaar2=H79),0),27)),\"\")","v":363},{"$f":"IF(Datanedslag>=I78,IF(INDEX(Data_kom2,MATCH(1,(komnavn2=Kommune)*(komaar2=I79),0),27)=\"\",\"*\",INDEX(Data_kom2,MATCH(1,(komnavn2=Kommune)*(komaar2=I79),0),27)),\"\")","v":383},{"$f":"IF(Datanedslag>=J78,IF(INDEX(Data_kom2,MATCH(1,(komnavn2=Kommune)*(komaar2=J79),0),27)=\"\",\"*\",INDEX(Data_kom2,MATCH(1,(komnavn2=Kommune)*(komaar2=J79),0),27)),\"\")","v":386},{"$f":"IF(Datanedslag>=K78,IF(INDEX(Data_kom2,MATCH(1,(komnavn2=Kommune)*(komaar2=K79),0),27)=\"\",\"*\",INDEX(Data_kom2,MATCH(1,(komnavn2=Kommune)*(komaar2=K79),0),27)),\"\")","v":391},{"$f":"IF(Datanedslag>=L78,IF(INDEX(Data_kom2,MATCH(1,(komnavn2=Kommune)*(komaar2=L79),0),27)=\"\",\"*\",INDEX(Data_kom2,MATCH(1,(komnavn2=Kommune)*(komaar2=L79),0),27)),\"\")","v":383},{"$f":"IF(Datanedslag>=M78,IF(INDEX(Data_kom2,MATCH(1,(komnavn2=Kommune)*(komaar2=M79),0),27)=\"\",\"*\",INDEX(Data_kom2,MATCH(1,(komnavn2=Kommune)*(komaar2=M79),0),27)),\"\")","v":365},{"$f":"IF(Datanedslag>=N78,IF(INDEX(Data_kom2,MATCH(1,(komnavn2=Kommune)*(komaar2=N79),0),27)=\"\",\"*\",INDEX(Data_kom2,MATCH(1,(komnavn2=Kommune)*(komaar2=N79),0),27)),\"\")","v":360}]
[null,"Anm.: Hvis nøgletallet er angivet med * er der foretaget en diskretionering af data, da der er for få observationer. N angiver målgruppestørrelsen, som er alle borgere registreret med \"Sindslidelse\" i indberetningen til Danmarks Statistik. Ydelser efter servicelovens § 82 er først blevet indberetningspligtig pr. 1/7-2020."]
[null,"Kilde: Social- og Boligstyrelsens egne beregninger baseret på handicapstiatistikken ved Danmarks Statistik."]
[]
[]
[]
[null,"Valgt nøgletal: Nøgletal 7"]
[]
[null,"Nøgletal 7: \nFlytning fra botilbud",null,"2018-01-01","2018-07-01","2019-01-01","2019-07-01","2020-01-01","2020-07-01","2021-01-01","2021-07-01","2022-01-01","2022-07-01","2023-01-01"]
[null,{"$f":"IF(Kommune=\"\",\"Kommune\",Kommune)","v":"Herning"},null,20181,20182,20191,20192,20201,20202,20211,20212,20221,20222,20231]
[null,"Andel",null,null,{"$f":"IF(Datanedslag>E90,IF(OR(E93=\"*\",E94=\"*\"),\"*\",IF(E94=0,0,(E93/E94))),IF(Datanedslag=E90,IF(OR(E93=\"*\",E94=\"*\"),\"*\",IF(E94=0,0,(E93/E94))),\"\"))","v":9.6774193548387094E-2},{"$f":"IF(Datanedslag>F90,IF(OR(F93=\"*\",F94=\"*\"),\"*\",IF(F94=0,0,(F93/F94))),IF(Datanedslag=F90,IF(OR(F93=\"*\",F94=\"*\"),\"*\",IF(F94=0,0,(F93/F94))),\"\"))","v":5.4945054945054944E-2},{"$f":"IF(Datanedslag>G90,IF(OR(G93=\"*\",G94=\"*\"),\"*\",IF(G94=0,0,(G93/G94))),IF(Datanedslag=G90,IF(OR(G93=\"*\",G94=\"*\"),\"*\",IF(G94=0,0,(G93/G94))),\"\"))","v":8.6021505376344093E-2},{"$f":"IF(Datanedslag>H90,IF(OR(H93=\"*\",H94=\"*\"),\"*\",IF(H94=0,0,(H93/H94))),IF(Datanedslag=H90,IF(OR(H93=\"*\",H94=\"*\"),\"*\",IF(H94=0,0,(H93/H94))),\"\"))","v":6.3829787234042548E-2},{"$f":"IF(Datanedslag>I90,IF(OR(I93=\"*\",I94=\"*\"),\"*\",IF(I94=0,0,(I93/I94))),IF(Datanedslag=I90,IF(OR(I93=\"*\",I94=\"*\"),\"*\",IF(I94=0,0,(I93/I94))),\"\"))","v":0.10638297872340426},{"$f":"IF(Datanedslag>J90,IF(OR(J93=\"*\",J94=\"*\"),\"*\",IF(J94=0,0,(J93/J94))),IF(Datanedslag=J90,IF(OR(J93=\"*\",J94=\"*\"),\"*\",IF(J94=0,0,(J93/J94))),\"\"))","v":9.0909090909090912E-2},{"$f":"IF(Datanedslag>K90,IF(OR(K93=\"*\",K94=\"*\"),\"*\",IF(K94=0,0,(K93/K94))),IF(Datanedslag=K90,IF(OR(K93=\"*\",K94=\"*\"),\"*\",IF(K94=0,0,(K93/K94))),\"\"))","v":7.2289156626506021E-2},{"$f":"IF(Datanedslag>L90,IF(OR(L93=\"*\",L94=\"*\"),\"*\",IF(L94=0,0,(L93/L94))),IF(Datanedslag=L90,IF(OR(L93=\"*\",L94=\"*\"),\"*\",IF(L94=0,0,(L93/L94))),\"\"))","v":5.0632911392405063E-2},{"$f":"IF(Datanedslag>M90,IF(OR(M93=\"*\",M94=\"*\"),\"*\",IF(M94=0,0,(M93/M94))),IF(Datanedslag=M90,IF(OR(M93=\"*\",M94=\"*\"),\"*\",IF(M94=0,0,(M93/M94))),\"\"))","v":9.0909090909090912E-2},{"$f":"IF(Datanedslag>N90,IF(OR(N93=\"*\",N94=\"*\"),\"*\",IF(N94=0,0,(N93/N94))),IF(Datanedslag=N90,IF(OR(N93=\"*\",N94=\"*\"),\"*\",IF(N94=0,0,(N93/N94))),\"\"))","v":9.5890410958904104E-2}]
[null,"Antal modtagere",null,null,{"$f":"IF(Datanedslag>=E90,IF(INDEX(Data_kom2,MATCH(1,(komnavn2=Kommune)*(komaar2=E91),0),28)=\"\",\"*\",INDEX(Data_kom2,MATCH(1,(komnavn2=Kommune)*(komaar2=E91),0),28)),\"\")","v":9},{"$f":"IF(Datanedslag>=F90,IF(INDEX(Data_kom2,MATCH(1,(komnavn2=Kommune)*(komaar2=F91),0),28)=\"\",\"*\",INDEX(Data_kom2,MATCH(1,(komnavn2=Kommune)*(komaar2=F91),0),28)),\"\")","v":5},{"$f":"IF(Datanedslag>=G90,IF(INDEX(Data_kom2,MATCH(1,(komnavn2=Kommune)*(komaar2=G91),0),28)=\"\",\"*\",INDEX(Data_kom2,MATCH(1,(komnavn2=Kommune)*(komaar2=G91),0),28)),\"\")","v":8},{"$f":"IF(Datanedslag>=H90,IF(INDEX(Data_kom2,MATCH(1,(komnavn2=Kommune)*(komaar2=H91),0),28)=\"\",\"*\",INDEX(Data_kom2,MATCH(1,(komnavn2=Kommune)*(komaar2=H91),0),28)),\"\")","v":6},{"$f":"IF(Datanedslag>=I90,IF(INDEX(Data_kom2,MATCH(1,(komnavn2=Kommune)*(komaar2=I91),0),28)=\"\",\"*\",INDEX(Data_kom2,MATCH(1,(komnavn2=Kommune)*(komaar2=I91),0),28)),\"\")","v":10},{"$f":"IF(Datanedslag>=J90,IF(INDEX(Data_kom2,MATCH(1,(komnavn2=Kommune)*(komaar2=J91),0),28)=\"\",\"*\",INDEX(Data_kom2,MATCH(1,(komnavn2=Kommune)*(komaar2=J91),0),28)),\"\")","v":8},{"$f":"IF(Datanedslag>=K90,IF(INDEX(Data_kom2,MATCH(1,(komnavn2=Kommune)*(komaar2=K91),0),28)=\"\",\"*\",INDEX(Data_kom2,MATCH(1,(komnavn2=Kommune)*(komaar2=K91),0),28)),\"\")","v":6},{"$f":"IF(Datanedslag>=L90,IF(INDEX(Data_kom2,MATCH(1,(komnavn2=Kommune)*(komaar2=L91),0),28)=\"\",\"*\",INDEX(Data_kom2,MATCH(1,(komnavn2=Kommune)*(komaar2=L91),0),28)),\"\")","v":4},{"$f":"IF(Datanedslag>=M90,IF(INDEX(Data_kom2,MATCH(1,(komnavn2=Kommune)*(komaar2=M91),0),28)=\"\",\"*\",INDEX(Data_kom2,MATCH(1,(komnavn2=Kommune)*(komaar2=M91),0),28)),\"\")","v":7},{"$f":"IF(Datanedslag>=N90,IF(INDEX(Data_kom2,MATCH(1,(komnavn2=Kommune)*(komaar2=N91),0),28)=\"\",\"*\",INDEX(Data_kom2,MATCH(1,(komnavn2=Kommune)*(komaar2=N91),0),28)),\"\")","v":7}]
[null,"N",null,null,{"$f":"IF(Datanedslag>=E90,IF(INDEX(Data_kom2,MATCH(1,(komnavn2=Kommune)*(komaar2=E91),0),31)=\"\",\"*\",INDEX(Data_kom2,MATCH(1,(komnavn2=Kommune)*(komaar2=E91),0),31)),\"\")","v":93},{"$f":"IF(Datanedslag>=F90,IF(INDEX(Data_kom2,MATCH(1,(komnavn2=Kommune)*(komaar2=F91),0),31)=\"\",\"*\",INDEX(Data_kom2,MATCH(1,(komnavn2=Kommune)*(komaar2=F91),0),31)),\"\")","v":91},{"$f":"IF(Datanedslag>=G90,IF(INDEX(Data_kom2,MATCH(1,(komnavn2=Kommune)*(komaar2=G91),0),31)=\"\",\"*\",INDEX(Data_kom2,MATCH(1,(komnavn2=Kommune)*(komaar2=G91),0),31)),\"\")","v":93},{"$f":"IF(Datanedslag>=H90,IF(INDEX(Data_kom2,MATCH(1,(komnavn2=Kommune)*(komaar2=H91),0),31)=\"\",\"*\",INDEX(Data_kom2,MATCH(1,(komnavn2=Kommune)*(komaar2=H91),0),31)),\"\")","v":94},{"$f":"IF(Datanedslag>=I90,IF(INDEX(Data_kom2,MATCH(1,(komnavn2=Kommune)*(komaar2=I91),0),31)=\"\",\"*\",INDEX(Data_kom2,MATCH(1,(komnavn2=Kommune)*(komaar2=I91),0),31)),\"\")","v":94},{"$f":"IF(Datanedslag>=J90,IF(INDEX(Data_kom2,MATCH(1,(komnavn2=Kommune)*(komaar2=J91),0),31)=\"\",\"*\",INDEX(Data_kom2,MATCH(1,(komnavn2=Kommune)*(komaar2=J91),0),31)),\"\")","v":88},{"$f":"IF(Datanedslag>=K90,IF(INDEX(Data_kom2,MATCH(1,(komnavn2=Kommune)*(komaar2=K91),0),31)=\"\",\"*\",INDEX(Data_kom2,MATCH(1,(komnavn2=Kommune)*(komaar2=K91),0),31)),\"\")","v":83},{"$f":"IF(Datanedslag>=L90,IF(INDEX(Data_kom2,MATCH(1,(komnavn2=Kommune)*(komaar2=L91),0),31)=\"\",\"*\",INDEX(Data_kom2,MATCH(1,(komnavn2=Kommune)*(komaar2=L91),0),31)),\"\")","v":79},{"$f":"IF(Datanedslag>=M90,IF(INDEX(Data_kom2,MATCH(1,(komnavn2=Kommune)*(komaar2=M91),0),31)=\"\",\"*\",INDEX(Data_kom2,MATCH(1,(komnavn2=Kommune)*(komaar2=M91),0),31)),\"\")","v":77},{"$f":"IF(Datanedslag>=N90,IF(INDEX(Data_kom2,MATCH(1,(komnavn2=Kommune)*(komaar2=N91),0),31)=\"\",\"*\",INDEX(Data_kom2,MATCH(1,(komnavn2=Kommune)*(komaar2=N91),0),31)),\"\")","v":73}]
[null,"Anm.: Hvis nøgletallet er angivet med * er der foretaget en diskretionering af data, da der er for få observationer. N angiver målgruppestørrelsen for nøgletallet. Målgruppen er borgere der ved sidste datanedslag modtog længerevarende-, midlertidigt botilbud eller botilbudslignende tilbud."]
[null,"Kilde: Social- og Boligstyrelsens egne beregninger baseret på handicapstiatistikken ved Danmarks Statistik."]
[]
[]
[null,"Delnøgletal"]
[]
[null,"Nøgletal 7.1:\nFlytning fra længerevarende botilbud og lignende til midlertidigt botilbud\n",null,"2018-01-01","2018-07-01","2019-01-01","2019-07-01","2020-01-01","2020-07-01","2021-01-01","2021-07-01","2022-01-01","2022-07-01","2023-01-01"]
[null,{"$f":"IF(Kommune=\"\",\"Kommune\",Kommune)","v":"Herning"},null,20181,20182,20191,20192,20201,20202,20211,20212,20221,20222,20231]
[null,"Andel",null,null,{"$f":"IF(Datanedslag>E101,IF(OR(E104=\"*\",E105=\"*\"),\"*\",IF(E105=0,0,(E104/E105))),IF(Datanedslag=E101,IF(OR(E104=\"*\",E105=\"*\"),\"*\",IF(E105=0,0,(E104/E105))),\"\"))","v":0},{"$f":"IF(Datanedslag>F101,IF(OR(F104=\"*\",F105=\"*\"),\"*\",IF(F105=0,0,(F104/F105))),IF(Datanedslag=F101,IF(OR(F104=\"*\",F105=\"*\"),\"*\",IF(F105=0,0,(F104/F105))),\"\"))","v":"*"},{"$f":"IF(Datanedslag>G101,IF(OR(G104=\"*\",G105=\"*\"),\"*\",IF(G105=0,0,(G104/G105))),IF(Datanedslag=G101,IF(OR(G104=\"*\",G105=\"*\"),\"*\",IF(G105=0,0,(G104/G105))),\"\"))","v":0},{"$f":"IF(Datanedslag>H101,IF(OR(H104=\"*\",H105=\"*\"),\"*\",IF(H105=0,0,(H104/H105))),IF(Datanedslag=H101,IF(OR(H104=\"*\",H105=\"*\"),\"*\",IF(H105=0,0,(H104/H105))),\"\"))","v":"*"},{"$f":"IF(Datanedslag>I101,IF(OR(I104=\"*\",I105=\"*\"),\"*\",IF(I105=0,0,(I104/I105))),IF(Datanedslag=I101,IF(OR(I104=\"*\",I105=\"*\"),\"*\",IF(I105=0,0,(I104/I105))),\"\"))","v":0},{"$f":"IF(Datanedslag>J101,IF(OR(J104=\"*\",J105=\"*\"),\"*\",IF(J105=0,0,(J104/J105))),IF(Datanedslag=J101,IF(OR(J104=\"*\",J105=\"*\"),\"*\",IF(J105=0,0,(J104/J105))),\"\"))","v":0},{"$f":"IF(Datanedslag>K101,IF(OR(K104=\"*\",K105=\"*\"),\"*\",IF(K105=0,0,(K104/K105))),IF(Datanedslag=K101,IF(OR(K104=\"*\",K105=\"*\"),\"*\",IF(K105=0,0,(K104/K105))),\"\"))","v":"*"},{"$f":"IF(Datanedslag>L101,IF(OR(L104=\"*\",L105=\"*\"),\"*\",IF(L105=0,0,(L104/L105))),IF(Datanedslag=L101,IF(OR(L104=\"*\",L105=\"*\"),\"*\",IF(L105=0,0,(L104/L105))),\"\"))","v":"*"},{"$f":"IF(Datanedslag>M101,IF(OR(M104=\"*\",M105=\"*\"),\"*\",IF(M105=0,0,(M104/M105))),IF(Datanedslag=M101,IF(OR(M104=\"*\",M105=\"*\"),\"*\",IF(M105=0,0,(M104/M105))),\"\"))","v":0},{"$f":"IF(Datanedslag>N101,IF(OR(N104=\"*\",N105=\"*\"),\"*\",IF(N105=0,0,(N104/N105))),IF(Datanedslag=N101,IF(OR(N104=\"*\",N105=\"*\"),\"*\",IF(N105=0,0,(N104/N105))),\"\"))","v":0}]
[null,"Antal modtagere",null,null,{"$f":"IF(Datanedslag>=E101,IF(INDEX(Data_kom2,MATCH(1,(komnavn2=Kommune)*(komaar2=E102),0),32)=\"\",\"*\",INDEX(Data_kom2,MATCH(1,(komnavn2=Kommune)*(komaar2=E102),0),32)),\"\")","v":0},{"$f":"IF(Datanedslag>=F101,IF(INDEX(Data_kom2,MATCH(1,(komnavn2=Kommune)*(komaar2=F102),0),32)=\"\",\"*\",INDEX(Data_kom2,MATCH(1,(komnavn2=Kommune)*(komaar2=F102),0),32)),\"\")","v":"*"},{"$f":"IF(Datanedslag>=G101,IF(INDEX(Data_kom2,MATCH(1,(komnavn2=Kommune)*(komaar2=G102),0),32)=\"\",\"*\",INDEX(Data_kom2,MATCH(1,(komnavn2=Kommune)*(komaar2=G102),0),32)),\"\")","v":0},{"$f":"IF(Datanedslag>=H101,IF(INDEX(Data_kom2,MATCH(1,(komnavn2=Kommune)*(komaar2=H102),0),32)=\"\",\"*\",INDEX(Data_kom2,MATCH(1,(komnavn2=Kommune)*(komaar2=H102),0),32)),\"\")","v":"*"},{"$f":"IF(Datanedslag>=I101,IF(INDEX(Data_kom2,MATCH(1,(komnavn2=Kommune)*(komaar2=I102),0),32)=\"\",\"*\",INDEX(Data_kom2,MATCH(1,(komnavn2=Kommune)*(komaar2=I102),0),32)),\"\")","v":0},{"$f":"IF(Datanedslag>=J101,IF(INDEX(Data_kom2,MATCH(1,(komnavn2=Kommune)*(komaar2=J102),0),32)=\"\",\"*\",INDEX(Data_kom2,MATCH(1,(komnavn2=Kommune)*(komaar2=J102),0),32)),\"\")","v":0},{"$f":"IF(Datanedslag>=K101,IF(INDEX(Data_kom2,MATCH(1,(komnavn2=Kommune)*(komaar2=K102),0),32)=\"\",\"*\",INDEX(Data_kom2,MATCH(1,(komnavn2=Kommune)*(komaar2=K102),0),32)),\"\")","v":"*"},{"$f":"IF(Datanedslag>=L101,IF(INDEX(Data_kom2,MATCH(1,(komnavn2=Kommune)*(komaar2=L102),0),32)=\"\",\"*\",INDEX(Data_kom2,MATCH(1,(komnavn2=Kommune)*(komaar2=L102),0),32)),\"\")","v":"*"},{"$f":"IF(Datanedslag>=M101,IF(INDEX(Data_kom2,MATCH(1,(komnavn2=Kommune)*(komaar2=M102),0),32)=\"\",\"*\",INDEX(Data_kom2,MATCH(1,(komnavn2=Kommune)*(komaar2=M102),0),32)),\"\")","v":0},{"$f":"IF(Datanedslag>=N101,IF(INDEX(Data_kom2,MATCH(1,(komnavn2=Kommune)*(komaar2=N102),0),32)=\"\",\"*\",INDEX(Data_kom2,MATCH(1,(komnavn2=Kommune)*(komaar2=N102),0),32)),\"\")","v":0}]
[null,"N",null,null,{"$f":"IF(Datanedslag>=E101,IF(INDEX(Data_kom2,MATCH(1,(komnavn2=Kommune)*(komaar2=E102),0),35)=\"\",\"*\",INDEX(Data_kom2,MATCH(1,(komnavn2=Kommune)*(komaar2=E102),0),35)),\"\")","v":65},{"$f":"IF(Datanedslag>=F101,IF(INDEX(Data_kom2,MATCH(1,(komnavn2=Kommune)*(komaar2=F102),0),35)=\"\",\"*\",INDEX(Data_kom2,MATCH(1,(komnavn2=Kommune)*(komaar2=F102),0),35)),\"\")","v":65},{"$f":"IF(Datanedslag>=G101,IF(INDEX(Data_kom2,MATCH(1,(komnavn2=Kommune)*(komaar2=G102),0),35)=\"\",\"*\",INDEX(Data_kom2,MATCH(1,(komnavn2=Kommune)*(komaar2=G102),0),35)),\"\")","v":65},{"$f":"IF(Datanedslag>=H101,IF(INDEX(Data_kom2,MATCH(1,(komnavn2=Kommune)*(komaar2=H102),0),35)=\"\",\"*\",INDEX(Data_kom2,MATCH(1,(komnavn2=Kommune)*(komaar2=H102),0),35)),\"\")","v":64},{"$f":"IF(Datanedslag>=I101,IF(INDEX(Data_kom2,MATCH(1,(komnavn2=Kommune)*(komaar2=I102),0),35)=\"\",\"*\",INDEX(Data_kom2,MATCH(1,(komnavn2=Kommune)*(komaar2=I102),0),35)),\"\")","v":64},{"$f":"IF(Datanedslag>=J101,IF(INDEX(Data_kom2,MATCH(1,(komnavn2=Kommune)*(komaar2=J102),0),35)=\"\",\"*\",INDEX(Data_kom2,MATCH(1,(komnavn2=Kommune)*(komaar2=J102),0),35)),\"\")","v":62},{"$f":"IF(Datanedslag>=K101,IF(INDEX(Data_kom2,MATCH(1,(komnavn2=Kommune)*(komaar2=K102),0),35)=\"\",\"*\",INDEX(Data_kom2,MATCH(1,(komnavn2=Kommune)*(komaar2=K102),0),35)),\"\")","v":59},{"$f":"IF(Datanedslag>=L101,IF(INDEX(Data_kom2,MATCH(1,(komnavn2=Kommune)*(komaar2=L102),0),35)=\"\",\"*\",INDEX(Data_kom2,MATCH(1,(komnavn2=Kommune)*(komaar2=L102),0),35)),\"\")","v":56},{"$f":"IF(Datanedslag>=M101,IF(INDEX(Data_kom2,MATCH(1,(komnavn2=Kommune)*(komaar2=M102),0),35)=\"\",\"*\",INDEX(Data_kom2,MATCH(1,(komnavn2=Kommune)*(komaar2=M102),0),35)),\"\")","v":56},{"$f":"IF(Datanedslag>=N101,IF(INDEX(Data_kom2,MATCH(1,(komnavn2=Kommune)*(komaar2=N102),0),35)=\"\",\"*\",INDEX(Data_kom2,MATCH(1,(komnavn2=Kommune)*(komaar2=N102),0),35)),\"\")","v":56}]
[null,"Anm.: Hvis nøgletallet er angivet med * er der foretaget en diskretionering af data, da der er for få observationer. N angiver målgruppestørrelsen for nøgletallet. Målgruppen er borgere der ved sidste datanedslag modtog længerevarende botilbud eller botilbudslignende tilbud."]
[null,"Kilde: Social- og Boligstyrelsens egne beregninger baseret på handicapstiatistikken ved Danmarks Statistik."]
[]
[]
[null,"Nøgletal 7.2:\nFlytning fra længerevarende botilbud og lignende til egen bolig",null,"2018-01-01","2018-07-01","2019-01-01","2019-07-01","2020-01-01","2020-07-01","2021-01-01","2021-07-01","2022-01-01","2022-07-01","2023-01-01"]
[null,{"$f":"IF(Kommune=\"\",\"Kommune\",Kommune)","v":"Herning"},null,20181,20182,20191,20192,20201,20202,20211,20212,20221,20222,20231]
[null,"Andel",null,null,{"$f":"IF(Datanedslag>E110,IF(OR(E113=\"*\",E114=\"*\"),\"*\",IF(E114=0,0,(E113/E114))),IF(Datanedslag=E110,IF(OR(E113=\"*\",E114=\"*\"),\"*\",IF(E114=0,0,(E113/E114))),\"\"))","v":7.6923076923076927E-2},{"$f":"IF(Datanedslag>F110,IF(OR(F113=\"*\",F114=\"*\"),\"*\",IF(F114=0,0,(F113/F114))),IF(Datanedslag=F110,IF(OR(F113=\"*\",F114=\"*\"),\"*\",IF(F114=0,0,(F113/F114))),\"\"))","v":"*"},{"$f":"IF(Datanedslag>G110,IF(OR(G113=\"*\",G114=\"*\"),\"*\",IF(G114=0,0,(G113/G114))),IF(Datanedslag=G110,IF(OR(G113=\"*\",G114=\"*\"),\"*\",IF(G114=0,0,(G113/G114))),\"\"))","v":4.6153846153846156E-2},{"$f":"IF(Datanedslag>H110,IF(OR(H113=\"*\",H114=\"*\"),\"*\",IF(H114=0,0,(H113/H114))),IF(Datanedslag=H110,IF(OR(H113=\"*\",H114=\"*\"),\"*\",IF(H114=0,0,(H113/H114))),\"\"))","v":"*"},{"$f":"IF(Datanedslag>I110,IF(OR(I113=\"*\",I114=\"*\"),\"*\",IF(I114=0,0,(I113/I114))),IF(Datanedslag=I110,IF(OR(I113=\"*\",I114=\"*\"),\"*\",IF(I114=0,0,(I113/I114))),\"\"))","v":4.6875E-2},{"$f":"IF(Datanedslag>J110,IF(OR(J113=\"*\",J114=\"*\"),\"*\",IF(J114=0,0,(J113/J114))),IF(Datanedslag=J110,IF(OR(J113=\"*\",J114=\"*\"),\"*\",IF(J114=0,0,(J113/J114))),\"\"))","v":6.4516129032258063E-2},{"$f":"IF(Datanedslag>K110,IF(OR(K113=\"*\",K114=\"*\"),\"*\",IF(K114=0,0,(K113/K114))),IF(Datanedslag=K110,IF(OR(K113=\"*\",K114=\"*\"),\"*\",IF(K114=0,0,(K113/K114))),\"\"))","v":"*"},{"$f":"IF(Datanedslag>L110,IF(OR(L113=\"*\",L114=\"*\"),\"*\",IF(L114=0,0,(L113/L114))),IF(Datanedslag=L110,IF(OR(L113=\"*\",L114=\"*\"),\"*\",IF(L114=0,0,(L113/L114))),\"\"))","v":"*"},{"$f":"IF(Datanedslag>M110,IF(OR(M113=\"*\",M114=\"*\"),\"*\",IF(M114=0,0,(M113/M114))),IF(Datanedslag=M110,IF(OR(M113=\"*\",M114=\"*\"),\"*\",IF(M114=0,0,(M113/M114))),\"\"))","v":5.3571428571428568E-2},{"$f":"IF(Datanedslag>N110,IF(OR(N113=\"*\",N114=\"*\"),\"*\",IF(N114=0,0,(N113/N114))),IF(Datanedslag=N110,IF(OR(N113=\"*\",N114=\"*\"),\"*\",IF(N114=0,0,(N113/N114))),\"\"))","v":7.1428571428571425E-2}]
[null,"Antal modtagere",null,null,{"$f":"IF(Datanedslag>=E110,IF(INDEX(Data_kom2,MATCH(1,(komnavn2=Kommune)*(komaar2=E111),0),36)=\"\",\"*\",INDEX(Data_kom2,MATCH(1,(komnavn2=Kommune)*(komaar2=E111),0),36)),\"\")","v":5},{"$f":"IF(Datanedslag>=F110,IF(INDEX(Data_kom2,MATCH(1,(komnavn2=Kommune)*(komaar2=F111),0),36)=\"\",\"*\",INDEX(Data_kom2,MATCH(1,(komnavn2=Kommune)*(komaar2=F111),0),36)),\"\")","v":"*"},{"$f":"IF(Datanedslag>=G110,IF(INDEX(Data_kom2,MATCH(1,(komnavn2=Kommune)*(komaar2=G111),0),36)=\"\",\"*\",INDEX(Data_kom2,MATCH(1,(komnavn2=Kommune)*(komaar2=G111),0),36)),\"\")","v":3},{"$f":"IF(Datanedslag>=H110,IF(INDEX(Data_kom2,MATCH(1,(komnavn2=Kommune)*(komaar2=H111),0),36)=\"\",\"*\",INDEX(Data_kom2,MATCH(1,(komnavn2=Kommune)*(komaar2=H111),0),36)),\"\")","v":"*"},{"$f":"IF(Datanedslag>=I110,IF(INDEX(Data_kom2,MATCH(1,(komnavn2=Kommune)*(komaar2=I111),0),36)=\"\",\"*\",INDEX(Data_kom2,MATCH(1,(komnavn2=Kommune)*(komaar2=I111),0),36)),\"\")","v":3},{"$f":"IF(Datanedslag>=J110,IF(INDEX(Data_kom2,MATCH(1,(komnavn2=Kommune)*(komaar2=J111),0),36)=\"\",\"*\",INDEX(Data_kom2,MATCH(1,(komnavn2=Kommune)*(komaar2=J111),0),36)),\"\")","v":4},{"$f":"IF(Datanedslag>=K110,IF(INDEX(Data_kom2,MATCH(1,(komnavn2=Kommune)*(komaar2=K111),0),36)=\"\",\"*\",INDEX(Data_kom2,MATCH(1,(komnavn2=Kommune)*(komaar2=K111),0),36)),\"\")","v":"*"},{"$f":"IF(Datanedslag>=L110,IF(INDEX(Data_kom2,MATCH(1,(komnavn2=Kommune)*(komaar2=L111),0),36)=\"\",\"*\",INDEX(Data_kom2,MATCH(1,(komnavn2=Kommune)*(komaar2=L111),0),36)),\"\")","v":"*"},{"$f":"IF(Datanedslag>=M110,IF(INDEX(Data_kom2,MATCH(1,(komnavn2=Kommune)*(komaar2=M111),0),36)=\"\",\"*\",INDEX(Data_kom2,MATCH(1,(komnavn2=Kommune)*(komaar2=M111),0),36)),\"\")","v":3},{"$f":"IF(Datanedslag>=N110,IF(INDEX(Data_kom2,MATCH(1,(komnavn2=Kommune)*(komaar2=N111),0),36)=\"\",\"*\",INDEX(Data_kom2,MATCH(1,(komnavn2=Kommune)*(komaar2=N111),0),36)),\"\")","v":4}]
[null,"N",null,null,{"$f":"IF(Datanedslag>=E110,IF(INDEX(Data_kom2,MATCH(1,(komnavn2=Kommune)*(komaar2=E111),0),39)=\"\",\"*\",INDEX(Data_kom2,MATCH(1,(komnavn2=Kommune)*(komaar2=E111),0),39)),\"\")","v":65},{"$f":"IF(Datanedslag>=F110,IF(INDEX(Data_kom2,MATCH(1,(komnavn2=Kommune)*(komaar2=F111),0),39)=\"\",\"*\",INDEX(Data_kom2,MATCH(1,(komnavn2=Kommune)*(komaar2=F111),0),39)),\"\")","v":65},{"$f":"IF(Datanedslag>=G110,IF(INDEX(Data_kom2,MATCH(1,(komnavn2=Kommune)*(komaar2=G111),0),39)=\"\",\"*\",INDEX(Data_kom2,MATCH(1,(komnavn2=Kommune)*(komaar2=G111),0),39)),\"\")","v":65},{"$f":"IF(Datanedslag>=H110,IF(INDEX(Data_kom2,MATCH(1,(komnavn2=Kommune)*(komaar2=H111),0),39)=\"\",\"*\",INDEX(Data_kom2,MATCH(1,(komnavn2=Kommune)*(komaar2=H111),0),39)),\"\")","v":64},{"$f":"IF(Datanedslag>=I110,IF(INDEX(Data_kom2,MATCH(1,(komnavn2=Kommune)*(komaar2=I111),0),39)=\"\",\"*\",INDEX(Data_kom2,MATCH(1,(komnavn2=Kommune)*(komaar2=I111),0),39)),\"\")","v":64},{"$f":"IF(Datanedslag>=J110,IF(INDEX(Data_kom2,MATCH(1,(komnavn2=Kommune)*(komaar2=J111),0),39)=\"\",\"*\",INDEX(Data_kom2,MATCH(1,(komnavn2=Kommune)*(komaar2=J111),0),39)),\"\")","v":62},{"$f":"IF(Datanedslag>=K110,IF(INDEX(Data_kom2,MATCH(1,(komnavn2=Kommune)*(komaar2=K111),0),39)=\"\",\"*\",INDEX(Data_kom2,MATCH(1,(komnavn2=Kommune)*(komaar2=K111),0),39)),\"\")","v":59},{"$f":"IF(Datanedslag>=L110,IF(INDEX(Data_kom2,MATCH(1,(komnavn2=Kommune)*(komaar2=L111),0),39)=\"\",\"*\",INDEX(Data_kom2,MATCH(1,(komnavn2=Kommune)*(komaar2=L111),0),39)),\"\")","v":56},{"$f":"IF(Datanedslag>=M110,IF(INDEX(Data_kom2,MATCH(1,(komnavn2=Kommune)*(komaar2=M111),0),39)=\"\",\"*\",INDEX(Data_kom2,MATCH(1,(komnavn2=Kommune)*(komaar2=M111),0),39)),\"\")","v":56},{"$f":"IF(Datanedslag>=N110,IF(INDEX(Data_kom2,MATCH(1,(komnavn2=Kommune)*(komaar2=N111),0),39)=\"\",\"*\",INDEX(Data_kom2,MATCH(1,(komnavn2=Kommune)*(komaar2=N111),0),39)),\"\")","v":56}]
[null,"Anm.: Hvis nøgletallet er angivet med * er der foretaget en diskretionering af data, da der er for få observationer. N angiver målgruppestørrelsen for nøgletallet. Målgruppen er borgere der ved sidste datanedslag modtog længerevarende botilbud eller botilbudslignende tilbud."]
[null,"Kilde: Social- og Boligstyrelsens egne beregninger baseret på handicapstiatistikken ved Danmarks Statistik."]
[]
[]
[null,"Nøgletal 7.3:\nFlytning fra midlertidigt botilbud til egen bolig",null,"2018-01-01","2018-07-01","2019-01-01","2019-07-01","2020-01-01","2020-07-01","2021-01-01","2021-07-01","2022-01-01","2022-07-01","2023-01-01"]
[null,{"$f":"IF(Kommune=\"\",\"Kommune\",Kommune)","v":"Herning"},null,20181,20182,20191,20192,20201,20202,20211,20212,20221,20222,20231]
[null,"Andel",null,null,{"$f":"IF(Datanedslag>E119,IF(OR(E122=\"*\",E123=\"*\"),\"*\",IF(E123=0,0,(E122/E123))),IF(Datanedslag=E119,IF(OR(E122=\"*\",E123=\"*\"),\"*\",IF(E123=0,0,(E122/E123))),\"\"))","v":0.14285714285714285},{"$f":"IF(Datanedslag>F119,IF(OR(F122=\"*\",F123=\"*\"),\"*\",IF(F123=0,0,(F122/F123))),IF(Datanedslag=F119,IF(OR(F122=\"*\",F123=\"*\"),\"*\",IF(F123=0,0,(F122/F123))),\"\"))","v":"*"},{"$f":"IF(Datanedslag>G119,IF(OR(G122=\"*\",G123=\"*\"),\"*\",IF(G123=0,0,(G122/G123))),IF(Datanedslag=G119,IF(OR(G122=\"*\",G123=\"*\"),\"*\",IF(G123=0,0,(G122/G123))),\"\"))","v":0.17857142857142858},{"$f":"IF(Datanedslag>H119,IF(OR(H122=\"*\",H123=\"*\"),\"*\",IF(H123=0,0,(H122/H123))),IF(Datanedslag=H119,IF(OR(H122=\"*\",H123=\"*\"),\"*\",IF(H123=0,0,(H122/H123))),\"\"))","v":"*"},{"$f":"IF(Datanedslag>I119,IF(OR(I122=\"*\",I123=\"*\"),\"*\",IF(I123=0,0,(I122/I123))),IF(Datanedslag=I119,IF(OR(I122=\"*\",I123=\"*\"),\"*\",IF(I123=0,0,(I122/I123))),\"\"))","v":0.23333333333333334},{"$f":"IF(Datanedslag>J119,IF(OR(J122=\"*\",J123=\"*\"),\"*\",IF(J123=0,0,(J122/J123))),IF(Datanedslag=J119,IF(OR(J122=\"*\",J123=\"*\"),\"*\",IF(J123=0,0,(J122/J123))),\"\"))","v":0.15384615384615385},{"$f":"IF(Datanedslag>K119,IF(OR(K122=\"*\",K123=\"*\"),\"*\",IF(K123=0,0,(K122/K123))),IF(Datanedslag=K119,IF(OR(K122=\"*\",K123=\"*\"),\"*\",IF(K123=0,0,(K122/K123))),\"\"))","v":"*"},{"$f":"IF(Datanedslag>L119,IF(OR(L122=\"*\",L123=\"*\"),\"*\",IF(L123=0,0,(L122/L123))),IF(Datanedslag=L119,IF(OR(L122=\"*\",L123=\"*\"),\"*\",IF(L123=0,0,(L122/L123))),\"\"))","v":"*"},{"$f":"IF(Datanedslag>M119,IF(OR(M122=\"*\",M123=\"*\"),\"*\",IF(M123=0,0,(M122/M123))),IF(Datanedslag=M119,IF(OR(M122=\"*\",M123=\"*\"),\"*\",IF(M123=0,0,(M122/M123))),\"\"))","v":0.19047619047619047},{"$f":"IF(Datanedslag>N119,IF(OR(N122=\"*\",N123=\"*\"),\"*\",IF(N123=0,0,(N122/N123))),IF(Datanedslag=N119,IF(OR(N122=\"*\",N123=\"*\"),\"*\",IF(N123=0,0,(N122/N123))),\"\"))","v":0.17647058823529413}]
[null,"Antal modtagere",null,null,{"$f":"IF(Datanedslag>=E119,IF(INDEX(Data_kom2,MATCH(1,(komnavn2=Kommune)*(komaar2=E120),0),40)=\"\",\"*\",INDEX(Data_kom2,MATCH(1,(komnavn2=Kommune)*(komaar2=E120),0),40)),\"\")","v":4},{"$f":"IF(Datanedslag>=F119,IF(INDEX(Data_kom2,MATCH(1,(komnavn2=Kommune)*(komaar2=F120),0),40)=\"\",\"*\",INDEX(Data_kom2,MATCH(1,(komnavn2=Kommune)*(komaar2=F120),0),40)),\"\")","v":"*"},{"$f":"IF(Datanedslag>=G119,IF(INDEX(Data_kom2,MATCH(1,(komnavn2=Kommune)*(komaar2=G120),0),40)=\"\",\"*\",INDEX(Data_kom2,MATCH(1,(komnavn2=Kommune)*(komaar2=G120),0),40)),\"\")","v":5},{"$f":"IF(Datanedslag>=H119,IF(INDEX(Data_kom2,MATCH(1,(komnavn2=Kommune)*(komaar2=H120),0),40)=\"\",\"*\",INDEX(Data_kom2,MATCH(1,(komnavn2=Kommune)*(komaar2=H120),0),40)),\"\")","v":"*"},{"$f":"IF(Datanedslag>=I119,IF(INDEX(Data_kom2,MATCH(1,(komnavn2=Kommune)*(komaar2=I120),0),40)=\"\",\"*\",INDEX(Data_kom2,MATCH(1,(komnavn2=Kommune)*(komaar2=I120),0),40)),\"\")","v":7},{"$f":"IF(Datanedslag>=J119,IF(INDEX(Data_kom2,MATCH(1,(komnavn2=Kommune)*(komaar2=J120),0),40)=\"\",\"*\",INDEX(Data_kom2,MATCH(1,(komnavn2=Kommune)*(komaar2=J120),0),40)),\"\")","v":4},{"$f":"IF(Datanedslag>=K119,IF(INDEX(Data_kom2,MATCH(1,(komnavn2=Kommune)*(komaar2=K120),0),40)=\"\",\"*\",INDEX(Data_kom2,MATCH(1,(komnavn2=Kommune)*(komaar2=K120),0),40)),\"\")","v":"*"},{"$f":"IF(Datanedslag>=L119,IF(INDEX(Data_kom2,MATCH(1,(komnavn2=Kommune)*(komaar2=L120),0),40)=\"\",\"*\",INDEX(Data_kom2,MATCH(1,(komnavn2=Kommune)*(komaar2=L120),0),40)),\"\")","v":"*"},{"$f":"IF(Datanedslag>=M119,IF(INDEX(Data_kom2,MATCH(1,(komnavn2=Kommune)*(komaar2=M120),0),40)=\"\",\"*\",INDEX(Data_kom2,MATCH(1,(komnavn2=Kommune)*(komaar2=M120),0),40)),\"\")","v":4},{"$f":"IF(Datanedslag>=N119,IF(INDEX(Data_kom2,MATCH(1,(komnavn2=Kommune)*(komaar2=N120),0),40)=\"\",\"*\",INDEX(Data_kom2,MATCH(1,(komnavn2=Kommune)*(komaar2=N120),0),40)),\"\")","v":3}]
[null,"N",null,null,{"$f":"IF(Datanedslag>=E119,IF(INDEX(Data_kom2,MATCH(1,(komnavn2=Kommune)*(komaar2=E120),0),43)=\"\",\"*\",INDEX(Data_kom2,MATCH(1,(komnavn2=Kommune)*(komaar2=E120),0),43)),\"\")","v":28},{"$f":"IF(Datanedslag>=F119,IF(INDEX(Data_kom2,MATCH(1,(komnavn2=Kommune)*(komaar2=F120),0),43)=\"\",\"*\",INDEX(Data_kom2,MATCH(1,(komnavn2=Kommune)*(komaar2=F120),0),43)),\"\")","v":26},{"$f":"IF(Datanedslag>=G119,IF(INDEX(Data_kom2,MATCH(1,(komnavn2=Kommune)*(komaar2=G120),0),43)=\"\",\"*\",INDEX(Data_kom2,MATCH(1,(komnavn2=Kommune)*(komaar2=G120),0),43)),\"\")","v":28},{"$f":"IF(Datanedslag>=H119,IF(INDEX(Data_kom2,MATCH(1,(komnavn2=Kommune)*(komaar2=H120),0),43)=\"\",\"*\",INDEX(Data_kom2,MATCH(1,(komnavn2=Kommune)*(komaar2=H120),0),43)),\"\")","v":30},{"$f":"IF(Datanedslag>=I119,IF(INDEX(Data_kom2,MATCH(1,(komnavn2=Kommune)*(komaar2=I120),0),43)=\"\",\"*\",INDEX(Data_kom2,MATCH(1,(komnavn2=Kommune)*(komaar2=I120),0),43)),\"\")","v":30},{"$f":"IF(Datanedslag>=J119,IF(INDEX(Data_kom2,MATCH(1,(komnavn2=Kommune)*(komaar2=J120),0),43)=\"\",\"*\",INDEX(Data_kom2,MATCH(1,(komnavn2=Kommune)*(komaar2=J120),0),43)),\"\")","v":26},{"$f":"IF(Datanedslag>=K119,IF(INDEX(Data_kom2,MATCH(1,(komnavn2=Kommune)*(komaar2=K120),0),43)=\"\",\"*\",INDEX(Data_kom2,MATCH(1,(komnavn2=Kommune)*(komaar2=K120),0),43)),\"\")","v":24},{"$f":"IF(Datanedslag>=L119,IF(INDEX(Data_kom2,MATCH(1,(komnavn2=Kommune)*(komaar2=L120),0),43)=\"\",\"*\",INDEX(Data_kom2,MATCH(1,(komnavn2=Kommune)*(komaar2=L120),0),43)),\"\")","v":23},{"$f":"IF(Datanedslag>=M119,IF(INDEX(Data_kom2,MATCH(1,(komnavn2=Kommune)*(komaar2=M120),0),43)=\"\",\"*\",INDEX(Data_kom2,MATCH(1,(komnavn2=Kommune)*(komaar2=M120),0),43)),\"\")","v":21},{"$f":"IF(Datanedslag>=N119,IF(INDEX(Data_kom2,MATCH(1,(komnavn2=Kommune)*(komaar2=N120),0),43)=\"\",\"*\",INDEX(Data_kom2,MATCH(1,(komnavn2=Kommune)*(komaar2=N120),0),43)),\"\")","v":17}]
[null,"Anm.: Hvis nøgletallet er angivet med * er der foretaget en diskretionering af data, da der er for få observationer. N angiver målgruppestørrelsen for nøgletallet. Målgruppen er borgere der ved sidste datanedslag modtog midlertidigt botilbud."]
[null,"Kilde: Social- og Boligstyrelsens egne beregninger baseret på handicapstiatistikken ved Danmarks Statistik."]
[]
[]
[]
[null,"Valgt nøgletal: Nøgletal 8"]
[]
[null,"Nøgletal 8: \nFra socialpædagogisk støtte og ned ad trappen",null,"2018-01-01","2018-07-01","2019-01-01","2019-07-01","2020-01-01","2020-07-01","2021-01-01","2021-07-01","2022-01-01","2022-07-01","2023-01-01"]
[null,{"$f":"IF(Kommune=\"\",\"Kommune\",Kommune)","v":"Herning"},null,20181,20182,20191,20192,20201,20202,20211,20212,20221,20222,20231]
[null,"Andel",null,null,{"$f":"IF(Datanedslag>E131,IF(OR(E134=\"*\",E135=\"*\"),\"*\",IF(E135=0,0,(E134/E135))),IF(Datanedslag=E131,IF(OR(E134=\"*\",E135=\"*\"),\"*\",IF(E135=0,0,(E134/E135))),\"\"))","v":0.1134020618556701},{"$f":"IF(Datanedslag>F131,IF(OR(F134=\"*\",F135=\"*\"),\"*\",IF(F135=0,0,(F134/F135))),IF(Datanedslag=F131,IF(OR(F134=\"*\",F135=\"*\"),\"*\",IF(F135=0,0,(F134/F135))),\"\"))","v":0.18983050847457628},{"$f":"IF(Datanedslag>G131,IF(OR(G134=\"*\",G135=\"*\"),\"*\",IF(G135=0,0,(G134/G135))),IF(Datanedslag=G131,IF(OR(G134=\"*\",G135=\"*\"),\"*\",IF(G135=0,0,(G134/G135))),\"\"))","v":0.17028985507246377},{"$f":"IF(Datanedslag>H131,IF(OR(H134=\"*\",H135=\"*\"),\"*\",IF(H135=0,0,(H134/H135))),IF(Datanedslag=H131,IF(OR(H134=\"*\",H135=\"*\"),\"*\",IF(H135=0,0,(H134/H135))),\"\"))","v":0.17829457364341086},{"$f":"IF(Datanedslag>I131,IF(OR(I134=\"*\",I135=\"*\"),\"*\",IF(I135=0,0,(I134/I135))),IF(Datanedslag=I131,IF(OR(I134=\"*\",I135=\"*\"),\"*\",IF(I135=0,0,(I134/I135))),\"\"))","v":0.13253012048192772},{"$f":"IF(Datanedslag>J131,IF(OR(J134=\"*\",J135=\"*\"),\"*\",IF(J135=0,0,(J134/J135))),IF(Datanedslag=J131,IF(OR(J134=\"*\",J135=\"*\"),\"*\",IF(J135=0,0,(J134/J135))),\"\"))","v":0.10687022900763359},{"$f":"IF(Datanedslag>K131,IF(OR(K134=\"*\",K135=\"*\"),\"*\",IF(K135=0,0,(K134/K135))),IF(Datanedslag=K131,IF(OR(K134=\"*\",K135=\"*\"),\"*\",IF(K135=0,0,(K134/K135))),\"\"))","v":0.12359550561797752},{"$f":"IF(Datanedslag>L131,IF(OR(L134=\"*\",L135=\"*\"),\"*\",IF(L135=0,0,(L134/L135))),IF(Datanedslag=L131,IF(OR(L134=\"*\",L135=\"*\"),\"*\",IF(L135=0,0,(L134/L135))),\"\"))","v":9.6428571428571433E-2},{"$f":"IF(Datanedslag>M131,IF(OR(M134=\"*\",M135=\"*\"),\"*\",IF(M135=0,0,(M134/M135))),IF(Datanedslag=M131,IF(OR(M134=\"*\",M135=\"*\"),\"*\",IF(M135=0,0,(M134/M135))),\"\"))","v":0.17454545454545456},{"$f":"IF(Datanedslag>N131,IF(OR(N134=\"*\",N135=\"*\"),\"*\",IF(N135=0,0,(N134/N135))),IF(Datanedslag=N131,IF(OR(N134=\"*\",N135=\"*\"),\"*\",IF(N135=0,0,(N134/N135))),\"\"))","v":0.10843373493975904}]
[null,"Antal modtagere",null,null,{"$f":"IF(Datanedslag>=E131,IF(INDEX(Data_kom2,MATCH(1,(komnavn2=Kommune)*(komaar2=E132),0),44)=\"\",\"*\",INDEX(Data_kom2,MATCH(1,(komnavn2=Kommune)*(komaar2=E132),0),44)),\"\")","v":33},{"$f":"IF(Datanedslag>=F131,IF(INDEX(Data_kom2,MATCH(1,(komnavn2=Kommune)*(komaar2=F132),0),44)=\"\",\"*\",INDEX(Data_kom2,MATCH(1,(komnavn2=Kommune)*(komaar2=F132),0),44)),\"\")","v":56},{"$f":"IF(Datanedslag>=G131,IF(INDEX(Data_kom2,MATCH(1,(komnavn2=Kommune)*(komaar2=G132),0),44)=\"\",\"*\",INDEX(Data_kom2,MATCH(1,(komnavn2=Kommune)*(komaar2=G132),0),44)),\"\")","v":47},{"$f":"IF(Datanedslag>=H131,IF(INDEX(Data_kom2,MATCH(1,(komnavn2=Kommune)*(komaar2=H132),0),44)=\"\",\"*\",INDEX(Data_kom2,MATCH(1,(komnavn2=Kommune)*(komaar2=H132),0),44)),\"\")","v":46},{"$f":"IF(Datanedslag>=I131,IF(INDEX(Data_kom2,MATCH(1,(komnavn2=Kommune)*(komaar2=I132),0),44)=\"\",\"*\",INDEX(Data_kom2,MATCH(1,(komnavn2=Kommune)*(komaar2=I132),0),44)),\"\")","v":33},{"$f":"IF(Datanedslag>=J131,IF(INDEX(Data_kom2,MATCH(1,(komnavn2=Kommune)*(komaar2=J132),0),44)=\"\",\"*\",INDEX(Data_kom2,MATCH(1,(komnavn2=Kommune)*(komaar2=J132),0),44)),\"\")","v":28},{"$f":"IF(Datanedslag>=K131,IF(INDEX(Data_kom2,MATCH(1,(komnavn2=Kommune)*(komaar2=K132),0),44)=\"\",\"*\",INDEX(Data_kom2,MATCH(1,(komnavn2=Kommune)*(komaar2=K132),0),44)),\"\")","v":33},{"$f":"IF(Datanedslag>=L131,IF(INDEX(Data_kom2,MATCH(1,(komnavn2=Kommune)*(komaar2=L132),0),44)=\"\",\"*\",INDEX(Data_kom2,MATCH(1,(komnavn2=Kommune)*(komaar2=L132),0),44)),\"\")","v":27},{"$f":"IF(Datanedslag>=M131,IF(INDEX(Data_kom2,MATCH(1,(komnavn2=Kommune)*(komaar2=M132),0),44)=\"\",\"*\",INDEX(Data_kom2,MATCH(1,(komnavn2=Kommune)*(komaar2=M132),0),44)),\"\")","v":48},{"$f":"IF(Datanedslag>=N131,IF(INDEX(Data_kom2,MATCH(1,(komnavn2=Kommune)*(komaar2=N132),0),44)=\"\",\"*\",INDEX(Data_kom2,MATCH(1,(komnavn2=Kommune)*(komaar2=N132),0),44)),\"\")","v":27}]
[null,"N",null,null,{"$f":"IF(Datanedslag>=E131,IF(INDEX(Data_kom2,MATCH(1,(komnavn2=Kommune)*(komaar2=E132),0),47)=\"\",\"*\",INDEX(Data_kom2,MATCH(1,(komnavn2=Kommune)*(komaar2=E132),0),47)),\"\")","v":291},{"$f":"IF(Datanedslag>=F131,IF(INDEX(Data_kom2,MATCH(1,(komnavn2=Kommune)*(komaar2=F132),0),47)=\"\",\"*\",INDEX(Data_kom2,MATCH(1,(komnavn2=Kommune)*(komaar2=F132),0),47)),\"\")","v":295},{"$f":"IF(Datanedslag>=G131,IF(INDEX(Data_kom2,MATCH(1,(komnavn2=Kommune)*(komaar2=G132),0),47)=\"\",\"*\",INDEX(Data_kom2,MATCH(1,(komnavn2=Kommune)*(komaar2=G132),0),47)),\"\")","v":276},{"$f":"IF(Datanedslag>=H131,IF(INDEX(Data_kom2,MATCH(1,(komnavn2=Kommune)*(komaar2=H132),0),47)=\"\",\"*\",INDEX(Data_kom2,MATCH(1,(komnavn2=Kommune)*(komaar2=H132),0),47)),\"\")","v":258},{"$f":"IF(Datanedslag>=I131,IF(INDEX(Data_kom2,MATCH(1,(komnavn2=Kommune)*(komaar2=I132),0),47)=\"\",\"*\",INDEX(Data_kom2,MATCH(1,(komnavn2=Kommune)*(komaar2=I132),0),47)),\"\")","v":249},{"$f":"IF(Datanedslag>=J131,IF(INDEX(Data_kom2,MATCH(1,(komnavn2=Kommune)*(komaar2=J132),0),47)=\"\",\"*\",INDEX(Data_kom2,MATCH(1,(komnavn2=Kommune)*(komaar2=J132),0),47)),\"\")","v":262},{"$f":"IF(Datanedslag>=K131,IF(INDEX(Data_kom2,MATCH(1,(komnavn2=Kommune)*(komaar2=K132),0),47)=\"\",\"*\",INDEX(Data_kom2,MATCH(1,(komnavn2=Kommune)*(komaar2=K132),0),47)),\"\")","v":267},{"$f":"IF(Datanedslag>=L131,IF(INDEX(Data_kom2,MATCH(1,(komnavn2=Kommune)*(komaar2=L132),0),47)=\"\",\"*\",INDEX(Data_kom2,MATCH(1,(komnavn2=Kommune)*(komaar2=L132),0),47)),\"\")","v":280},{"$f":"IF(Datanedslag>=M131,IF(INDEX(Data_kom2,MATCH(1,(komnavn2=Kommune)*(komaar2=M132),0),47)=\"\",\"*\",INDEX(Data_kom2,MATCH(1,(komnavn2=Kommune)*(komaar2=M132),0),47)),\"\")","v":275},{"$f":"IF(Datanedslag>=N131,IF(INDEX(Data_kom2,MATCH(1,(komnavn2=Kommune)*(komaar2=N132),0),47)=\"\",\"*\",INDEX(Data_kom2,MATCH(1,(komnavn2=Kommune)*(komaar2=N132),0),47)),\"\")","v":249}]
[null,"Anm.: Hvis nøgletallet er angivet med * er der foretaget en diskretionering af data, da der er for få observationer. N angiver målgruppestørrelsen for nøgletallet. Målgruppen er borgere der ved sidste datanedslag modtog socialpædagogisk støtte."]
[null,"Kilde: Social- og Boligstyrelsens egne beregninger baseret på handicapstiatistikken ved Danmarks Statistik."]
[]
[]
[]
[null,"Valgt nøgletal: Nøgletal 9"]
[]
[null,"Nøgletal 9: \nFra forebyggelse og ned ad trappen",null,"2018-01-01","2018-07-01","2019-01-01","2019-07-01","2020-01-01","2020-07-01","2021-01-01","2021-07-01","2022-01-01","2022-07-01","2023-01-01"]
[null,{"$f":"IF(Kommune=\"\",\"Kommune\",Kommune)","v":"Herning"},null,20181,20182,20191,20192,20201,20202,20211,20212,20221,20222,20231]
[null,"Andel",null,null,{"$f":"IF(Datanedslag>E143,IF(OR(E146=\"*\",E147=\"*\"),\"*\",IF(E147=0,0,(E146/E147))),IF(Datanedslag=E143,IF(OR(E146=\"*\",E147=\"*\"),\"*\",IF(E147=0,0,(E146/E147))),\"\"))","v":0},{"$f":"IF(Datanedslag>F143,IF(OR(F146=\"*\",F147=\"*\"),\"*\",IF(F147=0,0,(F146/F147))),IF(Datanedslag=F143,IF(OR(F146=\"*\",F147=\"*\"),\"*\",IF(F147=0,0,(F146/F147))),\"\"))","v":0},{"$f":"IF(Datanedslag>G143,IF(OR(G146=\"*\",G147=\"*\"),\"*\",IF(G147=0,0,(G146/G147))),IF(Datanedslag=G143,IF(OR(G146=\"*\",G147=\"*\"),\"*\",IF(G147=0,0,(G146/G147))),\"\"))","v":0},{"$f":"IF(Datanedslag>H143,IF(OR(H146=\"*\",H147=\"*\"),\"*\",IF(H147=0,0,(H146/H147))),IF(Datanedslag=H143,IF(OR(H146=\"*\",H147=\"*\"),\"*\",IF(H147=0,0,(H146/H147))),\"\"))","v":0},{"$f":"IF(Datanedslag>I143,IF(OR(I146=\"*\",I147=\"*\"),\"*\",IF(I147=0,0,(I146/I147))),IF(Datanedslag=I143,IF(OR(I146=\"*\",I147=\"*\"),\"*\",IF(I147=0,0,(I146/I147))),\"\"))","v":"*"},{"$f":"IF(Datanedslag>J143,IF(OR(J146=\"*\",J147=\"*\"),\"*\",IF(J147=0,0,(J146/J147))),IF(Datanedslag=J143,IF(OR(J146=\"*\",J147=\"*\"),\"*\",IF(J147=0,0,(J146/J147))),\"\"))","v":0.61538461538461542},{"$f":"IF(Datanedslag>K143,IF(OR(K146=\"*\",K147=\"*\"),\"*\",IF(K147=0,0,(K146/K147))),IF(Datanedslag=K143,IF(OR(K146=\"*\",K147=\"*\"),\"*\",IF(K147=0,0,(K146/K147))),\"\"))","v":0.70588235294117652},{"$f":"IF(Datanedslag>L143,IF(OR(L146=\"*\",L147=\"*\"),\"*\",IF(L147=0,0,(L146/L147))),IF(Datanedslag=L143,IF(OR(L146=\"*\",L147=\"*\"),\"*\",IF(L147=0,0,(L146/L147))),\"\"))","v":0.625},{"$f":"IF(Datanedslag>M143,IF(OR(M146=\"*\",M147=\"*\"),\"*\",IF(M147=0,0,(M146/M147))),IF(Datanedslag=M143,IF(OR(M146=\"*\",M147=\"*\"),\"*\",IF(M147=0,0,(M146/M147))),\"\"))","v":0.73684210526315785},{"$f":"IF(Datanedslag>N143,IF(OR(N146=\"*\",N147=\"*\"),\"*\",IF(N147=0,0,(N146/N147))),IF(Datanedslag=N143,IF(OR(N146=\"*\",N147=\"*\"),\"*\",IF(N147=0,0,(N146/N147))),\"\"))","v":0.2857142857142857}]
[null,"Antal modtagere",null,null,{"$f":"IF(Datanedslag>=E143,IF(INDEX(Data_kom2,MATCH(1,(komnavn2=Kommune)*(komaar2=E144),0),48)=\"\",\"*\",INDEX(Data_kom2,MATCH(1,(komnavn2=Kommune)*(komaar2=E144),0),48)),\"\")","v":0},{"$f":"IF(Datanedslag>=F143,IF(INDEX(Data_kom2,MATCH(1,(komnavn2=Kommune)*(komaar2=F144),0),48)=\"\",\"*\",INDEX(Data_kom2,MATCH(1,(komnavn2=Kommune)*(komaar2=F144),0),48)),\"\")","v":0},{"$f":"IF(Datanedslag>=G143,IF(INDEX(Data_kom2,MATCH(1,(komnavn2=Kommune)*(komaar2=G144),0),48)=\"\",\"*\",INDEX(Data_kom2,MATCH(1,(komnavn2=Kommune)*(komaar2=G144),0),48)),\"\")","v":0},{"$f":"IF(Datanedslag>=H143,IF(INDEX(Data_kom2,MATCH(1,(komnavn2=Kommune)*(komaar2=H144),0),48)=\"\",\"*\",INDEX(Data_kom2,MATCH(1,(komnavn2=Kommune)*(komaar2=H144),0),48)),\"\")","v":0},{"$f":"IF(Datanedslag>=I143,IF(INDEX(Data_kom2,MATCH(1,(komnavn2=Kommune)*(komaar2=I144),0),48)=\"\",\"*\",INDEX(Data_kom2,MATCH(1,(komnavn2=Kommune)*(komaar2=I144),0),48)),\"\")","v":0},{"$f":"IF(Datanedslag>=J143,IF(INDEX(Data_kom2,MATCH(1,(komnavn2=Kommune)*(komaar2=J144),0),48)=\"\",\"*\",INDEX(Data_kom2,MATCH(1,(komnavn2=Kommune)*(komaar2=J144),0),48)),\"\")","v":8},{"$f":"IF(Datanedslag>=K143,IF(INDEX(Data_kom2,MATCH(1,(komnavn2=Kommune)*(komaar2=K144),0),48)=\"\",\"*\",INDEX(Data_kom2,MATCH(1,(komnavn2=Kommune)*(komaar2=K144),0),48)),\"\")","v":12},{"$f":"IF(Datanedslag>=L143,IF(INDEX(Data_kom2,MATCH(1,(komnavn2=Kommune)*(komaar2=L144),0),48)=\"\",\"*\",INDEX(Data_kom2,MATCH(1,(komnavn2=Kommune)*(komaar2=L144),0),48)),\"\")","v":10},{"$f":"IF(Datanedslag>=M143,IF(INDEX(Data_kom2,MATCH(1,(komnavn2=Kommune)*(komaar2=M144),0),48)=\"\",\"*\",INDEX(Data_kom2,MATCH(1,(komnavn2=Kommune)*(komaar2=M144),0),48)),\"\")","v":14},{"$f":"IF(Datanedslag>=N143,IF(INDEX(Data_kom2,MATCH(1,(komnavn2=Kommune)*(komaar2=N144),0),48)=\"\",\"*\",INDEX(Data_kom2,MATCH(1,(komnavn2=Kommune)*(komaar2=N144),0),48)),\"\")","v":8}]
[null,"N",null,null,{"$f":"IF(Datanedslag>=E143,IF(INDEX(Data_kom2,MATCH(1,(komnavn2=Kommune)*(komaar2=E144),0),51)=\"\",\"*\",INDEX(Data_kom2,MATCH(1,(komnavn2=Kommune)*(komaar2=E144),0),51)),\"\")","v":0},{"$f":"IF(Datanedslag>=F143,IF(INDEX(Data_kom2,MATCH(1,(komnavn2=Kommune)*(komaar2=F144),0),51)=\"\",\"*\",INDEX(Data_kom2,MATCH(1,(komnavn2=Kommune)*(komaar2=F144),0),51)),\"\")","v":0},{"$f":"IF(Datanedslag>=G143,IF(INDEX(Data_kom2,MATCH(1,(komnavn2=Kommune)*(komaar2=G144),0),51)=\"\",\"*\",INDEX(Data_kom2,MATCH(1,(komnavn2=Kommune)*(komaar2=G144),0),51)),\"\")","v":0},{"$f":"IF(Datanedslag>=H143,IF(INDEX(Data_kom2,MATCH(1,(komnavn2=Kommune)*(komaar2=H144),0),51)=\"\",\"*\",INDEX(Data_kom2,MATCH(1,(komnavn2=Kommune)*(komaar2=H144),0),51)),\"\")","v":0},{"$f":"IF(Datanedslag>=I143,IF(INDEX(Data_kom2,MATCH(1,(komnavn2=Kommune)*(komaar2=I144),0),51)=\"\",\"*\",INDEX(Data_kom2,MATCH(1,(komnavn2=Kommune)*(komaar2=I144),0),51)),\"\")","v":"*"},{"$f":"IF(Datanedslag>=J143,IF(INDEX(Data_kom2,MATCH(1,(komnavn2=Kommune)*(komaar2=J144),0),51)=\"\",\"*\",INDEX(Data_kom2,MATCH(1,(komnavn2=Kommune)*(komaar2=J144),0),51)),\"\")","v":13},{"$f":"IF(Datanedslag>=K143,IF(INDEX(Data_kom2,MATCH(1,(komnavn2=Kommune)*(komaar2=K144),0),51)=\"\",\"*\",INDEX(Data_kom2,MATCH(1,(komnavn2=Kommune)*(komaar2=K144),0),51)),\"\")","v":17},{"$f":"IF(Datanedslag>=L143,IF(INDEX(Data_kom2,MATCH(1,(komnavn2=Kommune)*(komaar2=L144),0),51)=\"\",\"*\",INDEX(Data_kom2,MATCH(1,(komnavn2=Kommune)*(komaar2=L144),0),51)),\"\")","v":16},{"$f":"IF(Datanedslag>=M143,IF(INDEX(Data_kom2,MATCH(1,(komnavn2=Kommune)*(komaar2=M144),0),51)=\"\",\"*\",INDEX(Data_kom2,MATCH(1,(komnavn2=Kommune)*(komaar2=M144),0),51)),\"\")","v":19},{"$f":"IF(Datanedslag>=N143,IF(INDEX(Data_kom2,MATCH(1,(komnavn2=Kommune)*(komaar2=N144),0),51)=\"\",\"*\",INDEX(Data_kom2,MATCH(1,(komnavn2=Kommune)*(komaar2=N144),0),51)),\"\")","v":28}]
[null,"Anm.: Hvis nøgletallet er angivet med * er der foretaget en diskretionering af data, da der er for få observationer. N angiver målgruppestørrelsen for nøgletallet. Målgruppen er borgere der ved sidste datanedslag modtog forebyggende indsats efter SEL § 82. Ydelser efter servicelovens § 82 er først blevet indberetningspligtig pr. 1/7-2020."]
[null,"Kilde: Social- og Boligstyrelsens egne beregninger baseret på handicapstiatistikken ved Danmarks Statistik."]
[]
[]
[]
[null,"Valgt nøgletal: Nøgletal 10"]
[]
[null,"Nøgletal 10: \nFra forebyggelse og op ad trappen",null,"2018-01-01","2018-07-01","2019-01-01","2019-07-01","2020-01-01","2020-07-01","2021-01-01","2021-07-01","2022-01-01","2022-07-01","2023-01-01"]
[null,{"$f":"IF(Kommune=\"\",\"Kommune\",Kommune)","v":"Herning"},null,20181,20182,20191,20192,20201,20202,20211,20212,20221,20222,20231]
[null,"Andel",null,null,{"$f":"IF(Datanedslag>E155,IF(OR(E158=\"*\",E159=\"*\"),\"*\",IF(E159=0,0,(E158/E159))),IF(Datanedslag=E155,IF(OR(E158=\"*\",E159=\"*\"),\"*\",IF(E159=0,0,(E158/E159))),\"\"))","v":0},{"$f":"IF(Datanedslag>F155,IF(OR(F158=\"*\",F159=\"*\"),\"*\",IF(F159=0,0,(F158/F159))),IF(Datanedslag=F155,IF(OR(F158=\"*\",F159=\"*\"),\"*\",IF(F159=0,0,(F158/F159))),\"\"))","v":0},{"$f":"IF(Datanedslag>G155,IF(OR(G158=\"*\",G159=\"*\"),\"*\",IF(G159=0,0,(G158/G159))),IF(Datanedslag=G155,IF(OR(G158=\"*\",G159=\"*\"),\"*\",IF(G159=0,0,(G158/G159))),\"\"))","v":0},{"$f":"IF(Datanedslag>H155,IF(OR(H158=\"*\",H159=\"*\"),\"*\",IF(H159=0,0,(H158/H159))),IF(Datanedslag=H155,IF(OR(H158=\"*\",H159=\"*\"),\"*\",IF(H159=0,0,(H158/H159))),\"\"))","v":0},{"$f":"IF(Datanedslag>I155,IF(OR(I158=\"*\",I159=\"*\"),\"*\",IF(I159=0,0,(I158/I159))),IF(Datanedslag=I155,IF(OR(I158=\"*\",I159=\"*\"),\"*\",IF(I159=0,0,(I158/I159))),\"\"))","v":"*"},{"$f":"IF(Datanedslag>J155,IF(OR(J158=\"*\",J159=\"*\"),\"*\",IF(J159=0,0,(J158/J159))),IF(Datanedslag=J155,IF(OR(J158=\"*\",J159=\"*\"),\"*\",IF(J159=0,0,(J158/J159))),\"\"))","v":"*"},{"$f":"IF(Datanedslag>K155,IF(OR(K158=\"*\",K159=\"*\"),\"*\",IF(K159=0,0,(K158/K159))),IF(Datanedslag=K155,IF(OR(K158=\"*\",K159=\"*\"),\"*\",IF(K159=0,0,(K158/K159))),\"\"))","v":"*"},{"$f":"IF(Datanedslag>L155,IF(OR(L158=\"*\",L159=\"*\"),\"*\",IF(L159=0,0,(L158/L159))),IF(Datanedslag=L155,IF(OR(L158=\"*\",L159=\"*\"),\"*\",IF(L159=0,0,(L158/L159))),\"\"))","v":"*"},{"$f":"IF(Datanedslag>M155,IF(OR(M158=\"*\",M159=\"*\"),\"*\",IF(M159=0,0,(M158/M159))),IF(Datanedslag=M155,IF(OR(M158=\"*\",M159=\"*\"),\"*\",IF(M159=0,0,(M158/M159))),\"\"))","v":"*"},{"$f":"IF(Datanedslag>N155,IF(OR(N158=\"*\",N159=\"*\"),\"*\",IF(N159=0,0,(N158/N159))),IF(Datanedslag=N155,IF(OR(N158=\"*\",N159=\"*\"),\"*\",IF(N159=0,0,(N158/N159))),\"\"))","v":0.21428571428571427}]
[null,"Antal modtagere",null,null,{"$f":"IF(Datanedslag>=E155,IF(INDEX(Data_kom2,MATCH(1,(komnavn2=Kommune)*(komaar2=E156),0),52)=\"\",\"*\",INDEX(Data_kom2,MATCH(1,(komnavn2=Kommune)*(komaar2=E156),0),52)),\"\")","v":0},{"$f":"IF(Datanedslag>=F155,IF(INDEX(Data_kom2,MATCH(1,(komnavn2=Kommune)*(komaar2=F156),0),52)=\"\",\"*\",INDEX(Data_kom2,MATCH(1,(komnavn2=Kommune)*(komaar2=F156),0),52)),\"\")","v":0},{"$f":"IF(Datanedslag>=G155,IF(INDEX(Data_kom2,MATCH(1,(komnavn2=Kommune)*(komaar2=G156),0),52)=\"\",\"*\",INDEX(Data_kom2,MATCH(1,(komnavn2=Kommune)*(komaar2=G156),0),52)),\"\")","v":0},{"$f":"IF(Datanedslag>=H155,IF(INDEX(Data_kom2,MATCH(1,(komnavn2=Kommune)*(komaar2=H156),0),52)=\"\",\"*\",INDEX(Data_kom2,MATCH(1,(komnavn2=Kommune)*(komaar2=H156),0),52)),\"\")","v":0},{"$f":"IF(Datanedslag>=I155,IF(INDEX(Data_kom2,MATCH(1,(komnavn2=Kommune)*(komaar2=I156),0),52)=\"\",\"*\",INDEX(Data_kom2,MATCH(1,(komnavn2=Kommune)*(komaar2=I156),0),52)),\"\")","v":0},{"$f":"IF(Datanedslag>=J155,IF(INDEX(Data_kom2,MATCH(1,(komnavn2=Kommune)*(komaar2=J156),0),52)=\"\",\"*\",INDEX(Data_kom2,MATCH(1,(komnavn2=Kommune)*(komaar2=J156),0),52)),\"\")","v":"*"},{"$f":"IF(Datanedslag>=K155,IF(INDEX(Data_kom2,MATCH(1,(komnavn2=Kommune)*(komaar2=K156),0),52)=\"\",\"*\",INDEX(Data_kom2,MATCH(1,(komnavn2=Kommune)*(komaar2=K156),0),52)),\"\")","v":"*"},{"$f":"IF(Datanedslag>=L155,IF(INDEX(Data_kom2,MATCH(1,(komnavn2=Kommune)*(komaar2=L156),0),52)=\"\",\"*\",INDEX(Data_kom2,MATCH(1,(komnavn2=Kommune)*(komaar2=L156),0),52)),\"\")","v":"*"},{"$f":"IF(Datanedslag>=M155,IF(INDEX(Data_kom2,MATCH(1,(komnavn2=Kommune)*(komaar2=M156),0),52)=\"\",\"*\",INDEX(Data_kom2,MATCH(1,(komnavn2=Kommune)*(komaar2=M156),0),52)),\"\")","v":"*"},{"$f":"IF(Datanedslag>=N155,IF(INDEX(Data_kom2,MATCH(1,(komnavn2=Kommune)*(komaar2=N156),0),52)=\"\",\"*\",INDEX(Data_kom2,MATCH(1,(komnavn2=Kommune)*(komaar2=N156),0),52)),\"\")","v":6}]
[null,"N",null,null,{"$f":"IF(Datanedslag>=E155,IF(INDEX(Data_kom2,MATCH(1,(komnavn2=Kommune)*(komaar2=E156),0),55)=\"\",\"*\",INDEX(Data_kom2,MATCH(1,(komnavn2=Kommune)*(komaar2=E156),0),55)),\"\")","v":0},{"$f":"IF(Datanedslag>=F155,IF(INDEX(Data_kom2,MATCH(1,(komnavn2=Kommune)*(komaar2=F156),0),55)=\"\",\"*\",INDEX(Data_kom2,MATCH(1,(komnavn2=Kommune)*(komaar2=F156),0),55)),\"\")","v":0},{"$f":"IF(Datanedslag>=G155,IF(INDEX(Data_kom2,MATCH(1,(komnavn2=Kommune)*(komaar2=G156),0),55)=\"\",\"*\",INDEX(Data_kom2,MATCH(1,(komnavn2=Kommune)*(komaar2=G156),0),55)),\"\")","v":0},{"$f":"IF(Datanedslag>=H155,IF(INDEX(Data_kom2,MATCH(1,(komnavn2=Kommune)*(komaar2=H156),0),55)=\"\",\"*\",INDEX(Data_kom2,MATCH(1,(komnavn2=Kommune)*(komaar2=H156),0),55)),\"\")","v":0},{"$f":"IF(Datanedslag>=I155,IF(INDEX(Data_kom2,MATCH(1,(komnavn2=Kommune)*(komaar2=I156),0),55)=\"\",\"*\",INDEX(Data_kom2,MATCH(1,(komnavn2=Kommune)*(komaar2=I156),0),55)),\"\")","v":"*"},{"$f":"IF(Datanedslag>=J155,IF(INDEX(Data_kom2,MATCH(1,(komnavn2=Kommune)*(komaar2=J156),0),55)=\"\",\"*\",INDEX(Data_kom2,MATCH(1,(komnavn2=Kommune)*(komaar2=J156),0),55)),\"\")","v":13},{"$f":"IF(Datanedslag>=K155,IF(INDEX(Data_kom2,MATCH(1,(komnavn2=Kommune)*(komaar2=K156),0),55)=\"\",\"*\",INDEX(Data_kom2,MATCH(1,(komnavn2=Kommune)*(komaar2=K156),0),55)),\"\")","v":17},{"$f":"IF(Datanedslag>=L155,IF(INDEX(Data_kom2,MATCH(1,(komnavn2=Kommune)*(komaar2=L156),0),55)=\"\",\"*\",INDEX(Data_kom2,MATCH(1,(komnavn2=Kommune)*(komaar2=L156),0),55)),\"\")","v":16},{"$f":"IF(Datanedslag>=M155,IF(INDEX(Data_kom2,MATCH(1,(komnavn2=Kommune)*(komaar2=M156),0),55)=\"\",\"*\",INDEX(Data_kom2,MATCH(1,(komnavn2=Kommune)*(komaar2=M156),0),55)),\"\")","v":19},{"$f":"IF(Datanedslag>=N155,IF(INDEX(Data_kom2,MATCH(1,(komnavn2=Kommune)*(komaar2=N156),0),55)=\"\",\"*\",INDEX(Data_kom2,MATCH(1,(komnavn2=Kommune)*(komaar2=N156),0),55)),\"\")","v":28}]
[null,"Anm.: Hvis nøgletallet er angivet med * er der foretaget en diskretionering af data, da der er for få observationer. N angiver målgruppestørrelsen for nøgletallet. Målgruppen er borgere der ved sidste datanedslag modtog forebyggende indsats efter SEL § 82. Ydelser efter servicelovens § 82 er først blevet indberetningspligtig pr. 1/7-2020."]
[null,"Kilde: Social- og Boligstyrelsens egne beregninger baseret på handicapstiatistikken ved Danmarks Statistik."]
[]
[]
[]
[null,"Valgt nøgletal: Nøgletal 11"]
[]
[null,"Nøgletal 11: \nUddannelsesgrad",null,"2018-01-01","2018-07-01","2019-01-01","2019-07-01","2020-01-01","2020-07-01","2021-01-01","2021-07-01","2022-01-01","2022-07-01","2023-01-01"]
[null,{"$f":"IF(Kommune=\"\",\"Kommune\",Kommune)","v":"Herning"},null,20181,20182,20191,20192,20201,20202,20211,20212,20221,20222,20231]
[null,"Andel",null,{"$f":"IF(Datanedslag>=D167,IF(INDEX(Data_kom2,MATCH(1,(komnavn2=Kommune)*(komaar2=D168),0),56)=\"\",\"*\",INDEX(Data_kom2,MATCH(1,(komnavn2=Kommune)*(komaar2=D168),0),56)),\"\")","v":1.1680911680911701E-2},{"$f":"IF(Datanedslag>=E167,IF(INDEX(Data_kom2,MATCH(1,(komnavn2=Kommune)*(komaar2=E168),0),56)=\"\",\"*\",INDEX(Data_kom2,MATCH(1,(komnavn2=Kommune)*(komaar2=E168),0),56)),\"\")","v":1.2710262710262699E-2},{"$f":"IF(Datanedslag>=F167,IF(INDEX(Data_kom2,MATCH(1,(komnavn2=Kommune)*(komaar2=F168),0),56)=\"\",\"*\",INDEX(Data_kom2,MATCH(1,(komnavn2=Kommune)*(komaar2=F168),0),56)),\"\")","v":1.39546351084813E-2},{"$f":"IF(Datanedslag>=G167,IF(INDEX(Data_kom2,MATCH(1,(komnavn2=Kommune)*(komaar2=G168),0),56)=\"\",\"*\",INDEX(Data_kom2,MATCH(1,(komnavn2=Kommune)*(komaar2=G168),0),56)),\"\")","v":1.4705882352941201E-2},{"$f":"IF(Datanedslag>=H167,IF(INDEX(Data_kom2,MATCH(1,(komnavn2=Kommune)*(komaar2=H168),0),56)=\"\",\"*\",INDEX(Data_kom2,MATCH(1,(komnavn2=Kommune)*(komaar2=H168),0),56)),\"\")","v":1.6952744225471501E-2},{"$f":"IF(Datanedslag>=I167,IF(INDEX(Data_kom2,MATCH(1,(komnavn2=Kommune)*(komaar2=I168),0),56)=\"\",\"*\",INDEX(Data_kom2,MATCH(1,(komnavn2=Kommune)*(komaar2=I168),0),56)),\"\")","v":1.3155252058646301E-2},{"$f":"IF(Datanedslag>=J167,IF(INDEX(Data_kom2,MATCH(1,(komnavn2=Kommune)*(komaar2=J168),0),56)=\"\",\"*\",INDEX(Data_kom2,MATCH(1,(komnavn2=Kommune)*(komaar2=J168),0),56)),\"\")","v":9.5157433240334807E-3},{"$f":"IF(Datanedslag>=K167,IF(INDEX(Data_kom2,MATCH(1,(komnavn2=Kommune)*(komaar2=K168),0),56)=\"\",\"*\",INDEX(Data_kom2,MATCH(1,(komnavn2=Kommune)*(komaar2=K168),0),56)),\"\")","v":1.7755262640173099E-2},{"$f":"IF(Datanedslag>=L167,IF(INDEX(Data_kom2,MATCH(1,(komnavn2=Kommune)*(komaar2=L168),0),56)=\"\",\"*\",INDEX(Data_kom2,MATCH(1,(komnavn2=Kommune)*(komaar2=L168),0),56)),\"\")","v":2.4854388431411901E-2},{"$f":"IF(Datanedslag>=M167,IF(INDEX(Data_kom2,MATCH(1,(komnavn2=Kommune)*(komaar2=M168),0),56)=\"\",\"*\",INDEX(Data_kom2,MATCH(1,(komnavn2=Kommune)*(komaar2=M168),0),56)),\"\")","v":1.71232876712329E-2},{"$f":"IF(Datanedslag>=N167,IF(INDEX(Data_kom2,MATCH(1,(komnavn2=Kommune)*(komaar2=N168),0),56)=\"\",\"*\",INDEX(Data_kom2,MATCH(1,(komnavn2=Kommune)*(komaar2=N168),0),56)),\"\")","v":1.55448717948718E-2}]
[null,"N",null,{"$f":"IF(Datanedslag>=D167,IF(INDEX(Data_kom2,MATCH(1,(komnavn2=Kommune)*(komaar2=D168),0),59)=\"\",\"*\",INDEX(Data_kom2,MATCH(1,(komnavn2=Kommune)*(komaar2=D168),0),59)),\"\")","v":405},{"$f":"IF(Datanedslag>=E167,IF(INDEX(Data_kom2,MATCH(1,(komnavn2=Kommune)*(komaar2=E168),0),59)=\"\",\"*\",INDEX(Data_kom2,MATCH(1,(komnavn2=Kommune)*(komaar2=E168),0),59)),\"\")","v":407},{"$f":"IF(Datanedslag>=F167,IF(INDEX(Data_kom2,MATCH(1,(komnavn2=Kommune)*(komaar2=F168),0),59)=\"\",\"*\",INDEX(Data_kom2,MATCH(1,(komnavn2=Kommune)*(komaar2=F168),0),59)),\"\")","v":390},{"$f":"IF(Datanedslag>=G167,IF(INDEX(Data_kom2,MATCH(1,(komnavn2=Kommune)*(komaar2=G168),0),59)=\"\",\"*\",INDEX(Data_kom2,MATCH(1,(komnavn2=Kommune)*(komaar2=G168),0),59)),\"\")","v":374},{"$f":"IF(Datanedslag>=H167,IF(INDEX(Data_kom2,MATCH(1,(komnavn2=Kommune)*(komaar2=H168),0),59)=\"\",\"*\",INDEX(Data_kom2,MATCH(1,(komnavn2=Kommune)*(komaar2=H168),0),59)),\"\")","v":363},{"$f":"IF(Datanedslag>=I167,IF(INDEX(Data_kom2,MATCH(1,(komnavn2=Kommune)*(komaar2=I168),0),59)=\"\",\"*\",INDEX(Data_kom2,MATCH(1,(komnavn2=Kommune)*(komaar2=I168),0),59)),\"\")","v":383},{"$f":"IF(Datanedslag>=J167,IF(INDEX(Data_kom2,MATCH(1,(komnavn2=Kommune)*(komaar2=J168),0),59)=\"\",\"*\",INDEX(Data_kom2,MATCH(1,(komnavn2=Kommune)*(komaar2=J168),0),59)),\"\")","v":386},{"$f":"IF(Datanedslag>=K167,IF(INDEX(Data_kom2,MATCH(1,(komnavn2=Kommune)*(komaar2=K168),0),59)=\"\",\"*\",INDEX(Data_kom2,MATCH(1,(komnavn2=Kommune)*(komaar2=K168),0),59)),\"\")","v":391},{"$f":"IF(Datanedslag>=L167,IF(INDEX(Data_kom2,MATCH(1,(komnavn2=Kommune)*(komaar2=L168),0),59)=\"\",\"*\",INDEX(Data_kom2,MATCH(1,(komnavn2=Kommune)*(komaar2=L168),0),59)),\"\")","v":383},{"$f":"IF(Datanedslag>=M167,IF(INDEX(Data_kom2,MATCH(1,(komnavn2=Kommune)*(komaar2=M168),0),59)=\"\",\"*\",INDEX(Data_kom2,MATCH(1,(komnavn2=Kommune)*(komaar2=M168),0),59)),\"\")","v":365},{"$f":"IF(Datanedslag>=N167,IF(INDEX(Data_kom2,MATCH(1,(komnavn2=Kommune)*(komaar2=N168),0),59)=\"\",\"*\",INDEX(Data_kom2,MATCH(1,(komnavn2=Kommune)*(komaar2=N168),0),59)),\"\")","v":360}]
[null,"Anm.: Hvis nøgletallet er angivet med * er der foretaget en diskretionering af data, da der er for få observationer. N angiver målgruppestørrelsen, som er alle borgere registreret med \"Sindslidelse\" i indberetningen til Danmarks Statistik."]
[null,"Kilde: Social- og Boligstyrelsens egne beregninger baseret på handicapstiatistikken ved Danmarks Statistik og Beskæftigelsesministeriets forløbsdatabase DREAM."]
[]
[]
[]
[null,"Valgt nøgletal: Nøgletal 12"]
[]
[null,"Nøgletal 12:\nBeskæftigelsesgrad",null,"2018-01-01","2018-07-01","2019-01-01","2019-07-01","2020-01-01","2020-07-01","2021-01-01","2021-07-01","2022-01-01","2022-07-01","2023-01-01"]
[null,{"$f":"IF(Kommune=\"\",\"Kommune\",Kommune)","v":"Herning"},null,20181,20182,20191,20192,20201,20202,20211,20212,20221,20222,20231]
[null,"Andel",null,{"$f":"IF(Datanedslag>=D178,IF(INDEX(Data_kom2,MATCH(1,(komnavn2=Kommune)*(komaar2=D179),0),60)=\"\",\"*\",INDEX(Data_kom2,MATCH(1,(komnavn2=Kommune)*(komaar2=D179),0),60)),\"\")","v":8.8651471984805302E-2},{"$f":"IF(Datanedslag>=E178,IF(INDEX(Data_kom2,MATCH(1,(komnavn2=Kommune)*(komaar2=E179),0),60)=\"\",\"*\",INDEX(Data_kom2,MATCH(1,(komnavn2=Kommune)*(komaar2=E179),0),60)),\"\")","v":8.8499338499338498E-2},{"$f":"IF(Datanedslag>=F178,IF(INDEX(Data_kom2,MATCH(1,(komnavn2=Kommune)*(komaar2=F179),0),60)=\"\",\"*\",INDEX(Data_kom2,MATCH(1,(komnavn2=Kommune)*(komaar2=F179),0),60)),\"\")","v":6.5581854043392507E-2},{"$f":"IF(Datanedslag>=G178,IF(INDEX(Data_kom2,MATCH(1,(komnavn2=Kommune)*(komaar2=G179),0),60)=\"\",\"*\",INDEX(Data_kom2,MATCH(1,(komnavn2=Kommune)*(komaar2=G179),0),60)),\"\")","v":5.8772110242698503E-2},{"$f":"IF(Datanedslag>=H178,IF(INDEX(Data_kom2,MATCH(1,(komnavn2=Kommune)*(komaar2=H179),0),60)=\"\",\"*\",INDEX(Data_kom2,MATCH(1,(komnavn2=Kommune)*(komaar2=H179),0),60)),\"\")","v":5.0540368722186903E-2},{"$f":"IF(Datanedslag>=I178,IF(INDEX(Data_kom2,MATCH(1,(komnavn2=Kommune)*(komaar2=I179),0),60)=\"\",\"*\",INDEX(Data_kom2,MATCH(1,(komnavn2=Kommune)*(komaar2=I179),0),60)),\"\")","v":5.02108857200241E-2},{"$f":"IF(Datanedslag>=J178,IF(INDEX(Data_kom2,MATCH(1,(komnavn2=Kommune)*(komaar2=J179),0),60)=\"\",\"*\",INDEX(Data_kom2,MATCH(1,(komnavn2=Kommune)*(komaar2=J179),0),60)),\"\")","v":5.3656835392586699E-2},{"$f":"IF(Datanedslag>=K178,IF(INDEX(Data_kom2,MATCH(1,(komnavn2=Kommune)*(komaar2=K179),0),60)=\"\",\"*\",INDEX(Data_kom2,MATCH(1,(komnavn2=Kommune)*(komaar2=K179),0),60)),\"\")","v":6.3200865630533204E-2},{"$f":"IF(Datanedslag>=L178,IF(INDEX(Data_kom2,MATCH(1,(komnavn2=Kommune)*(komaar2=L179),0),60)=\"\",\"*\",INDEX(Data_kom2,MATCH(1,(komnavn2=Kommune)*(komaar2=L179),0),60)),\"\")","v":5.8395260092387997E-2},{"$f":"IF(Datanedslag>=M178,IF(INDEX(Data_kom2,MATCH(1,(komnavn2=Kommune)*(komaar2=M179),0),60)=\"\",\"*\",INDEX(Data_kom2,MATCH(1,(komnavn2=Kommune)*(komaar2=M179),0),60)),\"\")","v":6.9178082191780801E-2},{"$f":"IF(Datanedslag>=N178,IF(INDEX(Data_kom2,MATCH(1,(komnavn2=Kommune)*(komaar2=N179),0),60)=\"\",\"*\",INDEX(Data_kom2,MATCH(1,(komnavn2=Kommune)*(komaar2=N179),0),60)),\"\")","v":8.8087606837606899E-2}]
[null,"N",null,{"$f":"IF(Datanedslag>=D178,IF(INDEX(Data_kom2,MATCH(1,(komnavn2=Kommune)*(komaar2=D179),0),63)=\"\",\"*\",INDEX(Data_kom2,MATCH(1,(komnavn2=Kommune)*(komaar2=D179),0),63)),\"\")","v":405},{"$f":"IF(Datanedslag>=E178,IF(INDEX(Data_kom2,MATCH(1,(komnavn2=Kommune)*(komaar2=E179),0),63)=\"\",\"*\",INDEX(Data_kom2,MATCH(1,(komnavn2=Kommune)*(komaar2=E179),0),63)),\"\")","v":407},{"$f":"IF(Datanedslag>=F178,IF(INDEX(Data_kom2,MATCH(1,(komnavn2=Kommune)*(komaar2=F179),0),63)=\"\",\"*\",INDEX(Data_kom2,MATCH(1,(komnavn2=Kommune)*(komaar2=F179),0),63)),\"\")","v":390},{"$f":"IF(Datanedslag>=G178,IF(INDEX(Data_kom2,MATCH(1,(komnavn2=Kommune)*(komaar2=G179),0),63)=\"\",\"*\",INDEX(Data_kom2,MATCH(1,(komnavn2=Kommune)*(komaar2=G179),0),63)),\"\")","v":374},{"$f":"IF(Datanedslag>=H178,IF(INDEX(Data_kom2,MATCH(1,(komnavn2=Kommune)*(komaar2=H179),0),63)=\"\",\"*\",INDEX(Data_kom2,MATCH(1,(komnavn2=Kommune)*(komaar2=H179),0),63)),\"\")","v":363},{"$f":"IF(Datanedslag>=I178,IF(INDEX(Data_kom2,MATCH(1,(komnavn2=Kommune)*(komaar2=I179),0),63)=\"\",\"*\",INDEX(Data_kom2,MATCH(1,(komnavn2=Kommune)*(komaar2=I179),0),63)),\"\")","v":383},{"$f":"IF(Datanedslag>=J178,IF(INDEX(Data_kom2,MATCH(1,(komnavn2=Kommune)*(komaar2=J179),0),63)=\"\",\"*\",INDEX(Data_kom2,MATCH(1,(komnavn2=Kommune)*(komaar2=J179),0),63)),\"\")","v":386},{"$f":"IF(Datanedslag>=K178,IF(INDEX(Data_kom2,MATCH(1,(komnavn2=Kommune)*(komaar2=K179),0),63)=\"\",\"*\",INDEX(Data_kom2,MATCH(1,(komnavn2=Kommune)*(komaar2=K179),0),63)),\"\")","v":391},{"$f":"IF(Datanedslag>=L178,IF(INDEX(Data_kom2,MATCH(1,(komnavn2=Kommune)*(komaar2=L179),0),63)=\"\",\"*\",INDEX(Data_kom2,MATCH(1,(komnavn2=Kommune)*(komaar2=L179),0),63)),\"\")","v":383},{"$f":"IF(Datanedslag>=M178,IF(INDEX(Data_kom2,MATCH(1,(komnavn2=Kommune)*(komaar2=M179),0),63)=\"\",\"*\",INDEX(Data_kom2,MATCH(1,(komnavn2=Kommune)*(komaar2=M179),0),63)),\"\")","v":365},{"$f":"IF(Datanedslag>=N178,IF(INDEX(Data_kom2,MATCH(1,(komnavn2=Kommune)*(komaar2=N179),0),63)=\"\",\"*\",INDEX(Data_kom2,MATCH(1,(komnavn2=Kommune)*(komaar2=N179),0),63)),\"\")","v":360}]
[null,"Anm.: Hvis nøgletallet er angivet med * er der foretaget en diskretionering af data, da der er for få observationer. N angiver målgruppestørrelsen, som er alle borgere registreret med \"Sindslidelse\" i indberetningen til Danmarks Statistik."]
[null,"Kilde: Social- og Boligstyrelsens egne beregninger baseret på handicapstatistikken ved Danmarks Statistik og Beskæftigelsesministeriets forløbsdatabase DREAM."]
[]
[null,"Delnøgletal"]
[]
[null,"Nøgletal 12.1:\nBeskæftigelsesgrad for modtagere af forebyggende indsatser",null,"2018-01-01","2018-07-01","2019-01-01","2019-07-01","2020-01-01","2020-07-01","2021-01-01","2021-07-01","2022-01-01","2022-07-01","2023-01-01"]
[null,{"$f":"IF(Kommune=\"\",\"Kommune\",Kommune)","v":"Herning"},null,20181,20182,20191,20192,20201,20202,20211,20212,20221,20222,20231]
[null,"Andel",null,{"$f":"IF(D190=0,0,IF(Datanedslag>=D187,IF(INDEX(Data_kom2,MATCH(1,(komnavn2=Kommune)*(komaar2=D188),0),64)=\"\",\"*\",INDEX(Data_kom2,MATCH(1,(komnavn2=Kommune)*(komaar2=D188),0),64)),\"\"))","v":0},{"$f":"IF(E190=0,0,IF(Datanedslag>=E187,IF(INDEX(Data_kom2,MATCH(1,(komnavn2=Kommune)*(komaar2=E188),0),64)=\"\",\"*\",INDEX(Data_kom2,MATCH(1,(komnavn2=Kommune)*(komaar2=E188),0),64)),\"\"))","v":0},{"$f":"IF(F190=0,0,IF(Datanedslag>=F187,IF(INDEX(Data_kom2,MATCH(1,(komnavn2=Kommune)*(komaar2=F188),0),64)=\"\",\"*\",INDEX(Data_kom2,MATCH(1,(komnavn2=Kommune)*(komaar2=F188),0),64)),\"\"))","v":0},{"$f":"IF(G190=0,0,IF(Datanedslag>=G187,IF(INDEX(Data_kom2,MATCH(1,(komnavn2=Kommune)*(komaar2=G188),0),64)=\"\",\"*\",INDEX(Data_kom2,MATCH(1,(komnavn2=Kommune)*(komaar2=G188),0),64)),\"\"))","v":0},{"$f":"IF(H190=0,0,IF(Datanedslag>=H187,IF(INDEX(Data_kom2,MATCH(1,(komnavn2=Kommune)*(komaar2=H188),0),64)=\"\",\"*\",INDEX(Data_kom2,MATCH(1,(komnavn2=Kommune)*(komaar2=H188),0),64)),\"\"))","v":"*"},{"$f":"IF(I190=0,0,IF(Datanedslag>=I187,IF(INDEX(Data_kom2,MATCH(1,(komnavn2=Kommune)*(komaar2=I188),0),64)=\"\",\"*\",INDEX(Data_kom2,MATCH(1,(komnavn2=Kommune)*(komaar2=I188),0),64)),\"\"))","v":1.18343195266272E-2},{"$f":"IF(J190=0,0,IF(Datanedslag>=J187,IF(INDEX(Data_kom2,MATCH(1,(komnavn2=Kommune)*(komaar2=J188),0),64)=\"\",\"*\",INDEX(Data_kom2,MATCH(1,(komnavn2=Kommune)*(komaar2=J188),0),64)),\"\"))","v":5.3167420814479602E-2},{"$f":"IF(K190=0,0,IF(Datanedslag>=K187,IF(INDEX(Data_kom2,MATCH(1,(komnavn2=Kommune)*(komaar2=K188),0),64)=\"\",\"*\",INDEX(Data_kom2,MATCH(1,(komnavn2=Kommune)*(komaar2=K188),0),64)),\"\"))","v":0.23317307692307701},{"$f":"IF(L190=0,0,IF(Datanedslag>=L187,IF(INDEX(Data_kom2,MATCH(1,(komnavn2=Kommune)*(komaar2=L188),0),64)=\"\",\"*\",INDEX(Data_kom2,MATCH(1,(komnavn2=Kommune)*(komaar2=L188),0),64)),\"\"))","v":0.157894736842105},{"$f":"IF(M190=0,0,IF(Datanedslag>=M187,IF(INDEX(Data_kom2,MATCH(1,(komnavn2=Kommune)*(komaar2=M188),0),64)=\"\",\"*\",INDEX(Data_kom2,MATCH(1,(komnavn2=Kommune)*(komaar2=M188),0),64)),\"\"))","v":0.23420329670329701},{"$f":"IF(N190=0,0,IF(Datanedslag>=N187,IF(INDEX(Data_kom2,MATCH(1,(komnavn2=Kommune)*(komaar2=N188),0),64)=\"\",\"*\",INDEX(Data_kom2,MATCH(1,(komnavn2=Kommune)*(komaar2=N188),0),64)),\"\"))","v":0.20719602977667501}]
[null,"N",null,{"$f":"IF(Datanedslag>=D187,IF(INDEX(Data_kom2,MATCH(1,(komnavn2=Kommune)*(komaar2=D188),0),67)=\"\",\"*\",INDEX(Data_kom2,MATCH(1,(komnavn2=Kommune)*(komaar2=D188),0),67)),\"\")","v":0},{"$f":"IF(Datanedslag>=E187,IF(INDEX(Data_kom2,MATCH(1,(komnavn2=Kommune)*(komaar2=E188),0),67)=\"\",\"*\",INDEX(Data_kom2,MATCH(1,(komnavn2=Kommune)*(komaar2=E188),0),67)),\"\")","v":0},{"$f":"IF(Datanedslag>=F187,IF(INDEX(Data_kom2,MATCH(1,(komnavn2=Kommune)*(komaar2=F188),0),67)=\"\",\"*\",INDEX(Data_kom2,MATCH(1,(komnavn2=Kommune)*(komaar2=F188),0),67)),\"\")","v":0},{"$f":"IF(Datanedslag>=G187,IF(INDEX(Data_kom2,MATCH(1,(komnavn2=Kommune)*(komaar2=G188),0),67)=\"\",\"*\",INDEX(Data_kom2,MATCH(1,(komnavn2=Kommune)*(komaar2=G188),0),67)),\"\")","v":0},{"$f":"IF(Datanedslag>=H187,IF(INDEX(Data_kom2,MATCH(1,(komnavn2=Kommune)*(komaar2=H188),0),67)=\"\",\"*\",INDEX(Data_kom2,MATCH(1,(komnavn2=Kommune)*(komaar2=H188),0),67)),\"\")","v":"*"},{"$f":"IF(Datanedslag>=I187,IF(INDEX(Data_kom2,MATCH(1,(komnavn2=Kommune)*(komaar2=I188),0),67)=\"\",\"*\",INDEX(Data_kom2,MATCH(1,(komnavn2=Kommune)*(komaar2=I188),0),67)),\"\")","v":13},{"$f":"IF(Datanedslag>=J187,IF(INDEX(Data_kom2,MATCH(1,(komnavn2=Kommune)*(komaar2=J188),0),67)=\"\",\"*\",INDEX(Data_kom2,MATCH(1,(komnavn2=Kommune)*(komaar2=J188),0),67)),\"\")","v":17},{"$f":"IF(Datanedslag>=K187,IF(INDEX(Data_kom2,MATCH(1,(komnavn2=Kommune)*(komaar2=K188),0),67)=\"\",\"*\",INDEX(Data_kom2,MATCH(1,(komnavn2=Kommune)*(komaar2=K188),0),67)),\"\")","v":16},{"$f":"IF(Datanedslag>=L187,IF(INDEX(Data_kom2,MATCH(1,(komnavn2=Kommune)*(komaar2=L188),0),67)=\"\",\"*\",INDEX(Data_kom2,MATCH(1,(komnavn2=Kommune)*(komaar2=L188),0),67)),\"\")","v":19},{"$f":"IF(Datanedslag>=M187,IF(INDEX(Data_kom2,MATCH(1,(komnavn2=Kommune)*(komaar2=M188),0),67)=\"\",\"*\",INDEX(Data_kom2,MATCH(1,(komnavn2=Kommune)*(komaar2=M188),0),67)),\"\")","v":28},{"$f":"IF(Datanedslag>=N187,IF(INDEX(Data_kom2,MATCH(1,(komnavn2=Kommune)*(komaar2=N188),0),67)=\"\",\"*\",INDEX(Data_kom2,MATCH(1,(komnavn2=Kommune)*(komaar2=N188),0),67)),\"\")","v":31}]
[null,"Anm.: Hvis nøgletallet er angivet med * er der foretaget en diskretionering af data, da der er for få observationer. N angiver målgruppestørrelsen, som er alle borgere der modtager forebyggene indsats efter SEL § 82. Ydelser efter servicelovens § 82 er først blevet indberetningspligtig pr. 1/7-2020."]
[null,"Kilde: Social- og Boligstyrelsens egne beregninger baseret på handicapstiatistikken ved Danmarks Statistik og Beskæftigelsesministeriets forløbsdatabase DREAM."]
[]
[]
[null,"Nøgletal 12.2:\nBeskæftigelsesgrad for den øvrige målgruppe",null,"2018-01-01","2018-07-01","2019-01-01","2019-07-01","2020-01-01","2020-07-01","2021-01-01","2021-07-01","2022-01-01","2022-07-01","2023-01-01"]
[null,{"$f":"IF(Kommune=\"\",\"Kommune\",Kommune)","v":"Herning"},null,20181,20182,20191,20192,20201,20202,20211,20212,20221,20222,20231]
[null,"Andel",null,{"$f":"IF(Datanedslag>=D195,IF(INDEX(Data_kom2,MATCH(1,(komnavn2=Kommune)*(komaar2=D196),0),68)=\"\",\"*\",INDEX(Data_kom2,MATCH(1,(komnavn2=Kommune)*(komaar2=D196),0),68)),\"\")","v":8.8651471984805302E-2},{"$f":"IF(Datanedslag>=E195,IF(INDEX(Data_kom2,MATCH(1,(komnavn2=Kommune)*(komaar2=E196),0),68)=\"\",\"*\",INDEX(Data_kom2,MATCH(1,(komnavn2=Kommune)*(komaar2=E196),0),68)),\"\")","v":8.8499338499338498E-2},{"$f":"IF(Datanedslag>=F195,IF(INDEX(Data_kom2,MATCH(1,(komnavn2=Kommune)*(komaar2=F196),0),68)=\"\",\"*\",INDEX(Data_kom2,MATCH(1,(komnavn2=Kommune)*(komaar2=F196),0),68)),\"\")","v":6.5581854043392507E-2},{"$f":"IF(Datanedslag>=G195,IF(INDEX(Data_kom2,MATCH(1,(komnavn2=Kommune)*(komaar2=G196),0),68)=\"\",\"*\",INDEX(Data_kom2,MATCH(1,(komnavn2=Kommune)*(komaar2=G196),0),68)),\"\")","v":5.8772110242698503E-2},{"$f":"IF(Datanedslag>=H195,IF(INDEX(Data_kom2,MATCH(1,(komnavn2=Kommune)*(komaar2=H196),0),68)=\"\",\"*\",INDEX(Data_kom2,MATCH(1,(komnavn2=Kommune)*(komaar2=H196),0),68)),\"\")","v":5.0679983000424998E-2},{"$f":"IF(Datanedslag>=I195,IF(INDEX(Data_kom2,MATCH(1,(komnavn2=Kommune)*(komaar2=I196),0),68)=\"\",\"*\",INDEX(Data_kom2,MATCH(1,(komnavn2=Kommune)*(komaar2=I196),0),68)),\"\")","v":5.1559251559251597E-2},{"$f":"IF(Datanedslag>=J195,IF(INDEX(Data_kom2,MATCH(1,(komnavn2=Kommune)*(komaar2=J196),0),68)=\"\",\"*\",INDEX(Data_kom2,MATCH(1,(komnavn2=Kommune)*(komaar2=J196),0),68)),\"\")","v":5.3679382947675602E-2},{"$f":"IF(Datanedslag>=K195,IF(INDEX(Data_kom2,MATCH(1,(komnavn2=Kommune)*(komaar2=K196),0),68)=\"\",\"*\",INDEX(Data_kom2,MATCH(1,(komnavn2=Kommune)*(komaar2=K196),0),68)),\"\")","v":5.5948717948717898E-2},{"$f":"IF(Datanedslag>=L195,IF(INDEX(Data_kom2,MATCH(1,(komnavn2=Kommune)*(komaar2=L196),0),68)=\"\",\"*\",INDEX(Data_kom2,MATCH(1,(komnavn2=Kommune)*(komaar2=L196),0),68)),\"\")","v":5.3201606086221501E-2},{"$f":"IF(Datanedslag>=M195,IF(INDEX(Data_kom2,MATCH(1,(komnavn2=Kommune)*(komaar2=M196),0),68)=\"\",\"*\",INDEX(Data_kom2,MATCH(1,(komnavn2=Kommune)*(komaar2=M196),0),68)),\"\")","v":5.5466788404473902E-2},{"$f":"IF(Datanedslag>=N195,IF(INDEX(Data_kom2,MATCH(1,(komnavn2=Kommune)*(komaar2=N196),0),68)=\"\",\"*\",INDEX(Data_kom2,MATCH(1,(komnavn2=Kommune)*(komaar2=N196),0),68)),\"\")","v":7.6864624736965204E-2}]
[null,"N",null,{"$f":"IF(Datanedslag>=D195,IF(INDEX(Data_kom2,MATCH(1,(komnavn2=Kommune)*(komaar2=D196),0),71)=\"\",\"*\",INDEX(Data_kom2,MATCH(1,(komnavn2=Kommune)*(komaar2=D196),0),71)),\"\")","v":405},{"$f":"IF(Datanedslag>=E195,IF(INDEX(Data_kom2,MATCH(1,(komnavn2=Kommune)*(komaar2=E196),0),71)=\"\",\"*\",INDEX(Data_kom2,MATCH(1,(komnavn2=Kommune)*(komaar2=E196),0),71)),\"\")","v":407},{"$f":"IF(Datanedslag>=F195,IF(INDEX(Data_kom2,MATCH(1,(komnavn2=Kommune)*(komaar2=F196),0),71)=\"\",\"*\",INDEX(Data_kom2,MATCH(1,(komnavn2=Kommune)*(komaar2=F196),0),71)),\"\")","v":390},{"$f":"IF(Datanedslag>=G195,IF(INDEX(Data_kom2,MATCH(1,(komnavn2=Kommune)*(komaar2=G196),0),71)=\"\",\"*\",INDEX(Data_kom2,MATCH(1,(komnavn2=Kommune)*(komaar2=G196),0),71)),\"\")","v":374},{"$f":"IF(Datanedslag>=H195,IF(INDEX(Data_kom2,MATCH(1,(komnavn2=Kommune)*(komaar2=H196),0),71)=\"\",\"*\",INDEX(Data_kom2,MATCH(1,(komnavn2=Kommune)*(komaar2=H196),0),71)),\"\")","v":"*"},{"$f":"IF(Datanedslag>=I195,IF(INDEX(Data_kom2,MATCH(1,(komnavn2=Kommune)*(komaar2=I196),0),71)=\"\",\"*\",INDEX(Data_kom2,MATCH(1,(komnavn2=Kommune)*(komaar2=I196),0),71)),\"\")","v":370},{"$f":"IF(Datanedslag>=J195,IF(INDEX(Data_kom2,MATCH(1,(komnavn2=Kommune)*(komaar2=J196),0),71)=\"\",\"*\",INDEX(Data_kom2,MATCH(1,(komnavn2=Kommune)*(komaar2=J196),0),71)),\"\")","v":369},{"$f":"IF(Datanedslag>=K195,IF(INDEX(Data_kom2,MATCH(1,(komnavn2=Kommune)*(komaar2=K196),0),71)=\"\",\"*\",INDEX(Data_kom2,MATCH(1,(komnavn2=Kommune)*(komaar2=K196),0),71)),\"\")","v":375},{"$f":"IF(Datanedslag>=L195,IF(INDEX(Data_kom2,MATCH(1,(komnavn2=Kommune)*(komaar2=L196),0),71)=\"\",\"*\",INDEX(Data_kom2,MATCH(1,(komnavn2=Kommune)*(komaar2=L196),0),71)),\"\")","v":364},{"$f":"IF(Datanedslag>=M195,IF(INDEX(Data_kom2,MATCH(1,(komnavn2=Kommune)*(komaar2=M196),0),71)=\"\",\"*\",INDEX(Data_kom2,MATCH(1,(komnavn2=Kommune)*(komaar2=M196),0),71)),\"\")","v":337},{"$f":"IF(Datanedslag>=N195,IF(INDEX(Data_kom2,MATCH(1,(komnavn2=Kommune)*(komaar2=N196),0),71)=\"\",\"*\",INDEX(Data_kom2,MATCH(1,(komnavn2=Kommune)*(komaar2=N196),0),71)),\"\")","v":329}]
[null,"Anm.: Hvis nøgletallet er angivet med * er der foretaget en diskretionering af data, da der er for få observationer. N angiver målgruppestørrelsen for nøgletallet, som er alle borgere med \"Sindslidelse\" som ikke modtager forebyggende indsats efter SEL § 82."]
[null,"Kilde: Social- og Boligstyrelsens egne beregninger baseret på handicapstiatistikken ved Danmarks Statistik og Beskæftigelsesministeriets forløbsdatabase DREAM."]
[]
[]
[]
[null,"Valgt nøgletal: Nøgletal 18"]
[]
[null,"Nøgletal 18: \nGenindlæggelser",null,"2018-01-01","2018-07-01","2019-01-01","2019-07-01","2020-01-01","2020-07-01","2021-01-01","2021-07-01","2022-01-01","2022-07-01","2023-01-01"]
[null,{"$f":"IF(Kommune=\"\",\"Kommune\",Kommune)","v":"Herning"},null,20181,20182,20191,20192,20201,20202,20211,20212,20221,20222,20231]
[null,"Andel",null,null,{"$f":"IF(LPR_datanedslag>=E206,IF(INDEX(Data_kom2,MATCH(1,(komnavn2=Kommune)*(komaar2=E207),0),72)=\"\",\"*\",INDEX(Data_kom2,MATCH(1,(komnavn2=Kommune)*(komaar2=E207),0),72)),\"\")","v":0.37662337662337703},{"$f":"IF(LPR_datanedslag>=F206,IF(INDEX(Data_kom2,MATCH(1,(komnavn2=Kommune)*(komaar2=F207),0),72)=\"\",\"*\",INDEX(Data_kom2,MATCH(1,(komnavn2=Kommune)*(komaar2=F207),0),72)),\"\")","v":0.38823529411764701},{"$f":"IF(LPR_datanedslag>=G206,IF(INDEX(Data_kom2,MATCH(1,(komnavn2=Kommune)*(komaar2=G207),0),72)=\"\",\"*\",INDEX(Data_kom2,MATCH(1,(komnavn2=Kommune)*(komaar2=G207),0),72)),\"\")","v":0.5},{"$f":"IF(LPR_datanedslag>=H206,IF(INDEX(Data_kom2,MATCH(1,(komnavn2=Kommune)*(komaar2=H207),0),72)=\"\",\"*\",INDEX(Data_kom2,MATCH(1,(komnavn2=Kommune)*(komaar2=H207),0),72)),\"\")","v":0.45600000000000002},{"$f":"IF(LPR_datanedslag>=I206,IF(INDEX(Data_kom2,MATCH(1,(komnavn2=Kommune)*(komaar2=I207),0),72)=\"\",\"*\",INDEX(Data_kom2,MATCH(1,(komnavn2=Kommune)*(komaar2=I207),0),72)),\"\")","v":0.33620689655172398},{"$f":"IF(LPR_datanedslag>=J206,IF(INDEX(Data_kom2,MATCH(1,(komnavn2=Kommune)*(komaar2=J207),0),72)=\"\",\"*\",INDEX(Data_kom2,MATCH(1,(komnavn2=Kommune)*(komaar2=J207),0),72)),\"\")","v":0.48666666666666702},{"$f":"IF(LPR_datanedslag>=K206,IF(INDEX(Data_kom2,MATCH(1,(komnavn2=Kommune)*(komaar2=K207),0),72)=\"\",\"*\",INDEX(Data_kom2,MATCH(1,(komnavn2=Kommune)*(komaar2=K207),0),72)),\"\")","v":0.61111111111111105},{"$f":"IF(LPR_datanedslag>=L206,IF(INDEX(Data_kom2,MATCH(1,(komnavn2=Kommune)*(komaar2=L207),0),72)=\"\",\"*\",INDEX(Data_kom2,MATCH(1,(komnavn2=Kommune)*(komaar2=L207),0),72)),\"\")","v":0.52027027027026995},{"$f":"IF(LPR_datanedslag>=M206,IF(INDEX(Data_kom2,MATCH(1,(komnavn2=Kommune)*(komaar2=M207),0),72)=\"\",\"*\",INDEX(Data_kom2,MATCH(1,(komnavn2=Kommune)*(komaar2=M207),0),72)),\"\")","v":0.42446043165467601},{"$f":"IF(LPR_datanedslag>=N206,IF(INDEX(Data_kom2,MATCH(1,(komnavn2=Kommune)*(komaar2=N207),0),72)=\"\",\"*\",INDEX(Data_kom2,MATCH(1,(komnavn2=Kommune)*(komaar2=N207),0),72)),\"\")","v":0.45283018867924502}]
[null,"N",null,null,{"$f":"IF(LPR_datanedslag>=E206,IF(INDEX(Data_kom2,MATCH(1,(komnavn2=Kommune)*(komaar2=E207),0),75)=\"\",\"*\",INDEX(Data_kom2,MATCH(1,(komnavn2=Kommune)*(komaar2=E207),0),75)),\"\")","v":407},{"$f":"IF(LPR_datanedslag>=F206,IF(INDEX(Data_kom2,MATCH(1,(komnavn2=Kommune)*(komaar2=F207),0),75)=\"\",\"*\",INDEX(Data_kom2,MATCH(1,(komnavn2=Kommune)*(komaar2=F207),0),75)),\"\")","v":390},{"$f":"IF(LPR_datanedslag>=G206,IF(INDEX(Data_kom2,MATCH(1,(komnavn2=Kommune)*(komaar2=G207),0),75)=\"\",\"*\",INDEX(Data_kom2,MATCH(1,(komnavn2=Kommune)*(komaar2=G207),0),75)),\"\")","v":374},{"$f":"IF(LPR_datanedslag>=H206,IF(INDEX(Data_kom2,MATCH(1,(komnavn2=Kommune)*(komaar2=H207),0),75)=\"\",\"*\",INDEX(Data_kom2,MATCH(1,(komnavn2=Kommune)*(komaar2=H207),0),75)),\"\")","v":363},{"$f":"IF(LPR_datanedslag>=I206,IF(INDEX(Data_kom2,MATCH(1,(komnavn2=Kommune)*(komaar2=I207),0),75)=\"\",\"*\",INDEX(Data_kom2,MATCH(1,(komnavn2=Kommune)*(komaar2=I207),0),75)),\"\")","v":383},{"$f":"IF(LPR_datanedslag>=J206,IF(INDEX(Data_kom2,MATCH(1,(komnavn2=Kommune)*(komaar2=J207),0),75)=\"\",\"*\",INDEX(Data_kom2,MATCH(1,(komnavn2=Kommune)*(komaar2=J207),0),75)),\"\")","v":386},{"$f":"IF(LPR_datanedslag>=K206,IF(INDEX(Data_kom2,MATCH(1,(komnavn2=Kommune)*(komaar2=K207),0),75)=\"\",\"*\",INDEX(Data_kom2,MATCH(1,(komnavn2=Kommune)*(komaar2=K207),0),75)),\"\")","v":391},{"$f":"IF(LPR_datanedslag>=L206,IF(INDEX(Data_kom2,MATCH(1,(komnavn2=Kommune)*(komaar2=L207),0),75)=\"\",\"*\",INDEX(Data_kom2,MATCH(1,(komnavn2=Kommune)*(komaar2=L207),0),75)),\"\")","v":383},{"$f":"IF(LPR_datanedslag>=M206,IF(INDEX(Data_kom2,MATCH(1,(komnavn2=Kommune)*(komaar2=M207),0),75)=\"\",\"*\",INDEX(Data_kom2,MATCH(1,(komnavn2=Kommune)*(komaar2=M207),0),75)),\"\")","v":365},{"$f":"IF(LPR_datanedslag>=N206,IF(INDEX(Data_kom2,MATCH(1,(komnavn2=Kommune)*(komaar2=N207),0),75)=\"\",\"*\",INDEX(Data_kom2,MATCH(1,(komnavn2=Kommune)*(komaar2=N207),0),75)),\"\")","v":360}]
[null,"Anm.: Hvis nøgletallet er angivet med * er der foretaget en diskretionering af data, da der er for få observationer. N angiver målgruppestørrelsen, som er alle borgere registreret med \"Sindslidelse\" i indberetningen til Danmarks Statistik."]
[null,"Kilde: Social- og Boligstyrelsens egne beregninger baseret på handicapstiatistikken ved Danmarks Statistik og registerdata fra Landspatientregistret."]
[]
[]
[]
[null,"Valgt nøgletal: Nøgletal 19"]
[]
[null,"Nøgletal 19: \nUdgifter til forebyggende indsatser ift. udgifter til støttende indsatser",null,2018,2019,2020,2021,2022,2023]
[null,{"$f":"IF(Kommune=\"\",\"Kommune\",Kommune)","v":"Herning"}]
[null,"Andel",null,{"$f":"IF(ok_datanedslag>=D$227,INDEX(Data_komoek,MATCH(1,(komnavn=Kommune)*(komaar=D217),0),3),\"\")","v":0},{"$f":"IF(ok_datanedslag>=E$227,INDEX(Data_komoek,MATCH(1,(komnavn=Kommune)*(komaar=E217),0),3),\"\")","v":0},{"$f":"IF(ok_datanedslag>=F$227,INDEX(Data_komoek,MATCH(1,(komnavn=Kommune)*(komaar=F217),0),3),\"\")","v":0},{"$f":"IF(ok_datanedslag>=G$227,INDEX(Data_komoek,MATCH(1,(komnavn=Kommune)*(komaar=G217),0),3),\"\")","v":1.8315575849822401E-2},{"$f":"IF(ok_datanedslag>=H$227,INDEX(Data_komoek,MATCH(1,(komnavn=Kommune)*(komaar=H217),0),3),\"\")","v":4.7985651681020598E-2},{"$f":"IF(ok_datanedslag>=I$227,INDEX(Data_komoek,MATCH(1,(komnavn=Kommune)*(komaar=I217),0),3),\"\")","v":""}]
[null,"Anm.: Udgifterne er defineret som art>0 og ekskl. refusioner."]
[null,"Kilde: Kommunale regnskaber, Danmarks Statistik"]
[]
[]
[]
[null,"Valgt nøgletal: Nøgletal 20"]
[]
[null,"Nøgletal 20:\nUdgiftsandele",null,2018,2019,2020,2021,2022,2023]
[null,{"$f":"IF(Kommune=\"\",\"Kommune\",Kommune)","v":"Herning"}]
[null,"20:1: Længerevarende botilbud",null,{"$f":"IF(ok_datanedslag>=D$227,INDEX(Data_komoek,MATCH(1,(komnavn=Kommune)*(komaar=D$227),0),6),\"\")","v":0.175613626388467},{"$f":"IF(ok_datanedslag>=E$227,INDEX(Data_komoek,MATCH(1,(komnavn=Kommune)*(komaar=E$227),0),6),\"\")","v":0.18853526280223501},{"$f":"IF(ok_datanedslag>=F$227,INDEX(Data_komoek,MATCH(1,(komnavn=Kommune)*(komaar=F$227),0),6),\"\")","v":0.193999533815058},{"$f":"IF(ok_datanedslag>=G$227,INDEX(Data_komoek,MATCH(1,(komnavn=Kommune)*(komaar=G$227),0),6),\"\")","v":0.19426037566638399},{"$f":"IF(ok_datanedslag>=H$227,INDEX(Data_komoek,MATCH(1,(komnavn=Kommune)*(komaar=H$227),0),6),\"\")","v":0.20666160776272699},{"$f":"IF(ok_datanedslag>=I$227,INDEX(Data_komoek,MATCH(1,(komnavn=Kommune)*(komaar=I$227),0),6),\"\")","v":""}]
[null,"20:2: Botilbudslignende tilbud",null,{"$f":"IF(ok_datanedslag>=D$227,INDEX(Data_komoek,MATCH(1,(komnavn=Kommune)*(komaar=D$227),0),9),\"\")","v":0.28795705459333498},{"$f":"IF(ok_datanedslag>=E$227,INDEX(Data_komoek,MATCH(1,(komnavn=Kommune)*(komaar=E$227),0),9),\"\")","v":0.303199116575742},{"$f":"IF(ok_datanedslag>=F$227,INDEX(Data_komoek,MATCH(1,(komnavn=Kommune)*(komaar=F$227),0),9),\"\")","v":0.279278079318038},{"$f":"IF(ok_datanedslag>=G$227,INDEX(Data_komoek,MATCH(1,(komnavn=Kommune)*(komaar=G$227),0),9),\"\")","v":0.29551757926029298},{"$f":"IF(ok_datanedslag>=H$227,INDEX(Data_komoek,MATCH(1,(komnavn=Kommune)*(komaar=H$227),0),9),\"\")","v":0.27127565106479201},{"$f":"IF(ok_datanedslag>=I$227,INDEX(Data_komoek,MATCH(1,(komnavn=Kommune)*(komaar=I$227),0),9),\"\")","v":""}]
[null,"20.3: Midlertidige botilbud",null,{"$f":"IF(ok_datanedslag>=D$227,INDEX(Data_komoek,MATCH(1,(komnavn=Kommune)*(komaar=D$227),0),12),\"\")","v":0.23616597454336699},{"$f":"IF(ok_datanedslag>=E$227,INDEX(Data_komoek,MATCH(1,(komnavn=Kommune)*(komaar=E$227),0),12),\"\")","v":0.29347485702042098},{"$f":"IF(ok_datanedslag>=F$227,INDEX(Data_komoek,MATCH(1,(komnavn=Kommune)*(komaar=F$227),0),12),\"\")","v":0.28731976957144301},{"$f":"IF(ok_datanedslag>=G$227,INDEX(Data_komoek,MATCH(1,(komnavn=Kommune)*(komaar=G$227),0),12),\"\")","v":0.27729892215966601},{"$f":"IF(ok_datanedslag>=H$227,INDEX(Data_komoek,MATCH(1,(komnavn=Kommune)*(komaar=H$227),0),12),\"\")","v":0.21292603774803401},{"$f":"IF(ok_datanedslag>=I$227,INDEX(Data_komoek,MATCH(1,(komnavn=Kommune)*(komaar=I$227),0),12),\"\")","v":""}]
[null,"20.4:Socialpædagogisk støtte",null,{"$f":"IF(ok_datanedslag>=D$227,INDEX(Data_komoek,MATCH(1,(komnavn=Kommune)*(komaar=D$227),0),15),\"\")","v":0.243239137040413},{"$f":"IF(ok_datanedslag>=E$227,INDEX(Data_komoek,MATCH(1,(komnavn=Kommune)*(komaar=E$227),0),15),\"\")","v":0.15812634944703599},{"$f":"IF(ok_datanedslag>=F$227,INDEX(Data_komoek,MATCH(1,(komnavn=Kommune)*(komaar=F$227),0),15),\"\")","v":0.17292131464153701},{"$f":"IF(ok_datanedslag>=G$227,INDEX(Data_komoek,MATCH(1,(komnavn=Kommune)*(komaar=G$227),0),15),\"\")","v":0.15757394582565201},{"$f":"IF(ok_datanedslag>=H$227,INDEX(Data_komoek,MATCH(1,(komnavn=Kommune)*(komaar=H$227),0),15),\"\")","v":0.216720215703053},{"$f":"IF(ok_datanedslag>=I$227,INDEX(Data_komoek,MATCH(1,(komnavn=Kommune)*(komaar=I$227),0),15),\"\")","v":""}]
[null,"20.5: Beskyttet beskæftigelse og aktivitets- og samværstilbud",null,{"$f":"IF(ok_datanedslag>=D$227,INDEX(Data_komoek,MATCH(1,(komnavn=Kommune)*(komaar=D$227),0),18),\"\")","v":5.70242074344171E-2},{"$f":"IF(ok_datanedslag>=E$227,INDEX(Data_komoek,MATCH(1,(komnavn=Kommune)*(komaar=E$227),0),18),\"\")","v":5.66644141545663E-2},{"$f":"IF(ok_datanedslag>=F$227,INDEX(Data_komoek,MATCH(1,(komnavn=Kommune)*(komaar=F$227),0),18),\"\")","v":6.6481302653924296E-2},{"$f":"IF(ok_datanedslag>=G$227,INDEX(Data_komoek,MATCH(1,(komnavn=Kommune)*(komaar=G$227),0),18),\"\")","v":5.7363027917559303E-2},{"$f":"IF(ok_datanedslag>=H$227,INDEX(Data_komoek,MATCH(1,(komnavn=Kommune)*(komaar=H$227),0),18),\"\")","v":4.6628025251465199E-2},{"$f":"IF(ok_datanedslag>=I$227,INDEX(Data_komoek,MATCH(1,(komnavn=Kommune)*(komaar=I$227),0),18),\"\")","v":""}]
[null,"20.6: Forebyggende indsatser",null,{"$f":"IF(ok_datanedslag>=D$227,INDEX(Data_komoek,MATCH(1,(komnavn=Kommune)*(komaar=D$227),0),21),\"\")","v":0},{"$f":"IF(ok_datanedslag>=E$227,INDEX(Data_komoek,MATCH(1,(komnavn=Kommune)*(komaar=E$227),0),21),\"\")","v":0},{"$f":"IF(ok_datanedslag>=F$227,INDEX(Data_komoek,MATCH(1,(komnavn=Kommune)*(komaar=F$227),0),21),\"\")","v":0},{"$f":"IF(ok_datanedslag>=G$227,INDEX(Data_komoek,MATCH(1,(komnavn=Kommune)*(komaar=G$227),0),21),\"\")","v":1.7986149170444901E-2},{"$f":"IF(ok_datanedslag>=H$227,INDEX(Data_komoek,MATCH(1,(komnavn=Kommune)*(komaar=H$227),0),21),\"\")","v":4.5788462469929098E-2},{"$f":"IF(ok_datanedslag>=I$227,INDEX(Data_komoek,MATCH(1,(komnavn=Kommune)*(komaar=I$227),0),21),\"\")","v":""}]
[null,"Anm.: Udgifterne er defineret som art>0 og ekskl. refusioner."]
[null,"Kilde: Kommunale regnskaber, Danmarks Statistik"]

{"sheet":"Indtastningsark","index":4,"n_rows":46,"n_cols":8,"rows_kept":46,"cut":false,"hidden":false,"merged":[[6,1,13,2],[46,1,46,2],[45,1,45,2]]}
[]
[]
[null,"Egne indtastninger"]
[]
[]
[]
[null,"En række af nøgletallene kan ikke baseres på nationale registerdata, men baseres på den enkelte kommunes egne data. \n\nHer skal du indsamle data for de nøgletal, som du ønsker at følge. De to måleredskaber du skal anvende er WHO-5 og Brief Inspire-O. Du tilgå spørgebatterierne via de to links her til venstre.\n\nDu kan se nøgletallene over tid ved at vælge \"Nøgletalsanalyse\"."]
[]
[]
[]
[]
[]
[]
[]
[]
[]
[]
[]
[null,{"$f":"Kommune","v":"Herning"}]
[]
[null,"Nøgletal",null,"Beskrivelse",{"$f":"Skyggetabeller!C$13","v":"2023-07-01"},{"$f":"Skyggetabeller!D$13","v":"2024-01-01"},{"$f":"Skyggetabeller!E$13","v":"2024-07-01"},{"$f":"Skyggetabeller!F$13","v":"2025-01-01"}]
[null,null,null,null,{"$f":"Nøgletalsanalyse!J2311","v":0},{"$f":"Nøgletalsanalyse!K2311","v":0},{"$f":"Nøgletalsanalyse!L2311","v":0},{"$f":"Nøgletalsanalyse!M2311","v":0}]
[null,13,"Trivsel","Gennemsnitlig trivselsscore for borgere i målgruppen, målt ved WHO5 trivselsindeks."]
[null,{"$f":"B23&\"a\"","v":"13a"},null,"Antal borgere, der indgår i gennemsnittet."]
[null,"13.1","Trivsel for modtagere af forebyggende indsatser","Gennemsnitlig trivselsscore for borgere der modtager støtte efter SEL §82a og b, målt ved WHO5-trivselsindeks."]
[null,{"$f":"B25&\"a\"","v":"13.1a"},null,"Antal borgere, der indgår i gennemsnittet."]
[null,"13.2","Trivsel for den øvrige målgruppe","Gennemsnitlig trivselsscore for øvrige borgere i målgruppen, målt ved WHO5-trivselsindeks."]
[null,{"$f":"B27&\"a\"","v":"13.2a"},null,"Antal borgere, der indgår i gennemsnittet."]
[null,14,"Personlig Recovery ","Gennemsnitlig score for målgruppen målt ved Brief Inspire-O. "]
[null,{"$f":"B29&\"a\"","v":"14a"},null,"Antal borgere, der indgår i gennemsnittet."]
[null,"15.1","Mental sundhed – Ikke umiddelbar risiko for stress og depression ","Andelen af borgere i målgruppen der har en trivselsscore over 50 målt ved WHO-5.",{"$f":"IFERROR(E32/E33,\"Beregnes\")","v":"Beregnes"},{"$f":"IFERROR(F32/F33,\"Beregnes\")","v":"Beregnes"},{"$f":"IFERROR(G32/G33,\"Beregnes\")","v":"Beregnes"},{"$f":"IFERROR(H32/H33,\"Beregnes\")","v":"Beregnes"}]
[null,{"$f":"B31&\"a\"","v":"15.1a"},null,"Antal borgere i målgruppen, der har en trivselsscore over 50 målt ved WHO-5."]
[null,{"$f":"B31&\"b\"","v":"15.1b"},null,"Antal borgere i målgruppen, der har registreret en trivselsscore ved WHO-5."]
[null,"15.2","Mental sundhed – Risiko for stress og depression","Andelen af borgere i målgruppen der har en trivselsscore mellem 36 og 50 målt ved WHO-5.",{"$f":"IFERROR(E35/E36,\"Beregnes\")","v":"Beregnes"},{"$f":"IFERROR(F35/F36,\"Beregnes\")","v":"Beregnes"},{"$f":"IFERROR(G35/G36,\"Beregnes\")","v":"Beregnes"},{"$f":"IFERROR(H35/H36,\"Beregnes\")","v":"Beregnes"}]
[null,{"$f":"B34&\"a\"","v":"15.2a"},null,"Antal borgere i målgruppen, der har en trivselsscore mellem 36 og 50 målt ved WHO-5."]
[null,{"$f":"B34&\"b\"","v":"15.2b"},null,"Antal borgere i målgruppen, der har registreret en trivselsscore ved WHO-5."]
[null,"15.3","Mental sundhed – Stor risiko for stress og depression","Andelen af borgere i målgruppen der har en trivselsscore mellem 0 og 35 målt ved WHO-5.",{"$f":"IFERROR(E38/E39,\"Beregnes\")","v":"Beregnes"},{"$f":"IFERROR(F38/F39,\"Beregnes\")","v":"Beregnes"},{"$f":"IFERROR(G38/G39,\"Beregnes\")","v":"Beregnes"},{"$f":"IFERROR(H38/H39,\"Beregnes\")","v":"Beregnes"}]
[null,{"$f":"B37&\"a\"","v":"15.3a"},null,"Antal borgere i målgruppen, der har en trivselsscore mellem 0 og 35 målt ved WHO-5."]
[null,{"$f":"B37&\"b\"","v":"15.3b"},null,"Antal borgere i målgruppen, der har registreret en trivselsscore ved WHO-5."]
[null,16,"Forbedret mental sundhed","Andelen af borgere, der siden seneste måling, har opnået højere trivselsscore målt ved WHO-5 og dermed er flyttet en risikogruppe op (enten fra \"Stor risiko\" til \"Risiko\" eller fra \"Risiko\" til \"Ikke umiddelbar risiko\").",null,{"$f":"IFERROR(F41/F42,\"Beregnes\")","v":"Beregnes"},{"$f":"IFERROR(G41/G42,\"Beregnes\")","v":"Beregnes"},{"$f":"IFERROR(H41/H42,\"Beregnes\")","v":"Beregnes"}]
[null,{"$f":"B40&\"a\"","v":"16a"},null,"Antal borgere, der siden seneste måling, har opnået højere trivselsscore målt ved WHO-5 og dermed er flyttet en risikogruppe op (enten fra \"Stor risiko\" til \"Risiko\" eller fra \"Risiko\" til \"Ikke umiddelbar risiko\")."]
[null,{"$f":"B40&\"b\"","v":"16b"},null,"Antal borgere i målgruppen, der har registreret en trivselsscore ved WHO-5 ved denne og sidste datanedslag."]
[null,17,"Forværring af mental sundhed","Andelen af borgere, der siden seneste måling, har opnået lavere trivselsscore målt ved WHO-5 og dermed er flyttet en risikogruppe ned (enten fra \"Risiko\" til \"Stor risiko\" eller fra \"Ikke umiddelbar risiko\" til \"Risiko\".",null,{"$f":"IFERROR(F44/F45,\"Beregnes\")","v":"Beregnes"},{"$f":"IFERROR(G44/G45,\"Beregnes\")","v":"Beregnes"},{"$f":"IFERROR(H44/H45,\"Beregnes\")","v":"Beregnes"}]
[null,{"$f":"B43&\"a\"","v":"17a"},null,"Antal borgere, der siden seneste måling, har opnået lavere trivselsscore målt ved WHO-5 og dermed er flyttet en risikogruppe ned (enten fra \"Risiko\" til \"Stor risiko\" eller fra \"Ikke umiddelbar risiko\" til \"Risiko\")."]
[null,{"$f":"B43&\"b\"","v":"17b"},null,"Antal borgere i målgruppen, der har registreret en trivselsscore ved WHO-5 ved denne og sidste datanedslag."]
[null,"Kilde: Lokalt indsamlede surveybesvarelser fra borgere i socialpsykiatrien på instrumentet WHO-5 og Brief-Inspire-O."]

{"sheet":"Nøgletalsanalyse","index":5,"n_rows":2231,"n_cols":26,"rows_kept":2231,"cut":false,"hidden":false,"merged":[[1855,1,1855,9],[1888,1,1888,9],[1812,1,1812,4],[1822,1,1822,4],[1787,1,1787,4],[1373,1,1373,12],[1404,1,1404,9],[1439,1,1439,9],[1608,1,1608,9],[1619,1,1619,5],[1539,1,1539,4],[1459,1,1459,4],[1497,1,1497,4],[1536,1,1536,4],[1538,1,1538,4],[1609,1,1609,8],[1062,1,1062,9],[1071,1,1071,12],[1100,1,1100,9],[1118,1,1118,12],[949,1,949,4],[980,1,980,4],[989,1,989,4],[906,10,907,15],[1077,10,1078,15],[653,1,653,12],[489,10,490,15],[574,10,575,15],[891,1,891,9],[928,1,928,9],[977,1,977,9],[1014,1,1014,9],[902,1,902,4],[598,1,598,4],[531,1,531,4],[781,1,781,4],[571,1,571,4],[645,1,645,9],[44,1,44,9],[79,1,79,9],[129,1,129,9],[167,1,167,9],[216,1,216,9],[253,1,253,9],[302,1,302,9],[339,1,339,9],[387,1,387,9],[219,1,219,4],[305,1,305,4],[227,1,227,4],[228,1,228,4],[273,1,273,4],[358,1,358,4],[359,1,359,4],[341,1,341,4],[342,1,342,4],[140,1,140,9],[168,1,168,9],[169,1,169,4],[170,1,170,4],[187,1,187,4],[186,1,186,10],[2027,1,2027,3],[948,1,948,4],[1577,1,1577,4],[988,1,988,4],[1012,1,1012,4],[1784,1,1784,4],[1786,1,1786,4],[1773,1,1773,4],[1775,1,1775,4],[1824,1,1824,4],[1825,1,1825,4],[1857,1,1857,4],[1856,1,1856,6],[1747,1,1747,4],[1580,1,1580,4],[1748,1,1748,4],[1776,1,1776,4],[1579,1,1579,4],[1149,1,1149,9],[1187,1,1187,9],[1236,1,1236,9],[1321,1,1321,9],[1356,1,1356,9],[1031,1,1031,12],[60,10,60,15],[232,10,232,15],[318,10,318,15],[402,10,402,15],[2064,6,2064,11],[2320,6,2320,8],[1586,10,1586,15],[1628,10,1628,15],[1747,7,1747,10],[1748,7,1748,10],[1754,10,1754,15],[1747,13,1747,16],[1748,13,1748,16],[1869,10,1869,15],[1165,10,1165,15],[992,10,992,15],[1465,10,1465,15],[1953,10,1953,15],[1999,10,1999,15],[1793,10,1793,15],[2320,10,2320,12],[146,10,146,15],[614,1,614,12],[596,1,596,9],[1247,1,1247,4],[1013,1,1013,4],[617,1,617,4],[699,1,699,4],[780,1,780,4],[1458,1,1458,4],[1498,1,1498,4],[1376,1,1376,4],[1375,1,1375,4],[698,1,698,4],[680,1,680,9],[696,1,696,12],[727,1,727,9],[735,1,735,12],[762,1,762,9],[778,1,778,12],[809,1,809,9],[817,1,817,12],[844,1,844,9],[863,1,863,4],[1293,1,1293,4],[1246,1,1246,4],[894,1,894,4],[903,1,903,4],[188,1,188,4],[572,1,572,4],[599,1,599,4],[274,1,274,4],[315,1,315,4],[428,1,428,4],[398,1,398,4],[446,1,446,4],[485,1,485,4],[486,1,486,4],[532,1,532,4],[563,1,563,4],[477,1,477,4],[425,1,425,9],[474,1,474,9],[511,1,511,9],[560,1,560,9],[569,1,569,13],[1250,10,1251,15],[6,1,6,8],[399,1,399,4],[389,1,389,4],[131,1,131,4],[616,1,616,4],[9,1,9,3],[47,1,47,4],[99,1,99,4],[100,1,100,4],[81,1,81,4],[82,1,82,4],[55,1,55,4],[56,1,56,4],[54,1,54,9],[130,1,130,9],[132,1,132,4],[314,1,314,4],[141,1,141,4],[142,1,142,4],[256,1,256,4],[390,1,390,4],[445,1,445,4],[427,1,427,4]]}
[]
[]
[]
[null,"Nøgletalsanalyse"]
[]
[]
[null,"På denne side kan du se nøgletallene for din valgte kommune over tid og sammenligne med dine valgte sammenligningskommuner og hele landet. Du kan vælge det nøgletal, du ønsker at se på i rullemenuen her nedenfor. Du kan også vælge at se på alle nøgletal på én gang.\n\nSom udgangspunkt er nøgletallene illustereret som figurer, men du kan folde den tilhørende tabel ud under figuren, hvis du ønsker at se de data, der afbilledes i figuren. Du folder tabellerne ud ved at benytte de røde pile til venstre for tabeloverskriften. Ved nogle nøgletal er der ekstra illustrationer af nøgletallene. De kan tilsvarende foldes ud ved at benytte pilene. \n\nVed alle nøgletallenes overskrifter er der infoknapper indeholdende nøgletallets definition, datakilde og opdateringsfrekvens. Ved alle figurer er der infoknapper indeholdende en beskrivelse af, hvad figuren viser.\n\nTil højre for nøgletallenes figur 1 er en tekstboks med forudfyldt tekst. Ønsker du at lave en rapport med nøgletallene, kan du bruge tekstboksen til at skrive tekst til figuren. Den forudfyldte tekst kan anvendes eller slettes efter behov. Teksten i teksboksen printes sammen med figuren i rapporten, hvis du vælger nøgletallet under \"Print rapport\" i den røde bjælke."]
[]
[]
[null,"Vælg nøgletal"]
[null,{"$f":"VLOOKUP(NT_valg,Data!E1068:F1079,2,FALSE)","v":"Nøgletal 1 - Modtagere af længerevarende botilbud (§108)"}]
[]
[]
[]
[]
[]
[]
[]
[null,"Nøgletal 1.1: Modtagere af længerevarende botilbud"]
[]
[null,{"$f":"\"Figur 1.1: Udvikling i antal modtagere af længerevarende botilbud i \"&Kommune","v":"Figur 1.1: Udvikling i antal modtagere af længerevarende botilbud i Herning"}]
[]
[]
[]
[]
[null,null,null,null,null,null,null,null,null,null,null,null,null,null,null,null,null,null,null,null,null,null,null,null,null,{"$f":"Q2310","v":0}]
[]
[]
[]
[]
[]
[]
[]
[]
[]
[]
[]
[]
[]
[]
[]
[]
[]
[]
[null,{"$f":"RegNøgletal!B22","v":"Anm.: Hvis nøgletallet er angivet med * er der foretaget en diskretionering af data, da der er for få observationer. N angiver målgruppestørrelsen, som er alle borgere registreret med \"Sindslidelse\" i indberetningen til Danmarks Statistik."}]
[null,{"$f":"RegNøgletal!B23","v":"Kilde: Social- og Boligstyrelsens egne beregninger baseret på handicapstiatistikken ved Danmarks Statistik."}]
[]
[]
[]
[null,{"$f":"\"Tabel 1.1: Udvikling i antal modtagere af længerevarende botilbud i \"&Kommune","v":"Tabel 1.1: Udvikling i antal modtagere af længerevarende botilbud i Herning"}]
[]
[null,null,{"$f":"Skyggetabeller!C11","v":"2018-01-01"},{"$f":"Skyggetabeller!D11","v":"2018-07-01"},{"$f":"Skyggetabeller!E11","v":"2019-01-01"},{"$f":"Skyggetabeller!F11","v":"2019-07-01"},{"$f":"Skyggetabeller!G11","v":"2020-01-01"},{"$f":"Skyggetabeller!H11","v":"2020-07-01"},{"$f":"Skyggetabeller!I11","v":"2021-01-01"},{"$f":"Skyggetabeller!J11","v":"2021-07-01"},{"$f":"Skyggetabeller!K11","v":"2022-01-01"},{"$f":"Skyggetabeller!L11","v":"2022-07-01"},{"$f":"Skyggetabeller!M11","v":"2023-01-01"}]
[null,"Antal modtagere",{"$f":"RegNøgletal!D20","v":20},{"$f":"RegNøgletal!E20","v":21},{"$f":"RegNøgletal!F20","v":22},{"$f":"RegNøgletal!G20","v":22},{"$f":"RegNøgletal!H20","v":22},{"$f":"RegNøgletal!I20","v":21},{"$f":"RegNøgletal!J20","v":20},{"$f":"RegNøgletal!K20","v":19},{"$f":"RegNøgletal!L20","v":19},{"$f":"RegNøgletal!M20","v":20},{"$f":"RegNøgletal!N20","v":20}]
[null,{"$f":"RegNøgletal!B22","v":"Anm.: Hvis nøgletallet er angivet med * er der foretaget en diskretionering af data, da der er for få observationer. N angiver målgruppestørrelsen, som er alle borgere registreret med \"Sindslidelse\" i indberetningen til Danmarks Statistik."}]
[null,{"$f":"RegNøgletal!B23","v":"Kilde: Social- og Boligstyrelsens egne beregninger baseret på handicapstiatistikken ved Danmarks Statistik."}]
[]
[]
[]
[null,"Figur 1.2: Udvikling i andelen af borgere, der modtager længerevarende botilbud "]
[]
[null,null,null,null,null,null,null,null,null,null,"Benyt, slet eller erstat gerne følgende tekst til beskrivelse af udviklingen over tid for det pågældende nøgletal. Beskrivelsen vil blive indsat i rapporten (skriv maks 10 linjer):"]
[]
[]
[]
[]
[]
[]
[]
[]
[]
[]
[]
[]
[]
[]
[]
[]
[]
[]
[null,{"$f":"RegNøgletal!B22","v":"Anm.: Hvis nøgletallet er angivet med * er der foretaget en diskretionering af data, da der er for få observationer. N angiver målgruppestørrelsen, som er alle borgere registreret med \"Sindslidelse\" i indberetningen til Danmarks Statistik."}]
[null,{"$f":"RegNøgletal!B23","v":"Kilde: Social- og Boligstyrelsens egne beregninger baseret på handicapstiatistikken ved Danmarks Statistik."}]
[]
[]
[]
[null,"Tabel 1.2: Udvikling i andelen af borgere, der modtager længerevarende botilbud "]
[]
[null,null,{"$f":"Skyggetabeller!C11","v":"2018-01-01"},{"$f":"Skyggetabeller!D11","v":"2018-07-01"},{"$f":"Skyggetabeller!E11","v":"2019-01-01"},{"$f":"Skyggetabeller!F11","v":"2019-07-01"},{"$f":"Skyggetabeller!G11","v":"2020-01-01"},{"$f":"Skyggetabeller!H11","v":"2020-07-01"},{"$f":"Skyggetabeller!I11","v":"2021-01-01"},{"$f":"Skyggetabeller!J11","v":"2021-07-01"},{"$f":"Skyggetabeller!K11","v":"2022-01-01"},{"$f":"Skyggetabeller!L11","v":"2022-07-01"},{"$f":"Skyggetabeller!M11","v":"2023-01-01"}]
[null,{"$f":"Kommune","v":"Herning"}]
[null,"Andel",{"$f":"Skyggetabeller!C25","v":4.9382716049382713E-2},{"$f":"Skyggetabeller!D25","v":5.1597051597051594E-2},{"$f":"Skyggetabeller!E25","v":5.6410256410256411E-2},{"$f":"Skyggetabeller!F25","v":5.8823529411764705E-2},{"$f":"Skyggetabeller!G25","v":6.0606060606060608E-2},{"$f":"Skyggetabeller!H25","v":5.4830287206266322E-2},{"$f":"Skyggetabeller!I25","v":5.181347150259067E-2},{"$f":"Skyggetabeller!J25","v":4.859335038363171E-2},{"$f":"Skyggetabeller!K25","v":4.960835509138381E-2},{"$f":"Skyggetabeller!L25","v":5.4794520547945202E-2},{"$f":"Skyggetabeller!M25","v":5.5555555555555552E-2}]
[null,"N",{"$f":"Skyggetabeller!C29","v":405},{"$f":"Skyggetabeller!D29","v":407},{"$f":"Skyggetabeller!E29","v":390},{"$f":"Skyggetabeller!F29","v":374},{"$f":"Skyggetabeller!G29","v":363},{"$f":"Skyggetabeller!H29","v":383},{"$f":"Skyggetabeller!I29","v":386},{"$f":"Skyggetabeller!J29","v":391},{"$f":"Skyggetabeller!K29","v":383},{"$f":"Skyggetabeller!L29","v":365},{"$f":"Skyggetabeller!M29","v":360}]
[null,"Sammenligningskommuner"]
[null,"Andel",{"$f":"Skyggetabeller!C26","v":6.8686868686868685E-2},{"$f":"Skyggetabeller!D26","v":7.2186836518046707E-2},{"$f":"Skyggetabeller!E26","v":7.2314049586776855E-2},{"$f":"Skyggetabeller!F26","v":6.7346938775510207E-2},{"$f":"Skyggetabeller!G26","v":7.3921971252566734E-2},{"$f":"Skyggetabeller!H26","v":7.5203252032520332E-2},{"$f":"Skyggetabeller!I26","v":7.2580645161290328E-2},{"$f":"Skyggetabeller!J26","v":6.7829457364341081E-2},{"$f":"Skyggetabeller!K26","v":6.7567567567567571E-2},{"$f":"Skyggetabeller!L26","v":6.5913370998116755E-2},{"$f":"Skyggetabeller!M26","v":6.6787003610108309E-2}]
[null,"N",{"$f":"Skyggetabeller!C30","v":495},{"$f":"Skyggetabeller!D30","v":471},{"$f":"Skyggetabeller!E30","v":484},{"$f":"Skyggetabeller!F30","v":490},{"$f":"Skyggetabeller!G30","v":487},{"$f":"Skyggetabeller!H30","v":492},{"$f":"Skyggetabeller!I30","v":496},{"$f":"Skyggetabeller!J30","v":516},{"$f":"Skyggetabeller!K30","v":518},{"$f":"Skyggetabeller!L30","v":531},{"$f":"Skyggetabeller!M30","v":554}]
[null,"Landsgennemsnit"]
[null,"Andel",{"$f":"Skyggetabeller!C27","v":6.8156001514577805E-2},{"$f":"Skyggetabeller!D27","v":6.8318318318318319E-2},{"$f":"Skyggetabeller!E27","v":6.7764882066641705E-2},{"$f":"Skyggetabeller!F27","v":6.6466391288021023E-2},{"$f":"Skyggetabeller!G27","v":6.5266316579144792E-2},{"$f":"Skyggetabeller!H27","v":6.5794392523364484E-2},{"$f":"Skyggetabeller!I27","v":6.4647210934613966E-2},{"$f":"Skyggetabeller!J27","v":6.3759618908024923E-2},{"$f":"Skyggetabeller!K27","v":6.2952243125904486E-2},{"$f":"Skyggetabeller!L27","v":6.2634216177523266E-2},{"$f":"Skyggetabeller!M27","v":6.2655749377002495E-2}]
[null,"N",{"$f":"Skyggetabeller!C31","v":26410},{"$f":"Skyggetabeller!D31","v":26640},{"$f":"Skyggetabeller!E31","v":26710},{"$f":"Skyggetabeller!F31","v":26630},{"$f":"Skyggetabeller!G31","v":26660},{"$f":"Skyggetabeller!H31","v":26750},{"$f":"Skyggetabeller!I31","v":27070},{"$f":"Skyggetabeller!J31","v":27290},{"$f":"Skyggetabeller!K31","v":27640},{"$f":"Skyggetabeller!L31","v":27940},{"$f":"Skyggetabeller!M31","v":28090}]
[null,{"$f":"IF('Dine valg'!$G$24=\"\",\"Ingen sammenligningsgruppe valgt.\",\"Valgte kommuner i sammenligningsgruppen: \"&'Dine valg'!$G$24&\" \"&'Dine valg'!$G$25&\" \"&'Dine valg'!$G$26&\" \"&'Dine valg'!$G$27&\" \"&'Dine valg'!$G$28&\" \"&'Dine valg'!$G$29&\" \"&'Dine valg'!$G$30)","v":"Valgte kommuner i sammenligningsgruppen: Allerød Assens Ballerup    "}]
[null,{"$f":"RegNøgletal!B22","v":"Anm.: Hvis nøgletallet er angivet med * er der foretaget en diskretionering af data, da der er for få observationer. N angiver målgruppestørrelsen, som er alle borgere registreret med \"Sindslidelse\" i indberetningen til Danmarks Statistik."}]
[null,{"$f":"RegNøgletal!B23","v":"Kilde: Social- og Boligstyrelsens egne beregninger baseret på handicapstiatistikken ved Danmarks Statistik."}]
[]
[]
[]
[null,"Nøgletal 2: Modtagere af botilbudslignende tilbud"]
[]
[null,{"$f":"\"Figur 2.1: Udvikling i antal modtagere af botilbudslignende tilbud i \"&Kommune","v":"Figur 2.1: Udvikling i antal modtagere af botilbudslignende tilbud i Herning"}]
[]
[]
[]
[]
[]
[]
[]
[]
[]
[]
[]
[]
[]
[]
[]
[]
[]
[]
[]
[]
[]
[]
[]
[]
[null,{"$f":"RegNøgletal!B34","v":"Anm.: Hvis nøgletallet er angivet med * er der foretaget en diskretionering af data, da der er for få observationer. N angiver målgruppestørrelsen, som er alle borgere registreret med \"Sindslidelse\" i indberetningen til Danmarks Statistik."}]
[null,{"$f":"RegNøgletal!B35","v":"Kilde: Social- og Boligstyrelsens egne beregninger baseret på handicapstiatistikken ved Danmarks Statistik."}]
[]
[]
[]
[]
[null,{"$f":"\"Tabel 2.1: Udvikling i antal modtagere af botilbudslignende tilbud i \"&Kommune","v":"Tabel 2.1: Udvikling i antal modtagere af botilbudslignende tilbud i Herning"}]
[]
[null,null,{"$f":"Skyggetabeller!C$11","v":"2018-01-01"},{"$f":"Skyggetabeller!D$11","v":"2018-07-01"},{"$f":"Skyggetabeller!E$11","v":"2019-01-01"},{"$f":"Skyggetabeller!F$11","v":"2019-07-01"},{"$f":"Skyggetabeller!G$11","v":"2020-01-01"},{"$f":"Skyggetabeller!H$11","v":"2020-07-01"},{"$f":"Skyggetabeller!I$11","v":"2021-01-01"},{"$f":"Skyggetabeller!J$11","v":"2021-07-01"},{"$f":"Skyggetabeller!K$11","v":"2022-01-01"},{"$f":"Skyggetabeller!L$11","v":"2022-07-01"},{"$f":"Skyggetabeller!M$11","v":"2023-01-01"}]
[null,"Antal modtagere",{"$f":"RegNøgletal!D32","v":45},{"$f":"RegNøgletal!E32","v":44},{"$f":"RegNøgletal!F32","v":43},{"$f":"RegNøgletal!G32","v":42},{"$f":"RegNøgletal!H32","v":42},{"$f":"RegNøgletal!I32","v":41},{"$f":"RegNøgletal!J32","v":39},{"$f":"RegNøgletal!K32","v":37},{"$f":"RegNøgletal!L32","v":37},{"$f":"RegNøgletal!M32","v":36},{"$f":"RegNøgletal!N32","v":34}]
[null,{"$f":"RegNøgletal!B34","v":"Anm.: Hvis nøgletallet er angivet med * er der foretaget en diskretionering af data, da der er for få observationer. N angiver målgruppestørrelsen, som er alle borgere registreret med \"Sindslidelse\" i indberetningen til Danmarks Statistik."}]
[null,{"$f":"RegNøgletal!B35","v":"Kilde: Social- og Boligstyrelsens egne beregninger baseret på handicapstiatistikken ved Danmarks Statistik."}]
[]
[]
[]
[null,"Figur 2.2: Udvikling i andelen af borgere, der modtager botilbudslignende botilbud"]
[]
[null,null,null,null,null,null,null,null,null,null,"Benyt, slet eller erstat gerne følgende tekst til beskrivelse af udviklingen over tid for det pågældende nøgletal. Beskrivelsen vil blive indsat i rapporten (skriv maks 10 linjer):"]
[]
[]
[]
[]
[]
[]
[]
[]
[]
[]
[]
[]
[]
[]
[]
[]
[]
[]
[]
[]
[null,{"$f":"RegNøgletal!B34","v":"Anm.: Hvis nøgletallet er angivet med * er der foretaget en diskretionering af data, da der er for få observationer. N angiver målgruppestørrelsen, som er alle borgere registreret med \"Sindslidelse\" i indberetningen til Danmarks Statistik."}]
[null,{"$f":"RegNøgletal!B35","v":"Kilde: Social- og Boligstyrelsens egne beregninger baseret på handicapstiatistikken ved Danmarks Statistik."}]
[]
[]
[]
[null,"Tabel 2.2: Udvikling i andelen af borgere, der modtager botilbudslignende tilbud"]
[]
[null,null,{"$f":"Skyggetabeller!C$11","v":"2018-01-01"},{"$f":"Skyggetabeller!D$11","v":"2018-07-01"},{"$f":"Skyggetabeller!E$11","v":"2019-01-01"},{"$f":"Skyggetabeller!F$11","v":"2019-07-01"},{"$f":"Skyggetabeller!G$11","v":"2020-01-01"},{"$f":"Skyggetabeller!H$11","v":"2020-07-01"},{"$f":"Skyggetabeller!I$11","v":"2021-01-01"},{"$f":"Skyggetabeller!J$11","v":"2021-07-01"},{"$f":"Skyggetabeller!K$11","v":"2022-01-01"},{"$f":"Skyggetabeller!L$11","v":"2022-07-01"},{"$f":"Skyggetabeller!M$11","v":"2023-01-01"}]
[null,{"$f":"Kommune","v":"Herning"}]
[null,"Andel",{"$f":"Skyggetabeller!C40","v":0.1111111111111111},{"$f":"Skyggetabeller!D40","v":0.10810810810810811},{"$f":"Skyggetabeller!E40","v":0.11025641025641025},{"$f":"Skyggetabeller!F40","v":0.11229946524064172},{"$f":"Skyggetabeller!G40","v":0.11570247933884298},{"$f":"Skyggetabeller!H40","v":0.10704960835509138},{"$f":"Skyggetabeller!I40","v":0.10103626943005181},{"$f":"Skyggetabeller!J40","v":9.4629156010230184E-2},{"$f":"Skyggetabeller!K40","v":9.6605744125326368E-2},{"$f":"Skyggetabeller!L40","v":9.8630136986301367E-2},{"$f":"Skyggetabeller!M40","v":9.4444444444444442E-2}]
[null,"N",{"$f":"Skyggetabeller!C44","v":405},{"$f":"Skyggetabeller!D44","v":407},{"$f":"Skyggetabeller!E44","v":390},{"$f":"Skyggetabeller!F44","v":374},{"$f":"Skyggetabeller!G44","v":363},{"$f":"Skyggetabeller!H44","v":383},{"$f":"Skyggetabeller!I44","v":386},{"$f":"Skyggetabeller!J44","v":391},{"$f":"Skyggetabeller!K44","v":383},{"$f":"Skyggetabeller!L44","v":365},{"$f":"Skyggetabeller!M44","v":360}]
[null,"Sammenligningskommuner"]
[null,"Andel",{"$f":"Skyggetabeller!C41","v":0.10909090909090909},{"$f":"Skyggetabeller!D41","v":0.11677282377919321},{"$f":"Skyggetabeller!E41","v":0.10330578512396695},{"$f":"Skyggetabeller!F41","v":8.3673469387755106E-2},{"$f":"Skyggetabeller!G41","v":8.2135523613963035E-2},{"$f":"Skyggetabeller!H41","v":8.3333333333333329E-2},{"$f":"Skyggetabeller!I41","v":9.6774193548387094E-2},{"$f":"Skyggetabeller!J41","v":9.3023255813953487E-2},{"$f":"Skyggetabeller!K41","v":9.2664092664092659E-2},{"$f":"Skyggetabeller!L41","v":9.03954802259887E-2},{"$f":"Skyggetabeller!M41","v":8.4837545126353789E-2}]
[null,"N",{"$f":"Skyggetabeller!C45","v":495},{"$f":"Skyggetabeller!D45","v":471},{"$f":"Skyggetabeller!E45","v":484},{"$f":"Skyggetabeller!F45","v":490},{"$f":"Skyggetabeller!G45","v":487},{"$f":"Skyggetabeller!H45","v":492},{"$f":"Skyggetabeller!I45","v":496},{"$f":"Skyggetabeller!J45","v":516},{"$f":"Skyggetabeller!K45","v":518},{"$f":"Skyggetabeller!L45","v":518},{"$f":"Skyggetabeller!M45","v":518}]
[null,"Landsgennemsnit"]
[null,"Andel",{"$f":"Skyggetabeller!C42","v":0.10639909125331314},{"$f":"Skyggetabeller!D42","v":0.10698198198198199},{"$f":"Skyggetabeller!E42","v":0.10670160988393861},{"$f":"Skyggetabeller!F42","v":0.10664663912880211},{"$f":"Skyggetabeller!G42","v":0.1072768192048012},{"$f":"Skyggetabeller!H42","v":0.10616822429906542},{"$f":"Skyggetabeller!I42","v":0.1041743627632065},{"$f":"Skyggetabeller!J42","v":0.10260168559912056},{"$f":"Skyggetabeller!K42","v":0.10057887120115774},{"$f":"Skyggetabeller!L42","v":9.8425196850393706E-2},{"$f":"Skyggetabeller!M42","v":9.7543609825560693E-2}]
[null,"N",{"$f":"Skyggetabeller!C46","v":26410},{"$f":"Skyggetabeller!D46","v":26640},{"$f":"Skyggetabeller!E46","v":26710},{"$f":"Skyggetabeller!F46","v":26630},{"$f":"Skyggetabeller!G46","v":26660},{"$f":"Skyggetabeller!H46","v":26750},{"$f":"Skyggetabeller!I46","v":27070},{"$f":"Skyggetabeller!J46","v":27290},{"$f":"Skyggetabeller!K46","v":27640},{"$f":"Skyggetabeller!L46","v":27940},{"$f":"Skyggetabeller!M46","v":28090}]
[null,{"$f":"IF('Dine valg'!$G$24=\"\",\"Ingen sammenligningsgruppe valgt.\",\"Valgte kommuner i sammenligningsgruppen: \"&'Dine valg'!$G$24&\" \"&'Dine valg'!$G$25&\" \"&'Dine valg'!$G$26&\" \"&'Dine valg'!$G$27&\" \"&'Dine valg'!$G$28&\" \"&'Dine valg'!$G$29&\" \"&'Dine valg'!$G$30)","v":"Valgte kommuner i sammenligningsgruppen: Allerød Assens Ballerup    "}]
[null,{"$f":"RegNøgletal!B34","v":"Anm.: Hvis nøgletallet er angivet med * er der foretaget en diskretionering af data, da der er for få observationer. N angiver målgruppestørrelsen, som er alle borgere registreret med \"Sindslidelse\" i indberetningen til Danmarks Statistik."}]
[null,{"$f":"RegNøgletal!B35","v":"Kilde: Social- og Boligstyrelsens egne beregninger baseret på handicapstiatistikken ved Danmarks Statistik."}]
[]
[]
[]
[null,"Nøgletal 3: Modtagere af midlertidigt botilbud"]
[]
[null,{"$f":"\"Figur 3.1: Udvikling i antal modtagere af midlertidigt botilbud i \"&Kommune","v":"Figur 3.1: Udvikling i antal modtagere af midlertidigt botilbud i Herning"}]
[]
[]
[]
[]
[]
[]
[]
[]
[]
[]
[]
[]
[]
[]
[]
[]
[]
[]
[]
[]
[]
[]
[]
[null,{"$f":"RegNøgletal!B46","v":"Anm.: Hvis nøgletallet er angivet med * er der foretaget en diskretionering af data, da der er for få observationer. N angiver målgruppestørrelsen, som er alle borgere registreret med \"Sindslidelse\" i indberetningen til Danmarks Statistik."}]
[null,{"$f":"RegNøgletal!B47","v":"Kilde: Social- og Boligstyrelsens egne beregninger baseret på handicapstiatistikken ved Danmarks Statistik."}]
[]
[]
[]
[null,{"$f":"\"Tabel 3.1: Udvikling i antal modtagere af midlertidigt botilbud i \"&Kommune","v":"Tabel 3.1: Udvikling i antal modtagere af midlertidigt botilbud i Herning"}]
[]
[null,null,{"$f":"Skyggetabeller!C$11","v":"2018-01-01"},{"$f":"Skyggetabeller!D$11","v":"2018-07-01"},{"$f":"Skyggetabeller!E$11","v":"2019-01-01"},{"$f":"Skyggetabeller!F$11","v":"2019-07-01"},{"$f":"Skyggetabeller!G$11","v":"2020-01-01"},{"$f":"Skyggetabeller!H$11","v":"2020-07-01"},{"$f":"Skyggetabeller!I$11","v":"2021-01-01"},{"$f":"Skyggetabeller!J$11","v":"2021-07-01"},{"$f":"Skyggetabeller!K$11","v":"2022-01-01"},{"$f":"Skyggetabeller!L$11","v":"2022-07-01"},{"$f":"Skyggetabeller!M$11","v":"2023-01-01"}]
[null,"Antal modtagere",{"$f":"RegNøgletal!D44","v":28},{"$f":"RegNøgletal!E44","v":26},{"$f":"RegNøgletal!F44","v":28},{"$f":"RegNøgletal!G44","v":30},{"$f":"RegNøgletal!H44","v":30},{"$f":"RegNøgletal!I44","v":26},{"$f":"RegNøgletal!J44","v":24},{"$f":"RegNøgletal!K44","v":23},{"$f":"RegNøgletal!L44","v":21},{"$f":"RegNøgletal!M44","v":17},{"$f":"RegNøgletal!N44","v":15}]
[null,{"$f":"RegNøgletal!B46","v":"Anm.: Hvis nøgletallet er angivet med * er der foretaget en diskretionering af data, da der er for få observationer. N angiver målgruppestørrelsen, som er alle borgere registreret med \"Sindslidelse\" i indberetningen til Danmarks Statistik."}]
[null,{"$f":"RegNøgletal!B47","v":"Kilde: Social- og Boligstyrelsens egne beregninger baseret på handicapstiatistikken ved Danmarks Statistik."}]
[]
[]
[]
[null,"Figur 3.2: Udvikling i andelen af borgere, der modtager et midlertidigt botilbud"]
[]
[null,null,null,null,null,null,null,null,null,null,"Benyt, slet eller erstat gerne følgende tekst til beskrivelse af udviklingen over tid for det pågældende nøgletal. Beskrivelsen vil blive indsat i rapporten (skriv maks 10 linjer):"]
[]
[]
[]
[]
[]
[]
[]
[]
[]
[]
[]
[]
[]
[]
[]
[]
[]
[]
[]
[]
[null,{"$f":"RegNøgletal!B46","v":"Anm.: Hvis nøgletallet er angivet med * er der foretaget en diskretionering af data, da der er for få observationer. N angiver målgruppestørrelsen, som er alle borgere registreret med \"Sindslidelse\" i indberetningen til Danmarks Statistik."}]
[null,{"$f":"RegNøgletal!B47","v":"Kilde: Social- og Boligstyrelsens egne beregninger baseret på handicapstiatistikken ved Danmarks Statistik."}]
[]
[]
[]
[null,"Tabel 3.2: Udvikling i andelen af borgere, der modtager et midlertidigt botilbud "]
[]
[null,null,{"$f":"Skyggetabeller!C$11","v":"2018-01-01"},{"$f":"Skyggetabeller!D$11","v":"2018-07-01"},{"$f":"Skyggetabeller!E$11","v":"2019-01-01"},{"$f":"Skyggetabeller!F$11","v":"2019-07-01"},{"$f":"Skyggetabeller!G$11","v":"2020-01-01"},{"$f":"Skyggetabeller!H$11","v":"2020-07-01"},{"$f":"Skyggetabeller!I$11","v":"2021-01-01"},{"$f":"Skyggetabeller!J$11","v":"2021-07-01"},{"$f":"Skyggetabeller!K$11","v":"2022-01-01"},{"$f":"Skyggetabeller!L$11","v":"2022-07-01"},{"$f":"Skyggetabeller!M$11","v":"2023-01-01"}]
[null,{"$f":"Kommune","v":"Herning"}]
[null,"Andel",{"$f":"Skyggetabeller!C56","v":6.9135802469135796E-2},{"$f":"Skyggetabeller!D56","v":6.3882063882063883E-2},{"$f":"Skyggetabeller!E56","v":7.179487179487179E-2},{"$f":"Skyggetabeller!F56","v":8.0213903743315509E-2},{"$f":"Skyggetabeller!G56","v":8.2644628099173556E-2},{"$f":"Skyggetabeller!H56","v":6.7885117493472591E-2},{"$f":"Skyggetabeller!I56","v":6.2176165803108807E-2},{"$f":"Skyggetabeller!J56","v":5.8823529411764705E-2},{"$f":"Skyggetabeller!K56","v":5.4830287206266322E-2},{"$f":"Skyggetabeller!L56","v":4.6575342465753428E-2},{"$f":"Skyggetabeller!M56","v":4.1666666666666664E-2}]
[null,"N",{"$f":"Skyggetabeller!C60","v":405},{"$f":"Skyggetabeller!D60","v":407},{"$f":"Skyggetabeller!E60","v":390},{"$f":"Skyggetabeller!F60","v":374},{"$f":"Skyggetabeller!G60","v":363},{"$f":"Skyggetabeller!H60","v":383},{"$f":"Skyggetabeller!I60","v":386},{"$f":"Skyggetabeller!J60","v":391},{"$f":"Skyggetabeller!K60","v":383},{"$f":"Skyggetabeller!L60","v":365},{"$f":"Skyggetabeller!M60","v":360}]
[null,"Sammenligningskommuner"]
[null,"Andel",{"$f":"Skyggetabeller!C57","v":0.12323232323232323},{"$f":"Skyggetabeller!D57","v":0.12526539278131635},{"$f":"Skyggetabeller!E57","v":0.12603305785123967},{"$f":"Skyggetabeller!F57","v":0.12040816326530612},{"$f":"Skyggetabeller!G57","v":0.11909650924024641},{"$f":"Skyggetabeller!H57","v":0.13008130081300814},{"$f":"Skyggetabeller!I57","v":0.12298387096774194},{"$f":"Skyggetabeller!J57","v":0.13372093023255813},{"$f":"Skyggetabeller!K57","v":0.13127413127413126},{"$f":"Skyggetabeller!L57","v":0.13127413127413126},{"$f":"Skyggetabeller!M57","v":0.13127413127413126}]
[null,"N",{"$f":"Skyggetabeller!C61","v":495},{"$f":"Skyggetabeller!D61","v":471},{"$f":"Skyggetabeller!E61","v":484},{"$f":"Skyggetabeller!F61","v":490},{"$f":"Skyggetabeller!G61","v":487},{"$f":"Skyggetabeller!H61","v":492},{"$f":"Skyggetabeller!I61","v":496},{"$f":"Skyggetabeller!J61","v":516},{"$f":"Skyggetabeller!K61","v":518},{"$f":"Skyggetabeller!L61","v":518},{"$f":"Skyggetabeller!M61","v":518}]
[null,"Landsgennemsnit"]
[null,"Andel",{"$f":"Skyggetabeller!C58","v":9.0874668686103749E-2},{"$f":"Skyggetabeller!D58","v":9.2342342342342343E-2},{"$f":"Skyggetabeller!E58","v":9.5844253088730819E-2},{"$f":"Skyggetabeller!F58","v":9.763424708974841E-2},{"$f":"Skyggetabeller!G58","v":9.7149287321830452E-2},{"$f":"Skyggetabeller!H58","v":9.7570093457943929E-2},{"$f":"Skyggetabeller!I58","v":9.6047284817140741E-2},{"$f":"Skyggetabeller!J58","v":9.7105166727739098E-2},{"$f":"Skyggetabeller!K58","v":9.7684515195369026E-2},{"$f":"Skyggetabeller!L58","v":9.7351467430207589E-2},{"$f":"Skyggetabeller!M58","v":9.8611605553577786E-2}]
[null,"N",{"$f":"Skyggetabeller!C62","v":26410},{"$f":"Skyggetabeller!D62","v":26640},{"$f":"Skyggetabeller!E62","v":26710},{"$f":"Skyggetabeller!F62","v":26630},{"$f":"Skyggetabeller!G62","v":26660},{"$f":"Skyggetabeller!H62","v":26750},{"$f":"Skyggetabeller!I62","v":27070},{"$f":"Skyggetabeller!J62","v":27290},{"$f":"Skyggetabeller!K62","v":27640},{"$f":"Skyggetabeller!L62","v":27940},{"$f":"Skyggetabeller!M62","v":28090}]
[null,{"$f":"IF('Dine valg'!$G$24=\"\",\"Ingen sammenligningsgruppe valgt.\",\"Valgte kommuner i sammenligningsgruppen: \"&'Dine valg'!$G$24&\" \"&'Dine valg'!$G$25&\" \"&'Dine valg'!$G$26&\" \"&'Dine valg'!$G$27&\" \"&'Dine valg'!$G$28&\" \"&'Dine valg'!$G$29&\" \"&'Dine valg'!$G$30)","v":"Valgte kommuner i sammenligningsgruppen: Allerød Assens Ballerup    "}]
[null,{"$f":"RegNøgletal!B46","v":"Anm.: Hvis nøgletallet er angivet med * er der foretaget en diskretionering af data, da der er for få observationer. N angiver målgruppestørrelsen, som er alle borgere registreret med \"Sindslidelse\" i indberetningen til Danmarks Statistik."}]
[null,{"$f":"RegNøgletal!B47","v":"Kilde: Social- og Boligstyrelsens egne beregninger baseret på handicapstiatistikken ved Danmarks Statistik."}]
[]
[]
[]
[null,"Nøgletal 4: Modtagere af socialpædagogisk støtte"]
[]
[null,{"$f":"\"Figur 4.1: Udvikling i antal modtagere af socialpædagogisk støtte i \"&Kommune","v":"Figur 4.1: Udvikling i antal modtagere af socialpædagogisk støtte i Herning"}]
[]
[]
[]
[]
[]
[]
[]
[]
[]
[]
[]
[]
[]
[]
[]
[]
[]
[]
[]
[]
[]
[]
[]
[null,{"$f":"RegNøgletal!B58","v":"Anm.: Hvis nøgletallet er angivet med * er der foretaget en diskretionering af data, da der er for få observationer. N angiver målgruppestørrelsen, som er alle borgere registreret med \"Sindslidelse\" i indberetningen til Danmarks Statistik."}]
[null,{"$f":"RegNøgletal!B59","v":"Kilde: Social- og Boligstyrelsens egne beregninger baseret på handicapstiatistikken ved Danmarks Statistik."}]
[]
[]
[]
[]
[null,{"$f":"\"Tabel 4.1: Udvikling i antal modtagere af socialpædagogisk støtte i \"&Kommune","v":"Tabel 4.1: Udvikling i antal modtagere af socialpædagogisk støtte i Herning"}]
[]
[null,null,{"$f":"Skyggetabeller!C$11","v":"2018-01-01"},{"$f":"Skyggetabeller!D$11","v":"2018-07-01"},{"$f":"Skyggetabeller!E$11","v":"2019-01-01"},{"$f":"Skyggetabeller!F$11","v":"2019-07-01"},{"$f":"Skyggetabeller!G$11","v":"2020-01-01"},{"$f":"Skyggetabeller!H$11","v":"2020-07-01"},{"$f":"Skyggetabeller!I$11","v":"2021-01-01"},{"$f":"Skyggetabeller!J$11","v":"2021-07-01"},{"$f":"Skyggetabeller!K$11","v":"2022-01-01"},{"$f":"Skyggetabeller!L$11","v":"2022-07-01"},{"$f":"Skyggetabeller!M$11","v":"2023-01-01"}]
[null,"Antal modtagere",{"$f":"RegNøgletal!D56","v":291},{"$f":"RegNøgletal!E56","v":295},{"$f":"RegNøgletal!F56","v":276},{"$f":"RegNøgletal!G56","v":258},{"$f":"RegNøgletal!H56","v":249},{"$f":"RegNøgletal!I56","v":262},{"$f":"RegNøgletal!J56","v":267},{"$f":"RegNøgletal!K56","v":280},{"$f":"RegNøgletal!L56","v":275},{"$f":"RegNøgletal!M56","v":249},{"$f":"RegNøgletal!N56","v":247}]
[null,{"$f":"RegNøgletal!B58","v":"Anm.: Hvis nøgletallet er angivet med * er der foretaget en diskretionering af data, da der er for få observationer. N angiver målgruppestørrelsen, som er alle borgere registreret med \"Sindslidelse\" i indberetningen til Danmarks Statistik."}]
[null,{"$f":"RegNøgletal!B59","v":"Kilde: Social- og Boligstyrelsens egne beregninger baseret på handicapstiatistikken ved Danmarks Statistik."}]
[]
[]
[]
[null,"Figur 4.2: Udvikling i andelen af borgere, der modtager socialpædagogisk støtte"]
[null,null,null,null,null,null,null,null,null,null,"Benyt, slet eller erstat gerne følgende tekst til beskrivelse af udviklingen over tid for det pågældende nøgletal. Beskrivelsen vil blive indsat i rapporten (skriv maks 10 linjer):"]
[]
[]
[]
[]
[]
[]
[]
[]
[]
[]
[]
[]
[]
[]
[]
[]
[]
[]
[]
[]
[null,{"$f":"RegNøgletal!B58","v":"Anm.: Hvis nøgletallet er angivet med * er der foretaget en diskretionering af data, da der er for få observationer. N angiver målgruppestørrelsen, som er alle borgere registreret med \"Sindslidelse\" i indberetningen til Danmarks Statistik."}]
[null,{"$f":"RegNøgletal!B59","v":"Kilde: Social- og Boligstyrelsens egne beregninger baseret på handicapstiatistikken ved Danmarks Statistik."}]
[]
[]
[]
[null,"Tabel 4.2: Udvikling i andelen af borgere, der modtager socialpædagogisk støtte"]
[null,null,{"$f":"Skyggetabeller!C$11","v":"2018-01-01"},{"$f":"Skyggetabeller!D$11","v":"2018-07-01"},{"$f":"Skyggetabeller!E$11","v":"2019-01-01"},{"$f":"Skyggetabeller!F$11","v":"2019-07-01"},{"$f":"Skyggetabeller!G$11","v":"2020-01-01"},{"$f":"Skyggetabeller!H$11","v":"2020-07-01"},{"$f":"Skyggetabeller!I$11","v":"2021-01-01"},{"$f":"Skyggetabeller!J$11","v":"2021-07-01"},{"$f":"Skyggetabeller!K$11","v":"2022-01-01"},{"$f":"Skyggetabeller!L$11","v":"2022-07-01"},{"$f":"Skyggetabeller!M$11","v":"2023-01-01"}]
[null,{"$f":"Kommune","v":"Herning"}]
[null,"Andel",{"$f":"Skyggetabeller!C72","v":0.71851851851851856},{"$f":"Skyggetabeller!D72","v":0.72481572481572487},{"$f":"Skyggetabeller!E72","v":0.70769230769230773},{"$f":"Skyggetabeller!F72","v":0.68983957219251335},{"$f":"Skyggetabeller!G72","v":0.68595041322314054},{"$f":"Skyggetabeller!H72","v":0.68407310704960833},{"$f":"Skyggetabeller!I72","v":0.69170984455958551},{"$f":"Skyggetabeller!J72","v":0.71611253196930946},{"$f":"Skyggetabeller!K72","v":0.71801566579634468},{"$f":"Skyggetabeller!L72","v":0.68219178082191778},{"$f":"Skyggetabeller!M72","v":0.68611111111111112}]
[null,"N",{"$f":"Skyggetabeller!C76","v":405},{"$f":"Skyggetabeller!D76","v":407},{"$f":"Skyggetabeller!E76","v":390},{"$f":"Skyggetabeller!F76","v":374},{"$f":"Skyggetabeller!G76","v":363},{"$f":"Skyggetabeller!H76","v":383},{"$f":"Skyggetabeller!I76","v":386},{"$f":"Skyggetabeller!J76","v":391},{"$f":"Skyggetabeller!K76","v":383},{"$f":"Skyggetabeller!L76","v":365},{"$f":"Skyggetabeller!M76","v":360}]
[null,"Sammenligningskommuner"]
[null,"Andel",{"$f":"Skyggetabeller!C73","v":0.54545454545454541},{"$f":"Skyggetabeller!D73","v":0.51592356687898089},{"$f":"Skyggetabeller!E73","v":0.54132231404958675},{"$f":"Skyggetabeller!F73","v":0.55714285714285716},{"$f":"Skyggetabeller!G73","v":0.55852156057494862},{"$f":"Skyggetabeller!H73","v":0.57520325203252032},{"$f":"Skyggetabeller!I73","v":0.58064516129032262},{"$f":"Skyggetabeller!J73","v":0.59108527131782951},{"$f":"Skyggetabeller!K73","v":0.59652509652509655},{"$f":"Skyggetabeller!L73","v":0.59652509652509655},{"$f":"Skyggetabeller!M73","v":0.59652509652509655}]
[null,"N",{"$f":"Skyggetabeller!C77","v":495},{"$f":"Skyggetabeller!D77","v":471},{"$f":"Skyggetabeller!E77","v":484},{"$f":"Skyggetabeller!F77","v":490},{"$f":"Skyggetabeller!G77","v":487},{"$f":"Skyggetabeller!H77","v":492},{"$f":"Skyggetabeller!I77","v":496},{"$f":"Skyggetabeller!J77","v":516},{"$f":"Skyggetabeller!K77","v":518},{"$f":"Skyggetabeller!L77","v":518},{"$f":"Skyggetabeller!M77","v":518}]
[null,"Landsgennemsnit"]
[null,"Andel",{"$f":"Skyggetabeller!C74","v":0.65921999242711093},{"$f":"Skyggetabeller!D74","v":0.65653153153153154},{"$f":"Skyggetabeller!E74","v":0.64844627480344441},{"$f":"Skyggetabeller!F74","v":0.64175741644761553},{"$f":"Skyggetabeller!G74","v":0.63540885221305321},{"$f":"Skyggetabeller!H74","v":0.6272897196261682},{"$f":"Skyggetabeller!I74","v":0.6224602881418545},{"$f":"Skyggetabeller!J74","v":0.62806888970318797},{"$f":"Skyggetabeller!K74","v":0.63024602026049203},{"$f":"Skyggetabeller!L74","v":0.63063707945597713},{"$f":"Skyggetabeller!M74","v":0.62726949092203632}]
[null,"N",{"$f":"Skyggetabeller!C78","v":26410},{"$f":"Skyggetabeller!D78","v":26640},{"$f":"Skyggetabeller!E78","v":26710},{"$f":"Skyggetabeller!F78","v":26630},{"$f":"Skyggetabeller!G78","v":26660},{"$f":"Skyggetabeller!H78","v":26750},{"$f":"Skyggetabeller!I78","v":27070},{"$f":"Skyggetabeller!J78","v":27290},{"$f":"Skyggetabeller!K78","v":27640},{"$f":"Skyggetabeller!L78","v":27940},{"$f":"Skyggetabeller!M78","v":28090}]
[null,{"$f":"IF('Dine valg'!$G$24=\"\",\"Ingen sammenligningsgruppe valgt.\",\"Valgte kommuner i sammenligningsgruppen: \"&'Dine valg'!$G$24&\" \"&'Dine valg'!$G$25&\" \"&'Dine valg'!$G$26&\" \"&'Dine valg'!$G$27&\" \"&'Dine valg'!$G$28&\" \"&'Dine valg'!$G$29&\" \"&'Dine valg'!$G$30)","v":"Valgte kommuner i sammenligningsgruppen: Allerød Assens Ballerup    "}]
[null,{"$f":"RegNøgletal!B58","v":"Anm.: Hvis nøgletallet er angivet med * er der foretaget en diskretionering af data, da der er for få observationer. N angiver målgruppestørrelsen, som er alle borgere registreret med \"Sindslidelse\" i indberetningen til Danmarks Statistik."}]
[null,{"$f":"RegNøgletal!B59","v":"Kilde: Social- og Boligstyrelsens egne beregninger baseret på handicapstiatistikken ved Danmarks Statistik."}]
[]
[]
[]
[null,"Nøgletal 5: Modtagere af beskyttet beskæftigelse og aktivitets- og samværstilbud"]
[]
[null,{"$f":"\"Figur 5.1: Udvikling i antal modtagere af beskyttet beskæftigelse og aktivitets- og samværstilbud i \"&Kommune","v":"Figur 5.1: Udvikling i antal modtagere af beskyttet beskæftigelse og aktivitets- og samværstilbud i Herning"}]
[]
[]
[]
[]
[]
[]
[]
[]
[]
[]
[]
[]
[]
[]
[]
[]
[]
[]
[]
[]
[]
[]
[]
[null,{"$f":"RegNøgletal!B71","v":"Anm.: Hvis nøgletallet er angivet med * er der foretaget en diskretionering af data, da der er for få observationer. N angiver målgruppestørrelsen, som er alle borgere registreret med \"Sindslidelse\" i indberetningen til Danmarks Statistik."}]
[null,{"$f":"RegNøgletal!B72","v":"Kilde: Social- og Boligstyrelsens egne beregninger baseret på handicapstiatistikken ved Danmarks Statistik."}]
[]
[]
[]
[null,{"$f":"\"Tabel 5.1: Udvikling i antal modtagere af beskyttet beskæftigelse og aktivitets- og samværstilbud i \"&Kommune","v":"Tabel 5.1: Udvikling i antal modtagere af beskyttet beskæftigelse og aktivitets- og samværstilbud i Herning"}]
[]
[null,null,{"$f":"Skyggetabeller!C$11","v":"2018-01-01"},{"$f":"Skyggetabeller!D$11","v":"2018-07-01"},{"$f":"Skyggetabeller!E$11","v":"2019-01-01"},{"$f":"Skyggetabeller!F$11","v":"2019-07-01"},{"$f":"Skyggetabeller!G$11","v":"2020-01-01"},{"$f":"Skyggetabeller!H$11","v":"2020-07-01"},{"$f":"Skyggetabeller!I$11","v":"2021-01-01"},{"$f":"Skyggetabeller!J$11","v":"2021-07-01"},{"$f":"Skyggetabeller!K$11","v":"2022-01-01"},{"$f":"Skyggetabeller!L$11","v":"2022-07-01"},{"$f":"Skyggetabeller!M$11","v":"2023-01-01"}]
[null,"Antal modtagere",{"$f":"RegNøgletal!D69","v":10},{"$f":"RegNøgletal!E69","v":11},{"$f":"RegNøgletal!F69","v":10},{"$f":"RegNøgletal!G69","v":10},{"$f":"RegNøgletal!H69","v":9},{"$f":"RegNøgletal!I69","v":11},{"$f":"RegNøgletal!J69","v":12},{"$f":"RegNøgletal!K69","v":12},{"$f":"RegNøgletal!L69","v":9},{"$f":"RegNøgletal!M69","v":10},{"$f":"RegNøgletal!N69","v":8}]
[null,{"$f":"RegNøgletal!B71","v":"Anm.: Hvis nøgletallet er angivet med * er der foretaget en diskretionering af data, da der er for få observationer. N angiver målgruppestørrelsen, som er alle borgere registreret med \"Sindslidelse\" i indberetningen til Danmarks Statistik."}]
[null,{"$f":"RegNøgletal!B72","v":"Kilde: Social- og Boligstyrelsens egne beregninger baseret på handicapstiatistikken ved Danmarks Statistik."}]
[]
[]
[]
[null,"Figur 5.2: Udvikling i andelen af borgere, der modtager beskyttet beskæftigelse og aktivitets- og samværstilbud"]
[null,null,null,null,null,null,null,null,null,null,"Benyt, slet eller erstat gerne følgende tekst til beskrivelse af udviklingen over tid for det pågældende nøgletal. Beskrivelsen vil blive indsat i rapporten (skriv maks 10 linjer):"]
[]
[]
[]
[]
[]
[]
[]
[]
[]
[]
[]
[]
[]
[]
[]
[]
[]
[]
[]
[]
[]
[]
[null,{"$f":"RegNøgletal!B71","v":"Anm.: Hvis nøgletallet er angivet med * er der foretaget en diskretionering af data, da der er for få observationer. N angiver målgruppestørrelsen, som er alle borgere registreret med \"Sindslidelse\" i indberetningen til Danmarks Statistik."}]
[null,{"$f":"RegNøgletal!B72","v":"Kilde: Social- og Boligstyrelsens egne beregninger baseret på handicapstiatistikken ved Danmarks Statistik."}]
[]
[]
[]
[null,"Tabel 5.2: Udvikling i andelen af borgere, der modtager beskyttet beskæftigelse og aktivitets- og samværstilbud"]
[]
[null,null,{"$f":"Skyggetabeller!C$11","v":"2018-01-01"},{"$f":"Skyggetabeller!D$11","v":"2018-07-01"},{"$f":"Skyggetabeller!E$11","v":"2019-01-01"},{"$f":"Skyggetabeller!F$11","v":"2019-07-01"},{"$f":"Skyggetabeller!G$11","v":"2020-01-01"},{"$f":"Skyggetabeller!H$11","v":"2020-07-01"},{"$f":"Skyggetabeller!I$11","v":"2021-01-01"},{"$f":"Skyggetabeller!J$11","v":"2021-07-01"},{"$f":"Skyggetabeller!K$11","v":"2022-01-01"},{"$f":"Skyggetabeller!L$11","v":"2022-07-01"},{"$f":"Skyggetabeller!M$11","v":"2023-01-01"}]
[null,{"$f":"Kommune","v":"Herning"}]
[null,"Andel",{"$f":"Skyggetabeller!C88","v":2.4691358024691357E-2},{"$f":"Skyggetabeller!D88","v":2.7027027027027029E-2},{"$f":"Skyggetabeller!E88","v":2.564102564102564E-2},{"$f":"Skyggetabeller!F88","v":2.6737967914438502E-2},{"$f":"Skyggetabeller!G88","v":2.4793388429752067E-2},{"$f":"Skyggetabeller!H88","v":2.8720626631853787E-2},{"$f":"Skyggetabeller!I88","v":3.1088082901554404E-2},{"$f":"Skyggetabeller!J88","v":3.0690537084398978E-2},{"$f":"Skyggetabeller!K88","v":2.3498694516971279E-2},{"$f":"Skyggetabeller!L88","v":2.7397260273972601E-2},{"$f":"Skyggetabeller!M88","v":2.2222222222222223E-2}]
[null,"N",{"$f":"Skyggetabeller!C92","v":405},{"$f":"Skyggetabeller!D92","v":407},{"$f":"Skyggetabeller!E92","v":390},{"$f":"Skyggetabeller!F92","v":374},{"$f":"Skyggetabeller!G92","v":363},{"$f":"Skyggetabeller!H92","v":383},{"$f":"Skyggetabeller!I92","v":386},{"$f":"Skyggetabeller!J92","v":391},{"$f":"Skyggetabeller!K92","v":383},{"$f":"Skyggetabeller!L92","v":365},{"$f":"Skyggetabeller!M92","v":360}]
[null,"Sammenligningskommuner"]
[null,"Andel",{"$f":"Skyggetabeller!C89","v":0},{"$f":"Skyggetabeller!D89","v":0.11464968152866242},{"$f":"Skyggetabeller!E89","v":0.10743801652892562},{"$f":"Skyggetabeller!F89","v":0.14081632653061224},{"$f":"Skyggetabeller!G89","v":0.13347022587268995},{"$f":"Skyggetabeller!H89","v":0.1016260162601626},{"$f":"Skyggetabeller!I89","v":9.8790322580645157E-2},{"$f":"Skyggetabeller!J89","v":9.1085271317829453E-2},{"$f":"Skyggetabeller!K89","v":8.8803088803088806E-2},{"$f":"Skyggetabeller!L89","v":8.8803088803088806E-2},{"$f":"Skyggetabeller!M89","v":8.8803088803088806E-2}]
[null,"N",{"$f":"Skyggetabeller!C93","v":495},{"$f":"Skyggetabeller!D93","v":471},{"$f":"Skyggetabeller!E93","v":484},{"$f":"Skyggetabeller!F93","v":490},{"$f":"Skyggetabeller!G93","v":487},{"$f":"Skyggetabeller!H93","v":492},{"$f":"Skyggetabeller!I93","v":496},{"$f":"Skyggetabeller!J93","v":516},{"$f":"Skyggetabeller!K93","v":518},{"$f":"Skyggetabeller!L93","v":518},{"$f":"Skyggetabeller!M93","v":518}]
[null,"Landsgennemsnit"]
[null,"Andel",{"$f":"Skyggetabeller!C90","v":6.7777357061719043E-2},{"$f":"Skyggetabeller!D90","v":6.5315315315315314E-2},{"$f":"Skyggetabeller!E90","v":6.4769749157618864E-2},{"$f":"Skyggetabeller!F90","v":6.3086744273375892E-2},{"$f":"Skyggetabeller!G90","v":6.4141035258814705E-2},{"$f":"Skyggetabeller!H90","v":6.0934579439252338E-2},{"$f":"Skyggetabeller!I90","v":6.1322497229405248E-2},{"$f":"Skyggetabeller!J90","v":6.0461707585196041E-2},{"$f":"Skyggetabeller!K90","v":5.8610709117221417E-2},{"$f":"Skyggetabeller!L90","v":5.833929849677881E-2},{"$f":"Skyggetabeller!M90","v":5.8739765040939834E-2}]
[null,"N",{"$f":"Skyggetabeller!C94","v":26410},{"$f":"Skyggetabeller!D94","v":26640},{"$f":"Skyggetabeller!E94","v":26710},{"$f":"Skyggetabeller!F94","v":26630},{"$f":"Skyggetabeller!G94","v":26660},{"$f":"Skyggetabeller!H94","v":26750},{"$f":"Skyggetabeller!I94","v":27070},{"$f":"Skyggetabeller!J94","v":27290},{"$f":"Skyggetabeller!K94","v":27640},{"$f":"Skyggetabeller!L94","v":27940},{"$f":"Skyggetabeller!M94","v":28090}]
[null,{"$f":"IF('Dine valg'!$G$24=\"\",\"Ingen sammenligningsgruppe valgt.\",\"Valgte kommuner i sammenligningsgruppen: \"&'Dine valg'!$G$24&\" \"&'Dine valg'!$G$25&\" \"&'Dine valg'!$G$26&\" \"&'Dine valg'!$G$27&\" \"&'Dine valg'!$G$28&\" \"&'Dine valg'!$G$29&\" \"&'Dine valg'!$G$30)","v":"Valgte kommuner i sammenligningsgruppen: Allerød Assens Ballerup    "}]
[null,{"$f":"RegNøgletal!B71","v":"Anm.: Hvis nøgletallet er angivet med * er der foretaget en diskretionering af data, da der er for få observationer. N angiver målgruppestørrelsen, som er alle borgere registreret med \"Sindslidelse\" i indberetningen til Danmarks Statistik."}]
[null,{"$f":"RegNøgletal!B72","v":"Kilde: Social- og Boligstyrelsens egne beregninger baseret på handicapstiatistikken ved Danmarks Statistik."}]
[]
[]
[]
[null,"Nøgletal 6: Modtagere af forebyggende indsatser"]
[]
[null,{"$f":"\"Figur 6.1: Udvikling i antal modtagere af forebyggende indsatser i \"&Kommune","v":"Figur 6.1: Udvikling i antal modtagere af forebyggende indsatser i Herning"}]
[]
[]
[]
[]
[]
[]
[]
[]
[]
[]
[]
[]
[]
[]
[]
[]
[]
[]
[]
[]
[]
[]
[]
[null,{"$f":"RegNøgletal!B83","v":"Anm.: Hvis nøgletallet er angivet med * er der foretaget en diskretionering af data, da der er for få observationer. N angiver målgruppestørrelsen, som er alle borgere registreret med \"Sindslidelse\" i indberetningen til Danmarks Statistik. Ydelser efter servicelovens § 82 er først blevet indberetningspligtig pr. 1/7-2020."}]
[null,{"$f":"RegNøgletal!B84","v":"Kilde: Social- og Boligstyrelsens egne beregninger baseret på handicapstiatistikken ved Danmarks Statistik."}]
[]
[]
[]
[null,{"$f":"\"Tabel 6.1: Udvikling i antal modtagere af forebyggende indsatser i \"&Kommune","v":"Tabel 6.1: Udvikling i antal modtagere af forebyggende indsatser i Herning"}]
[]
[null,null,{"$f":"Skyggetabeller!C$11","v":"2018-01-01"},{"$f":"Skyggetabeller!D$11","v":"2018-07-01"},{"$f":"Skyggetabeller!E$11","v":"2019-01-01"},{"$f":"Skyggetabeller!F$11","v":"2019-07-01"},{"$f":"Skyggetabeller!G$11","v":"2020-01-01"},{"$f":"Skyggetabeller!H$11","v":"2020-07-01"},{"$f":"Skyggetabeller!I$11","v":"2021-01-01"},{"$f":"Skyggetabeller!J$11","v":"2021-07-01"},{"$f":"Skyggetabeller!K$11","v":"2022-01-01"},{"$f":"Skyggetabeller!L$11","v":"2022-07-01"},{"$f":"Skyggetabeller!M$11","v":"2023-01-01"}]
[null,"Antal modtagere",{"$f":"RegNøgletal!D81","v":0},{"$f":"RegNøgletal!E81","v":0},{"$f":"RegNøgletal!F81","v":0},{"$f":"RegNøgletal!G81","v":0},{"$f":"RegNøgletal!H81","v":"*"},{"$f":"RegNøgletal!I81","v":13},{"$f":"RegNøgletal!J81","v":17},{"$f":"RegNøgletal!K81","v":16},{"$f":"RegNøgletal!L81","v":19},{"$f":"RegNøgletal!M81","v":28},{"$f":"RegNøgletal!N81","v":31}]
[null,{"$f":"RegNøgletal!B83","v":"Anm.: Hvis nøgletallet er angivet med * er der foretaget en diskretionering af data, da der er for få observationer. N angiver målgruppestørrelsen, som er alle borgere registreret med \"Sindslidelse\" i indberetningen til Danmarks Statistik. Ydelser efter servicelovens § 82 er først blevet indberetningspligtig pr. 1/7-2020."}]
[null,{"$f":"RegNøgletal!B84","v":"Kilde: Social- og Boligstyrelsens egne beregninger baseret på handicapstiatistikken ved Danmarks Statistik."}]
[]
[]
[]
[null,"Figur 6.2: Udvikling i andelen af borgere, der modtager forebyggende indsatser"]
[null,null,null,null,null,null,null,null,null,null,"Benyt, slet eller erstat gerne følgende tekst til beskrivelse af udviklingen over tid for det pågældende nøgletal. Beskrivelsen vil blive indsat i rapporten (skriv maks 10 linjer):"]
[]
[]
[]
[]
[]
[]
[]
[]
[]
[]
[]
[]
[]
[]
[]
[]
[]
[]
[]
[]
[]
[null,{"$f":"RegNøgletal!B83","v":"Anm.: Hvis nøgletallet er angivet med * er der foretaget en diskretionering af data, da der er for få observationer. N angiver målgruppestørrelsen, som er alle borgere registreret med \"Sindslidelse\" i indberetningen til Danmarks Statistik. Ydelser efter servicelovens § 82 er først blevet indberetningspligtig pr. 1/7-2020."}]
[null,{"$f":"RegNøgletal!B84","v":"Kilde: Social- og Boligstyrelsens egne beregninger baseret på handicapstiatistikken ved Danmarks Statistik."}]
[]
[]
[]
[null,"Tabel 6.2: Udvikling i andelen af borgere, der modtager forebyggende indsatser"]
[]
[null,null,{"$f":"Skyggetabeller!C$11","v":"2018-01-01"},{"$f":"Skyggetabeller!D$11","v":"2018-07-01"},{"$f":"Skyggetabeller!E$11","v":"2019-01-01"},{"$f":"Skyggetabeller!F$11","v":"2019-07-01"},{"$f":"Skyggetabeller!G$11","v":"2020-01-01"},{"$f":"Skyggetabeller!H$11","v":"2020-07-01"},{"$f":"Skyggetabeller!I$11","v":"2021-01-01"},{"$f":"Skyggetabeller!J$11","v":"2021-07-01"},{"$f":"Skyggetabeller!K$11","v":"2022-01-01"},{"$f":"Skyggetabeller!L$11","v":"2022-07-01"},{"$f":"Skyggetabeller!M$11","v":"2023-01-01"}]
[null,{"$f":"Kommune","v":"Herning"}]
[null,"Andel",{"$f":"Skyggetabeller!C104","v":0},{"$f":"Skyggetabeller!D104","v":0},{"$f":"Skyggetabeller!E104","v":0},{"$f":"Skyggetabeller!F104","v":0},{"$f":"Skyggetabeller!G104","v":"*"},{"$f":"Skyggetabeller!H104","v":3.3942558746736295E-2},{"$f":"Skyggetabeller!I104","v":4.4041450777202069E-2},{"$f":"Skyggetabeller!J104","v":4.0920716112531973E-2},{"$f":"Skyggetabeller!K104","v":4.960835509138381E-2},{"$f":"Skyggetabeller!L104","v":7.6712328767123292E-2},{"$f":"Skyggetabeller!M104","v":8.611111111111111E-2}]
[null,"N",{"$f":"Skyggetabeller!C108","v":405},{"$f":"Skyggetabeller!D108","v":407},{"$f":"Skyggetabeller!E108","v":390},{"$f":"Skyggetabeller!F108","v":374},{"$f":"Skyggetabeller!G108","v":363},{"$f":"Skyggetabeller!H108","v":383},{"$f":"Skyggetabeller!I108","v":386},{"$f":"Skyggetabeller!J108","v":391},{"$f":"Skyggetabeller!K108","v":383},{"$f":"Skyggetabeller!L108","v":365},{"$f":"Skyggetabeller!M108","v":360}]
[null,"Sammenligningskommuner"]
[null,"Andel",{"$f":"Skyggetabeller!C105","v":0},{"$f":"Skyggetabeller!D105","v":0},{"$f":"Skyggetabeller!E105","v":0},{"$f":"Skyggetabeller!F105","v":0},{"$f":"Skyggetabeller!G105","v":0},{"$f":"Skyggetabeller!H105","v":0},{"$f":"Skyggetabeller!I105","v":0},{"$f":"Skyggetabeller!J105","v":0},{"$f":"Skyggetabeller!K105","v":0},{"$f":"Skyggetabeller!L105","v":0},{"$f":"Skyggetabeller!M105","v":0}]
[null,"N",{"$f":"Skyggetabeller!C109","v":495},{"$f":"Skyggetabeller!D109","v":471},{"$f":"Skyggetabeller!E109","v":484},{"$f":"Skyggetabeller!F109","v":490},{"$f":"Skyggetabeller!G109","v":487},{"$f":"Skyggetabeller!H109","v":492},{"$f":"Skyggetabeller!I109","v":496},{"$f":"Skyggetabeller!J109","v":516},{"$f":"Skyggetabeller!K109","v":518},{"$f":"Skyggetabeller!L109","v":518},{"$f":"Skyggetabeller!M109","v":518}]
[null,"Landsgennemsnit"]
[null,"Andel",{"$f":"Skyggetabeller!C106","v":0},{"$f":"Skyggetabeller!D106","v":3.3783783783783786E-3},{"$f":"Skyggetabeller!E106","v":8.9853987270685134E-3},{"$f":"Skyggetabeller!F106","v":1.6147202403304545E-2},{"$f":"Skyggetabeller!G106","v":2.288072018004501E-2},{"$f":"Skyggetabeller!H106","v":3.4018691588785045E-2},{"$f":"Skyggetabeller!I106","v":"*"},{"$f":"Skyggetabeller!J106","v":"*"},{"$f":"Skyggetabeller!K106","v":"*"},{"$f":"Skyggetabeller!L106","v":"*"},{"$f":"Skyggetabeller!M106","v":"*"}]
[null,"N",{"$f":"Skyggetabeller!C110","v":26410},{"$f":"Skyggetabeller!D110","v":26640},{"$f":"Skyggetabeller!E110","v":26710},{"$f":"Skyggetabeller!F110","v":26630},{"$f":"Skyggetabeller!G110","v":26660},{"$f":"Skyggetabeller!H110","v":26750},{"$f":"Skyggetabeller!I110","v":27070},{"$f":"Skyggetabeller!J110","v":27290},{"$f":"Skyggetabeller!K110","v":27640},{"$f":"Skyggetabeller!L110","v":27940},{"$f":"Skyggetabeller!M110","v":28090}]
[null,{"$f":"IF('Dine valg'!$G$24=\"\",\"Ingen sammenligningsgruppe valgt.\",\"Valgte kommuner i sammenligningsgruppen: \"&'Dine valg'!$G$24&\" \"&'Dine valg'!$G$25&\" \"&'Dine valg'!$G$26&\" \"&'Dine valg'!$G$27&\" \"&'Dine valg'!$G$28&\" \"&'Dine valg'!$G$29&\" \"&'Dine valg'!$G$30)","v":"Valgte kommuner i sammenligningsgruppen: Allerød Assens Ballerup    "}]
[null,{"$f":"RegNøgletal!B83","v":"Anm.: Hvis nøgletallet er angivet med * er der foretaget en diskretionering af data, da der er for få observationer. N angiver målgruppestørrelsen, som er alle borgere registreret med \"Sindslidelse\" i indberetningen til Danmarks Statistik. Ydelser efter servicelovens § 82 er først blevet indberetningspligtig pr. 1/7-2020."}]
[null,{"$f":"RegNøgletal!B84","v":"Kilde: Social- og Boligstyrelsens egne beregninger baseret på handicapstiatistikken ved Danmarks Statistik."}]
[]
[]
[]
[null,"Nøgletal 7: Flytninger fra botilbud"]
[]
[null,{"$f":"\"Figur 7.1: Udvikling i antal flytninger fra botilbud i \"&Kommune","v":"Figur 7.1: Udvikling i antal flytninger fra botilbud i Herning"}]
[]
[]
[]
[]
[]
[]
[]
[]
[]
[]
[]
[]
[]
[]
[]
[]
[]
[]
[]
[]
[]
[]
[]
[null,{"$f":"RegNøgletal!$B$95","v":"Anm.: Hvis nøgletallet er angivet med * er der foretaget en diskretionering af data, da der er for få observationer. N angiver målgruppestørrelsen for nøgletallet. Målgruppen er borgere der ved sidste datanedslag modtog længerevarende-, midlertidigt botilbud eller botilbudslignende tilbud."}]
[null,{"$f":"RegNøgletal!$B$96","v":"Kilde: Social- og Boligstyrelsens egne beregninger baseret på handicapstiatistikken ved Danmarks Statistik."}]
[]
[]
[]
[null,{"$f":"\"Tabel 7.1: Udvikling i antal flytninger fra botilbud i \"&Kommune","v":"Tabel 7.1: Udvikling i antal flytninger fra botilbud i Herning"}]
[]
[null,null,{"$f":"Skyggetabeller!C$11","v":"2018-01-01"},{"$f":"Skyggetabeller!D$11","v":"2018-07-01"},{"$f":"Skyggetabeller!E$11","v":"2019-01-01"},{"$f":"Skyggetabeller!F$11","v":"2019-07-01"},{"$f":"Skyggetabeller!G$11","v":"2020-01-01"},{"$f":"Skyggetabeller!H$11","v":"2020-07-01"},{"$f":"Skyggetabeller!I$11","v":"2021-01-01"},{"$f":"Skyggetabeller!J$11","v":"2021-07-01"},{"$f":"Skyggetabeller!K$11","v":"2022-01-01"},{"$f":"Skyggetabeller!L$11","v":"2022-07-01"},{"$f":"Skyggetabeller!M$11","v":"2023-01-01"}]
[null,"Antal flytninger",{"$f":"RegNøgletal!D93","v":0},{"$f":"RegNøgletal!E93","v":9},{"$f":"RegNøgletal!F93","v":5},{"$f":"RegNøgletal!G93","v":8},{"$f":"RegNøgletal!H93","v":6},{"$f":"RegNøgletal!I93","v":10},{"$f":"RegNøgletal!J93","v":8},{"$f":"RegNøgletal!K93","v":6},{"$f":"RegNøgletal!L93","v":4},{"$f":"RegNøgletal!M93","v":7},{"$f":"RegNøgletal!N93","v":7}]
[null,{"$f":"RegNøgletal!$B$95","v":"Anm.: Hvis nøgletallet er angivet med * er der foretaget en diskretionering af data, da der er for få observationer. N angiver målgruppestørrelsen for nøgletallet. Målgruppen er borgere der ved sidste datanedslag modtog længerevarende-, midlertidigt botilbud eller botilbudslignende tilbud."}]
[null,{"$f":"RegNøgletal!$B$96","v":"Kilde: Social- og Boligstyrelsens egne beregninger baseret på handicapstiatistikken ved Danmarks Statistik."}]
[]
[]
[null,"Figur 7.2: Udvikling i andelen af borgere, der tidligere var på botilbud, men nu er flyttet derfra"]
[null,null,null,null,null,null,null,null,null,null,"Benyt, slet eller erstat gerne følgende tekst til beskrivelse af udviklingen over tid for det pågældende nøgletal. Beskrivelsen vil blive indsat i rapporten (skriv maks 10 linjer):"]
[]
[]
[]
[]
[]
[]
[]
[]
[]
[]
[]
[]
[]
[]
[]
[]
[]
[]
[]
[]
[]
[null,{"$f":"RegNøgletal!$B$95","v":"Anm.: Hvis nøgletallet er angivet med * er der foretaget en diskretionering af data, da der er for få observationer. N angiver målgruppestørrelsen for nøgletallet. Målgruppen er borgere der ved sidste datanedslag modtog længerevarende-, midlertidigt botilbud eller botilbudslignende tilbud."}]
[null,{"$f":"RegNøgletal!$B$96","v":"Kilde: Social- og Boligstyrelsens egne beregninger baseret på handicapstiatistikken ved Danmarks Statistik."}]
[]
[]
[]
[null,"Tabel 7.2: Udvikling i andelen af borgere, der tidligere var på botilbud, men nu er flyttet derfra"]
[]
[null,null,{"$f":"Skyggetabeller!C$11","v":"2018-01-01"},{"$f":"Skyggetabeller!D$11","v":"2018-07-01"},{"$f":"Skyggetabeller!E$11","v":"2019-01-01"},{"$f":"Skyggetabeller!F$11","v":"2019-07-01"},{"$f":"Skyggetabeller!G$11","v":"2020-01-01"},{"$f":"Skyggetabeller!H$11","v":"2020-07-01"},{"$f":"Skyggetabeller!I$11","v":"2021-01-01"},{"$f":"Skyggetabeller!J$11","v":"2021-07-01"},{"$f":"Skyggetabeller!K$11","v":"2022-01-01"},{"$f":"Skyggetabeller!L$11","v":"2022-07-01"},{"$f":"Skyggetabeller!M$11","v":"2023-01-01"}]
[null,{"$f":"Kommune","v":"Herning"}]
[null,"Andel",null,{"$f":"Skyggetabeller!D121","v":9.6774193548387094E-2},{"$f":"Skyggetabeller!E121","v":5.4945054945054944E-2},{"$f":"Skyggetabeller!F121","v":8.6021505376344093E-2},{"$f":"Skyggetabeller!G121","v":6.3829787234042548E-2},{"$f":"Skyggetabeller!H121","v":0.10638297872340426},{"$f":"Skyggetabeller!I121","v":9.0909090909090912E-2},{"$f":"Skyggetabeller!J121","v":7.2289156626506021E-2},{"$f":"Skyggetabeller!K121","v":5.0632911392405063E-2},{"$f":"Skyggetabeller!L121","v":9.0909090909090912E-2},{"$f":"Skyggetabeller!M121","v":9.5890410958904104E-2}]
[null,"N",null,{"$f":"Skyggetabeller!D125","v":93},{"$f":"Skyggetabeller!E125","v":91},{"$f":"Skyggetabeller!F125","v":93},{"$f":"Skyggetabeller!G125","v":94},{"$f":"Skyggetabeller!H125","v":94},{"$f":"Skyggetabeller!I125","v":88},{"$f":"Skyggetabeller!J125","v":83},{"$f":"Skyggetabeller!K125","v":79},{"$f":"Skyggetabeller!L125","v":77},{"$f":"Skyggetabeller!M125","v":73}]
[null,"Sammenligningskommuner"]
[null,"Andel",null,{"$f":"Skyggetabeller!D122","v":3.3557046979865772E-2},{"$f":"Skyggetabeller!E122","v":7.4324324324324328E-2},{"$f":"Skyggetabeller!F122","v":0.1095890410958904},{"$f":"Skyggetabeller!G122","v":7.1428571428571425E-2},{"$f":"Skyggetabeller!H122","v":0},{"$f":"Skyggetabeller!I122","v":7.4626865671641784E-2},{"$f":"Skyggetabeller!J122","v":7.4626865671641784E-2},{"$f":"Skyggetabeller!K122","v":7.4626865671641784E-2},{"$f":"Skyggetabeller!L122","v":7.4626865671641784E-2},{"$f":"Skyggetabeller!M122","v":7.4626865671641784E-2}]
[null,"N",null,{"$f":"Skyggetabeller!D126","v":149},{"$f":"Skyggetabeller!E126","v":148},{"$f":"Skyggetabeller!F126","v":146},{"$f":"Skyggetabeller!G126","v":126},{"$f":"Skyggetabeller!H126","v":126},{"$f":"Skyggetabeller!I126","v":134},{"$f":"Skyggetabeller!J126","v":132},{"$f":"Skyggetabeller!K126","v":152},{"$f":"Skyggetabeller!L126","v":152},{"$f":"Skyggetabeller!M126","v":152}]
[null,"Landsgennemsnit"]
[null,"Andel",null,{"$f":"Skyggetabeller!D123","v":6.1253561253561253E-2},{"$f":"Skyggetabeller!E123","v":7.4333800841514724E-2},{"$f":"Skyggetabeller!F123","v":7.8947368421052627E-2},{"$f":"Skyggetabeller!G123","v":8.5991678224687937E-2},{"$f":"Skyggetabeller!H123","v":7.37134909596662E-2},{"$f":"Skyggetabeller!I123","v":7.4999999999999997E-2},{"$f":"Skyggetabeller!J123","v":7.252440725244072E-2},{"$f":"Skyggetabeller!K123","v":7.7885952712100137E-2},{"$f":"Skyggetabeller!L123","v":7.2022160664819951E-2},{"$f":"Skyggetabeller!M123","v":6.9252077562326875E-2}]
[null,"N",null,{"$f":"Skyggetabeller!D127","v":7020},{"$f":"Skyggetabeller!E127","v":7130},{"$f":"Skyggetabeller!F127","v":7220},{"$f":"Skyggetabeller!G127","v":7210},{"$f":"Skyggetabeller!H127","v":7190},{"$f":"Skyggetabeller!I127","v":7200},{"$f":"Skyggetabeller!J127","v":7170},{"$f":"Skyggetabeller!K127","v":7190},{"$f":"Skyggetabeller!L127","v":7220},{"$f":"Skyggetabeller!M127","v":7220}]
[null,{"$f":"IF('Dine valg'!$G$24=\"\",\"Ingen sammenligningsgruppe valgt.\",\"Valgte kommuner i sammenligningsgruppen: \"&'Dine valg'!$G$24&\" \"&'Dine valg'!$G$25&\" \"&'Dine valg'!$G$26&\" \"&'Dine valg'!$G$27&\" \"&'Dine valg'!$G$28&\" \"&'Dine valg'!$G$29&\" \"&'Dine valg'!$G$30)","v":"Valgte kommuner i sammenligningsgruppen: Allerød Assens Ballerup    "}]
[null,{"$f":"RegNøgletal!B95","v":"Anm.: Hvis nøgletallet er angivet med * er der foretaget en diskretionering af data, da der er for få observationer. N angiver målgruppestørrelsen for nøgletallet. Målgruppen er borgere der ved sidste datanedslag modtog længerevarende-, midlertidigt botilbud eller botilbudslignende tilbud."}]
[null,{"$f":"RegNøgletal!B96","v":"Kilde: Social- og Boligstyrelsens egne beregninger baseret på handicapstiatistikken ved Danmarks Statistik."}]
[]
[]
[]
[null,"Nøgletal 7.1: Flytninger fra længerevarende botilbud og lignende til midlertidigt botilbud"]
[]
[null,{"$f":"\"Figur 7.1.1: Udvikling i antal flytninger fra længerevarende botilbud og lignende til midlertidigt botilbud i \"&Kommune","v":"Figur 7.1.1: Udvikling i antal flytninger fra længerevarende botilbud og lignende til midlertidigt botilbud i Herning"}]
[]
[]
[]
[]
[]
[]
[]
[]
[]
[]
[]
[]
[]
[]
[]
[]
[]
[]
[]
[]
[]
[]
[]
[null,{"$f":"RegNøgletal!$B$95","v":"Anm.: Hvis nøgletallet er angivet med * er der foretaget en diskretionering af data, da der er for få observationer. N angiver målgruppestørrelsen for nøgletallet. Målgruppen er borgere der ved sidste datanedslag modtog længerevarende-, midlertidigt botilbud eller botilbudslignende tilbud."}]
[null,{"$f":"RegNøgletal!$B$96","v":"Kilde: Social- og Boligstyrelsens egne beregninger baseret på handicapstiatistikken ved Danmarks Statistik."}]
[]
[]
[null,{"$f":"\"Tabel 7.1.1: Udvikling i antal flytninger fra længerevarende botilbud og lignende til midlertidigt botilbud i \"&Kommune","v":"Tabel 7.1.1: Udvikling i antal flytninger fra længerevarende botilbud og lignende til midlertidigt botilbud i Herning"}]
[]
[null,null,{"$f":"Skyggetabeller!C$11","v":"2018-01-01"},{"$f":"Skyggetabeller!D$11","v":"2018-07-01"},{"$f":"Skyggetabeller!E$11","v":"2019-01-01"},{"$f":"Skyggetabeller!F$11","v":"2019-07-01"},{"$f":"Skyggetabeller!G$11","v":"2020-01-01"},{"$f":"Skyggetabeller!H$11","v":"2020-07-01"},{"$f":"Skyggetabeller!I$11","v":"2021-01-01"},{"$f":"Skyggetabeller!J$11","v":"2021-07-01"},{"$f":"Skyggetabeller!K$11","v":"2022-01-01"},{"$f":"Skyggetabeller!L$11","v":"2022-07-01"},{"$f":"Skyggetabeller!M$11","v":"2023-01-01"}]
[null,"Antal flytninger",{"$f":"RegNøgletal!D104","v":0},{"$f":"RegNøgletal!E104","v":0},{"$f":"RegNøgletal!F104","v":"*"},{"$f":"RegNøgletal!G104","v":0},{"$f":"RegNøgletal!H104","v":"*"},{"$f":"RegNøgletal!I104","v":0},{"$f":"RegNøgletal!J104","v":0},{"$f":"RegNøgletal!K104","v":"*"},{"$f":"RegNøgletal!L104","v":"*"},{"$f":"RegNøgletal!M104","v":0},{"$f":"RegNøgletal!N104","v":0}]
[null,{"$f":"RegNøgletal!$B$95","v":"Anm.: Hvis nøgletallet er angivet med * er der foretaget en diskretionering af data, da der er for få observationer. N angiver målgruppestørrelsen for nøgletallet. Målgruppen er borgere der ved sidste datanedslag modtog længerevarende-, midlertidigt botilbud eller botilbudslignende tilbud."}]
[null,{"$f":"RegNøgletal!$B$96","v":"Kilde: Social- og Boligstyrelsens egne beregninger baseret på handicapstiatistikken ved Danmarks Statistik."}]
[]
[]
[null,"Figur 7.1.2: Udvikling i andelen af borgere, der er flytter fra længerevarende botilbud og lignende til midlertidigt botilbud"]
[]
[]
[]
[]
[]
[]
[]
[]
[]
[]
[]
[]
[]
[]
[]
[]
[]
[]
[]
[]
[]
[]
[null,{"$f":"RegNøgletal!$B$95","v":"Anm.: Hvis nøgletallet er angivet med * er der foretaget en diskretionering af data, da der er for få observationer. N angiver målgruppestørrelsen for nøgletallet. Målgruppen er borgere der ved sidste datanedslag modtog længerevarende-, midlertidigt botilbud eller botilbudslignende tilbud."}]
[null,{"$f":"RegNøgletal!$B$96","v":"Kilde: Social- og Boligstyrelsens egne beregninger baseret på handicapstiatistikken ved Danmarks Statistik."}]
[]
[null,"Tabel 7.1.2: Udvikling i andelen af borgere, der er flyttet fra længerevarende botilbud og lignende til midlertidigt botilbud"]
[]
[null,null,{"$f":"Skyggetabeller!C$11","v":"2018-01-01"},{"$f":"Skyggetabeller!D$11","v":"2018-07-01"},{"$f":"Skyggetabeller!E$11","v":"2019-01-01"},{"$f":"Skyggetabeller!F$11","v":"2019-07-01"},{"$f":"Skyggetabeller!G$11","v":"2020-01-01"},{"$f":"Skyggetabeller!H$11","v":"2020-07-01"},{"$f":"Skyggetabeller!I$11","v":"2021-01-01"},{"$f":"Skyggetabeller!J$11","v":"2021-07-01"},{"$f":"Skyggetabeller!K$11","v":"2022-01-01"},{"$f":"Skyggetabeller!L$11","v":"2022-07-01"},{"$f":"Skyggetabeller!M$11","v":"2023-01-01"}]
[null,{"$f":"Kommune","v":"Herning"}]
[null,"Andel",null,{"$f":"Skyggetabeller!D137","v":0},{"$f":"Skyggetabeller!E137","v":"*"},{"$f":"Skyggetabeller!F137","v":0},{"$f":"Skyggetabeller!G137","v":"*"},{"$f":"Skyggetabeller!H137","v":0},{"$f":"Skyggetabeller!I137","v":0},{"$f":"Skyggetabeller!J137","v":"*"},{"$f":"Skyggetabeller!K137","v":"*"},{"$f":"Skyggetabeller!L137","v":0},{"$f":"Skyggetabeller!M137","v":0}]
[null,"N",null,{"$f":"Skyggetabeller!D141","v":65},{"$f":"Skyggetabeller!E141","v":65},{"$f":"Skyggetabeller!F141","v":65},{"$f":"Skyggetabeller!G141","v":64},{"$f":"Skyggetabeller!H141","v":64},{"$f":"Skyggetabeller!I141","v":62},{"$f":"Skyggetabeller!J141","v":59},{"$f":"Skyggetabeller!K141","v":56},{"$f":"Skyggetabeller!L141","v":56},{"$f":"Skyggetabeller!M141","v":56}]
[null,"Sammenligningskommuner"]
[null,"Andel",null,{"$f":"Skyggetabeller!D138","v":0},{"$f":"Skyggetabeller!E138","v":0},{"$f":"Skyggetabeller!F138","v":0},{"$f":"Skyggetabeller!G138","v":0},{"$f":"Skyggetabeller!H138","v":0},{"$f":"Skyggetabeller!I138","v":0},{"$f":"Skyggetabeller!J138","v":0},{"$f":"Skyggetabeller!K138","v":0},{"$f":"Skyggetabeller!L138","v":0},{"$f":"Skyggetabeller!M138","v":0}]
[null,"N",null,{"$f":"Skyggetabeller!D142","v":88},{"$f":"Skyggetabeller!E142","v":89},{"$f":"Skyggetabeller!F142","v":85},{"$f":"Skyggetabeller!G142","v":67},{"$f":"Skyggetabeller!H142","v":68},{"$f":"Skyggetabeller!I142","v":70},{"$f":"Skyggetabeller!J142","v":84},{"$f":"Skyggetabeller!K142","v":83},{"$f":"Skyggetabeller!L142","v":83},{"$f":"Skyggetabeller!M142","v":83}]
[null,"Landsgennemsnit"]
[null,"Andel",null,{"$f":"Skyggetabeller!D139","v":2.1691973969631237E-3},{"$f":"Skyggetabeller!E139","v":2.1413276231263384E-3},{"$f":"Skyggetabeller!F139","v":2.1459227467811159E-3},{"$f":"Skyggetabeller!G139","v":2.1691973969631237E-3},{"$f":"Skyggetabeller!H139","v":2.1739130434782609E-3},{"$f":"Skyggetabeller!I139","v":2.1786492374727671E-3},{"$f":"Skyggetabeller!J139","v":4.3859649122807015E-3},{"$f":"Skyggetabeller!K139","v":2.2026431718061676E-3},{"$f":"Skyggetabeller!L139","v":2.2123893805309734E-3},{"$f":"Skyggetabeller!M139","v":2.2222222222222222E-3}]
[null,"N",null,{"$f":"Skyggetabeller!D143","v":4610},{"$f":"Skyggetabeller!E143","v":4670},{"$f":"Skyggetabeller!F143","v":4660},{"$f":"Skyggetabeller!G143","v":4610},{"$f":"Skyggetabeller!H143","v":4600},{"$f":"Skyggetabeller!I143","v":4590},{"$f":"Skyggetabeller!J143","v":4560},{"$f":"Skyggetabeller!K143","v":4540},{"$f":"Skyggetabeller!L143","v":4520},{"$f":"Skyggetabeller!M143","v":4500}]
[null,{"$f":"IF('Dine valg'!$G$24=\"\",\"Ingen sammenligningsgruppe valgt.\",\"Valgte kommuner i sammenligningsgruppen: \"&'Dine valg'!$G$24&\" \"&'Dine valg'!$G$25&\" \"&'Dine valg'!$G$26&\" \"&'Dine valg'!$G$27&\" \"&'Dine valg'!$G$28&\" \"&'Dine valg'!$G$29&\" \"&'Dine valg'!$G$30)","v":"Valgte kommuner i sammenligningsgruppen: Allerød Assens Ballerup    "}]
[null,{"$f":"RegNøgletal!B106","v":"Anm.: Hvis nøgletallet er angivet med * er der foretaget en diskretionering af data, da der er for få observationer. N angiver målgruppestørrelsen for nøgletallet. Målgruppen er borgere der ved sidste datanedslag modtog længerevarende botilbud eller botilbudslignende tilbud."}]
[null,{"$f":"RegNøgletal!B107","v":"Kilde: Social- og Boligstyrelsens egne beregninger baseret på handicapstiatistikken ved Danmarks Statistik."}]
[]
[]
[]
[null,"Nøgletal 7.2: Flytninger fra længerevarende botilbud og lignende til egen bolig"]
[]
[null,{"$f":"\"Figur 7.2.1: Udvikling i antal flytninger fra fra længerevarende botilbud og lignende til egen bolig i \"&Kommune","v":"Figur 7.2.1: Udvikling i antal flytninger fra fra længerevarende botilbud og lignende til egen bolig i Herning"}]
[]
[]
[]
[]
[]
[]
[]
[]
[]
[]
[]
[]
[]
[]
[]
[]
[]
[]
[]
[]
[]
[]
[]
[null,{"$f":"RegNøgletal!$B$95","v":"Anm.: Hvis nøgletallet er angivet med * er der foretaget en diskretionering af data, da der er for få observationer. N angiver målgruppestørrelsen for nøgletallet. Målgruppen er borgere der ved sidste datanedslag modtog længerevarende-, midlertidigt botilbud eller botilbudslignende tilbud."}]
[null,{"$f":"RegNøgletal!$B$96","v":"Kilde: Social- og Boligstyrelsens egne beregninger baseret på handicapstiatistikken ved Danmarks Statistik."}]
[]
[]
[null,{"$f":"\"Tabel 7.2.1: Udvikling i antal flytninger fra længerevarende botilbud og lignende til egen bolig i \"&Kommune","v":"Tabel 7.2.1: Udvikling i antal flytninger fra længerevarende botilbud og lignende til egen bolig i Herning"}]
[]
[null,null,{"$f":"Skyggetabeller!C$11","v":"2018-01-01"},{"$f":"Skyggetabeller!D$11","v":"2018-07-01"},{"$f":"Skyggetabeller!E$11","v":"2019-01-01"},{"$f":"Skyggetabeller!F$11","v":"2019-07-01"},{"$f":"Skyggetabeller!G$11","v":"2020-01-01"},{"$f":"Skyggetabeller!H$11","v":"2020-07-01"},{"$f":"Skyggetabeller!I$11","v":"2021-01-01"},{"$f":"Skyggetabeller!J$11","v":"2021-07-01"},{"$f":"Skyggetabeller!K$11","v":"2022-01-01"}]
[null,"Antal flytninger",null,{"$f":"RegNøgletal!E113","v":5},{"$f":"RegNøgletal!F113","v":"*"},{"$f":"RegNøgletal!G113","v":3},{"$f":"RegNøgletal!H113","v":"*"},{"$f":"RegNøgletal!I113","v":3},{"$f":"RegNøgletal!J113","v":4},{"$f":"RegNøgletal!K113","v":"*"},{"$f":"RegNøgletal!L113","v":"*"}]
[null,{"$f":"RegNøgletal!$B$95","v":"Anm.: Hvis nøgletallet er angivet med * er der foretaget en diskretionering af data, da der er for få observationer. N angiver målgruppestørrelsen for nøgletallet. Målgruppen er borgere der ved sidste datanedslag modtog længerevarende-, midlertidigt botilbud eller botilbudslignende tilbud."}]
[null,{"$f":"RegNøgletal!$B$96","v":"Kilde: Social- og Boligstyrelsens egne beregninger baseret på handicapstiatistikken ved Danmarks Statistik."}]
[]
[]
[null,"Figur 7.2.2: Udvikling i andelen af borgere, der er flyttet fra længerevarende botilbud og lignende til egen bolig"]
[]
[]
[]
[]
[]
[]
[]
[]
[]
[]
[]
[]
[]
[]
[]
[]
[]
[]
[]
[]
[]
[]
[null,{"$f":"RegNøgletal!$B$95","v":"Anm.: Hvis nøgletallet er angivet med * er der foretaget en diskretionering af data, da der er for få observationer. N angiver målgruppestørrelsen for nøgletallet. Målgruppen er borgere der ved sidste datanedslag modtog længerevarende-, midlertidigt botilbud eller botilbudslignende tilbud."}]
[null,{"$f":"RegNøgletal!$B$96","v":"Kilde: Social- og Boligstyrelsens egne beregninger baseret på handicapstiatistikken ved Danmarks Statistik."}]
[]
[null,"Tabel 7.2.2: Udvikling i andelen af borgere, der er flyttet fra længerevarende botilbud og lignende til egen bolig"]
[]
[null,null,{"$f":"Skyggetabeller!C$11","v":"2018-01-01"},{"$f":"Skyggetabeller!D$11","v":"2018-07-01"},{"$f":"Skyggetabeller!E$11","v":"2019-01-01"},{"$f":"Skyggetabeller!F$11","v":"2019-07-01"},{"$f":"Skyggetabeller!G$11","v":"2020-01-01"},{"$f":"Skyggetabeller!H$11","v":"2020-07-01"},{"$f":"Skyggetabeller!I$11","v":"2021-01-01"},{"$f":"Skyggetabeller!J$11","v":"2021-07-01"},{"$f":"Skyggetabeller!K$11","v":"2022-01-01"},{"$f":"Skyggetabeller!L$11","v":"2022-07-01"},{"$f":"Skyggetabeller!M$11","v":"2023-01-01"}]
[null,{"$f":"Kommune","v":"Herning"}]
[null,"Andel",null,{"$f":"Skyggetabeller!D153","v":7.6923076923076927E-2},{"$f":"Skyggetabeller!E153","v":"*"},{"$f":"Skyggetabeller!F153","v":4.6153846153846156E-2},{"$f":"Skyggetabeller!G153","v":"*"},{"$f":"Skyggetabeller!H153","v":4.6875E-2},{"$f":"Skyggetabeller!I153","v":6.4516129032258063E-2},{"$f":"Skyggetabeller!J153","v":"*"},{"$f":"Skyggetabeller!K153","v":"*"},{"$f":"Skyggetabeller!L153","v":5.3571428571428568E-2},{"$f":"Skyggetabeller!M153","v":7.1428571428571425E-2}]
[null,"N",null,{"$f":"Skyggetabeller!D157","v":65},{"$f":"Skyggetabeller!E157","v":65},{"$f":"Skyggetabeller!F157","v":65},{"$f":"Skyggetabeller!G157","v":64},{"$f":"Skyggetabeller!H157","v":64},{"$f":"Skyggetabeller!I157","v":62},{"$f":"Skyggetabeller!J157","v":59},{"$f":"Skyggetabeller!K157","v":56},{"$f":"Skyggetabeller!L157","v":56},{"$f":"Skyggetabeller!M157","v":56}]
[null,"Sammenligningskommuner"]
[null,"Andel",null,{"$f":"Skyggetabeller!D154","v":0},{"$f":"Skyggetabeller!E154","v":0},{"$f":"Skyggetabeller!F154","v":0.10588235294117647},{"$f":"Skyggetabeller!G154","v":0},{"$f":"Skyggetabeller!H154","v":0},{"$f":"Skyggetabeller!I154","v":0},{"$f":"Skyggetabeller!J154","v":0},{"$f":"Skyggetabeller!K154","v":0},{"$f":"Skyggetabeller!L154","v":0},{"$f":"Skyggetabeller!M154","v":0}]
[null,"N",null,{"$f":"Skyggetabeller!D158","v":88},{"$f":"Skyggetabeller!E158","v":89},{"$f":"Skyggetabeller!F158","v":85},{"$f":"Skyggetabeller!G158","v":67},{"$f":"Skyggetabeller!H158","v":68},{"$f":"Skyggetabeller!I158","v":70},{"$f":"Skyggetabeller!J158","v":84},{"$f":"Skyggetabeller!K158","v":83},{"$f":"Skyggetabeller!L158","v":83},{"$f":"Skyggetabeller!M158","v":83}]
[null,"Landsgennemsnit"]
[null,"Andel",null,{"$f":"Skyggetabeller!D155","v":4.1214750542299353E-2},{"$f":"Skyggetabeller!E155","v":5.1391862955032119E-2},{"$f":"Skyggetabeller!F155","v":5.1502145922746781E-2},{"$f":"Skyggetabeller!G155","v":5.4229934924078092E-2},{"$f":"Skyggetabeller!H155","v":4.3478260869565216E-2},{"$f":"Skyggetabeller!I155","v":4.5751633986928102E-2},{"$f":"Skyggetabeller!J155","v":4.6052631578947366E-2},{"$f":"Skyggetabeller!K155","v":5.2863436123348019E-2},{"$f":"Skyggetabeller!L155","v":5.0884955752212392E-2},{"$f":"Skyggetabeller!M155","v":4.4444444444444446E-2}]
[null,"N",null,{"$f":"Skyggetabeller!D159","v":4610},{"$f":"Skyggetabeller!E159","v":4670},{"$f":"Skyggetabeller!F159","v":4660},{"$f":"Skyggetabeller!G159","v":4610},{"$f":"Skyggetabeller!H159","v":4600},{"$f":"Skyggetabeller!I159","v":4590},{"$f":"Skyggetabeller!J159","v":4560},{"$f":"Skyggetabeller!K159","v":4540},{"$f":"Skyggetabeller!L159","v":4520},{"$f":"Skyggetabeller!M159","v":4500}]
[null,{"$f":"IF('Dine valg'!$G$24=\"\",\"Ingen sammenligningsgruppe valgt.\",\"Valgte kommuner i sammenligningsgruppen: \"&'Dine valg'!$G$24&\" \"&'Dine valg'!$G$25&\" \"&'Dine valg'!$G$26&\" \"&'Dine valg'!$G$27&\" \"&'Dine valg'!$G$28&\" \"&'Dine valg'!$G$29&\" \"&'Dine valg'!$G$30)","v":"Valgte kommuner i sammenligningsgruppen: Allerød Assens Ballerup    "}]
[null,{"$f":"RegNøgletal!B115","v":"Anm.: Hvis nøgletallet er angivet med * er der foretaget en diskretionering af data, da der er for få observationer. N angiver målgruppestørrelsen for nøgletallet. Målgruppen er borgere der ved sidste datanedslag modtog længerevarende botilbud eller botilbudslignende tilbud."}]
[null,{"$f":"RegNøgletal!B116","v":"Kilde: Social- og Boligstyrelsens egne beregninger baseret på handicapstiatistikken ved Danmarks Statistik."}]
[]
[]
[]
[null,"Nøgletal 7.3: Flytninger fra midlertidigt botilbud til egen bolig"]
[]
[null,{"$f":"\"Figur 7.3.1: Udvikling i antal flytninger fra midlertidigt botilbud til egen bolig i \"&Kommune","v":"Figur 7.3.1: Udvikling i antal flytninger fra midlertidigt botilbud til egen bolig i Herning"}]
[]
[]
[]
[]
[]
[]
[]
[]
[]
[]
[]
[]
[]
[]
[]
[]
[]
[]
[]
[]
[]
[]
[]
[null,{"$f":"RegNøgletal!$B$95","v":"Anm.: Hvis nøgletallet er angivet med * er der foretaget en diskretionering af data, da der er for få observationer. N angiver målgruppestørrelsen for nøgletallet. Målgruppen er borgere der ved sidste datanedslag modtog længerevarende-, midlertidigt botilbud eller botilbudslignende tilbud."}]
[null,{"$f":"RegNøgletal!$B$96","v":"Kilde: Social- og Boligstyrelsens egne beregninger baseret på handicapstiatistikken ved Danmarks Statistik."}]
[]
[]
[null,{"$f":"\"Tabel 7.3.1: Udvikling i antal flytninger fra midlertidigt botilbud til egen bolig i \"&Kommune","v":"Tabel 7.3.1: Udvikling i antal flytninger fra midlertidigt botilbud til egen bolig i Herning"}]
[]
[null,null,{"$f":"Skyggetabeller!C$11","v":"2018-01-01"},{"$f":"Skyggetabeller!D$11","v":"2018-07-01"},{"$f":"Skyggetabeller!E$11","v":"2019-01-01"},{"$f":"Skyggetabeller!F$11","v":"2019-07-01"},{"$f":"Skyggetabeller!G$11","v":"2020-01-01"},{"$f":"Skyggetabeller!H$11","v":"2020-07-01"},{"$f":"Skyggetabeller!I$11","v":"2021-01-01"},{"$f":"Skyggetabeller!J$11","v":"2021-07-01"},{"$f":"Skyggetabeller!K$11","v":"2022-01-01"},{"$f":"Skyggetabeller!L$11","v":"2022-07-01"},{"$f":"Skyggetabeller!M$11","v":"2023-01-01"}]
[null,"Antal flytninger",null,{"$f":"RegNøgletal!E122","v":4},{"$f":"RegNøgletal!F122","v":"*"},{"$f":"RegNøgletal!G122","v":5},{"$f":"RegNøgletal!H122","v":"*"},{"$f":"RegNøgletal!I122","v":7},{"$f":"RegNøgletal!J122","v":4},{"$f":"RegNøgletal!K122","v":"*"},{"$f":"RegNøgletal!L122","v":"*"},{"$f":"RegNøgletal!M122","v":4},{"$f":"RegNøgletal!N122","v":3}]
[null,{"$f":"RegNøgletal!$B$95","v":"Anm.: Hvis nøgletallet er angivet med * er der foretaget en diskretionering af data, da der er for få observationer. N angiver målgruppestørrelsen for nøgletallet. Målgruppen er borgere der ved sidste datanedslag modtog længerevarende-, midlertidigt botilbud eller botilbudslignende tilbud."}]
[null,{"$f":"RegNøgletal!$B$96","v":"Kilde: Social- og Boligstyrelsens egne beregninger baseret på handicapstiatistikken ved Danmarks Statistik."}]
[]
[]
[null,"Figur 7.3.2: Udvikling i andelen af borgere, der er flyttet fra midlertidigt botilbud til egen bolig"]
[]
[]
[]
[]
[]
[]
[]
[]
[]
[]
[]
[]
[]
[]
[]
[]
[]
[]
[]
[]
[]
[]
[null,{"$f":"RegNøgletal!$B$95","v":"Anm.: Hvis nøgletallet er angivet med * er der foretaget en diskretionering af data, da der er for få observationer. N angiver målgruppestørrelsen for nøgletallet. Målgruppen er borgere der ved sidste datanedslag modtog længerevarende-, midlertidigt botilbud eller botilbudslignende tilbud."}]
[null,{"$f":"RegNøgletal!$B$96","v":"Kilde: Social- og Boligstyrelsens egne beregninger baseret på handicapstiatistikken ved Danmarks Statistik."}]
[]
[]
[null,"Tabel 7.3.2: Udvikling i andelen af borgere, der er flyttet fra midlertidigt botilbud til egen bolig"]
[]
[null,null,{"$f":"Skyggetabeller!C$11","v":"2018-01-01"},{"$f":"Skyggetabeller!D$11","v":"2018-07-01"},{"$f":"Skyggetabeller!E$11","v":"2019-01-01"},{"$f":"Skyggetabeller!F$11","v":"2019-07-01"},{"$f":"Skyggetabeller!G$11","v":"2020-01-01"},{"$f":"Skyggetabeller!H$11","v":"2020-07-01"},{"$f":"Skyggetabeller!I$11","v":"2021-01-01"},{"$f":"Skyggetabeller!J$11","v":"2021-07-01"},{"$f":"Skyggetabeller!K$11","v":"2022-01-01"},{"$f":"Skyggetabeller!L$11","v":"2022-07-01"},{"$f":"Skyggetabeller!M$11","v":"2023-01-01"}]
[null,{"$f":"Kommune","v":"Herning"}]
[null,"Andel",null,{"$f":"Skyggetabeller!D169","v":0.14285714285714285},{"$f":"Skyggetabeller!E169","v":"*"},{"$f":"Skyggetabeller!F169","v":0.17857142857142858},{"$f":"Skyggetabeller!G169","v":"*"},{"$f":"Skyggetabeller!H169","v":0.23333333333333334},{"$f":"Skyggetabeller!I169","v":0.15384615384615385},{"$f":"Skyggetabeller!J169","v":"*"},{"$f":"Skyggetabeller!K169","v":"*"},{"$f":"Skyggetabeller!L169","v":0.19047619047619047},{"$f":"Skyggetabeller!M169","v":0.17647058823529413}]
[null,"N",null,{"$f":"Skyggetabeller!D173","v":28},{"$f":"Skyggetabeller!E173","v":26},{"$f":"Skyggetabeller!F173","v":28},{"$f":"Skyggetabeller!G173","v":30},{"$f":"Skyggetabeller!H173","v":30},{"$f":"Skyggetabeller!I173","v":26},{"$f":"Skyggetabeller!J173","v":24},{"$f":"Skyggetabeller!K173","v":23},{"$f":"Skyggetabeller!L173","v":21},{"$f":"Skyggetabeller!M173","v":17}]
[null,"Sammenligningskommuner"]
[null,"Andel",null,{"$f":"Skyggetabeller!D170","v":0},{"$f":"Skyggetabeller!E170","v":0},{"$f":"Skyggetabeller!F170","v":6.5573770491803282E-2},{"$f":"Skyggetabeller!G170","v":0},{"$f":"Skyggetabeller!H170","v":0},{"$f":"Skyggetabeller!I170","v":0},{"$f":"Skyggetabeller!J170","v":0},{"$f":"Skyggetabeller!K170","v":0},{"$f":"Skyggetabeller!L170","v":0},{"$f":"Skyggetabeller!M170","v":0}]
[null,"N",null,{"$f":"Skyggetabeller!D174","v":61},{"$f":"Skyggetabeller!E174","v":59},{"$f":"Skyggetabeller!F174","v":61},{"$f":"Skyggetabeller!G174","v":59},{"$f":"Skyggetabeller!H174","v":58},{"$f":"Skyggetabeller!I174","v":64},{"$f":"Skyggetabeller!J174","v":61},{"$f":"Skyggetabeller!K174","v":69},{"$f":"Skyggetabeller!L174","v":69},{"$f":"Skyggetabeller!M174","v":69}]
[null,"Landsgennemsnit"]
[null,"Andel",null,{"$f":"Skyggetabeller!D171","v":0.1},{"$f":"Skyggetabeller!E171","v":0.11382113821138211},{"$f":"Skyggetabeller!F171","v":0.12109375},{"$f":"Skyggetabeller!G171","v":0.13846153846153847},{"$f":"Skyggetabeller!H171","v":0.11969111969111969},{"$f":"Skyggetabeller!I171","v":0.12260536398467432},{"$f":"Skyggetabeller!J171","v":0.11153846153846154},{"$f":"Skyggetabeller!K171","v":0.1169811320754717},{"$f":"Skyggetabeller!L171","v":0.10740740740740741},{"$f":"Skyggetabeller!M171","v":0.10661764705882353}]
[null,"N",null,{"$f":"Skyggetabeller!D175","v":2400},{"$f":"Skyggetabeller!E175","v":2460},{"$f":"Skyggetabeller!F175","v":2560},{"$f":"Skyggetabeller!G175","v":2600},{"$f":"Skyggetabeller!H175","v":2590},{"$f":"Skyggetabeller!I175","v":2610},{"$f":"Skyggetabeller!J175","v":2600},{"$f":"Skyggetabeller!K175","v":2650},{"$f":"Skyggetabeller!L175","v":2700},{"$f":"Skyggetabeller!M175","v":2720}]
[null,{"$f":"IF('Dine valg'!$G$24=\"\",\"Ingen sammenligningsgruppe valgt.\",\"Valgte kommuner i sammenligningsgruppen: \"&'Dine valg'!$G$24&\" \"&'Dine valg'!$G$25&\" \"&'Dine valg'!$G$26&\" \"&'Dine valg'!$G$27&\" \"&'Dine valg'!$G$28&\" \"&'Dine valg'!$G$29&\" \"&'Dine valg'!$G$30)","v":"Valgte kommuner i sammenligningsgruppen: Allerød Assens Ballerup    "}]
[null,{"$f":"RegNøgletal!B124","v":"Anm.: Hvis nøgletallet er angivet med * er der foretaget en diskretionering af data, da der er for få observationer. N angiver målgruppestørrelsen for nøgletallet. Målgruppen er borgere der ved sidste datanedslag modtog midlertidigt botilbud."}]
[null,{"$f":"RegNøgletal!B125","v":"Kilde: Social- og Boligstyrelsens egne beregninger baseret på handicapstiatistikken ved Danmarks Statistik."}]
[]
[]
[null,"Nøgletal 8: Fra socialpædagogisk støtte og ned af trappen"]
[]
[null,{"$f":"\"Figur 8.1: Udvikling i antal borgere, der har bevæget sig fra socialpædagogisk støtte og ned af indsatstrappen i \"&Kommune","v":"Figur 8.1: Udvikling i antal borgere, der har bevæget sig fra socialpædagogisk støtte og ned af indsatstrappen i Herning"}]
[]
[]
[]
[]
[]
[]
[]
[]
[]
[]
[]
[]
[]
[]
[]
[]
[]
[]
[]
[]
[]
[]
[]
[null,{"$f":"RegNøgletal!B136","v":"Anm.: Hvis nøgletallet er angivet med * er der foretaget en diskretionering af data, da der er for få observationer. N angiver målgruppestørrelsen for nøgletallet. Målgruppen er borgere der ved sidste datanedslag modtog socialpædagogisk støtte."}]
[null,{"$f":"RegNøgletal!B137","v":"Kilde: Social- og Boligstyrelsens egne beregninger baseret på handicapstiatistikken ved Danmarks Statistik."}]
[]
[]
[]
[null,{"$f":"\"Tabel 8.1: Udvikling i antal borgere, der har bevæget sig fra socialpædagogisk støtte og ned af indsatstrappen i \"&Kommune","v":"Tabel 8.1: Udvikling i antal borgere, der har bevæget sig fra socialpædagogisk støtte og ned af indsatstrappen i Herning"}]
[]
[null,null,{"$f":"Skyggetabeller!C$11","v":"2018-01-01"},{"$f":"Skyggetabeller!D$11","v":"2018-07-01"},{"$f":"Skyggetabeller!E$11","v":"2019-01-01"},{"$f":"Skyggetabeller!F$11","v":"2019-07-01"},{"$f":"Skyggetabeller!G$11","v":"2020-01-01"},{"$f":"Skyggetabeller!H$11","v":"2020-07-01"},{"$f":"Skyggetabeller!I$11","v":"2021-01-01"},{"$f":"Skyggetabeller!J$11","v":"2021-07-01"},{"$f":"Skyggetabeller!K$11","v":"2022-01-01"},{"$f":"Skyggetabeller!L$11","v":"2022-07-01"},{"$f":"Skyggetabeller!M$11","v":"2023-01-01"}]
[null,"Antal modtagere",null,{"$f":"RegNøgletal!E134","v":33},{"$f":"RegNøgletal!F134","v":56},{"$f":"RegNøgletal!G134","v":47},{"$f":"RegNøgletal!H134","v":46},{"$f":"RegNøgletal!I134","v":33},{"$f":"RegNøgletal!J134","v":28},{"$f":"RegNøgletal!K134","v":33},{"$f":"RegNøgletal!L134","v":27},{"$f":"RegNøgletal!M134","v":48},{"$f":"RegNøgletal!N134","v":27}]
[null,{"$f":"RegNøgletal!B136","v":"Anm.: Hvis nøgletallet er angivet med * er der foretaget en diskretionering af data, da der er for få observationer. N angiver målgruppestørrelsen for nøgletallet. Målgruppen er borgere der ved sidste datanedslag modtog socialpædagogisk støtte."}]
[null,{"$f":"RegNøgletal!B137","v":"Kilde: Social- og Boligstyrelsens egne beregninger baseret på handicapstiatistikken ved Danmarks Statistik."}]
[]
[]
[]
[null,"Figur 8.2: Udvikling i andelen af borgere, der har bevæget sig fra socialpædagogisk støtte og ned af indsatstrappen"]
[null,null,null,null,null,null,null,null,null,null,"Benyt, slet eller erstat gerne følgende tekst til beskrivelse af udviklingen over tid for det pågældende nøgletal. Beskrivelsen vil blive indsat i rapporten (skriv maks 10 linjer):"]
[]
[]
[]
[]
[]
[]
[]
[]
[]
[]
[]
[]
[]
[]
[]
[]
[]
[]
[]
[]
[]
[null,{"$f":"RegNøgletal!B136","v":"Anm.: Hvis nøgletallet er angivet med * er der foretaget en diskretionering af data, da der er for få observationer. N angiver målgruppestørrelsen for nøgletallet. Målgruppen er borgere der ved sidste datanedslag modtog socialpædagogisk støtte."}]
[null,{"$f":"RegNøgletal!B137","v":"Kilde: Social- og Boligstyrelsens egne beregninger baseret på handicapstiatistikken ved Danmarks Statistik."}]
[]
[]
[]
[null,"Tabel 8.2: Udvikling i andelen af borgere, der har bevæget sig fra socialpædagogisk støtte og ned af indsatstrappen"]
[]
[null,null,{"$f":"Skyggetabeller!C$11","v":"2018-01-01"},{"$f":"Skyggetabeller!D$11","v":"2018-07-01"},{"$f":"Skyggetabeller!E$11","v":"2019-01-01"},{"$f":"Skyggetabeller!F$11","v":"2019-07-01"},{"$f":"Skyggetabeller!G$11","v":"2020-01-01"},{"$f":"Skyggetabeller!H$11","v":"2020-07-01"},{"$f":"Skyggetabeller!I$11","v":"2021-01-01"},{"$f":"Skyggetabeller!J$11","v":"2021-07-01"},{"$f":"Skyggetabeller!K$11","v":"2022-01-01"},{"$f":"Skyggetabeller!L$11","v":"2022-07-01"},{"$f":"Skyggetabeller!M$11","v":"2023-01-01"}]
[null,{"$f":"Kommune","v":"Herning"}]
[null,"Andel",null,{"$f":"Skyggetabeller!D185","v":0.1134020618556701},{"$f":"Skyggetabeller!E185","v":0.18983050847457628},{"$f":"Skyggetabeller!F185","v":0.17028985507246377},{"$f":"Skyggetabeller!G185","v":0.17829457364341086},{"$f":"Skyggetabeller!H185","v":0.13253012048192772},{"$f":"Skyggetabeller!I185","v":0.10687022900763359},{"$f":"Skyggetabeller!J185","v":0.12359550561797752},{"$f":"Skyggetabeller!K185","v":9.6428571428571433E-2},{"$f":"Skyggetabeller!L185","v":0.17454545454545456},{"$f":"Skyggetabeller!M185","v":0.10843373493975904}]
[null,"N",null,{"$f":"Skyggetabeller!D189","v":291},{"$f":"Skyggetabeller!E189","v":295},{"$f":"Skyggetabeller!F189","v":276},{"$f":"Skyggetabeller!G189","v":258},{"$f":"Skyggetabeller!H189","v":249},{"$f":"Skyggetabeller!I189","v":262},{"$f":"Skyggetabeller!J189","v":267},{"$f":"Skyggetabeller!K189","v":280},{"$f":"Skyggetabeller!L189","v":275},{"$f":"Skyggetabeller!M189","v":249}]
[null,"Sammenligningskommuner"]
[null,"Andel",null,{"$f":"Skyggetabeller!D186","v":0.14074074074074075},{"$f":"Skyggetabeller!E186","v":9.8765432098765427E-2},{"$f":"Skyggetabeller!F186","v":0.14503816793893129},{"$f":"Skyggetabeller!G186","v":0.11355311355311355},{"$f":"Skyggetabeller!H186","v":0.10661764705882353},{"$f":"Skyggetabeller!I186","v":8.1272084805653705E-2},{"$f":"Skyggetabeller!J186","v":0.12152777777777778},{"$f":"Skyggetabeller!K186","v":0.11475409836065574},{"$f":"Skyggetabeller!L186","v":0.11475409836065574},{"$f":"Skyggetabeller!M186","v":0.11475409836065574}]
[null,"N",null,{"$f":"Skyggetabeller!D190","v":270},{"$f":"Skyggetabeller!E190","v":243},{"$f":"Skyggetabeller!F190","v":262},{"$f":"Skyggetabeller!G190","v":273},{"$f":"Skyggetabeller!H190","v":272},{"$f":"Skyggetabeller!I190","v":283},{"$f":"Skyggetabeller!J190","v":288},{"$f":"Skyggetabeller!K190","v":305},{"$f":"Skyggetabeller!L190","v":305},{"$f":"Skyggetabeller!M190","v":305}]
[null,"Landsgennemsnit"]
[null,"Andel",null,{"$f":"Skyggetabeller!D187","v":0.12464101091326824},{"$f":"Skyggetabeller!E187","v":0.13150371640937678},{"$f":"Skyggetabeller!F187","v":0.13568129330254042},{"$f":"Skyggetabeller!G187","v":0.136337039204213},{"$f":"Skyggetabeller!H187","v":0.12396694214876033},{"$f":"Skyggetabeller!I187","v":0.1233611442193087},{"$f":"Skyggetabeller!J187","v":0.12166172106824925},{"$f":"Skyggetabeller!K187","v":0.12368728121353559},{"$f":"Skyggetabeller!L187","v":0.12801377726750862},{"$f":"Skyggetabeller!M187","v":0.12485811577752554}]
[null,"N",null,{"$f":"Skyggetabeller!D191","v":17410},{"$f":"Skyggetabeller!E191","v":17490},{"$f":"Skyggetabeller!F191","v":17320},{"$f":"Skyggetabeller!G191","v":17090},{"$f":"Skyggetabeller!H191","v":16940},{"$f":"Skyggetabeller!I191","v":16780},{"$f":"Skyggetabeller!J191","v":16850},{"$f":"Skyggetabeller!K191","v":17140},{"$f":"Skyggetabeller!L191","v":17420},{"$f":"Skyggetabeller!M191","v":17620}]
[null,{"$f":"IF('Dine valg'!$G$24=\"\",\"Ingen sammenligningsgruppe valgt.\",\"Valgte kommuner i sammenligningsgruppen: \"&'Dine valg'!$G$24&\" \"&'Dine valg'!$G$25&\" \"&'Dine valg'!$G$26&\" \"&'Dine valg'!$G$27&\" \"&'Dine valg'!$G$28&\" \"&'Dine valg'!$G$29&\" \"&'Dine valg'!$G$30)","v":"Valgte kommuner i sammenligningsgruppen: Allerød Assens Ballerup    "}]
[null,{"$f":"RegNøgletal!B136","v":"Anm.: Hvis nøgletallet er angivet med * er der foretaget en diskretionering af data, da der er for få observationer. N angiver målgruppestørrelsen for nøgletallet. Målgruppen er borgere der ved sidste datanedslag modtog socialpædagogisk støtte."}]
[null,{"$f":"RegNøgletal!B137","v":"Kilde: Social- og Boligstyrelsens egne beregninger baseret på handicapstiatistikken ved Danmarks Statistik."}]
[]
[]
[]
[null,"Nøgletal 9: Fra forebyggende indsatser og ned af trappen"]
[]
[null,{"$f":"\"Figur 9.1: Udvikling i antal borgere, der har bevæget sig fra forebyggende indsatser og ned af indsatstrappen i \"&Kommune","v":"Figur 9.1: Udvikling i antal borgere, der har bevæget sig fra forebyggende indsatser og ned af indsatstrappen i Herning"}]
[]
[]
[]
[]
[]
[]
[]
[]
[]
[]
[]
[]
[]
[]
[]
[]
[]
[]
[]
[]
[]
[]
[]
[null,{"$f":"RegNøgletal!B148","v":"Anm.: Hvis nøgletallet er angivet med * er der foretaget en diskretionering af data, da der er for få observationer. N angiver målgruppestørrelsen for nøgletallet. Målgruppen er borgere der ved sidste datanedslag modtog forebyggende indsats efter SEL § 82. Ydelser efter servicelovens § 82 er først blevet indberetningspligtig pr. 1/7-2020."}]
[null,{"$f":"RegNøgletal!B149","v":"Kilde: Social- og Boligstyrelsens egne beregninger baseret på handicapstiatistikken ved Danmarks Statistik."}]
[]
[]
[]
[null,{"$f":"\"Tabel 9.1: Udvikling i antal borgere, der har bevæget sig fra forebyggende indsatser og ned af indsatstrappen i \"&Kommune","v":"Tabel 9.1: Udvikling i antal borgere, der har bevæget sig fra forebyggende indsatser og ned af indsatstrappen i Herning"}]
[]
[null,null,{"$f":"Skyggetabeller!C$11","v":"2018-01-01"},{"$f":"Skyggetabeller!D$11","v":"2018-07-01"},{"$f":"Skyggetabeller!E$11","v":"2019-01-01"},{"$f":"Skyggetabeller!F$11","v":"2019-07-01"},{"$f":"Skyggetabeller!G$11","v":"2020-01-01"},{"$f":"Skyggetabeller!H$11","v":"2020-07-01"},{"$f":"Skyggetabeller!I$11","v":"2021-01-01"},{"$f":"Skyggetabeller!J$11","v":"2021-07-01"},{"$f":"Skyggetabeller!K$11","v":"2022-01-01"},{"$f":"Skyggetabeller!L$11","v":"2022-07-01"},{"$f":"Skyggetabeller!M$11","v":"2023-01-01"}]
[null,"Antal modtagere",null,{"$f":"RegNøgletal!E146","v":0},{"$f":"RegNøgletal!F146","v":0},{"$f":"RegNøgletal!G146","v":0},{"$f":"RegNøgletal!H146","v":0},{"$f":"RegNøgletal!I146","v":0},{"$f":"RegNøgletal!J146","v":8},{"$f":"RegNøgletal!K146","v":12},{"$f":"RegNøgletal!L146","v":10},{"$f":"RegNøgletal!M146","v":14},{"$f":"RegNøgletal!N146","v":8}]
[null,{"$f":"RegNøgletal!B148","v":"Anm.: Hvis nøgletallet er angivet med * er der foretaget en diskretionering af data, da der er for få observationer. N angiver målgruppestørrelsen for nøgletallet. Målgruppen er borgere der ved sidste datanedslag modtog forebyggende indsats efter SEL § 82. Ydelser efter servicelovens § 82 er først blevet indberetningspligtig pr. 1/7-2020."}]
[null,{"$f":"RegNøgletal!B149","v":"Kilde: Social- og Boligstyrelsens egne beregninger baseret på handicapstiatistikken ved Danmarks Statistik."}]
[]
[]
[]
[null,"Figur 9.2: Udvikling i andelen af borgere, der har bevæget sig fra forebyggende indsatser og ned af indsatstrappen"]
[null,null,null,null,null,null,null,null,null,null,"Benyt, slet eller erstat gerne følgende tekst til beskrivelse af udviklingen over tid for det pågældende nøgletal. Beskrivelsen vil blive indsat i rapporten (skriv maks 10 linjer):"]
[]
[]
[]
[]
[]
[]
[]
[]
[]
[]
[]
[]
[]
[]
[]
[]
[]
[]
[null,"Kilde:"]
[null,"Anm.:"]
[null,"Anm.:"]
[null,{"$f":"RegNøgletal!B148","v":"Anm.: Hvis nøgletallet er angivet med * er der foretaget en diskretionering af data, da der er for få observationer. N angiver målgruppestørrelsen for nøgletallet. Målgruppen er borgere der ved sidste datanedslag modtog forebyggende indsats efter SEL § 82. Ydelser efter servicelovens § 82 er først blevet indberetningspligtig pr. 1/7-2020."}]
[null,{"$f":"RegNøgletal!B149","v":"Kilde: Social- og Boligstyrelsens egne beregninger baseret på handicapstiatistikken ved Danmarks Statistik."}]
[]
[]
[null,"Tabel 9.2: Udvikling i andelen af borgere, der har bevæget sig fra forebyggende indsatser og ned af indsatstrappen"]
[]
[null,null,{"$f":"Skyggetabeller!C$11","v":"2018-01-01"},{"$f":"Skyggetabeller!D$11","v":"2018-07-01"},{"$f":"Skyggetabeller!E$11","v":"2019-01-01"},{"$f":"Skyggetabeller!F$11","v":"2019-07-01"},{"$f":"Skyggetabeller!G$11","v":"2020-01-01"},{"$f":"Skyggetabeller!H$11","v":"2020-07-01"},{"$f":"Skyggetabeller!I$11","v":"2021-01-01"},{"$f":"Skyggetabeller!J$11","v":"2021-07-01"},{"$f":"Skyggetabeller!K$11","v":"2022-01-01"},{"$f":"Skyggetabeller!L$11","v":"2022-07-01"},{"$f":"Skyggetabeller!M$11","v":"2023-01-01"}]
[null,{"$f":"Kommune","v":"Herning"}]
[null,"Andel",null,{"$f":"Skyggetabeller!D201","v":"*"},{"$f":"Skyggetabeller!E201","v":"*"},{"$f":"Skyggetabeller!F201","v":"*"},{"$f":"Skyggetabeller!G201","v":"*"},{"$f":"Skyggetabeller!H201","v":"*"},{"$f":"Skyggetabeller!I201","v":0.61538461538461542},{"$f":"Skyggetabeller!J201","v":0.70588235294117652},{"$f":"Skyggetabeller!K201","v":0.625},{"$f":"Skyggetabeller!L201","v":0.73684210526315785},{"$f":"Skyggetabeller!M201","v":0.2857142857142857}]
[null,"N",null,{"$f":"Skyggetabeller!D205","v":0},{"$f":"Skyggetabeller!E205","v":0},{"$f":"Skyggetabeller!F205","v":0},{"$f":"Skyggetabeller!G205","v":0},{"$f":"Skyggetabeller!H205","v":"*"},{"$f":"Skyggetabeller!I205","v":13},{"$f":"Skyggetabeller!J205","v":17},{"$f":"Skyggetabeller!K205","v":16},{"$f":"Skyggetabeller!L205","v":19},{"$f":"Skyggetabeller!M205","v":28}]
[null,"Sammenligningskommuner"]
[null,"Andel",null,{"$f":"Skyggetabeller!D202","v":""},{"$f":"Skyggetabeller!E202","v":""},{"$f":"Skyggetabeller!F202","v":""},{"$f":"Skyggetabeller!G202","v":""},{"$f":"Skyggetabeller!H202","v":""},{"$f":"Skyggetabeller!I202","v":""},{"$f":"Skyggetabeller!J202","v":""},{"$f":"Skyggetabeller!K202","v":""},{"$f":"Skyggetabeller!L202","v":""},{"$f":"Skyggetabeller!M202","v":""}]
[null,"N",null,{"$f":"Skyggetabeller!D206","v":0},{"$f":"Skyggetabeller!E206","v":0},{"$f":"Skyggetabeller!F206","v":0},{"$f":"Skyggetabeller!G206","v":0},{"$f":"Skyggetabeller!H206","v":0},{"$f":"Skyggetabeller!I206","v":0},{"$f":"Skyggetabeller!J206","v":0},{"$f":"Skyggetabeller!K206","v":0},{"$f":"Skyggetabeller!L206","v":0},{"$f":"Skyggetabeller!M206","v":0}]
[null,"Landsgennemsnit"]
[null,"Andel",null,{"$f":"Skyggetabeller!D203","v":0},{"$f":"Skyggetabeller!E203","v":0.77777777777777779},{"$f":"Skyggetabeller!F203","v":0.66666666666666663},{"$f":"Skyggetabeller!G203","v":0.62790697674418605},{"$f":"Skyggetabeller!H203","v":0.54098360655737709},{"$f":"Skyggetabeller!I203","v":0.58241758241758246},{"$f":"Skyggetabeller!J203","v":0.61206896551724133},{"$f":"Skyggetabeller!K203","v":0.52777777777777779},{"$f":"Skyggetabeller!L203","v":0.58260869565217388},{"$f":"Skyggetabeller!M203","v":0.50406504065040647}]
[null,"N",null,{"$f":"Skyggetabeller!D207","v":0},{"$f":"Skyggetabeller!E207","v":90},{"$f":"Skyggetabeller!F207","v":240},{"$f":"Skyggetabeller!G207","v":430},{"$f":"Skyggetabeller!H207","v":610},{"$f":"Skyggetabeller!I207","v":910},{"$f":"Skyggetabeller!J207","v":1160},{"$f":"Skyggetabeller!K207","v":1080},{"$f":"Skyggetabeller!L207","v":1150},{"$f":"Skyggetabeller!M207","v":1230}]
[null,{"$f":"IF('Dine valg'!$G$24=\"\",\"Ingen sammenligningsgruppe valgt.\",\"Valgte kommuner i sammenligningsgruppen: \"&'Dine valg'!$G$24&\" \"&'Dine valg'!$G$25&\" \"&'Dine valg'!$G$26&\" \"&'Dine valg'!$G$27&\" \"&'Dine valg'!$G$28&\" \"&'Dine valg'!$G$29&\" \"&'Dine valg'!$G$30)","v":"Valgte kommuner i sammenligningsgruppen: Allerød Assens Ballerup    "}]
[null,{"$f":"RegNøgletal!B148","v":"Anm.: Hvis nøgletallet er angivet med * er der foretaget en diskretionering af data, da der er for få observationer. N angiver målgruppestørrelsen for nøgletallet. Målgruppen er borgere der ved sidste datanedslag modtog forebyggende indsats efter SEL § 82. Ydelser efter servicelovens § 82 er først blevet indberetningspligtig pr. 1/7-2020."}]
[null,{"$f":"RegNøgletal!B149","v":"Kilde: Social- og Boligstyrelsens egne beregninger baseret på handicapstiatistikken ved Danmarks Statistik."}]
[]
[]
[]
[null,"Nøgletal 10: Fra forebyggende indsatser og op af trappen"]
[]
[null,{"$f":"\"Figur 10.1: Udvikling i antal borgere, der har bevæget sig fra forebyggende indsatser og op af indsatstrappen i \"&Kommune","v":"Figur 10.1: Udvikling i antal borgere, der har bevæget sig fra forebyggende indsatser og op af indsatstrappen i Herning"}]
[]
[]
[]
[]
[]
[]
[]
[]
[]
[]
[]
[]
[]
[]
[]
[]
[]
[]
[]
[]
[]
[]
[]
[null,{"$f":"RegNøgletal!B160","v":"Anm.: Hvis nøgletallet er angivet med * er der foretaget en diskretionering af data, da der er for få observationer. N angiver målgruppestørrelsen for nøgletallet. Målgruppen er borgere der ved sidste datanedslag modtog forebyggende indsats efter SEL § 82. Ydelser efter servicelovens § 82 er først blevet indberetningspligtig pr. 1/7-2020."}]
[null,{"$f":"RegNøgletal!B161","v":"Kilde: Social- og Boligstyrelsens egne beregninger baseret på handicapstiatistikken ved Danmarks Statistik."}]
[]
[]
[]
[null,{"$f":"\"Tabel 10.1: Udvikling i antal borgere, der har bevæget sig fra forebyggende indsatser og op af indsatstrappen i \"&Kommune","v":"Tabel 10.1: Udvikling i antal borgere, der har bevæget sig fra forebyggende indsatser og op af indsatstrappen i Herning"}]
[]
[null,null,{"$f":"Skyggetabeller!C$11","v":"2018-01-01"},{"$f":"Skyggetabeller!D$11","v":"2018-07-01"},{"$f":"Skyggetabeller!E$11","v":"2019-01-01"},{"$f":"Skyggetabeller!F$11","v":"2019-07-01"},{"$f":"Skyggetabeller!G$11","v":"2020-01-01"},{"$f":"Skyggetabeller!H$11","v":"2020-07-01"},{"$f":"Skyggetabeller!I$11","v":"2021-01-01"},{"$f":"Skyggetabeller!J$11","v":"2021-07-01"},{"$f":"Skyggetabeller!K$11","v":"2022-01-01"},{"$f":"Skyggetabeller!L$11","v":"2022-07-01"},{"$f":"Skyggetabeller!M$11","v":"2023-01-01"}]
[null,"Antal modtagere",null,{"$f":"RegNøgletal!E158","v":0},{"$f":"RegNøgletal!F158","v":0},{"$f":"RegNøgletal!G158","v":0},{"$f":"RegNøgletal!H158","v":0},{"$f":"RegNøgletal!I158","v":0},{"$f":"RegNøgletal!J158","v":"*"},{"$f":"RegNøgletal!K158","v":"*"},{"$f":"RegNøgletal!L158","v":"*"},{"$f":"RegNøgletal!M158","v":"*"},{"$f":"RegNøgletal!N158","v":6}]
[null,{"$f":"RegNøgletal!B160","v":"Anm.: Hvis nøgletallet er angivet med * er der foretaget en diskretionering af data, da der er for få observationer. N angiver målgruppestørrelsen for nøgletallet. Målgruppen er borgere der ved sidste datanedslag modtog forebyggende indsats efter SEL § 82. Ydelser efter servicelovens § 82 er først blevet indberetningspligtig pr. 1/7-2020."}]
[null,{"$f":"RegNøgletal!B161","v":"Kilde: Social- og Boligstyrelsens egne beregninger baseret på handicapstiatistikken ved Danmarks Statistik."}]
[]
[]
[]
[null,"Figur 10.2: Udvikling i andelen af borgere, der har bevæget sig fra forebyggende indsatser og op af indsatstrappen"]
[null,null,null,null,null,null,null,null,null,null,"Benyt, slet eller erstat gerne følgende tekst til beskrivelse af udviklingen over tid for det pågældende nøgletal. Beskrivelsen vil blive indsat i rapporten (skriv maks 10 linjer):"]
[]
[]
[]
[]
[]
[]
[]
[]
[]
[]
[]
[]
[]
[]
[]
[]
[]
[]
[]
[]
[]
[]
[null,{"$f":"RegNøgletal!B160","v":"Anm.: Hvis nøgletallet er angivet med * er der foretaget en diskretionering af data, da der er for få observationer. N angiver målgruppestørrelsen for nøgletallet. Målgruppen er borgere der ved sidste datanedslag modtog forebyggende indsats efter SEL § 82. Ydelser efter servicelovens § 82 er først blevet indberetningspligtig pr. 1/7-2020."}]
[null,{"$f":"RegNøgletal!B161","v":"Kilde: Social- og Boligstyrelsens egne beregninger baseret på handicapstiatistikken ved Danmarks Statistik."}]
[]
[]
[]
[null,"Tabel 10.2: Udvikling i andelen af borgere, der har bevæget sig fra forebyggende indsatser og op af indsatstrappen"]
[]
[null,null,{"$f":"Skyggetabeller!C$11","v":"2018-01-01"},{"$f":"Skyggetabeller!D$11","v":"2018-07-01"},{"$f":"Skyggetabeller!E$11","v":"2019-01-01"},{"$f":"Skyggetabeller!F$11","v":"2019-07-01"},{"$f":"Skyggetabeller!G$11","v":"2020-01-01"},{"$f":"Skyggetabeller!H$11","v":"2020-07-01"},{"$f":"Skyggetabeller!I$11","v":"2021-01-01"},{"$f":"Skyggetabeller!J$11","v":"2021-07-01"},{"$f":"Skyggetabeller!K$11","v":"2022-01-01"},{"$f":"Skyggetabeller!L$11","v":"2022-07-01"},{"$f":"Skyggetabeller!M$11","v":"2023-01-01"}]
[null,{"$f":"Kommune","v":"Herning"}]
[null,"Andel",null,{"$f":"Skyggetabeller!D217","v":"*"},{"$f":"Skyggetabeller!E217","v":"*"},{"$f":"Skyggetabeller!F217","v":"*"},{"$f":"Skyggetabeller!G217","v":"*"},{"$f":"Skyggetabeller!H217","v":"*"},{"$f":"Skyggetabeller!I217","v":"*"},{"$f":"Skyggetabeller!J217","v":"*"},{"$f":"Skyggetabeller!K217","v":"*"},{"$f":"Skyggetabeller!L217","v":"*"},{"$f":"Skyggetabeller!M217","v":0.21428571428571427}]
[null,"N",null,{"$f":"Skyggetabeller!D221","v":0},{"$f":"Skyggetabeller!E221","v":0},{"$f":"Skyggetabeller!F221","v":0},{"$f":"Skyggetabeller!G221","v":0},{"$f":"Skyggetabeller!H221","v":"*"},{"$f":"Skyggetabeller!I221","v":13},{"$f":"Skyggetabeller!J221","v":17},{"$f":"Skyggetabeller!K221","v":16},{"$f":"Skyggetabeller!L221","v":19},{"$f":"Skyggetabeller!M221","v":28}]
[null,"Sammenligningskommuner"]
[null,"Andel",null,{"$f":"Skyggetabeller!D218","v":""},{"$f":"Skyggetabeller!E218","v":""},{"$f":"Skyggetabeller!F218","v":""},{"$f":"Skyggetabeller!G218","v":""},{"$f":"Skyggetabeller!H218","v":""},{"$f":"Skyggetabeller!I218","v":""},{"$f":"Skyggetabeller!J218","v":""},{"$f":"Skyggetabeller!K218","v":""},{"$f":"Skyggetabeller!L218","v":""},{"$f":"Skyggetabeller!M218","v":""}]
[null,"N",null,{"$f":"Skyggetabeller!D222","v":0},{"$f":"Skyggetabeller!E222","v":0},{"$f":"Skyggetabeller!F222","v":0},{"$f":"Skyggetabeller!G222","v":0},{"$f":"Skyggetabeller!H222","v":0},{"$f":"Skyggetabeller!I222","v":0},{"$f":"Skyggetabeller!J222","v":0},{"$f":"Skyggetabeller!K222","v":0},{"$f":"Skyggetabeller!L222","v":0},{"$f":"Skyggetabeller!M222","v":0}]
[null,"Landsgennemsnit"]
[null,"Andel",null,{"$f":"Skyggetabeller!D219","v":0},{"$f":"Skyggetabeller!E219","v":0},{"$f":"Skyggetabeller!F219","v":8.3333333333333329E-2},{"$f":"Skyggetabeller!G219","v":0.11627906976744186},{"$f":"Skyggetabeller!H219","v":9.8360655737704916E-2},{"$f":"Skyggetabeller!I219","v":0.10989010989010989},{"$f":"Skyggetabeller!J219","v":0.1206896551724138},{"$f":"Skyggetabeller!K219","v":0.17592592592592593},{"$f":"Skyggetabeller!L219","v":0.14782608695652175},{"$f":"Skyggetabeller!M219","v":0.14634146341463414}]
[null,"N",null,{"$f":"Skyggetabeller!D223","v":0},{"$f":"Skyggetabeller!E223","v":90},{"$f":"Skyggetabeller!F223","v":240},{"$f":"Skyggetabeller!G223","v":430},{"$f":"Skyggetabeller!H223","v":610},{"$f":"Skyggetabeller!I223","v":910},{"$f":"Skyggetabeller!J223","v":1160},{"$f":"Skyggetabeller!K223","v":1080},{"$f":"Skyggetabeller!L223","v":1150},{"$f":"Skyggetabeller!M223","v":1230}]
[null,{"$f":"IF('Dine valg'!$G$24=\"\",\"Ingen sammenligningsgruppe valgt.\",\"Valgte kommuner i sammenligningsgruppen: \"&'Dine valg'!$G$24&\" \"&'Dine valg'!$G$25&\" \"&'Dine valg'!$G$26&\" \"&'Dine valg'!$G$27&\" \"&'Dine valg'!$G$28&\" \"&'Dine valg'!$G$29&\" \"&'Dine valg'!$G$30)","v":"Valgte kommuner i sammenligningsgruppen: Allerød Assens Ballerup    "}]
[null,{"$f":"RegNøgletal!B160","v":"Anm.: Hvis nøgletallet er angivet med * er der foretaget en diskretionering af data, da der er for få observationer. N angiver målgruppestørrelsen for nøgletallet. Målgruppen er borgere der ved sidste datanedslag modtog forebyggende indsats efter SEL § 82. Ydelser efter servicelovens § 82 er først blevet indberetningspligtig pr. 1/7-2020."}]
[null,{"$f":"RegNøgletal!B161","v":"Kilde: Social- og Boligstyrelsens egne beregninger baseret på handicapstiatistikken ved Danmarks Statistik."}]
[]
[]
[]
[null,"Nøgletal 11: Uddannelsesgrad"]
[]
[null,{"$f":"\"Figur 11.1: Udvikling i målgruppens uddannelsesgrad i \"&Kommune","v":"Figur 11.1: Udvikling i målgruppens uddannelsesgrad i Herning"}]
[]
[]
[]
[]
[]
[]
[]
[]
[]
[]
[]
[]
[]
[]
[]
[]
[]
[]
[]
[]
[]
[]
[]
[null,{"$f":"RegNøgletal!B171","v":"Anm.: Hvis nøgletallet er angivet med * er der foretaget en diskretionering af data, da der er for få observationer. N angiver målgruppestørrelsen, som er alle borgere registreret med \"Sindslidelse\" i indberetningen til Danmarks Statistik."}]
[null,{"$f":"RegNøgletal!B172","v":"Kilde: Social- og Boligstyrelsens egne beregninger baseret på handicapstiatistikken ved Danmarks Statistik og Beskæftigelsesministeriets forløbsdatabase DREAM."}]
[]
[]
[]
[null,{"$f":"\"Tabel 11.1: Udvikling i målgruppens uddannelsesgrad i \"&Kommune","v":"Tabel 11.1: Udvikling i målgruppens uddannelsesgrad i Herning"}]
[]
[null,null,{"$f":"Skyggetabeller!C$11","v":"2018-01-01"},{"$f":"Skyggetabeller!D$11","v":"2018-07-01"},{"$f":"Skyggetabeller!E$11","v":"2019-01-01"},{"$f":"Skyggetabeller!F$11","v":"2019-07-01"},{"$f":"Skyggetabeller!G$11","v":"2020-01-01"},{"$f":"Skyggetabeller!H$11","v":"2020-07-01"},{"$f":"Skyggetabeller!I$11","v":"2021-01-01"},{"$f":"Skyggetabeller!J$11","v":"2021-07-01"},{"$f":"Skyggetabeller!K$11","v":"2022-01-01"},{"$f":"Skyggetabeller!L$11","v":"2022-07-01"},{"$f":"Skyggetabeller!M$11","v":"2023-01-01"}]
[null,"Faktisk uddannelsesgrad",{"$f":"RegNøgletal!D169","v":1.1680911680911701E-2},{"$f":"RegNøgletal!E169","v":1.2710262710262699E-2},{"$f":"RegNøgletal!F169","v":1.39546351084813E-2},{"$f":"RegNøgletal!G169","v":1.4705882352941201E-2},{"$f":"RegNøgletal!H169","v":1.6952744225471501E-2},{"$f":"RegNøgletal!I169","v":1.3155252058646301E-2},{"$f":"RegNøgletal!J169","v":9.5157433240334807E-3},{"$f":"RegNøgletal!K169","v":1.7755262640173099E-2},{"$f":"RegNøgletal!L169","v":2.4854388431411901E-2},{"$f":"RegNøgletal!M169","v":1.71232876712329E-2},{"$f":"RegNøgletal!N169","v":1.55448717948718E-2}]
[null,{"$f":"RegNøgletal!B171","v":"Anm.: Hvis nøgletallet er angivet med * er der foretaget en diskretionering af data, da der er for få observationer. N angiver målgruppestørrelsen, som er alle borgere registreret med \"Sindslidelse\" i indberetningen til Danmarks Statistik."}]
[null,{"$f":"RegNøgletal!B172","v":"Kilde: Social- og Boligstyrelsens egne beregninger baseret på handicapstiatistikken ved Danmarks Statistik og Beskæftigelsesministeriets forløbsdatabase DREAM."}]
[]
[]
[]
[null,"Figur 11.2: Udvikling i målgruppens uddannelsesgrad på tværs af kommuner"]
[]
[null,null,null,null,null,null,null,null,null,null,"Benyt, slet eller erstat gerne følgende tekst til beskrivelse af udviklingen over tid for det pågældende nøgletal. Beskrivelsen vil blive indsat i rapporten (skriv maks 10 linjer):"]
[]
[]
[]
[]
[]
[]
[]
[]
[]
[]
[]
[]
[]
[]
[]
[]
[]
[]
[]
[]
[]
[null,{"$f":"RegNøgletal!B171","v":"Anm.: Hvis nøgletallet er angivet med * er der foretaget en diskretionering af data, da der er for få observationer. N angiver målgruppestørrelsen, som er alle borgere registreret med \"Sindslidelse\" i indberetningen til Danmarks Statistik."}]
[null,{"$f":"RegNøgletal!B172","v":"Kilde: Social- og Boligstyrelsens egne beregninger baseret på handicapstiatistikken ved Danmarks Statistik og Beskæftigelsesministeriets forløbsdatabase DREAM."}]
[]
[]
[]
[null,"Tabel 11.2: Udvikling i målgruppens uddannelsesgrad på tværs af kommuner"]
[]
[null,null,{"$f":"Skyggetabeller!C$11","v":"2018-01-01"},{"$f":"Skyggetabeller!D$11","v":"2018-07-01"},{"$f":"Skyggetabeller!E$11","v":"2019-01-01"},{"$f":"Skyggetabeller!F$11","v":"2019-07-01"},{"$f":"Skyggetabeller!G$11","v":"2020-01-01"},{"$f":"Skyggetabeller!H$11","v":"2020-07-01"},{"$f":"Skyggetabeller!I$11","v":"2021-01-01"},{"$f":"Skyggetabeller!J$11","v":"2021-07-01"},{"$f":"Skyggetabeller!K$11","v":"2022-01-01"},{"$f":"Skyggetabeller!L$11","v":"2022-07-01"},{"$f":"Skyggetabeller!M$11","v":"2023-01-01"}]
[null,{"$f":"Kommune","v":"Herning"}]
[null,"Andel",{"$f":"Skyggetabeller!C233","v":1.1680911680911701E-2},{"$f":"Skyggetabeller!D233","v":1.2710262710262699E-2},{"$f":"Skyggetabeller!E233","v":1.39546351084813E-2},{"$f":"Skyggetabeller!F233","v":1.4705882352941201E-2},{"$f":"Skyggetabeller!G233","v":1.6952744225471501E-2},{"$f":"Skyggetabeller!H233","v":1.3155252058646301E-2},{"$f":"Skyggetabeller!I233","v":9.5157433240334807E-3},{"$f":"Skyggetabeller!J233","v":1.7755262640173099E-2},{"$f":"Skyggetabeller!K233","v":2.4854388431411901E-2},{"$f":"Skyggetabeller!L233","v":1.71232876712329E-2},{"$f":"Skyggetabeller!M233","v":1.55448717948718E-2}]
[null,"N",{"$f":"Skyggetabeller!C237","v":405},{"$f":"Skyggetabeller!D237","v":407},{"$f":"Skyggetabeller!E237","v":390},{"$f":"Skyggetabeller!F237","v":374},{"$f":"Skyggetabeller!G237","v":363},{"$f":"Skyggetabeller!H237","v":383},{"$f":"Skyggetabeller!I237","v":386},{"$f":"Skyggetabeller!J237","v":391},{"$f":"Skyggetabeller!K237","v":383},{"$f":"Skyggetabeller!L237","v":365},{"$f":"Skyggetabeller!M237","v":360}]
[null,"Sammenligningskommuner"]
[null,"Andel",{"$f":"Skyggetabeller!C234","v":1.7433853422280165E-2},{"$f":"Skyggetabeller!D234","v":9.654131135322366E-3},{"$f":"Skyggetabeller!E234","v":1.6848963002809168E-2},{"$f":"Skyggetabeller!F234","v":1.2994290712840813E-2},{"$f":"Skyggetabeller!G234","v":1.1503610768316635E-2},{"$f":"Skyggetabeller!H234","v":1.1386894003381465E-2},{"$f":"Skyggetabeller!I234","v":1.5064132741375934E-2},{"$f":"Skyggetabeller!J234","v":2.0067261241174274E-2},{"$f":"Skyggetabeller!K234","v":2.3860414567422911E-2},{"$f":"Skyggetabeller!L234","v":2.3860414567422911E-2},{"$f":"Skyggetabeller!M234","v":2.3860414567422911E-2}]
[null,"N",{"$f":"Skyggetabeller!C238","v":495},{"$f":"Skyggetabeller!D238","v":471},{"$f":"Skyggetabeller!E238","v":484},{"$f":"Skyggetabeller!F238","v":490},{"$f":"Skyggetabeller!G238","v":487},{"$f":"Skyggetabeller!H238","v":492},{"$f":"Skyggetabeller!I238","v":496},{"$f":"Skyggetabeller!J238","v":516},{"$f":"Skyggetabeller!K238","v":518},{"$f":"Skyggetabeller!L238","v":518},{"$f":"Skyggetabeller!M238","v":518}]
[null,"Landsgennemsnit"]
[null,"Andel",{"$f":"Skyggetabeller!C235","v":1.7313059519783899E-2},{"$f":"Skyggetabeller!D235","v":1.6986515435763998E-2},{"$f":"Skyggetabeller!E235","v":1.8052228559398899E-2},{"$f":"Skyggetabeller!F235","v":1.75650846785145E-2},{"$f":"Skyggetabeller!G235","v":1.7759326891353001E-2},{"$f":"Skyggetabeller!H235","v":1.7881152363236799E-2},{"$f":"Skyggetabeller!I235","v":1.7148238082597699E-2},{"$f":"Skyggetabeller!J235","v":1.7882283315321799E-2},{"$f":"Skyggetabeller!K235","v":1.89442897857077E-2},{"$f":"Skyggetabeller!L235","v":1.8351049410289099E-2},{"$f":"Skyggetabeller!M235","v":1.7409567400365599E-2}]
[null,"N",{"$f":"Skyggetabeller!C239","v":26410},{"$f":"Skyggetabeller!D239","v":26640},{"$f":"Skyggetabeller!E239","v":26710},{"$f":"Skyggetabeller!F239","v":26630},{"$f":"Skyggetabeller!G239","v":26660},{"$f":"Skyggetabeller!H239","v":26750},{"$f":"Skyggetabeller!I239","v":27070},{"$f":"Skyggetabeller!J239","v":27290},{"$f":"Skyggetabeller!K239","v":27640},{"$f":"Skyggetabeller!L239","v":27940},{"$f":"Skyggetabeller!M239","v":28090}]
[null,{"$f":"IF('Dine valg'!$G$24=\"\",\"Ingen sammenligningsgruppe valgt.\",\"Valgte kommuner i sammenligningsgruppen: \"&'Dine valg'!$G$24&\" \"&'Dine valg'!$G$25&\" \"&'Dine valg'!$G$26&\" \"&'Dine valg'!$G$27&\" \"&'Dine valg'!$G$28&\" \"&'Dine valg'!$G$29&\" \"&'Dine valg'!$G$30)","v":"Valgte kommuner i sammenligningsgruppen: Allerød Assens Ballerup    "}]
[null,{"$f":"RegNøgletal!B171","v":"Anm.: Hvis nøgletallet er angivet med * er der foretaget en diskretionering af data, da der er for få observationer. N angiver målgruppestørrelsen, som er alle borgere registreret med \"Sindslidelse\" i indberetningen til Danmarks Statistik."}]
[null,{"$f":"RegNøgletal!B172","v":"Kilde: Social- og Boligstyrelsens egne beregninger baseret på handicapstiatistikken ved Danmarks Statistik og Beskæftigelsesministeriets forløbsdatabase DREAM."}]
[]
[]
[]
[null,"Nøgletal 12: Beskæftigelsesgrad"]
[]
[null,{"$f":"\"Figur 12.1: Udvikling i målgruppens beskæftigelsesgrad i \"&Kommune","v":"Figur 12.1: Udvikling i målgruppens beskæftigelsesgrad i Herning"}]
[]
[]
[]
[]
[]
[]
[]
[]
[]
[]
[]
[]
[]
[]
[]
[]
[]
[]
[]
[]
[]
[]
[]
[null,{"$f":"RegNøgletal!$B$182","v":"Anm.: Hvis nøgletallet er angivet med * er der foretaget en diskretionering af data, da der er for få observationer. N angiver målgruppestørrelsen, som er alle borgere registreret med \"Sindslidelse\" i indberetningen til Danmarks Statistik."}]
[null,{"$f":"RegNøgletal!$B$183","v":"Kilde: Social- og Boligstyrelsens egne beregninger baseret på handicapstatistikken ved Danmarks Statistik og Beskæftigelsesministeriets forløbsdatabase DREAM."}]
[]
[]
[null,{"$f":"\"Tabel 12.1: Udvikling i målgruppens beskæftigelsesgrad i \"&Kommune","v":"Tabel 12.1: Udvikling i målgruppens beskæftigelsesgrad i Herning"}]
[]
[null,null,{"$f":"Skyggetabeller!C$11","v":"2018-01-01"},{"$f":"Skyggetabeller!D$11","v":"2018-07-01"},{"$f":"Skyggetabeller!E$11","v":"2019-01-01"},{"$f":"Skyggetabeller!F$11","v":"2019-07-01"},{"$f":"Skyggetabeller!G$11","v":"2020-01-01"},{"$f":"Skyggetabeller!H$11","v":"2020-07-01"},{"$f":"Skyggetabeller!I$11","v":"2021-01-01"},{"$f":"Skyggetabeller!J$11","v":"2021-07-01"},{"$f":"Skyggetabeller!K$11","v":"2022-01-01"},{"$f":"Skyggetabeller!L$11","v":"2022-07-01"},{"$f":"Skyggetabeller!M$11","v":"2023-01-01"}]
[null,"Faktisk beskæftigelsesgrad",{"$f":"RegNøgletal!D180","v":8.8651471984805302E-2},{"$f":"RegNøgletal!E180","v":8.8499338499338498E-2},{"$f":"RegNøgletal!F180","v":6.5581854043392507E-2},{"$f":"RegNøgletal!G180","v":5.8772110242698503E-2},{"$f":"RegNøgletal!H180","v":5.0540368722186903E-2},{"$f":"RegNøgletal!I180","v":5.02108857200241E-2},{"$f":"RegNøgletal!J180","v":5.3656835392586699E-2},{"$f":"RegNøgletal!K180","v":6.3200865630533204E-2},{"$f":"RegNøgletal!L180","v":5.8395260092387997E-2},{"$f":"RegNøgletal!M180","v":6.9178082191780801E-2},{"$f":"RegNøgletal!N180","v":8.8087606837606899E-2}]
[null,{"$f":"RegNøgletal!$B$182","v":"Anm.: Hvis nøgletallet er angivet med * er der foretaget en diskretionering af data, da der er for få observationer. N angiver målgruppestørrelsen, som er alle borgere registreret med \"Sindslidelse\" i indberetningen til Danmarks Statistik."}]
[null,{"$f":"RegNøgletal!$B$183","v":"Kilde: Social- og Boligstyrelsens egne beregninger baseret på handicapstatistikken ved Danmarks Statistik og Beskæftigelsesministeriets forløbsdatabase DREAM."}]
[]
[]
[]
[null,"Figur 12.2: Udvikling i målgruppens beskæftigelsesgrad på tværs af kommuner"]
[null,null,null,null,null,null,null,null,null,null,"Benyt, slet eller erstat gerne følgende tekst til beskrivelse af udviklingen over tid for det pågældende nøgletal. Beskrivelsen vil blive indsat i rapporten (skriv maks 10 linjer):"]
[]
[]
[]
[]
[]
[]
[]
[]
[]
[]
[]
[]
[]
[]
[]
[]
[]
[]
[]
[]
[]
[]
[null,{"$f":"RegNøgletal!$B$182","v":"Anm.: Hvis nøgletallet er angivet med * er der foretaget en diskretionering af data, da der er for få observationer. N angiver målgruppestørrelsen, som er alle borgere registreret med \"Sindslidelse\" i indberetningen til Danmarks Statistik."}]
[null,{"$f":"RegNøgletal!$B$183","v":"Kilde: Social- og Boligstyrelsens egne beregninger baseret på handicapstatistikken ved Danmarks Statistik og Beskæftigelsesministeriets forløbsdatabase DREAM."}]
[]
[]
[null,"Tabel 12.2: Udvikling i målgruppens beskæftigelsesgrad på tværs af kommuner"]
[]
[null,null,{"$f":"Skyggetabeller!C$11","v":"2018-01-01"},{"$f":"Skyggetabeller!D$11","v":"2018-07-01"},{"$f":"Skyggetabeller!E$11","v":"2019-01-01"},{"$f":"Skyggetabeller!F$11","v":"2019-07-01"},{"$f":"Skyggetabeller!G$11","v":"2020-01-01"},{"$f":"Skyggetabeller!H$11","v":"2020-07-01"},{"$f":"Skyggetabeller!I$11","v":"2021-01-01"},{"$f":"Skyggetabeller!J$11","v":"2021-07-01"},{"$f":"Skyggetabeller!K$11","v":"2022-01-01"},{"$f":"Skyggetabeller!L$11","v":"2022-07-01"},{"$f":"Skyggetabeller!M$11","v":"2023-01-01"}]
[null,{"$f":"Kommune","v":"Herning"}]
[null,"Andel",{"$f":"Skyggetabeller!C249","v":8.8651471984805302E-2},{"$f":"Skyggetabeller!D249","v":8.8499338499338498E-2},{"$f":"Skyggetabeller!E249","v":6.5581854043392507E-2},{"$f":"Skyggetabeller!F249","v":5.8772110242698503E-2},{"$f":"Skyggetabeller!G249","v":5.0540368722186903E-2},{"$f":"Skyggetabeller!H249","v":5.02108857200241E-2},{"$f":"Skyggetabeller!I249","v":5.3656835392586699E-2},{"$f":"Skyggetabeller!J249","v":6.3200865630533204E-2},{"$f":"Skyggetabeller!K249","v":5.8395260092387997E-2},{"$f":"Skyggetabeller!L249","v":6.9178082191780801E-2},{"$f":"Skyggetabeller!M249","v":8.8087606837606899E-2}]
[null,"N",{"$f":"Skyggetabeller!C253","v":405},{"$f":"Skyggetabeller!D253","v":407},{"$f":"Skyggetabeller!E253","v":390},{"$f":"Skyggetabeller!F253","v":374},{"$f":"Skyggetabeller!G253","v":363},{"$f":"Skyggetabeller!H253","v":383},{"$f":"Skyggetabeller!I253","v":386},{"$f":"Skyggetabeller!J253","v":391},{"$f":"Skyggetabeller!K253","v":383},{"$f":"Skyggetabeller!L253","v":365},{"$f":"Skyggetabeller!M253","v":360}]
[null,"Sammenligningskommuner"]
[null,"Andel",{"$f":"Skyggetabeller!C250","v":5.6686929698568367E-2},{"$f":"Skyggetabeller!D250","v":3.5700369379836464E-2},{"$f":"Skyggetabeller!E250","v":5.2651515151515171E-2},{"$f":"Skyggetabeller!F250","v":7.1903719537801877E-2},{"$f":"Skyggetabeller!G250","v":8.3302904114924692E-2},{"$f":"Skyggetabeller!H250","v":7.8831654912524127E-2},{"$f":"Skyggetabeller!I250","v":7.2110032587194894E-2},{"$f":"Skyggetabeller!J250","v":6.2357921466617096E-2},{"$f":"Skyggetabeller!K250","v":5.9333685421984299E-2},{"$f":"Skyggetabeller!L250","v":5.9333685421984299E-2},{"$f":"Skyggetabeller!M250","v":5.9333685421984299E-2}]
[null,"N",{"$f":"Skyggetabeller!C254","v":495},{"$f":"Skyggetabeller!D254","v":471},{"$f":"Skyggetabeller!E254","v":484},{"$f":"Skyggetabeller!F254","v":490},{"$f":"Skyggetabeller!G254","v":487},{"$f":"Skyggetabeller!H254","v":492},{"$f":"Skyggetabeller!I254","v":496},{"$f":"Skyggetabeller!J254","v":516},{"$f":"Skyggetabeller!K254","v":518},{"$f":"Skyggetabeller!L254","v":518},{"$f":"Skyggetabeller!M254","v":518}]
[null,"Landsgennemsnit"]
[null,"Andel",{"$f":"Skyggetabeller!C251","v":5.01587238692792E-2},{"$f":"Skyggetabeller!D251","v":5.1822712818020998E-2},{"$f":"Skyggetabeller!E251","v":5.25409849604207E-2},{"$f":"Skyggetabeller!F251","v":5.4053878156906397E-2},{"$f":"Skyggetabeller!G251","v":5.5326167854654697E-2},{"$f":"Skyggetabeller!H251","v":5.6471543611260798E-2},{"$f":"Skyggetabeller!I251","v":5.71087201829725E-2},{"$f":"Skyggetabeller!J251","v":5.8363550720793599E-2},{"$f":"Skyggetabeller!K251","v":6.3460416909620898E-2},{"$f":"Skyggetabeller!L251","v":6.8978936247113098E-2},{"$f":"Skyggetabeller!M251","v":7.1174536042857006E-2}]
[null,"N",{"$f":"Skyggetabeller!C255","v":26410},{"$f":"Skyggetabeller!D255","v":26640},{"$f":"Skyggetabeller!E255","v":26710},{"$f":"Skyggetabeller!F255","v":26630},{"$f":"Skyggetabeller!G255","v":26660},{"$f":"Skyggetabeller!H255","v":26750},{"$f":"Skyggetabeller!I255","v":27070},{"$f":"Skyggetabeller!J255","v":27290},{"$f":"Skyggetabeller!K255","v":27640},{"$f":"Skyggetabeller!L255","v":27940},{"$f":"Skyggetabeller!M255","v":28090}]
[null,{"$f":"IF('Dine valg'!$G$24=\"\",\"Ingen sammenligningsgruppe valgt.\",\"Valgte kommuner i sammenligningsgruppen: \"&'Dine valg'!$G$24&\" \"&'Dine valg'!$G$25&\" \"&'Dine valg'!$G$26&\" \"&'Dine valg'!$G$27&\" \"&'Dine valg'!$G$28&\" \"&'Dine valg'!$G$29&\" \"&'Dine valg'!$G$30)","v":"Valgte kommuner i sammenligningsgruppen: Allerød Assens Ballerup    "}]
[null,{"$f":"RegNøgletal!B182","v":"Anm.: Hvis nøgletallet er angivet med * er der foretaget en diskretionering af data, da der er for få observationer. N angiver målgruppestørrelsen, som er alle borgere registreret med \"Sindslidelse\" i indberetningen til Danmarks Statistik."}]
[null,{"$f":"RegNøgletal!B183","v":"Kilde: Social- og Boligstyrelsens egne beregninger baseret på handicapstatistikken ved Danmarks Statistik og Beskæftigelsesministeriets forløbsdatabase DREAM."}]
[]
[]
[]
[null,"Nøgletal 12.1: Beskæftigelsesgrad for modtagere af forebyggende indsatser"]
[]
[null,{"$f":"\"Figur 12.1.1: Udvikling i beskæftigelsesgrad for modtagere af forebyggende indsatser i \"&Kommune","v":"Figur 12.1.1: Udvikling i beskæftigelsesgrad for modtagere af forebyggende indsatser i Herning"}]
[]
[]
[]
[]
[]
[]
[]
[]
[]
[]
[]
[]
[]
[]
[]
[]
[]
[]
[]
[]
[]
[]
[]
[null,{"$f":"RegNøgletal!$B$182","v":"Anm.: Hvis nøgletallet er angivet med * er der foretaget en diskretionering af data, da der er for få observationer. N angiver målgruppestørrelsen, som er alle borgere registreret med \"Sindslidelse\" i indberetningen til Danmarks Statistik."}]
[null,{"$f":"RegNøgletal!$B$183","v":"Kilde: Social- og Boligstyrelsens egne beregninger baseret på handicapstatistikken ved Danmarks Statistik og Beskæftigelsesministeriets forløbsdatabase DREAM."}]
[]
[]
[null,{"$f":"\"Tabel 12.1.1: Udvikling i beskæftigelsesgraden for modtagere af forebyggende indsatser i \"&Kommune","v":"Tabel 12.1.1: Udvikling i beskæftigelsesgraden for modtagere af forebyggende indsatser i Herning"}]
[]
[null,null,{"$f":"Skyggetabeller!C$11","v":"2018-01-01"},{"$f":"Skyggetabeller!D$11","v":"2018-07-01"},{"$f":"Skyggetabeller!E$11","v":"2019-01-01"},{"$f":"Skyggetabeller!F$11","v":"2019-07-01"},{"$f":"Skyggetabeller!G$11","v":"2020-01-01"},{"$f":"Skyggetabeller!H$11","v":"2020-07-01"},{"$f":"Skyggetabeller!I$11","v":"2021-01-01"},{"$f":"Skyggetabeller!J$11","v":"2021-07-01"},{"$f":"Skyggetabeller!K$11","v":"2022-01-01"},{"$f":"Skyggetabeller!L$11","v":"2022-07-01"},{"$f":"Skyggetabeller!M$11","v":"2023-01-01"}]
[null,"Faktisk beskæftigelsesgrad",{"$f":"RegNøgletal!D189","v":0},{"$f":"RegNøgletal!E189","v":0},{"$f":"RegNøgletal!F189","v":0},{"$f":"RegNøgletal!G189","v":0},{"$f":"RegNøgletal!H189","v":"*"},{"$f":"RegNøgletal!I189","v":1.18343195266272E-2},{"$f":"RegNøgletal!J189","v":5.3167420814479602E-2},{"$f":"RegNøgletal!K189","v":0.23317307692307701},{"$f":"RegNøgletal!L189","v":0.157894736842105},{"$f":"RegNøgletal!M189","v":0.23420329670329701},{"$f":"RegNøgletal!N189","v":0.20719602977667501}]
[null,{"$f":"RegNøgletal!$B$182","v":"Anm.: Hvis nøgletallet er angivet med * er der foretaget en diskretionering af data, da der er for få observationer. N angiver målgruppestørrelsen, som er alle borgere registreret med \"Sindslidelse\" i indberetningen til Danmarks Statistik."}]
[null,{"$f":"RegNøgletal!$B$183","v":"Kilde: Social- og Boligstyrelsens egne beregninger baseret på handicapstatistikken ved Danmarks Statistik og Beskæftigelsesministeriets forløbsdatabase DREAM."}]
[]
[null,"Figur 12.1.2: Udvikling i beskæftigelsesgrad for modtagere af forebyggende indsatser på tværs af kommuner"]
[]
[]
[]
[]
[]
[]
[]
[]
[]
[]
[]
[]
[]
[]
[]
[]
[]
[]
[]
[]
[]
[]
[]
[null,{"$f":"RegNøgletal!$B$182","v":"Anm.: Hvis nøgletallet er angivet med * er der foretaget en diskretionering af data, da der er for få observationer. N angiver målgruppestørrelsen, som er alle borgere registreret med \"Sindslidelse\" i indberetningen til Danmarks Statistik."}]
[null,{"$f":"RegNøgletal!$B$183","v":"Kilde: Social- og Boligstyrelsens egne beregninger baseret på handicapstatistikken ved Danmarks Statistik og Beskæftigelsesministeriets forløbsdatabase DREAM."}]
[]
[]
[null,"Tabel 12.1.2: Udvikling i beskæftigelsesgrad, for modtagere af forebyggende indsatser på tværs af kommuner"]
[]
[null,null,{"$f":"Skyggetabeller!C$11","v":"2018-01-01"},{"$f":"Skyggetabeller!D$11","v":"2018-07-01"},{"$f":"Skyggetabeller!E$11","v":"2019-01-01"},{"$f":"Skyggetabeller!F$11","v":"2019-07-01"},{"$f":"Skyggetabeller!G$11","v":"2020-01-01"},{"$f":"Skyggetabeller!H$11","v":"2020-07-01"},{"$f":"Skyggetabeller!I$11","v":"2021-01-01"},{"$f":"Skyggetabeller!J$11","v":"2021-07-01"},{"$f":"Skyggetabeller!K$11","v":"2022-01-01"},{"$f":"Skyggetabeller!L$11","v":"2022-07-01"},{"$f":"Skyggetabeller!M$11","v":"2023-01-01"}]
[null,{"$f":"Kommune","v":"Herning"}]
[null,"Andel",{"$f":"Skyggetabeller!C264","v":0},{"$f":"Skyggetabeller!D264","v":0},{"$f":"Skyggetabeller!E264","v":0},{"$f":"Skyggetabeller!F264","v":0},{"$f":"Skyggetabeller!G264","v":"*"},{"$f":"Skyggetabeller!H264","v":1.18343195266272E-2},{"$f":"Skyggetabeller!I264","v":5.3167420814479602E-2},{"$f":"Skyggetabeller!J264","v":0.23317307692307701},{"$f":"Skyggetabeller!K264","v":0.157894736842105},{"$f":"Skyggetabeller!L264","v":0.23420329670329701},{"$f":"Skyggetabeller!M264","v":0.20719602977667501}]
[null,"N",{"$f":"Skyggetabeller!C268","v":0},{"$f":"Skyggetabeller!D268","v":0},{"$f":"Skyggetabeller!E268","v":0},{"$f":"Skyggetabeller!F268","v":0},{"$f":"Skyggetabeller!G268","v":"*"},{"$f":"Skyggetabeller!H268","v":13},{"$f":"Skyggetabeller!I268","v":17},{"$f":"Skyggetabeller!J268","v":16},{"$f":"Skyggetabeller!K268","v":19},{"$f":"Skyggetabeller!L268","v":28},{"$f":"Skyggetabeller!M268","v":31}]
[null,"Sammenligningskommuner"]
[null,"Andel",{"$f":"Skyggetabeller!C265","v":0},{"$f":"Skyggetabeller!D265","v":0},{"$f":"Skyggetabeller!E265","v":0},{"$f":"Skyggetabeller!F265","v":0},{"$f":"Skyggetabeller!G265","v":0},{"$f":"Skyggetabeller!H265","v":0},{"$f":"Skyggetabeller!I265","v":0},{"$f":"Skyggetabeller!J265","v":0},{"$f":"Skyggetabeller!K265","v":0},{"$f":"Skyggetabeller!L265","v":0},{"$f":"Skyggetabeller!M265","v":0}]
[null,"N",{"$f":"Skyggetabeller!C269","v":0},{"$f":"Skyggetabeller!D269","v":0},{"$f":"Skyggetabeller!E269","v":0},{"$f":"Skyggetabeller!F269","v":0},{"$f":"Skyggetabeller!G269","v":0},{"$f":"Skyggetabeller!H269","v":0},{"$f":"Skyggetabeller!I269","v":0},{"$f":"Skyggetabeller!J269","v":0},{"$f":"Skyggetabeller!K269","v":0},{"$f":"Skyggetabeller!L269","v":0},{"$f":"Skyggetabeller!M269","v":0}]
[null,"Landsgennemsnit"]
[null,"Andel",{"$f":"Skyggetabeller!C266","v":0},{"$f":"Skyggetabeller!D266","v":1.6024157169990502E-2},{"$f":"Skyggetabeller!E266","v":1.9813721928804501E-2},{"$f":"Skyggetabeller!F266","v":3.9380587655505402E-2},{"$f":"Skyggetabeller!G266","v":3.6932357248885099E-2},{"$f":"Skyggetabeller!H266","v":5.0559876512058198E-2},{"$f":"Skyggetabeller!I266","v":6.0245521027026301E-2},{"$f":"Skyggetabeller!J266","v":7.2641668790166702E-2},{"$f":"Skyggetabeller!K266","v":8.5268582712813804E-2},{"$f":"Skyggetabeller!L266","v":8.0488658977647801E-2},{"$f":"Skyggetabeller!M266","v":8.7473808153770996E-2}]
[null,"N",{"$f":"Skyggetabeller!C270","v":0},{"$f":"Skyggetabeller!D270","v":90},{"$f":"Skyggetabeller!E270","v":240},{"$f":"Skyggetabeller!F270","v":430},{"$f":"Skyggetabeller!G270","v":610},{"$f":"Skyggetabeller!H270","v":910},{"$f":"Skyggetabeller!I270","v":1160},{"$f":"Skyggetabeller!J270","v":1080},{"$f":"Skyggetabeller!K270","v":1150},{"$f":"Skyggetabeller!L270","v":1230},{"$f":"Skyggetabeller!M270","v":1310}]
[null,{"$f":"IF('Dine valg'!$G$24=\"\",\"Ingen sammenligningsgruppe valgt.\",\"Valgte kommuner i sammenligningsgruppen: \"&'Dine valg'!$G$24&\" \"&'Dine valg'!$G$25&\" \"&'Dine valg'!$G$26&\" \"&'Dine valg'!$G$27&\" \"&'Dine valg'!$G$28&\" \"&'Dine valg'!$G$29&\" \"&'Dine valg'!$G$30)","v":"Valgte kommuner i sammenligningsgruppen: Allerød Assens Ballerup    "}]
[null,{"$f":"RegNøgletal!B191","v":"Anm.: Hvis nøgletallet er angivet med * er der foretaget en diskretionering af data, da der er for få observationer. N angiver målgruppestørrelsen, som er alle borgere der modtager forebyggene indsats efter SEL § 82. Ydelser efter servicelovens § 82 er først blevet indberetningspligtig pr. 1/7-2020."}]
[null,{"$f":"RegNøgletal!B192","v":"Kilde: Social- og Boligstyrelsens egne beregninger baseret på handicapstiatistikken ved Danmarks Statistik og Beskæftigelsesministeriets forløbsdatabase DREAM."}]
[]
[]
[]
[null,"Nøgletal 12.2: Beskæftigelsesgrad for den øvrige målgruppe"]
[]
[null,{"$f":"\"Figur 12.2.1: Udvikling i beskæftigelsesgrad for for den øvrige målgruppe i \"&Kommune","v":"Figur 12.2.1: Udvikling i beskæftigelsesgrad for for den øvrige målgruppe i Herning"}]
[]
[]
[]
[]
[]
[]
[]
[]
[]
[]
[]
[]
[]
[]
[]
[]
[]
[]
[]
[]
[]
[]
[]
[null,{"$f":"RegNøgletal!$B$199","v":"Anm.: Hvis nøgletallet er angivet med * er der foretaget en diskretionering af data, da der er for få observationer. N angiver målgruppestørrelsen for nøgletallet, som er alle borgere med \"Sindslidelse\" som ikke modtager forebyggende indsats efter SEL § 82."}]
[null,{"$f":"RegNøgletal!$B$183","v":"Kilde: Social- og Boligstyrelsens egne beregninger baseret på handicapstatistikken ved Danmarks Statistik og Beskæftigelsesministeriets forløbsdatabase DREAM."}]
[]
[]
[null,{"$f":"\"Tabel 12.2.1: Udvikling i beskæftigelsesgraden for den øvrige målgruppe i \"&Kommune","v":"Tabel 12.2.1: Udvikling i beskæftigelsesgraden for den øvrige målgruppe i Herning"}]
[]
[null,null,{"$f":"Skyggetabeller!C$11","v":"2018-01-01"},{"$f":"Skyggetabeller!D$11","v":"2018-07-01"},{"$f":"Skyggetabeller!E$11","v":"2019-01-01"},{"$f":"Skyggetabeller!F$11","v":"2019-07-01"},{"$f":"Skyggetabeller!G$11","v":"2020-01-01"},{"$f":"Skyggetabeller!H$11","v":"2020-07-01"},{"$f":"Skyggetabeller!I$11","v":"2021-01-01"},{"$f":"Skyggetabeller!J$11","v":"2021-07-01"},{"$f":"Skyggetabeller!K$11","v":"2022-01-01"},{"$f":"Skyggetabeller!L$11","v":"2022-07-01"},{"$f":"Skyggetabeller!M$11","v":"2023-01-01"}]
[null,"Faktisk beskæftigelsesgrad",{"$f":"RegNøgletal!D197","v":8.8651471984805302E-2},{"$f":"RegNøgletal!E197","v":8.8499338499338498E-2},{"$f":"RegNøgletal!F197","v":6.5581854043392507E-2},{"$f":"RegNøgletal!G197","v":5.8772110242698503E-2},{"$f":"RegNøgletal!H197","v":5.0679983000424998E-2},{"$f":"RegNøgletal!I197","v":5.1559251559251597E-2},{"$f":"RegNøgletal!J197","v":5.3679382947675602E-2},{"$f":"RegNøgletal!K197","v":5.5948717948717898E-2},{"$f":"RegNøgletal!L197","v":5.3201606086221501E-2},{"$f":"RegNøgletal!M197","v":5.5466788404473902E-2},{"$f":"RegNøgletal!N197","v":7.6864624736965204E-2}]
[null,{"$f":"RegNøgletal!$B$199","v":"Anm.: Hvis nøgletallet er angivet med * er der foretaget en diskretionering af data, da der er for få observationer. N angiver målgruppestørrelsen for nøgletallet, som er alle borgere med \"Sindslidelse\" som ikke modtager forebyggende indsats efter SEL § 82."}]
[null,{"$f":"RegNøgletal!$B$183","v":"Kilde: Social- og Boligstyrelsens egne beregninger baseret på handicapstatistikken ved Danmarks Statistik og Beskæftigelsesministeriets forløbsdatabase DREAM."}]
[]
[null,"Figur 12.2.2: Udvikling i beskæftigelsesgrad for den øvrige målgruppe på tværs af kommuner"]
[]
[]
[]
[]
[]
[]
[]
[]
[]
[]
[]
[]
[]
[]
[]
[]
[]
[]
[]
[]
[]
[]
[]
[null,{"$f":"RegNøgletal!$B$199","v":"Anm.: Hvis nøgletallet er angivet med * er der foretaget en diskretionering af data, da der er for få observationer. N angiver målgruppestørrelsen for nøgletallet, som er alle borgere med \"Sindslidelse\" som ikke modtager forebyggende indsats efter SEL § 82."}]
[null,{"$f":"RegNøgletal!$B$183","v":"Kilde: Social- og Boligstyrelsens egne beregninger baseret på handicapstatistikken ved Danmarks Statistik og Beskæftigelsesministeriets forløbsdatabase DREAM."}]
[]
[]
[null,"Tabel 12.2.2: Udvikling i beskæftigelsesgrad, for den øvrige målgruppe på tværs af kommuner"]
[]
[null,null,{"$f":"Skyggetabeller!C$11","v":"2018-01-01"},{"$f":"Skyggetabeller!D$11","v":"2018-07-01"},{"$f":"Skyggetabeller!E$11","v":"2019-01-01"},{"$f":"Skyggetabeller!F$11","v":"2019-07-01"},{"$f":"Skyggetabeller!G$11","v":"2020-01-01"},{"$f":"Skyggetabeller!H$11","v":"2020-07-01"},{"$f":"Skyggetabeller!I$11","v":"2021-01-01"},{"$f":"Skyggetabeller!J$11","v":"2021-07-01"},{"$f":"Skyggetabeller!K$11","v":"2022-01-01"},{"$f":"Skyggetabeller!L$11","v":"2022-07-01"},{"$f":"Skyggetabeller!M$11","v":"2023-01-01"}]
[null,{"$f":"Kommune","v":"Herning"}]
[null,"Andel",{"$f":"Skyggetabeller!C279","v":8.8651471984805302E-2},{"$f":"Skyggetabeller!D279","v":8.8499338499338498E-2},{"$f":"Skyggetabeller!E279","v":6.5581854043392507E-2},{"$f":"Skyggetabeller!F279","v":5.8772110242698503E-2},{"$f":"Skyggetabeller!G279","v":5.0679983000424998E-2},{"$f":"Skyggetabeller!H279","v":5.1559251559251597E-2},{"$f":"Skyggetabeller!I279","v":5.3679382947675602E-2},{"$f":"Skyggetabeller!J279","v":5.5948717948717898E-2},{"$f":"Skyggetabeller!K279","v":5.3201606086221501E-2},{"$f":"Skyggetabeller!L279","v":5.5466788404473902E-2},{"$f":"Skyggetabeller!M279","v":7.6864624736965204E-2}]
[null,"N",{"$f":"Skyggetabeller!C283","v":405},{"$f":"Skyggetabeller!D283","v":407},{"$f":"Skyggetabeller!E283","v":390},{"$f":"Skyggetabeller!F283","v":374},{"$f":"Skyggetabeller!G283","v":"*"},{"$f":"Skyggetabeller!H283","v":370},{"$f":"Skyggetabeller!I283","v":369},{"$f":"Skyggetabeller!J283","v":375},{"$f":"Skyggetabeller!K283","v":364},{"$f":"Skyggetabeller!L283","v":337},{"$f":"Skyggetabeller!M283","v":329}]
[null,"Sammenligningskommuner"]
[null,"Andel",{"$f":"Skyggetabeller!C280","v":5.6686929698568367E-2},{"$f":"Skyggetabeller!D280","v":3.5700369379836464E-2},{"$f":"Skyggetabeller!E280","v":5.2651515151515171E-2},{"$f":"Skyggetabeller!F280","v":7.1903719537801877E-2},{"$f":"Skyggetabeller!G280","v":8.3302904114924692E-2},{"$f":"Skyggetabeller!H280","v":7.8831654912524127E-2},{"$f":"Skyggetabeller!I280","v":7.2110032587194894E-2},{"$f":"Skyggetabeller!J280","v":6.2357921466617096E-2},{"$f":"Skyggetabeller!K280","v":5.9333685421984299E-2},{"$f":"Skyggetabeller!L280","v":5.9333685421984299E-2},{"$f":"Skyggetabeller!M280","v":5.9333685421984299E-2}]
[null,"N",{"$f":"Skyggetabeller!C284","v":495},{"$f":"Skyggetabeller!D284","v":471},{"$f":"Skyggetabeller!E284","v":484},{"$f":"Skyggetabeller!F284","v":464},{"$f":"Skyggetabeller!G284","v":457},{"$f":"Skyggetabeller!H284","v":460},{"$f":"Skyggetabeller!I284","v":462},{"$f":"Skyggetabeller!J284","v":516},{"$f":"Skyggetabeller!K284","v":518},{"$f":"Skyggetabeller!L284","v":518},{"$f":"Skyggetabeller!M284","v":518}]
[null,"Landsgennemsnit"]
[null,"Andel",{"$f":"Skyggetabeller!C281","v":5.0162313110772697E-2},{"$f":"Skyggetabeller!D281","v":5.1588394620299002E-2},{"$f":"Skyggetabeller!E281","v":5.1967008273060299E-2},{"$f":"Skyggetabeller!F281","v":5.3193253260846299E-2},{"$f":"Skyggetabeller!G281","v":5.4497582416008397E-2},{"$f":"Skyggetabeller!H281","v":5.52763985669446E-2},{"$f":"Skyggetabeller!I281","v":5.57487642643298E-2},{"$f":"Skyggetabeller!J281","v":5.65929151026714E-2},{"$f":"Skyggetabeller!K281","v":6.0945511488541E-2},{"$f":"Skyggetabeller!L281","v":6.6240384756591594E-2},{"$f":"Skyggetabeller!M281","v":6.7833442491279303E-2}]
[null,"N",{"$f":"Skyggetabeller!C285","v":26410},{"$f":"Skyggetabeller!D285","v":26560},{"$f":"Skyggetabeller!E285","v":26470},{"$f":"Skyggetabeller!F285","v":26200},{"$f":"Skyggetabeller!G285","v":26060},{"$f":"Skyggetabeller!H285","v":25840},{"$f":"Skyggetabeller!I285","v":25900},{"$f":"Skyggetabeller!J285","v":26210},{"$f":"Skyggetabeller!K285","v":26490},{"$f":"Skyggetabeller!L285","v":26710},{"$f":"Skyggetabeller!M285","v":26780}]
[null,{"$f":"IF('Dine valg'!$G$24=\"\",\"Ingen sammenligningsgruppe valgt.\",\"Valgte kommuner i sammenligningsgruppen: \"&'Dine valg'!$G$24&\" \"&'Dine valg'!$G$25&\" \"&'Dine valg'!$G$26&\" \"&'Dine valg'!$G$27&\" \"&'Dine valg'!$G$28&\" \"&'Dine valg'!$G$29&\" \"&'Dine valg'!$G$30)","v":"Valgte kommuner i sammenligningsgruppen: Allerød Assens Ballerup    "}]
[null,{"$f":"RegNøgletal!B199","v":"Anm.: Hvis nøgletallet er angivet med * er der foretaget en diskretionering af data, da der er for få observationer. N angiver målgruppestørrelsen for nøgletallet, som er alle borgere med \"Sindslidelse\" som ikke modtager forebyggende indsats efter SEL § 82."}]
[null,{"$f":"RegNøgletal!B200","v":"Kilde: Social- og Boligstyrelsens egne beregninger baseret på handicapstiatistikken ved Danmarks Statistik og Beskæftigelsesministeriets forløbsdatabase DREAM."}]
[]
[]
[]
[null,"Nøgletal 13: Trivsel"]
[]
[null,"Figur 13.1: Udvikling i målgruppens trivselsscore (WHO-5) "]
[]
[null,null,null,null,null,null,null,null,null,null,"Benyt, slet eller erstat gerne følgende tekst til beskrivelse af udviklingen over tid for det pågældende nøgletal. Beskrivelsen vil blive indsat i rapporten (skriv maks 10 linjer):"]
[]
[]
[]
[]
[]
[]
[]
[]
[]
[]
[]
[]
[]
[]
[]
[]
[]
[]
[]
[null,{"$f":"Indtastningsark!$B$46","v":"Kilde: Lokalt indsamlede surveybesvarelser fra borgere i socialpsykiatrien på instrumentet WHO-5 og Brief-Inspire-O."}]
[]
[]
[]
[null,"Tabel 13.1: Udvikling i målgruppens trivselsscore (WHO-5)"]
[]
[null,13,{"$f":"Tab13_start","v":"2023-07-01"},{"$f":"Tab13_start","v":"2023-07-01"},{"$f":"Tab13_start","v":"2023-07-01"},{"$f":"Tab13_start","v":"2023-07-01"}]
[null,{"$f":"Kommune","v":"Herning"}]
[null,"Gennemsnitlig score",{"$f":"Skyggetabeller!C291","v":"*"},{"$f":"Skyggetabeller!D291","v":"*"},{"$f":"Skyggetabeller!E291","v":"*"},{"$f":"Skyggetabeller!F291","v":"*"}]
[null,"N",{"$f":"Skyggetabeller!C293","v":"*"},{"$f":"Skyggetabeller!D293","v":"*"},{"$f":"Skyggetabeller!E293","v":"*"},{"$f":"Skyggetabeller!F293","v":"*"}]
[null,{"$f":"Indtastningsark!$B$46","v":"Kilde: Lokalt indsamlede surveybesvarelser fra borgere i socialpsykiatrien på instrumentet WHO-5 og Brief-Inspire-O."}]
[]
[]
[]
[]
[null,"Nøgletal 13.1: Trivsel for modtagere af forebyggende indsatser"]
[]
[null,"Figur 13.1.1: Udvikling i trivselsscore (WHO-5) for modtagere af forebyggende indsatser"]
[]
[]
[]
[]
[]
[]
[]
[]
[]
[]
[]
[]
[]
[]
[]
[]
[]
[]
[]
[]
[]
[]
[]
[null,{"$f":"Indtastningsark!$B$46","v":"Kilde: Lokalt indsamlede surveybesvarelser fra borgere i socialpsykiatrien på instrumentet WHO-5 og Brief-Inspire-O."}]
[]
[]
[]
[null,"Tabel 13.1.1: Udvikling i trivselsscore (WHO-5) for modtagere af forebyggende indsatser"]
[]
[null,"13.1",{"$f":"Skyggetabeller!C296","v":"2023-07-01"},{"$f":"Skyggetabeller!D296","v":"2024-01-01"},{"$f":"Skyggetabeller!E296","v":"2024-07-01"},{"$f":"Skyggetabeller!F296","v":"2025-01-01"}]
[null,{"$f":"Kommune","v":"Herning"}]
[null,"Gennemsnitlig score",{"$f":"Skyggetabeller!C297","v":"*"},{"$f":"Skyggetabeller!D297","v":"*"},{"$f":"Skyggetabeller!E297","v":"*"},{"$f":"Skyggetabeller!F297","v":"*"}]
[null,"N",{"$f":"Skyggetabeller!C299","v":"*"},{"$f":"Skyggetabeller!D299","v":"*"},{"$f":"Skyggetabeller!E299","v":"*"},{"$f":"Skyggetabeller!F299","v":"*"}]
[null,"Kilde: Surveybesvarelser fra borgere i projektet baseret på instrumentet WHO-5"]
[]
[]
[]
[]
[null,"Nøgletal 13.2: Trivsel for den øvrige målgruppe"]
[]
[null,"Figur 13.2.1: Udvikling i trivselsscore (WHO-5) for den øvrige målgruppe"]
[]
[]
[]
[]
[]
[]
[]
[]
[]
[]
[]
[]
[]
[]
[]
[]
[]
[]
[]
[]
[]
[]
[]
[null,{"$f":"Indtastningsark!$B$46","v":"Kilde: Lokalt indsamlede surveybesvarelser fra borgere i socialpsykiatrien på instrumentet WHO-5 og Brief-Inspire-O."}]
[]
[]
[]
[null,"Tabel 13.2.1: Udvikling i trivselsscore (WHO-5) for den øvrige målgruppe"]
[]
[null,{"$f":"Indtastningsark!B27","v":"13.2"},{"$f":"Skyggetabeller!C301","v":"2023-07-01"},{"$f":"Skyggetabeller!D301","v":"2024-01-01"},{"$f":"Skyggetabeller!E301","v":"2024-07-01"},{"$f":"Skyggetabeller!F301","v":"2025-01-01"}]
[null,{"$f":"Kommune","v":"Herning"}]
[null,"Gennemsnitlig score",{"$f":"Skyggetabeller!C302","v":"*"},{"$f":"Skyggetabeller!D302","v":"*"},{"$f":"Skyggetabeller!E302","v":"*"},{"$f":"Skyggetabeller!F302","v":"*"}]
[null,"N",{"$f":"Skyggetabeller!C304","v":"*"},{"$f":"Skyggetabeller!D304","v":"*"},{"$f":"Skyggetabeller!E304","v":"*"},{"$f":"Skyggetabeller!F304","v":"*"}]
[null,"Kilde: Surveybesvarelser fra borgere i projektet baseret på instrumentet WHO-5"]
[]
[]
[]
[]
[null,"Nøgletal 14: Personlig recovery"]
[]
[null,"Figur 14.1: Udvikling i målgruppens personlige recovery (Brief-Inspire-O)"]
[]
[null,null,null,null,null,null,null,null,null,null,"Benyt, slet eller erstat gerne følgende tekst til beskrivelse af udviklingen over tid for det pågældende nøgletal. Beskrivelsen vil blive indsat i rapporten (skriv maks 10 linjer):"]
[]
[]
[]
[]
[]
[]
[]
[]
[]
[]
[]
[]
[]
[]
[]
[]
[]
[]
[]
[]
[]
[null,{"$f":"Indtastningsark!B46","v":"Kilde: Lokalt indsamlede surveybesvarelser fra borgere i socialpsykiatrien på instrumentet WHO-5 og Brief-Inspire-O."}]
[null,"Anm.: Gennemsnittet for normalbefolkningen er baseret på resultater fra artiklen: Stine Bjerrum Moeller, Matthias Gondan, Stephen F. Austin, Mike Slade &\nSebastian Simonsen, National norms of mental health for Denmark, Nordic Journal of Psychiatry, 2023."]
[]
[]
[]
[null,"Tabel 14.1: Udvikling i målgruppens personlige recovery (Brief-Inspire-O)"]
[]
[null,{"$f":"Indtastningsark!B29","v":14},{"$f":"Skyggetabeller!C310","v":"2023-07-01"},{"$f":"Skyggetabeller!D310","v":"2024-01-01"},{"$f":"Skyggetabeller!E310","v":"2024-07-01"},{"$f":"Skyggetabeller!F310","v":"2025-01-01"}]
[null,{"$f":"Kommune","v":"Herning"}]
[null,"Gennemsnitlig score",{"$f":"Skyggetabeller!C311","v":"*"},{"$f":"Skyggetabeller!D311","v":"*"},{"$f":"Skyggetabeller!E311","v":"*"},{"$f":"Skyggetabeller!F311","v":"*"}]
[null,"N",{"$f":"Skyggetabeller!C313","v":"*"},{"$f":"Skyggetabeller!D313","v":"*"},{"$f":"Skyggetabeller!E313","v":"*"},{"$f":"Skyggetabeller!F313","v":"*"}]
[null,{"$f":"Indtastningsark!B46","v":"Kilde: Lokalt indsamlede surveybesvarelser fra borgere i socialpsykiatrien på instrumentet WHO-5 og Brief-Inspire-O."}]
[]
[]
[]
[]
[null,"Nøgletal 15: Mental sundhed"]
[]
[null,"Figur 15.1: Andelen af borgere i hver risikogruppe"]
[]
[null,null,null,null,null,null,null,null,null,null,"Benyt, slet eller erstat gerne følgende tekst til beskrivelse af udviklingen over tid for det pågældende nøgletal. Beskrivelsen vil blive indsat i rapporten (skriv maks 10 linjer):"]
[]
[]
[]
[]
[]
[]
[]
[]
[]
[]
[]
[]
[]
[]
[]
[]
[]
[]
[]
[]
[]
[null,{"$f":"Indtastningsark!$B$46","v":"Kilde: Lokalt indsamlede surveybesvarelser fra borgere i socialpsykiatrien på instrumentet WHO-5 og Brief-Inspire-O."}]
[]
[]
[]
[]
[null,"Tabel 15.1: Andelen af borgere i hver risikogruppe "]
[]
[null,null,{"$f":"Skyggetabeller!C319","v":"2023-07-01"},{"$f":"Skyggetabeller!D319","v":"2024-01-01"},{"$f":"Skyggetabeller!E319","v":"2024-07-01"},{"$f":"Skyggetabeller!F319","v":"2025-01-01"}]
[null,{"$f":"Skyggetabeller!B320","v":"Mental sundhed – Ikke umiddelbar risiko for stress og depression "},{"$f":"Skyggetabeller!C320","v":"Beregnes"},{"$f":"Skyggetabeller!D320","v":"Beregnes"},{"$f":"Skyggetabeller!E320","v":"Beregnes"},{"$f":"Skyggetabeller!F320","v":"Beregnes"}]
[null,{"$f":"Skyggetabeller!B321","v":"Mental sundhed – Risiko for stress og depression"},{"$f":"Skyggetabeller!C321","v":"Beregnes"},{"$f":"Skyggetabeller!D321","v":"Beregnes"},{"$f":"Skyggetabeller!E321","v":"Beregnes"},{"$f":"Skyggetabeller!F321","v":"Beregnes"}]
[null,{"$f":"Skyggetabeller!B322","v":"Mental sundhed – Stor risiko for stress og depression"},{"$f":"Skyggetabeller!C322","v":"Beregnes"},{"$f":"Skyggetabeller!D322","v":"Beregnes"},{"$f":"Skyggetabeller!E322","v":"Beregnes"},{"$f":"Skyggetabeller!F322","v":"Beregnes"}]
[null,"N",{"$f":"Skyggetabeller!C323","v":"*"},{"$f":"Skyggetabeller!D323","v":"*"},{"$f":"Skyggetabeller!E323","v":"*"},{"$f":"Skyggetabeller!F323","v":"*"}]
[null,{"$f":"Indtastningsark!$B$46","v":"Kilde: Lokalt indsamlede surveybesvarelser fra borgere i socialpsykiatrien på instrumentet WHO-5 og Brief-Inspire-O."}]
[]
[]
[]
[]
[null,"Nøgletal 15.1: Andelen af borgere i målgruppen der har en trivselsscore over 50 målt ved WHO-5"]
[null,"Figur 15.2: Udvikling i andelen af borgere der ikke er i umiddelbar risiko for stress eller depression"]
[]
[]
[]
[]
[]
[]
[]
[]
[]
[]
[]
[]
[]
[]
[]
[]
[]
[null,{"$f":"Indtastningsark!$B$46","v":"Kilde: Lokalt indsamlede surveybesvarelser fra borgere i socialpsykiatrien på instrumentet WHO-5 og Brief-Inspire-O."}]
[]
[]
[]
[null,"Nøgletal 15.2: Andelen af borgere i målgruppen der har en trivselsscore mellem 36 og 50 målt ved WHO-5"]
[null,"Figur 15.3: Udvikling i andelen af borgere med risiko for stress eller depression"]
[]
[]
[]
[]
[]
[]
[]
[]
[]
[]
[]
[]
[]
[]
[]
[]
[]
[]
[null,{"$f":"Indtastningsark!$B$46","v":"Kilde: Lokalt indsamlede surveybesvarelser fra borgere i socialpsykiatrien på instrumentet WHO-5 og Brief-Inspire-O."}]
[]
[]
[]
[null,"Nøgletal 15.3: Andelen af borgere i målgruppen der har en trivselsscore mellem 0 og 35 målt ved WHO-5"]
[null,"Figur 15.4: Udvikling i andelen af borgere med stor risiko for stress eller depression"]
[]
[]
[]
[]
[]
[]
[]
[]
[]
[]
[]
[]
[]
[]
[]
[]
[]
[]
[null,{"$f":"Indtastningsark!$B$46","v":"Kilde: Lokalt indsamlede surveybesvarelser fra borgere i socialpsykiatrien på instrumentet WHO-5 og Brief-Inspire-O."}]
[]
[]
[]
[]
[null,"Tabel 15.2: Udvikling i andel borgere i hver risikogruppe"]
[]
[null,"Tabel 2.a:\nIkke umiddelbar risiko for stress eller depression",null,null,null,null,null,"Tabel 2.b: Risiko for stress eller depression",null,null,null,null,null,"Tabel 2.c: Stor risiko for stress eller depression"]
[null,{"$f":"Indtastningsark!B1346","v":0},{"$f":"Skyggetabeller!C319","v":"2023-07-01"},{"$f":"Skyggetabeller!D319","v":"2024-01-01"},{"$f":"Skyggetabeller!E319","v":"2024-07-01"},{"$f":"Skyggetabeller!F319","v":"2025-01-01"},null,{"$f":"Indtastningsark!B1349","v":0},{"$f":"Skyggetabeller!C319","v":"2023-07-01"},{"$f":"Skyggetabeller!D319","v":"2024-01-01"},{"$f":"Skyggetabeller!E319","v":"2024-07-01"},{"$f":"Skyggetabeller!F319","v":"2025-01-01"},null,{"$f":"Indtastningsark!B1352","v":0},{"$f":"Skyggetabeller!C319","v":"2023-07-01"},{"$f":"Skyggetabeller!D319","v":"2024-01-01"},{"$f":"Skyggetabeller!E319","v":"2024-07-01"},{"$f":"Skyggetabeller!F319","v":"2025-01-01"}]
[null,{"$f":"Kommune","v":"Herning"},{"$f":"Skyggetabeller!C328","v":"Beregnes"},{"$f":"Skyggetabeller!D328","v":"Beregnes"},{"$f":"Skyggetabeller!E328","v":"Beregnes"},{"$f":"Skyggetabeller!F328","v":"Beregnes"},null,{"$f":"Kommune","v":"Herning"},{"$f":"Skyggetabeller!I328","v":"Beregnes"},{"$f":"Skyggetabeller!J328","v":"Beregnes"},{"$f":"Skyggetabeller!K328","v":"Beregnes"},{"$f":"Skyggetabeller!L328","v":"Beregnes"},null,{"$f":"Kommune","v":"Herning"},{"$f":"Skyggetabeller!O328","v":"Beregnes"},{"$f":"Skyggetabeller!P328","v":"Beregnes"},{"$f":"Skyggetabeller!Q328","v":"Beregnes"},{"$f":"Skyggetabeller!R328","v":"Beregnes"}]
[null,"N",{"$f":"Skyggetabeller!C329","v":"*"},{"$f":"Skyggetabeller!D329","v":"*"},{"$f":"Skyggetabeller!E329","v":"*"},{"$f":"Skyggetabeller!F329","v":"*"},null,"N",{"$f":"Skyggetabeller!I329","v":"*"},{"$f":"Skyggetabeller!J329","v":"*"},{"$f":"Skyggetabeller!K329","v":"*"},{"$f":"Skyggetabeller!L329","v":"*"},null,"N",{"$f":"Skyggetabeller!O329","v":"*"},{"$f":"Skyggetabeller!P329","v":"*"},{"$f":"Skyggetabeller!Q329","v":"*"},{"$f":"Skyggetabeller!R329","v":"*"}]
[null,{"$f":"Indtastningsark!$B$46","v":"Kilde: Lokalt indsamlede surveybesvarelser fra borgere i socialpsykiatrien på instrumentet WHO-5 og Brief-Inspire-O."},null,null,null,null,null,"Kilde: Surveybesvarelser fra borgere i projektet baseret på instrumentet WHO-5",null,null,null,null,null,"Kilde: Surveybesvarelser fra borgere i projektet baseret på instrumentet WHO-5"]
[]
[]
[]
[]
[null,"Nøgletal 16: Forbedret mental sundhed"]
[]
[null,"Figur 16.1: Udvikling i andelen af borgere, der oplever forbedret mental sundhed, på tværs af kommuner"]
[]
[null,null,null,null,null,null,null,null,null,null,"Benyt, slet eller erstat gerne følgende tekst til beskrivelse af udviklingen over tid for det pågældende nøgletal. Beskrivelsen vil blive indsat i rapporten (skriv maks 10 linjer):"]
[]
[]
[]
[]
[]
[]
[]
[]
[]
[]
[]
[]
[]
[]
[]
[]
[]
[]
[null,{"$f":"Indtastningsark!B46","v":"Kilde: Lokalt indsamlede surveybesvarelser fra borgere i socialpsykiatrien på instrumentet WHO-5 og Brief-Inspire-O."}]
[]
[]
[]
[]
[null,"Tabel 16.1: Udvikling i andelen af borgere, der oplever forbedret mental sundhed, på tværs af kommuner"]
[]
[null,{"$f":"Indtastningsark!B40","v":16},{"$f":"Nøgletalsanalyse!$N$2312","v":"00:00:00"},{"$f":"Nøgletalsanalyse!$O$2312","v":"00:00:00"},{"$f":"Nøgletalsanalyse!$P$2312","v":"00:00:00"},{"$f":"Nøgletalsanalyse!$Q$2312","v":"00:00:00"}]
[null,{"$f":"Kommune","v":"Herning"}]
[null,"Andel",null,{"$f":"IF(Datanedslag>=D1781,Skyggetabeller!D335,\"\")","v":"Beregnes"},{"$f":"IF(Datanedslag>=E1781,Skyggetabeller!E335,\"\")","v":"Beregnes"},{"$f":"IF(Datanedslag>=F1781,Skyggetabeller!F335,\"\")","v":"Beregnes"}]
[null,"N",null,{"$f":"IF(Datanedslag>=D1781,Skyggetabeller!D337,\"\")","v":"*"},{"$f":"IF(Datanedslag>=E1781,Skyggetabeller!E337,\"\")","v":"*"},{"$f":"IF(Datanedslag>=F1781,Skyggetabeller!F337,\"\")","v":"*"}]
[null,{"$f":"Indtastningsark!B46","v":"Kilde: Lokalt indsamlede surveybesvarelser fra borgere i socialpsykiatrien på instrumentet WHO-5 og Brief-Inspire-O."}]
[]
[]
[]
[]
[null,"Nøgletal 17: Forværret mental sundhed"]
[]
[null,"Figur 17.1: Udvikling i andelen af borgere, der oplever forværret mental sundhed, på tværs af kommuner"]
[]
[null,null,null,null,null,null,null,null,null,null,"Benyt, slet eller erstat gerne følgende tekst til beskrivelse af udviklingen over tid for det pågældende nøgletal. Beskrivelsen vil blive indsat i rapporten (skriv maks 10 linjer):"]
[]
[]
[]
[]
[]
[]
[]
[]
[]
[]
[]
[]
[]
[]
[]
[]
[]
[]
[null,{"$f":"Indtastningsark!B46","v":"Kilde: Lokalt indsamlede surveybesvarelser fra borgere i socialpsykiatrien på instrumentet WHO-5 og Brief-Inspire-O."}]
[]
[]
[]
[null,"Tabel 17.1: Udvikling i andelen af borgere, der oplever forværret mental sundhed, på tværs af kommuner"]
[]
[null,{"$f":"Indtastningsark!B1256","v":0},{"$f":"Nøgletalsanalyse!$N$2312","v":"00:00:00"},{"$f":"Nøgletalsanalyse!$O$2312","v":"00:00:00"},{"$f":"Nøgletalsanalyse!$P$2312","v":"00:00:00"},{"$f":"Nøgletalsanalyse!$Q$2312","v":"00:00:00"}]
[null,{"$f":"Kommune","v":"Herning"}]
[null,"Andel",null,{"$f":"IF(Datanedslag>=D1819,Skyggetabeller!D344,\"\")","v":"Beregnes"},{"$f":"IF(Datanedslag>=E1819,Skyggetabeller!E344,\"\")","v":"Beregnes"},{"$f":"IF(Datanedslag>=F1819,Skyggetabeller!F344,\"\")","v":"Beregnes"}]
[null,"N",null,{"$f":"IF(Datanedslag>=D1819,Skyggetabeller!D346,\"\")","v":"*"},{"$f":"IF(Datanedslag>=E1819,Skyggetabeller!E346,\"\")","v":"*"},{"$f":"IF(Datanedslag>=F1819,Skyggetabeller!F346,\"\")","v":"*"}]
[null,{"$f":"Indtastningsark!B46","v":"Kilde: Lokalt indsamlede surveybesvarelser fra borgere i socialpsykiatrien på instrumentet WHO-5 og Brief-Inspire-O."}]
[]
[]
[]
[]
[]
[null,"Nøgletal 18: Genindlæggelser"]
[]
[null,{"$f":"\"Figur 18.1: Udvikling i andel af genindlæggelser i \"&Kommune","v":"Figur 18.1: Udvikling i andel af genindlæggelser i Herning"}]
[]
[]
[]
[]
[]
[]
[]
[]
[]
[]
[]
[]
[]
[]
[]
[]
[]
[]
[]
[]
[]
[]
[]
[]
[null,{"$f":"RegNøgletal!B210","v":"Anm.: Hvis nøgletallet er angivet med * er der foretaget en diskretionering af data, da der er for få observationer. N angiver målgruppestørrelsen, som er alle borgere registreret med \"Sindslidelse\" i indberetningen til Danmarks Statistik."}]
[null,{"$f":"RegNøgletal!B211","v":"Kilde: Social- og Boligstyrelsens egne beregninger baseret på handicapstiatistikken ved Danmarks Statistik og registerdata fra Landspatientregistret."}]
[]
[]
[null,{"$f":"\"Tabel 18.1: Udvikling i andel af genindlæggelser i \"&Kommune","v":"Tabel 18.1: Udvikling i andel af genindlæggelser i Herning"}]
[]
[null,null,{"$f":"Skyggetabeller!C$11","v":"2018-01-01"},{"$f":"Skyggetabeller!D$11","v":"2018-07-01"},{"$f":"Skyggetabeller!E$11","v":"2019-01-01"},{"$f":"Skyggetabeller!F$11","v":"2019-07-01"},{"$f":"Skyggetabeller!G$11","v":"2020-01-01"},{"$f":"Skyggetabeller!H$11","v":"2020-07-01"},{"$f":"Skyggetabeller!I$11","v":"2021-01-01"},{"$f":"Skyggetabeller!J$11","v":"2021-07-01"},{"$f":"Skyggetabeller!K$11","v":"2022-01-01"},{"$f":"Skyggetabeller!L$11","v":"2022-07-01"},{"$f":"Skyggetabeller!M$11","v":"2023-01-01"}]
[null,"Faktisk andel genindlæggelser",null,{"$f":"RegNøgletal!E208","v":0.37662337662337703},{"$f":"RegNøgletal!F208","v":0.38823529411764701},{"$f":"RegNøgletal!G208","v":0.5},{"$f":"RegNøgletal!H208","v":0.45600000000000002},{"$f":"RegNøgletal!I208","v":0.33620689655172398},{"$f":"RegNøgletal!J208","v":0.48666666666666702},{"$f":"RegNøgletal!K208","v":0.61111111111111105},{"$f":"RegNøgletal!L208","v":0.52027027027026995},{"$f":"RegNøgletal!M208","v":0.42446043165467601},{"$f":"RegNøgletal!N208","v":0.45283018867924502}]
[null,{"$f":"RegNøgletal!B210","v":"Anm.: Hvis nøgletallet er angivet med * er der foretaget en diskretionering af data, da der er for få observationer. N angiver målgruppestørrelsen, som er alle borgere registreret med \"Sindslidelse\" i indberetningen til Danmarks Statistik."}]
[null,{"$f":"RegNøgletal!B211","v":"Kilde: Social- og Boligstyrelsens egne beregninger baseret på handicapstiatistikken ved Danmarks Statistik og registerdata fra Landspatientregistret."}]
[]
[]
[null,"Figur 18.2: Udvikling i andelen af målgruppen, der har haft en genindlæggelse"]
[]
[null,null,null,null,null,null,null,null,null,null,"Benyt, slet eller erstat gerne følgende tekst til beskrivelse af udviklingen over tid for det pågældende nøgletal. Beskrivelsen vil blive indsat i rapporten (skriv maks 10 linjer):"]
[]
[]
[]
[]
[]
[]
[]
[]
[]
[]
[]
[]
[]
[]
[]
[]
[]
[]
[null,{"$f":"RegNøgletal!B210","v":"Anm.: Hvis nøgletallet er angivet med * er der foretaget en diskretionering af data, da der er for få observationer. N angiver målgruppestørrelsen, som er alle borgere registreret med \"Sindslidelse\" i indberetningen til Danmarks Statistik."}]
[null,{"$f":"RegNøgletal!B211","v":"Kilde: Social- og Boligstyrelsens egne beregninger baseret på handicapstiatistikken ved Danmarks Statistik og registerdata fra Landspatientregistret."}]
[]
[]
[null,"Tabel 18.2: Udvikling i andelen af målgruppen, der har haft en genindlæggelse"]
[]
[null,null,{"$f":"Skyggetabeller!C$11","v":"2018-01-01"},{"$f":"Skyggetabeller!D$11","v":"2018-07-01"},{"$f":"Skyggetabeller!E$11","v":"2019-01-01"},{"$f":"Skyggetabeller!F$11","v":"2019-07-01"},{"$f":"Skyggetabeller!G$11","v":"2020-01-01"},{"$f":"Skyggetabeller!H$11","v":"2020-07-01"},{"$f":"Skyggetabeller!I$11","v":"2021-01-01"},{"$f":"Skyggetabeller!J$11","v":"2021-07-01"},{"$f":"Skyggetabeller!K$11","v":"2022-01-01"},{"$f":"Skyggetabeller!L$11","v":"2022-07-01"},{"$f":"Skyggetabeller!M$11","v":"2023-01-01"}]
[null,{"$f":"Kommune","v":"Herning"}]
[null,"Andel",null,{"$f":"Skyggetabeller!D357","v":0.37662337662337703},{"$f":"Skyggetabeller!E357","v":0.38823529411764701},{"$f":"Skyggetabeller!F357","v":0.5},{"$f":"Skyggetabeller!G357","v":0.45600000000000002},{"$f":"Skyggetabeller!H357","v":0.33620689655172398},{"$f":"Skyggetabeller!I357","v":0.48666666666666702},{"$f":"Skyggetabeller!J357","v":0.61111111111111105},{"$f":"Skyggetabeller!K357","v":0.52027027027026995},{"$f":"Skyggetabeller!L357","v":0.42446043165467601},{"$f":"Skyggetabeller!M357","v":0.45283018867924502}]
[null,"N",null,{"$f":"Skyggetabeller!D361","v":407},{"$f":"Skyggetabeller!E361","v":390},{"$f":"Skyggetabeller!F361","v":374},{"$f":"Skyggetabeller!G361","v":363},{"$f":"Skyggetabeller!H361","v":383},{"$f":"Skyggetabeller!I361","v":386},{"$f":"Skyggetabeller!J361","v":391},{"$f":"Skyggetabeller!K361","v":383},{"$f":"Skyggetabeller!L361","v":365},{"$f":"Skyggetabeller!M361","v":360}]
[null,"Sammenligningskommuner"]
[null,"Andel",null,{"$f":"Skyggetabeller!D358","v":0.51595279720279741},{"$f":"Skyggetabeller!E358","v":0.5387590334236676},{"$f":"Skyggetabeller!F358","v":0.62106027596223701},{"$f":"Skyggetabeller!G358","v":0.55710170712076901},{"$f":"Skyggetabeller!H358","v":0.55710170712076901},{"$f":"Skyggetabeller!I358","v":0.330979284369115},{"$f":"Skyggetabeller!J358","v":0.48512336719883903},{"$f":"Skyggetabeller!K358","v":0.57007575757575768},{"$f":"Skyggetabeller!L358","v":0.51595279720279741},{"$f":"Skyggetabeller!M358","v":0.5387590334236676}]
[null,"N",null,{"$f":"Skyggetabeller!D362","v":471},{"$f":"Skyggetabeller!E362","v":484},{"$f":"Skyggetabeller!F362","v":490},{"$f":"Skyggetabeller!G362","v":487},{"$f":"Skyggetabeller!H362","v":492},{"$f":"Skyggetabeller!I362","v":496},{"$f":"Skyggetabeller!J362","v":516},{"$f":"Skyggetabeller!K362","v":516},{"$f":"Skyggetabeller!L362","v":471},{"$f":"Skyggetabeller!M362","v":484}]
[null,"Landsgennemsnit"]
[null,"Andel",null,{"$f":"Skyggetabeller!D359","v":0.47793796417649598},{"$f":"Skyggetabeller!E359","v":0.49547920433996401},{"$f":"Skyggetabeller!F359","v":0.49721883055216398},{"$f":"Skyggetabeller!G359","v":0.461561881564926},{"$f":"Skyggetabeller!H359","v":0.47684042398722198},{"$f":"Skyggetabeller!I359","v":0.47670145524033503},{"$f":"Skyggetabeller!J359","v":0.47938820101966501},{"$f":"Skyggetabeller!K359","v":0.48539195834538601},{"$f":"Skyggetabeller!L359","v":0.48610529255690499},{"$f":"Skyggetabeller!M359","v":0.509436766235696}]
[null,"N",null,{"$f":"Skyggetabeller!D363","v":26640},{"$f":"Skyggetabeller!E363","v":26710},{"$f":"Skyggetabeller!F363","v":26630},{"$f":"Skyggetabeller!G363","v":26660},{"$f":"Skyggetabeller!H363","v":26750},{"$f":"Skyggetabeller!I363","v":27070},{"$f":"Skyggetabeller!J363","v":27290},{"$f":"Skyggetabeller!K363","v":27640},{"$f":"Skyggetabeller!L363","v":27940},{"$f":"Skyggetabeller!M363","v":28090}]
[null,{"$f":"IF('Dine valg'!$G$24=\"\",\"Ingen sammenligningsgruppe valgt.\",\"Valgte kommuner i sammenligningsgruppen: \"&'Dine valg'!$G$24&\" \"&'Dine valg'!$G$25&\" \"&'Dine valg'!$G$26&\" \"&'Dine valg'!$G$27&\" \"&'Dine valg'!$G$28&\" \"&'Dine valg'!$G$29&\" \"&'Dine valg'!$G$30)","v":"Valgte kommuner i sammenligningsgruppen: Allerød Assens Ballerup    "}]
[null,{"$f":"RegNøgletal!B210","v":"Anm.: Hvis nøgletallet er angivet med * er der foretaget en diskretionering af data, da der er for få observationer. N angiver målgruppestørrelsen, som er alle borgere registreret med \"Sindslidelse\" i indberetningen til Danmarks Statistik."}]
[null,{"$f":"RegNøgletal!B211","v":"Kilde: Social- og Boligstyrelsens egne beregninger baseret på handicapstiatistikken ved Danmarks Statistik og registerdata fra Landspatientregistret."}]
[]
[]
[]
[]
[null,"Nøgletal 19: Udgifter til forebyggende indsatser ift. udgifter til støttende indsatser"]
[]
[null,{"$f":"\"Figur 19.1: Udvikling i udgifter til forebyggende indsatser ift. udgifter til støttende indsatser i \"&Kommune","v":"Figur 19.1: Udvikling i udgifter til forebyggende indsatser ift. udgifter til støttende indsatser i Herning"}]
[]
[]
[]
[]
[]
[]
[]
[]
[]
[]
[]
[]
[]
[]
[]
[]
[]
[]
[]
[]
[]
[]
[]
[]
[null,{"$f":"RegNøgletal!B220","v":"Anm.: Udgifterne er defineret som art>0 og ekskl. refusioner."}]
[null,{"$f":"RegNøgletal!B221","v":"Kilde: Kommunale regnskaber, Danmarks Statistik"}]
[]
[]
[]
[null,{"$f":"\"Tabel 19.1: Udvikling i udgifter til forebyggende indsatser ift. udgifter til støttende indsatser i \"&Kommune","v":"Tabel 19.1: Udvikling i udgifter til forebyggende indsatser ift. udgifter til støttende indsatser i Herning"}]
[]
[null,null,{"$f":"Skyggetabeller!C$14","v":2018},{"$f":"Skyggetabeller!D$14","v":2019},{"$f":"Skyggetabeller!E$14","v":2020},{"$f":"Skyggetabeller!F$14","v":2021},{"$f":"Skyggetabeller!G$14","v":2022}]
[null,"Andel",{"$f":"RegNøgletal!D219","v":0},{"$f":"RegNøgletal!E219","v":0},{"$f":"RegNøgletal!F219","v":0},{"$f":"RegNøgletal!G219","v":1.8315575849822401E-2},{"$f":"RegNøgletal!H219","v":4.7985651681020598E-2}]
[null,{"$f":"RegNøgletal!B220","v":"Anm.: Udgifterne er defineret som art>0 og ekskl. refusioner."}]
[null,{"$f":"RegNøgletal!B221","v":"Kilde: Kommunale regnskaber, Danmarks Statistik"}]
[]
[]
[null,"Figur 19.2: Udvikling i udgifter til forebyggende indsatser ift. udgifter til støttende indsatser på tværs af kommuner"]
[]
[null,null,null,null,null,null,null,null,null,null,"Benyt, slet eller erstat gerne følgende tekst til beskrivelse af udviklingen over tid for det pågældende nøgletal. Beskrivelsen vil blive indsat i rapporten (skriv maks 10 linjer):"]
[]
[]
[]
[]
[]
[]
[]
[]
[]
[]
[]
[]
[]
[]
[]
[]
[]
[]
[]
[]
[]
[null,{"$f":"RegNøgletal!B220","v":"Anm.: Udgifterne er defineret som art>0 og ekskl. refusioner."}]
[null,{"$f":"RegNøgletal!B221","v":"Kilde: Kommunale regnskaber, Danmarks Statistik"}]
[]
[]
[]
[null,"Tabel 19.2: Udvikling i udgifter til forebyggende indsatser ift. udgifter til støttende indsatser på tværs af kommuner"]
[]
[null,null,{"$f":"Skyggetabeller!C$14","v":2018},{"$f":"Skyggetabeller!D$14","v":2019},{"$f":"Skyggetabeller!E$14","v":2020},{"$f":"Skyggetabeller!F$14","v":2021},{"$f":"Skyggetabeller!G$14","v":2022}]
[null,{"$f":"Kommune","v":"Herning"}]
[null,"Andel",{"$f":"IF(ok_datanedslag>=Nøgletalsanalyse!C1983,Skyggetabeller!C369,\"\")","v":0},{"$f":"IF(ok_datanedslag>=Nøgletalsanalyse!D1983,Skyggetabeller!D369,\"\")","v":0},{"$f":"IF(ok_datanedslag>=Nøgletalsanalyse!E1983,Skyggetabeller!E369,\"\")","v":0},{"$f":"IF(ok_datanedslag>=Nøgletalsanalyse!F1983,Skyggetabeller!F369,\"\")","v":1.8315575849822401E-2},{"$f":"IF(ok_datanedslag>=Nøgletalsanalyse!G1983,Skyggetabeller!G369,\"\")","v":4.7985651681020598E-2}]
[null,"Sammenligningskommuner"]
[null,"Andel",{"$f":"IF(ok_datanedslag>=C1983,Skyggetabeller!C373,\"\")","v":1.8625058043264798E-2},{"$f":"IF(ok_datanedslag>=D1983,Skyggetabeller!D373,\"\")","v":9.6148649996311997E-3},{"$f":"IF(ok_datanedslag>=E1983,Skyggetabeller!E373,\"\")","v":8.1363229241807333E-3},{"$f":"IF(ok_datanedslag>=F1983,Skyggetabeller!F373,\"\")","v":1.1686884949111534E-2},{"$f":"IF(ok_datanedslag>=G1983,Skyggetabeller!G373,\"\")","v":9.0639216693111993E-3}]
[null,"Landsgennemsnit"]
[null,"Andel",{"$f":"IF(ok_datanedslag>=C1983,Skyggetabeller!C374,\"\")","v":7.219936968902492E-2},{"$f":"IF(ok_datanedslag>=D1983,Skyggetabeller!D374,\"\")","v":5.4772078154910801E-2},{"$f":"IF(ok_datanedslag>=E1983,Skyggetabeller!E374,\"\")","v":-6.3346504494451922E-2},{"$f":"IF(ok_datanedslag>=F1983,Skyggetabeller!F374,\"\")","v":-9.5977704201101223E-3},{"$f":"IF(ok_datanedslag>=G1983,Skyggetabeller!G374,\"\")","v":-5.6212950379680403E-2}]
[null,{"$f":"IF('Dine valg'!$G$24=\"\",\"Ingen sammenligningsgruppe valgt.\",\"Valgte kommuner i sammenligningsgruppen: \"&'Dine valg'!$G$24&\" \"&'Dine valg'!$G$25&\" \"&'Dine valg'!$G$26&\" \"&'Dine valg'!$G$27&\" \"&'Dine valg'!$G$28&\" \"&'Dine valg'!$G$29&\" \"&'Dine valg'!$G$30)","v":"Valgte kommuner i sammenligningsgruppen: Allerød Assens Ballerup    "}]
[null,{"$f":"RegNøgletal!B220","v":"Anm.: Udgifterne er defineret som art>0 og ekskl. refusioner."}]
[null,{"$f":"RegNøgletal!B221","v":"Kilde: Kommunale regnskaber, Danmarks Statistik"}]
[]
[]
[]
[null,"Nøgletal 20: Udgiftsandele"]
[]
[null,{"$f":"\"Figur 20.1: Udvikling i fordelingen af udgiftsandele i \"&Kommune","v":"Figur 20.1: Udvikling i fordelingen af udgiftsandele i Herning"}]
[]
[null,null,null,null,null,null,null,null,null,null,"Benyt, slet eller erstat gerne følgende tekst til beskrivelse af udviklingen over tid for det pågældende nøgletal. Beskrivelsen vil blive indsat i rapporten (skriv maks 10 linjer):"]
[]
[]
[]
[]
[]
[]
[]
[]
[]
[]
[]
[]
[]
[]
[]
[]
[]
[]
[]
[]
[]
[null,{"$f":"RegNøgletal!B235","v":"Anm.: Udgifterne er defineret som art>0 og ekskl. refusioner."}]
[null,{"$f":"RegNøgletal!B236","v":"Kilde: Kommunale regnskaber, Danmarks Statistik"}]
[]
[]
[null,{"$f":"\"Tabel 20.1: Udvikling i udgiftsandele for \"&Kommune","v":"Tabel 20.1: Udvikling i udgiftsandele for Herning"}]
[]
[null,"Nøgletal 20: \nUdgiftsandele"]
[null,{"$f":"Kommune","v":"Herning"}]
[null,null,{"$f":"Skyggetabeller!C$14","v":2018},{"$f":"Skyggetabeller!D$14","v":2019},{"$f":"Skyggetabeller!E$14","v":2020},{"$f":"Skyggetabeller!F$14","v":2021},{"$f":"Skyggetabeller!G$14","v":2022}]
[null,"Længerevarende botilbud",{"$f":"IF(Skyggetabeller!C417=\"\",\"\",Skyggetabeller!C417)","v":0.175613626388467},{"$f":"IF(Skyggetabeller!D417=\"\",\"\",Skyggetabeller!D417)","v":0.18853526280223501},{"$f":"IF(Skyggetabeller!E417=\"\",\"\",Skyggetabeller!E417)","v":0.193999533815058},{"$f":"IF(Skyggetabeller!F417=\"\",\"\",Skyggetabeller!F417)","v":0.19426037566638399},{"$f":"IF(Skyggetabeller!G417=\"\",\"\",Skyggetabeller!G417)","v":0.20666160776272699}]
[null,"Botilbudslignende tilbud",{"$f":"IF(Skyggetabeller!C418=\"\",\"\",Skyggetabeller!C418)","v":0.28795705459333498},{"$f":"IF(Skyggetabeller!D418=\"\",\"\",Skyggetabeller!D418)","v":0.303199116575742},{"$f":"IF(Skyggetabeller!E418=\"\",\"\",Skyggetabeller!E418)","v":0.279278079318038},{"$f":"IF(Skyggetabeller!F418=\"\",\"\",Skyggetabeller!F418)","v":0.29551757926029298},{"$f":"IF(Skyggetabeller!G418=\"\",\"\",Skyggetabeller!G418)","v":0.27127565106479201}]
[null,"Midlertidige botilbud",{"$f":"IF(Skyggetabeller!C419=\"\",\"\",Skyggetabeller!C419)","v":0.23616597454336699},{"$f":"IF(Skyggetabeller!D419=\"\",\"\",Skyggetabeller!D419)","v":0.29347485702042098},{"$f":"IF(Skyggetabeller!E419=\"\",\"\",Skyggetabeller!E419)","v":0.28731976957144301},{"$f":"IF(Skyggetabeller!F419=\"\",\"\",Skyggetabeller!F419)","v":0.27729892215966601},{"$f":"IF(Skyggetabeller!G419=\"\",\"\",Skyggetabeller!G419)","v":0.21292603774803401}]
[null,"Socialpædagogisk støtte",{"$f":"IF(Skyggetabeller!C420=\"\",\"\",Skyggetabeller!C420)","v":0.243239137040413},{"$f":"IF(Skyggetabeller!D420=\"\",\"\",Skyggetabeller!D420)","v":0.15812634944703599},{"$f":"IF(Skyggetabeller!E420=\"\",\"\",Skyggetabeller!E420)","v":0.17292131464153701},{"$f":"IF(Skyggetabeller!F420=\"\",\"\",Skyggetabeller!F420)","v":0.15757394582565201},{"$f":"IF(Skyggetabeller!G420=\"\",\"\",Skyggetabeller!G420)","v":0.216720215703053}]
[null,"Beskyttet beskæftigelse og aktivitets- og samværstilbud",{"$f":"IF(Skyggetabeller!C421=\"\",\"\",Skyggetabeller!C421)","v":5.70242074344171E-2},{"$f":"IF(Skyggetabeller!D421=\"\",\"\",Skyggetabeller!D421)","v":5.66644141545663E-2},{"$f":"IF(Skyggetabeller!E421=\"\",\"\",Skyggetabeller!E421)","v":6.6481302653924296E-2},{"$f":"IF(Skyggetabeller!F421=\"\",\"\",Skyggetabeller!F421)","v":5.7363027917559303E-2},{"$f":"IF(Skyggetabeller!G421=\"\",\"\",Skyggetabeller!G421)","v":4.6628025251465199E-2}]
[null,"Forebyggende indsatser",{"$f":"IF(Skyggetabeller!C422=\"\",\"\",Skyggetabeller!C422)","v":0},{"$f":"IF(Skyggetabeller!D422=\"\",\"\",Skyggetabeller!D422)","v":0},{"$f":"IF(Skyggetabeller!E422=\"\",\"\",Skyggetabeller!E422)","v":0},{"$f":"IF(Skyggetabeller!F422=\"\",\"\",Skyggetabeller!F422)","v":1.7986149170444901E-2},{"$f":"IF(Skyggetabeller!G422=\"\",\"\",Skyggetabeller!G422)","v":4.5788462469929098E-2}]
[null,{"$f":"RegNøgletal!B235","v":"Anm.: Udgifterne er defineret som art>0 og ekskl. refusioner."}]
[null,{"$f":"RegNøgletal!B236","v":"Kilde: Kommunale regnskaber, Danmarks Statistik"}]
[]
[]
[null,{"$f":"\"Figur 20.2: Udvikling i udgiftsandele for \"&Kommune","v":"Figur 20.2: Udvikling i udgiftsandele for Herning"}]
[]
[null,"Figur 20.2.1: Udvikling i udgiftsandele til længerevarende botilbud",null,null,null,null,"Figur 20.2.2: Udgiftsandel til botilbudslignende tilbud",null,null,null,null,null,"Figur 20.2.3: Udgiftsandel til midlertidige botilbud"]
[]
[]
[]
[]
[]
[]
[]
[]
[]
[]
[]
[]
[]
[]
[]
[]
[]
[]
[null,{"$f":"RegNøgletal!B235","v":"Anm.: Udgifterne er defineret som art>0 og ekskl. refusioner."},null,null,null,null,{"$f":"RegNøgletal!B235","v":"Anm.: Udgifterne er defineret som art>0 og ekskl. refusioner."},null,null,null,null,null,{"$f":"RegNøgletal!B235","v":"Anm.: Udgifterne er defineret som art>0 og ekskl. refusioner."}]
[null,{"$f":"RegNøgletal!B236","v":"Kilde: Kommunale regnskaber, Danmarks Statistik"},null,null,null,null,{"$f":"RegNøgletal!B236","v":"Kilde: Kommunale regnskaber, Danmarks Statistik"},null,null,null,null,null,{"$f":"RegNøgletal!B236","v":"Kilde: Kommunale regnskaber, Danmarks Statistik"}]
[]
[null,"Figur 20.2.4: Udgiftsandel til socialpædagogisk støtte",null,null,null,null,"Figur 20.2.5: Udgiftsandel til beskyttet beskæftigelse og aktivitets- og samværstilbud",null,null,null,null,null,"Figur 20.2.6: Udgiftsandel til forebyggende indsatser"]
[]
[]
[]
[]
[]
[]
[]
[]
[]
[]
[]
[]
[]
[]
[]
[]
[]
[null,{"$f":"RegNøgletal!B235","v":"Anm.: Udgifterne er defineret som art>0 og ekskl. refusioner."},null,null,null,null,{"$f":"RegNøgletal!B235","v":"Anm.: Udgifterne er defineret som art>0 og ekskl. refusioner."},null,null,null,null,null,{"$f":"RegNøgletal!B235","v":"Anm.: Udgifterne er defineret som art>0 og ekskl. refusioner."}]
[null,{"$f":"RegNøgletal!B236","v":"Kilde: Kommunale regnskaber, Danmarks Statistik"},null,null,null,null,{"$f":"RegNøgletal!B236","v":"Kilde: Kommunale regnskaber, Danmarks Statistik"},null,null,null,null,null,{"$f":"RegNøgletal!B236","v":"Kilde: Kommunale regnskaber, Danmarks Statistik"}]
[]
[null,"Figur 20.3: Udvikling i fordelingen af udgiftsandele for de øvrige kommuner"]
[]
[null,"Figur 20.3.1: Udvikling i fordelingen af udgiftsandele for sammenligningskommunerne",null,null,null,null,null,"Figur 20.3.2: Udvikling i fordelingen af udgiftsandele for landsgennemsnittet"]
[]
[]
[]
[]
[]
[]
[]
[]
[]
[]
[]
[]
[]
[]
[]
[]
[]
[]
[]
[]
[]
[null,{"$f":"IF('Dine valg'!$G$24=\"\",\"Ingen sammenligningsgruppe valgt.\",\"Valgte kommuner i sammenligningsgruppen: \"&'Dine valg'!$G$24&\" \"&'Dine valg'!$G$25&\" \"&'Dine valg'!$G$26&\" \"&'Dine valg'!$G$27&\" \"&'Dine valg'!$G$28&\" \"&'Dine valg'!$G$29&\" \"&'Dine valg'!$G$30)","v":"Valgte kommuner i sammenligningsgruppen: Allerød Assens Ballerup    "},null,null,null,null,null,{"$f":"RegNøgletal!B235","v":"Anm.: Udgifterne er defineret som art>0 og ekskl. refusioner."}]
[null,{"$f":"RegNøgletal!B235","v":"Anm.: Udgifterne er defineret som art>0 og ekskl. refusioner."},null,null,null,null,null,{"$f":"RegNøgletal!B236","v":"Kilde: Kommunale regnskaber, Danmarks Statistik"}]
[null,{"$f":"RegNøgletal!B236","v":"Kilde: Kommunale regnskaber, Danmarks Statistik"}]
[]
[]
[null,"Tabel 20.3: Udvikling i fordelingen af udgiftsandele for de sammenligningskommuner"]
[]
[null,"Tabel 20.3.1: Udvikling i fordelingen af udgiftsandele for sammenligningskommunerne"]
[null,null,{"$f":"Skyggetabeller!C$14","v":2018},{"$f":"Skyggetabeller!D$14","v":2019},{"$f":"Skyggetabeller!E$14","v":2020},{"$f":"Skyggetabeller!F$14","v":2021},{"$f":"Skyggetabeller!G$14","v":2022}]
[null,"Længerevarende botilbud",{"$f":"IF(ok_datanedslag>=C2118,Skyggetabeller!C427,\"\")","v":0.43535238593165343},{"$f":"IF(ok_datanedslag>=D2118,Skyggetabeller!D427,\"\")","v":0.44359391346936466},{"$f":"IF(ok_datanedslag>=E2118,Skyggetabeller!E427,\"\")","v":0.46407997448095434},{"$f":"IF(ok_datanedslag>=F2118,Skyggetabeller!F427,\"\")","v":0.43763694598203262},{"$f":"IF(ok_datanedslag>=G2118,Skyggetabeller!G427,\"\")","v":0.357693859471029}]
[null,"Botilbudslignende tilbud",{"$f":"IF(ok_datanedslag>=C$2118,Skyggetabeller!C428,\"\")","v":0.15191661079604893},{"$f":"IF(ok_datanedslag>=D$2118,Skyggetabeller!D428,\"\")","v":0.14224568596288995},{"$f":"IF(ok_datanedslag>=E2118,Skyggetabeller!E428,\"\")","v":0.15957007689718483},{"$f":"IF(ok_datanedslag>=F2118,Skyggetabeller!F428,\"\")","v":0.19134858033046634},{"$f":"IF(ok_datanedslag>=G2119,Skyggetabeller!G428,\"\")","v":0.15077129855359547}]
[null,"Midlertidige botilbud",{"$f":"IF(ok_datanedslag>=C$2118,Skyggetabeller!C429,\"\")","v":0.27563855365160234},{"$f":"IF(ok_datanedslag>=D$2118,Skyggetabeller!D429,\"\")","v":0.28876401783963901},{"$f":"IF(ok_datanedslag>=E$2118,Skyggetabeller!E429,\"\")","v":0.24863152098707467},{"$f":"IF(ok_datanedslag>=F$2118,Skyggetabeller!F429,\"\")","v":0.23867588210268198},{"$f":"IF(ok_datanedslag>=G2120,Skyggetabeller!G429,\"\")","v":0.35358201168132131}]
[null,"Socialpædagogisk støtte",{"$f":"IF(ok_datanedslag>=C$2118,Skyggetabeller!C430,\"\")","v":6.4382101506204867E-2},{"$f":"IF(ok_datanedslag>=D$2118,Skyggetabeller!D430,\"\")","v":6.9239487386155263E-2},{"$f":"IF(ok_datanedslag>=E$2118,Skyggetabeller!E430,\"\")","v":7.6845871767031032E-2},{"$f":"IF(ok_datanedslag>=F$2118,Skyggetabeller!F430,\"\")","v":8.8895515702204539E-2},{"$f":"IF(ok_datanedslag>=G2121,Skyggetabeller!G430,\"\")","v":8.6824801916049577E-2}]
[null,"Beskyttet beskæftigelse og aktivitets- og samværstilbud",{"$f":"IF(ok_datanedslag>=C$2118,Skyggetabeller!C431,\"\")","v":5.4683475434775732E-2},{"$f":"IF(ok_datanedslag>=D$2118,Skyggetabeller!D431,\"\")","v":4.6685067160456478E-2},{"$f":"IF(ok_datanedslag>=E$2118,Skyggetabeller!E431,\"\")","v":4.2835834444819289E-2},{"$f":"IF(ok_datanedslag>=F$2118,Skyggetabeller!F431,\"\")","v":3.1967841586628368E-2},{"$f":"IF(ok_datanedslag>=G2122,Skyggetabeller!G431,\"\")","v":4.2186138164961168E-2}]
[null,"Forebyggende indsatser",{"$f":"IF(ok_datanedslag>=C$2118,Skyggetabeller!C432,\"\")","v":1.8026872679714832E-2},{"$f":"IF(ok_datanedslag>=D$2118,Skyggetabeller!D432,\"\")","v":9.4718281814949994E-3},{"$f":"IF(ok_datanedslag>=E$2118,Skyggetabeller!E432,\"\")","v":8.0367214229359659E-3},{"$f":"IF(ok_datanedslag>=F$2118,Skyggetabeller!F432,\"\")","v":1.1475234295985966E-2},{"$f":"IF(ok_datanedslag>=G2123,Skyggetabeller!G432,\"\")","v":8.9418902130432333E-3}]
[null,{"$f":"IF('Dine valg'!$G$24=\"\",\"Ingen sammenligningsgruppe valgt.\",\"Valgte kommuner i sammenligningsgruppen: \"&'Dine valg'!$G$24&\" \"&'Dine valg'!$G$25&\" \"&'Dine valg'!$G$26&\" \"&'Dine valg'!$G$27&\" \"&'Dine valg'!$G$28&\" \"&'Dine valg'!$G$29&\" \"&'Dine valg'!$G$30)","v":"Valgte kommuner i sammenligningsgruppen: Allerød Assens Ballerup    "}]
[null,{"$f":"RegNøgletal!B235","v":"Anm.: Udgifterne er defineret som art>0 og ekskl. refusioner."}]
[null,{"$f":"RegNøgletal!B236","v":"Kilde: Kommunale regnskaber, Danmarks Statistik"}]
[]
[null,"Tabel 20.3.2: Udvikling i fordelingen af udgiftsandele for landsgennemsnittet"]
[null,null,{"$f":"Skyggetabeller!C$14","v":2018},{"$f":"Skyggetabeller!D$14","v":2019},{"$f":"Skyggetabeller!E$14","v":2020},{"$f":"Skyggetabeller!F$14","v":2021},{"$f":"Skyggetabeller!G$14","v":2022}]
[null,"Længerevarende botilbud",{"$f":"IF(ok_datanedslag>=C$2130,Skyggetabeller!C437,\"\")","v":0.35299410641337936},{"$f":"IF(ok_datanedslag>=D$2130,Skyggetabeller!D437,\"\")","v":0.23642629045053903},{"$f":"IF(ok_datanedslag>=E$2130,Skyggetabeller!E437,\"\")","v":0.24736815768078368},{"$f":"IF(ok_datanedslag>=F$2130,Skyggetabeller!F437,\"\")","v":0.24254715674032393},{"$f":"IF(ok_datanedslag>=G$2130,Skyggetabeller!G437,\"\")","v":0.23168277951977057}]
[null,"Botilbudslignende tilbud",{"$f":"IF(ok_datanedslag>=C$2130,Skyggetabeller!C438,\"\")","v":8.381965504809967E-2},{"$f":"IF(ok_datanedslag>=D$2130,Skyggetabeller!D438,\"\")","v":0.16183454826209678},{"$f":"IF(ok_datanedslag>=E$2130,Skyggetabeller!E438,\"\")","v":0.16882949490156443},{"$f":"IF(ok_datanedslag>=F$2130,Skyggetabeller!F438,\"\")","v":0.16147416846816995},{"$f":"IF(ok_datanedslag>=G$2130,Skyggetabeller!G438,\"\")","v":0.16625128654179755}]
[null,"Midlertidige botilbud",{"$f":"IF(ok_datanedslag>=C$2130,Skyggetabeller!C439,\"\")","v":0.31634799239931166},{"$f":"IF(ok_datanedslag>=D$2130,Skyggetabeller!D439,\"\")","v":0.29867712814760772},{"$f":"IF(ok_datanedslag>=E$2130,Skyggetabeller!E439,\"\")","v":0.36829237367295942},{"$f":"IF(ok_datanedslag>=F$2130,Skyggetabeller!F439,\"\")","v":0.32144658678994209},{"$f":"IF(ok_datanedslag>=G$2130,Skyggetabeller!G439,\"\")","v":0.31904312605714552}]
[null,"Socialpædagogisk støtte",{"$f":"IF(ok_datanedslag>=C$2130,Skyggetabeller!C440,\"\")","v":0.12487125823550109},{"$f":"IF(ok_datanedslag>=D$2130,Skyggetabeller!D440,\"\")","v":0.19123367573659728},{"$f":"IF(ok_datanedslag>=E$2130,Skyggetabeller!E440,\"\")","v":8.9230948165208795E-2},{"$f":"IF(ok_datanedslag>=F$2130,Skyggetabeller!F440,\"\")","v":0.15291302905281223},{"$f":"IF(ok_datanedslag>=G$2130,Skyggetabeller!G440,\"\")","v":0.16283081268882027}]
[null,"Beskyttet beskæftigelse og aktivitets- og samværstilbud",{"$f":"IF(ok_datanedslag>=C$2130,Skyggetabeller!C441,\"\")","v":3.1962217878479339E-2},{"$f":"IF(ok_datanedslag>=D$2130,Skyggetabeller!D441,\"\")","v":5.5145906946497701E-2},{"$f":"IF(ok_datanedslag>=E$2130,Skyggetabeller!E441,\"\")","v":6.6686539756351026E-2},{"$f":"IF(ok_datanedslag>=F$2130,Skyggetabeller!F441,\"\")","v":5.9895469683220973E-2},{"$f":"IF(ok_datanedslag>=G$2130,Skyggetabeller!G441,\"\")","v":5.9876940086058865E-2}]
[null,"Forebyggende indsatser",{"$f":"IF(ok_datanedslag>=C$2130,Skyggetabeller!C442,\"\")","v":9.000477002522872E-2},{"$f":"IF(ok_datanedslag>=D$2130,Skyggetabeller!D442,\"\")","v":5.6682450456661475E-2},{"$f":"IF(ok_datanedslag>=E$2130,Skyggetabeller!E442,\"\")","v":5.9592485823132736E-2},{"$f":"IF(ok_datanedslag>=F$2130,Skyggetabeller!F442,\"\")","v":6.1723589265531051E-2},{"$f":"IF(ok_datanedslag>=G$2130,Skyggetabeller!G442,\"\")","v":6.0315055106407132E-2}]
[null,{"$f":"RegNøgletal!B235","v":"Anm.: Udgifterne er defineret som art>0 og ekskl. refusioner."}]
[null,{"$f":"RegNøgletal!B236","v":"Kilde: Kommunale regnskaber, Danmarks Statistik"}]
[]
[]
[]
[null,"Figur 20.4: Udvikling i udgiftsandele på tværs af kommuner"]
[]
[]
[]
[]
[]
[]
[]
[]
[]
[]
[]
[]
[]
[]
[]
[]
[]
[]
[]
[]
[]
[]
[null,{"$f":"IF('Dine valg'!$G$24=\"\",\"Ingen sammenligningsgruppe valgt.\",\"Valgte kommuner i sammenligningsgruppen: \"&'Dine valg'!$G$24&\" \"&'Dine valg'!$G$25&\" \"&'Dine valg'!$G$26&\" \"&'Dine valg'!$G$27&\" \"&'Dine valg'!$G$28&\" \"&'Dine valg'!$G$29&\" \"&'Dine valg'!$G$30)","v":"Valgte kommuner i sammenligningsgruppen: Allerød Assens Ballerup    "},null,null,null,null,{"$f":"IF('Dine valg'!$G$24=\"\",\"Ingen sammenligningsgruppe valgt.\",\"Valgte kommuner i sammenligningsgruppen: \"&'Dine valg'!$G$24&\" \"&'Dine valg'!$G$25&\" \"&'Dine valg'!$G$26&\" \"&'Dine valg'!$G$27&\" \"&'Dine valg'!$G$28&\" \"&'Dine valg'!$G$29&\" \"&'Dine valg'!$G$30)","v":"Valgte kommuner i sammenligningsgruppen: Allerød Assens Ballerup    "},null,null,null,null,null,{"$f":"IF('Dine valg'!$G$24=\"\",\"Ingen sammenligningsgruppe valgt.\",\"Valgte kommuner i sammenligningsgruppen: \"&'Dine valg'!$G$24&\" \"&'Dine valg'!$G$25&\" \"&'Dine valg'!$G$26&\" \"&'Dine valg'!$G$27&\" \"&'Dine valg'!$G$28&\" \"&'Dine valg'!$G$29&\" \"&'Dine valg'!$G$30)","v":"Valgte kommuner i sammenligningsgruppen: Allerød Assens Ballerup    "}]
[null,{"$f":"RegNøgletal!B235","v":"Anm.: Udgifterne er defineret som art>0 og ekskl. refusioner."},null,null,null,null,{"$f":"RegNøgletal!B235","v":"Anm.: Udgifterne er defineret som art>0 og ekskl. refusioner."},null,null,null,null,null,{"$f":"RegNøgletal!B235","v":"Anm.: Udgifterne er defineret som art>0 og ekskl. refusioner."}]
[null,{"$f":"RegNøgletal!B236","v":"Kilde: Kommunale regnskaber, Danmarks Statistik"},null,null,null,null,{"$f":"RegNøgletal!B236","v":"Kilde: Kommunale regnskaber, Danmarks Statistik"},null,null,null,null,null,{"$f":"RegNøgletal!B236","v":"Kilde: Kommunale regnskaber, Danmarks Statistik"}]
[]
[]
[]
[]
[]
[]
[]
[]
[]
[]
[]
[]
[]
[]
[]
[]
[]
[]
[]
[]
[]
[]
[null,{"$f":"IF('Dine valg'!$G$24=\"\",\"Ingen sammenligningsgruppe valgt.\",\"Valgte kommuner i sammenligningsgruppen: \"&'Dine valg'!$G$24&\" \"&'Dine valg'!$G$25&\" \"&'Dine valg'!$G$26&\" \"&'Dine valg'!$G$27&\" \"&'Dine valg'!$G$28&\" \"&'Dine valg'!$G$29&\" \"&'Dine valg'!$G$30)","v":"Valgte kommuner i sammenligningsgruppen: Allerød Assens Ballerup    "},null,null,null,null,{"$f":"IF('Dine valg'!$G$24=\"\",\"Ingen sammenligningsgruppe valgt.\",\"Valgte kommuner i sammenligningsgruppen: \"&'Dine valg'!$G$24&\" \"&'Dine valg'!$G$25&\" \"&'Dine valg'!$G$26&\" \"&'Dine valg'!$G$27&\" \"&'Dine valg'!$G$28&\" \"&'Dine valg'!$G$29&\" \"&'Dine valg'!$G$30)","v":"Valgte kommuner i sammenligningsgruppen: Allerød Assens Ballerup    "},null,null,null,null,null,{"$f":"IF('Dine valg'!$G$24=\"\",\"Ingen sammenligningsgruppe valgt.\",\"Valgte kommuner i sammenligningsgruppen: \"&'Dine valg'!$G$24&\" \"&'Dine valg'!$G$25&\" \"&'Dine valg'!$G$26&\" \"&'Dine valg'!$G$27&\" \"&'Dine valg'!$G$28&\" \"&'Dine valg'!$G$29&\" \"&'Dine valg'!$G$30)","v":"Valgte kommuner i sammenligningsgruppen: Allerød Assens Ballerup    "}]
[null,{"$f":"RegNøgletal!B235","v":"Anm.: Udgifterne er defineret som art>0 og ekskl. refusioner."},null,null,null,null,{"$f":"RegNøgletal!B235","v":"Anm.: Udgifterne er defineret som art>0 og ekskl. refusioner."},null,null,null,null,null,{"$f":"RegNøgletal!B235","v":"Anm.: Udgifterne er defineret som art>0 og ekskl. refusioner."}]
[null,{"$f":"RegNøgletal!B236","v":"Kilde: Kommunale regnskaber, Danmarks Statistik"},null,null,null,null,{"$f":"RegNøgletal!B236","v":"Kilde: Kommunale regnskaber, Danmarks Statistik"},null,null,null,null,null,{"$f":"RegNøgletal!B236","v":"Kilde: Kommunale regnskaber, Danmarks Statistik"}]
[]
[]
[null,"Tabel 20.4: Udvikling i udgiftsandele på tværs af kommuner"]
[]
[null,"Tabel 20.4.1: Udgiftsandel til længerevarende botilbud",null,null,null,null,null,null,"Tabel 20.4.2: Udgiftsandel til botilbudslignende tilbud"]
[null,null,{"$f":"Skyggetabeller!C$14","v":2018},{"$f":"Skyggetabeller!D$14","v":2019},{"$f":"Skyggetabeller!E$14","v":2020},{"$f":"Skyggetabeller!F$14","v":2021},{"$f":"Skyggetabeller!G$14","v":2022},null,null,{"$f":"Skyggetabeller!C$14","v":2018},{"$f":"Skyggetabeller!D$14","v":2019},{"$f":"Skyggetabeller!E$14","v":2020},{"$f":"Skyggetabeller!F$14","v":2021},{"$f":"Skyggetabeller!G$14","v":2022}]
[null,{"$f":"Kommune","v":"Herning"},null,null,null,null,null,null,{"$f":"Kommune","v":"Herning"}]
[null,"Andel ",{"$f":"IF(ok_datanedslag>=C2198,Skyggetabeller!C417,\"\")","v":0.175613626388467},{"$f":"IF(ok_datanedslag>=D2198,Skyggetabeller!D417,\"\")","v":0.18853526280223501},{"$f":"IF(ok_datanedslag>=E2198,Skyggetabeller!E417,\"\")","v":0.193999533815058},{"$f":"IF(ok_datanedslag>=F2198,Skyggetabeller!F417,\"\")","v":0.19426037566638399},{"$f":"IF(ok_datanedslag>=G2198,Skyggetabeller!G417,\"\")","v":0.20666160776272699},null,"Andel ",{"$f":"IF(ok_datanedslag>=J2198,Skyggetabeller!C418,\"\")","v":0.28795705459333498},{"$f":"IF(ok_datanedslag>=K2198,Skyggetabeller!D418,\"\")","v":0.303199116575742},{"$f":"IF(ok_datanedslag>=L2198,Skyggetabeller!E418,\"\")","v":0.279278079318038},{"$f":"IF(ok_datanedslag>=M2198,Skyggetabeller!F418,\"\")","v":0.29551757926029298},{"$f":"IF(ok_datanedslag>=N2198,Skyggetabeller!G418,\"\")","v":0.27127565106479201}]
[null,"Sammenligningskommuner",null,null,null,null,null,null,"Sammenligningskommuner"]
[null,"Andel ",{"$f":"IF(ok_datanedslag>=C2198,IF(Hjælpefane!$C$4=\"\",\"-\",SUM(Hjælpefane!$AO$16:$AO$22))/COUNT(Hjælpefane!$AO$16:$AO$22),\"\")","v":0.43535238593165343},{"$f":"IF(ok_datanedslag>=D2198,IF(Hjælpefane!$C$4=\"\",\"-\",SUM(Hjælpefane!$AO$16:$AO$22))/COUNT(Hjælpefane!$AO$16:$AO$22),\"\")","v":0.43535238593165343},{"$f":"IF(ok_datanedslag>=E2198,IF(Hjælpefane!$C$4=\"\",\"-\",SUM(Hjælpefane!$AO$16:$AO$22))/COUNT(Hjælpefane!$AO$16:$AO$22),\"\")","v":0.43535238593165343},{"$f":"IF(ok_datanedslag>=F2198,IF(Hjælpefane!$C$4=\"\",\"-\",SUM(Hjælpefane!$AO$16:$AO$22))/COUNT(Hjælpefane!$AO$16:$AO$22),\"\")","v":0.43535238593165343},{"$f":"IF(ok_datanedslag>=G2198,IF(Hjælpefane!$C$4=\"\",\"-\",SUM(Hjælpefane!$AO$16:$AO$22))/COUNT(Hjælpefane!$AO$16:$AO$22),\"\")","v":0.43535238593165343},null,"Andel ",{"$f":"IF(ok_datanedslag>=J2198,IF(Hjælpefane!$C$4=\"\",\"-\",SUM(Hjælpefane!$AP$16:$AP$22))/COUNT(Hjælpefane!$AP$16:$AP$22),\"\")","v":0.15191661079604893},{"$f":"IF(ok_datanedslag>=K2198,IF(Hjælpefane!$C$4=\"\",\"-\",SUM(Hjælpefane!$AP$16:$AP$22))/COUNT(Hjælpefane!$AP$16:$AP$22),\"\")","v":0.15191661079604893},{"$f":"IF(ok_datanedslag>=L2198,IF(Hjælpefane!$C$4=\"\",\"-\",SUM(Hjælpefane!$AP$16:$AP$22))/COUNT(Hjælpefane!$AP$16:$AP$22),\"\")","v":0.15191661079604893},{"$f":"IF(ok_datanedslag>=M2198,IF(Hjælpefane!$C$4=\"\",\"-\",SUM(Hjælpefane!$AP$16:$AP$22))/COUNT(Hjælpefane!$AP$16:$AP$22),\"\")","v":0.15191661079604893},{"$f":"IF(ok_datanedslag>=N2198,IF(Hjælpefane!$C$4=\"\",\"-\",SUM(Hjælpefane!$AP$16:$AP$22))/COUNT(Hjælpefane!$AP$16:$AP$22),\"\")","v":0.15191661079604893}]
[null,"Landsgennemsnit",null,null,null,null,null,null,"Landsgennemsnit"]
[null,"Andel ",{"$f":"IF(ok_datanedslag>=C2198,(INDEX(Data_landoek,MATCH(Skyggetabeller!C$14,Landaar2,0),6)),\"\")","v":0.35299410641337936},{"$f":"IF(ok_datanedslag>=D2198,(INDEX(Data_landoek,MATCH(Skyggetabeller!D$14,Landaar2,0),6)),\"\")","v":0.23642629045053903},{"$f":"IF(ok_datanedslag>=E2198,(INDEX(Data_landoek,MATCH(Skyggetabeller!E$14,Landaar2,0),6)),\"\")","v":0.24736815768078368},{"$f":"IF(ok_datanedslag>=F2198,(INDEX(Data_landoek,MATCH(Skyggetabeller!F$14,Landaar2,0),6)),\"\")","v":0.24254715674032393},{"$f":"IF(ok_datanedslag>=G2198,(INDEX(Data_landoek,MATCH(Skyggetabeller!G$14,Landaar2,0),6)),\"\")","v":0.23168277951977057},null,"Andel ",{"$f":"IF(ok_datanedslag>=J2198,INDEX(Data_landoek,MATCH(Skyggetabeller!C$14,Landaar2,0),9),\"\")","v":8.381965504809967E-2},{"$f":"IF(ok_datanedslag>=K2198,INDEX(Data_landoek,MATCH(Skyggetabeller!D$14,Landaar2,0),9),\"\")","v":0.16183454826209678},{"$f":"IF(ok_datanedslag>=L2198,INDEX(Data_landoek,MATCH(Skyggetabeller!E$14,Landaar2,0),9),\"\")","v":0.16882949490156443},{"$f":"IF(ok_datanedslag>=M2198,INDEX(Data_landoek,MATCH(Skyggetabeller!F$14,Landaar2,0),9),\"\")","v":0.16147416846816995},{"$f":"IF(ok_datanedslag>=N2198,INDEX(Data_landoek,MATCH(Skyggetabeller!G$14,Landaar2,0),9),\"\")","v":0.16625128654179755}]
[null,{"$f":"IF('Dine valg'!$G$24=\"\",\"Ingen sammenligningsgruppe valgt.\",\"Valgte kommuner i sammenligningsgruppen: \"&'Dine valg'!$G$24&\" \"&'Dine valg'!$G$25&\" \"&'Dine valg'!$G$26&\" \"&'Dine valg'!$G$27&\" \"&'Dine valg'!$G$28&\" \"&'Dine valg'!$G$29&\" \"&'Dine valg'!$G$30)","v":"Valgte kommuner i sammenligningsgruppen: Allerød Assens Ballerup    "},null,null,null,null,null,null,{"$f":"IF('Dine valg'!$G$24=\"\",\"Ingen sammenligningsgruppe valgt.\",\"Valgte kommuner i sammenligningsgruppen: \"&'Dine valg'!$G$24&\" \"&'Dine valg'!$G$25&\" \"&'Dine valg'!$G$26&\" \"&'Dine valg'!$G$27&\" \"&'Dine valg'!$G$28&\" \"&'Dine valg'!$G$29&\" \"&'Dine valg'!$G$30)","v":"Valgte kommuner i sammenligningsgruppen: Allerød Assens Ballerup    "}]
[null,{"$f":"RegNøgletal!B235","v":"Anm.: Udgifterne er defineret som art>0 og ekskl. refusioner."},null,null,null,null,null,null,{"$f":"RegNøgletal!B235","v":"Anm.: Udgifterne er defineret som art>0 og ekskl. refusioner."}]
[null,{"$f":"RegNøgletal!B236","v":"Kilde: Kommunale regnskaber, Danmarks Statistik"},null,null,null,null,null,null,{"$f":"RegNøgletal!B236","v":"Kilde: Kommunale regnskaber, Danmarks Statistik"}]
[]
[null,"Tabel 20.4.3: Udgiftsandel til midlertidige botilbud",null,null,null,null,null,null,"Tabel 20.4.4: Udgiftsandel til socialpædagogisk støtte"]
[null,null,{"$f":"Skyggetabeller!C$14","v":2018},{"$f":"Skyggetabeller!D$14","v":2019},{"$f":"Skyggetabeller!E$14","v":2020},{"$f":"Skyggetabeller!F$14","v":2021},{"$f":"Skyggetabeller!G$14","v":2022},null,null,{"$f":"Skyggetabeller!C$14","v":2018},{"$f":"Skyggetabeller!D$14","v":2019},{"$f":"Skyggetabeller!E$14","v":2020},{"$f":"Skyggetabeller!F$14","v":2021},{"$f":"Skyggetabeller!G$14","v":2022}]
[null,{"$f":"Kommune","v":"Herning"},null,null,null,null,null,null,{"$f":"Kommune","v":"Herning"}]
[null,"Andel ",{"$f":"IF(ok_datanedslag>=C2210,Skyggetabeller!C419,\"\")","v":0.23616597454336699},{"$f":"IF(ok_datanedslag>=D2210,Skyggetabeller!D419,\"\")","v":0.29347485702042098},{"$f":"IF(ok_datanedslag>=E2210,Skyggetabeller!E419,\"\")","v":0.28731976957144301},{"$f":"IF(ok_datanedslag>=F2210,Skyggetabeller!F419,\"\")","v":0.27729892215966601},{"$f":"IF(ok_datanedslag>=G2210,Skyggetabeller!G419,\"\")","v":0.21292603774803401},null,"Andel ",{"$f":"IF(ok_datanedslag>=J2210,Skyggetabeller!C420,\"\")","v":0.243239137040413},{"$f":"IF(ok_datanedslag>=K2210,Skyggetabeller!D420,\"\")","v":0.15812634944703599},{"$f":"IF(ok_datanedslag>=L2210,Skyggetabeller!E420,\"\")","v":0.17292131464153701},{"$f":"IF(ok_datanedslag>=M2210,Skyggetabeller!F420,\"\")","v":0.15757394582565201},{"$f":"IF(ok_datanedslag>=N2210,Skyggetabeller!G420,\"\")","v":0.216720215703053}]
[null,"Sammenligningskommuner",null,null,null,null,null,null,"Sammenligningskommuner"]
[null,"Andel ",{"$f":"IF(ok_datanedslag>=C2210,IF(Hjælpefane!$C$4=\"\",\"-\",SUM(Hjælpefane!$AQ$16:$AQ$22))/COUNT(Hjælpefane!$AQ$16:$AQ$22),\"\")","v":0.27563855365160234},{"$f":"IF(ok_datanedslag>=D2210,IF(Hjælpefane!$C$4=\"\",\"-\",SUM(Hjælpefane!$AQ$16:$AQ$22))/COUNT(Hjælpefane!$AQ$16:$AQ$22),\"\")","v":0.27563855365160234},{"$f":"IF(ok_datanedslag>=E2210,IF(Hjælpefane!$C$4=\"\",\"-\",SUM(Hjælpefane!$AQ$16:$AQ$22))/COUNT(Hjælpefane!$AQ$16:$AQ$22),\"\")","v":0.27563855365160234},{"$f":"IF(ok_datanedslag>=F2210,IF(Hjælpefane!$C$4=\"\",\"-\",SUM(Hjælpefane!$AQ$16:$AQ$22))/COUNT(Hjælpefane!$AQ$16:$AQ$22),\"\")","v":0.27563855365160234},{"$f":"IF(ok_datanedslag>=G2210,IF(Hjælpefane!$C$4=\"\",\"-\",SUM(Hjælpefane!$AQ$16:$AQ$22))/COUNT(Hjælpefane!$AQ$16:$AQ$22),\"\")","v":0.27563855365160234},null,"Andel ",{"$f":"IF(ok_datanedslag>=J2210,IF(Hjælpefane!$C$4=\"\",\"-\",SUM(Hjælpefane!$AR$16:$AR$22))/COUNT(Hjælpefane!$AR$16:$AR$22),\"\")","v":6.4382101506204867E-2},{"$f":"IF(ok_datanedslag>=K2210,IF(Hjælpefane!$C$4=\"\",\"-\",SUM(Hjælpefane!$AR$16:$AR$22))/COUNT(Hjælpefane!$AR$16:$AR$22),\"\")","v":6.4382101506204867E-2},{"$f":"IF(ok_datanedslag>=L2210,IF(Hjælpefane!$C$4=\"\",\"-\",SUM(Hjælpefane!$AR$16:$AR$22))/COUNT(Hjælpefane!$AR$16:$AR$22),\"\")","v":6.4382101506204867E-2},{"$f":"IF(ok_datanedslag>=M2210,IF(Hjælpefane!$C$4=\"\",\"-\",SUM(Hjælpefane!$AR$16:$AR$22))/COUNT(Hjælpefane!$AR$16:$AR$22),\"\")","v":6.4382101506204867E-2},{"$f":"IF(ok_datanedslag>=N2210,IF(Hjælpefane!$C$4=\"\",\"-\",SUM(Hjælpefane!$AR$16:$AR$22))/COUNT(Hjælpefane!$AR$16:$AR$22),\"\")","v":6.4382101506204867E-2}]
[null,"Landsgennemsnit",null,null,null,null,null,null,"Landsgennemsnit"]
[null,"Andel ",{"$f":"IF(ok_datanedslag>=C2210,(INDEX(Data_landoek,MATCH(Skyggetabeller!C$14,Landaar2,0),12)),\"\")","v":0.31634799239931166},{"$f":"IF(ok_datanedslag>=D2210,(INDEX(Data_landoek,MATCH(Skyggetabeller!D$14,Landaar2,0),12)),\"\")","v":0.29867712814760772},{"$f":"IF(ok_datanedslag>=E2210,(INDEX(Data_landoek,MATCH(Skyggetabeller!E$14,Landaar2,0),12)),\"\")","v":0.36829237367295942},{"$f":"IF(ok_datanedslag>=F2210,(INDEX(Data_landoek,MATCH(Skyggetabeller!F$14,Landaar2,0),12)),\"\")","v":0.32144658678994209},{"$f":"IF(ok_datanedslag>=G2210,(INDEX(Data_landoek,MATCH(Skyggetabeller!G$14,Landaar2,0),12)),\"\")","v":0.31904312605714552},null,"Andel ",{"$f":"IF(ok_datanedslag>=J2210,(INDEX(Data_landoek,MATCH(Skyggetabeller!C$14,Landaar2,0),15)),\"\")","v":0.12487125823550109},{"$f":"IF(ok_datanedslag>=K2210,(INDEX(Data_landoek,MATCH(Skyggetabeller!D$14,Landaar2,0),15)),\"\")","v":0.19123367573659728},{"$f":"IF(ok_datanedslag>=L2210,(INDEX(Data_landoek,MATCH(Skyggetabeller!E$14,Landaar2,0),15)),\"\")","v":8.9230948165208795E-2},{"$f":"IF(ok_datanedslag>=M2210,(INDEX(Data_landoek,MATCH(Skyggetabeller!F$14,Landaar2,0),15)),\"\")","v":0.15291302905281223},{"$f":"IF(ok_datanedslag>=N2210,(INDEX(Data_landoek,MATCH(Skyggetabeller!G$14,Landaar2,0),15)),\"\")","v":0.16283081268882027}]
[null,{"$f":"IF('Dine valg'!$G$24=\"\",\"Ingen sammenligningsgruppe valgt.\",\"Valgte kommuner i sammenligningsgruppen: \"&'Dine valg'!$G$24&\" \"&'Dine valg'!$G$25&\" \"&'Dine valg'!$G$26&\" \"&'Dine valg'!$G$27&\" \"&'Dine valg'!$G$28&\" \"&'Dine valg'!$G$29&\" \"&'Dine valg'!$G$30)","v":"Valgte kommuner i sammenligningsgruppen: Allerød Assens Ballerup    "},null,null,null,null,null,null,{"$f":"IF('Dine valg'!$G$24=\"\",\"Ingen sammenligningsgruppe valgt.\",\"Valgte kommuner i sammenligningsgruppen: \"&'Dine valg'!$G$24&\" \"&'Dine valg'!$G$25&\" \"&'Dine valg'!$G$26&\" \"&'Dine valg'!$G$27&\" \"&'Dine valg'!$G$28&\" \"&'Dine valg'!$G$29&\" \"&'Dine valg'!$G$30)","v":"Valgte kommuner i sammenligningsgruppen: Allerød Assens Ballerup    "}]
[null,{"$f":"RegNøgletal!B235","v":"Anm.: Udgifterne er defineret som art>0 og ekskl. refusioner."},null,null,null,null,null,null,{"$f":"RegNøgletal!B235","v":"Anm.: Udgifterne er defineret som art>0 og ekskl. refusioner."}]
[null,{"$f":"RegNøgletal!B236","v":"Kilde: Kommunale regnskaber, Danmarks Statistik"},null,null,null,null,null,null,{"$f":"RegNøgletal!B236","v":"Kilde: Kommunale regnskaber, Danmarks Statistik"}]
[]
[null,"Tabel 20.4.5: Udgiftsandel til beskyttet beskæftigelse og aktivitets- og samværstilbud",null,null,null,null,null,null,"Tabel 20.4.6: Udgiftsandel til forebyggende indsatser"]
[null,null,{"$f":"Skyggetabeller!C$14","v":2018},{"$f":"Skyggetabeller!D$14","v":2019},{"$f":"Skyggetabeller!E$14","v":2020},{"$f":"Skyggetabeller!F$14","v":2021},{"$f":"Skyggetabeller!G$14","v":2022},null,null,{"$f":"Skyggetabeller!C$14","v":2018},{"$f":"Skyggetabeller!D$14","v":2019},{"$f":"Skyggetabeller!E$14","v":2020},{"$f":"Skyggetabeller!F$14","v":2021},{"$f":"Skyggetabeller!G$14","v":2022}]
[null,{"$f":"Kommune","v":"Herning"},null,null,null,null,null,null,{"$f":"Kommune","v":"Herning"}]
[null,"Andel ",{"$f":"IF(ok_datanedslag>=C2222,Skyggetabeller!C421,\"\")","v":5.70242074344171E-2},{"$f":"IF(ok_datanedslag>=D2222,Skyggetabeller!D421,\"\")","v":5.66644141545663E-2},{"$f":"IF(ok_datanedslag>=E2222,Skyggetabeller!E421,\"\")","v":6.6481302653924296E-2},{"$f":"IF(ok_datanedslag>=F2222,Skyggetabeller!F421,\"\")","v":5.7363027917559303E-2},{"$f":"IF(ok_datanedslag>=G2222,Skyggetabeller!G421,\"\")","v":4.6628025251465199E-2},null,"Andel ",{"$f":"IF(ok_datanedslag>=J2222,Skyggetabeller!C422,\"\")","v":0},{"$f":"IF(ok_datanedslag>=K2222,Skyggetabeller!D422,\"\")","v":0},{"$f":"IF(ok_datanedslag>=L2222,Skyggetabeller!E422,\"\")","v":0},{"$f":"IF(ok_datanedslag>=M2222,Skyggetabeller!F422,\"\")","v":1.7986149170444901E-2},{"$f":"IF(ok_datanedslag>=N2222,Skyggetabeller!G422,\"\")","v":4.5788462469929098E-2}]
[null,"Sammenligningskommuner",null,null,null,null,null,null,"Sammenligningskommuner"]
[null,"Andel ",{"$f":"IF(ok_datanedslag>=C2222,IF(Hjælpefane!$C$4=\"\",\"-\",SUM(Hjælpefane!$AS$16:$AS$22))/COUNT(Hjælpefane!$AS$16:$AS$22),\"\")","v":5.4683475434775732E-2},{"$f":"IF(ok_datanedslag>=D2222,IF(Hjælpefane!$C$4=\"\",\"-\",SUM(Hjælpefane!$AS$16:$AS$22))/COUNT(Hjælpefane!$AS$16:$AS$22),\"\")","v":5.4683475434775732E-2},{"$f":"IF(ok_datanedslag>=E2222,IF(Hjælpefane!$C$4=\"\",\"-\",SUM(Hjælpefane!$AS$16:$AS$22))/COUNT(Hjælpefane!$AS$16:$AS$22),\"\")","v":5.4683475434775732E-2},{"$f":"IF(ok_datanedslag>=F2222,IF(Hjælpefane!$C$4=\"\",\"-\",SUM(Hjælpefane!$AS$16:$AS$22))/COUNT(Hjælpefane!$AS$16:$AS$22),\"\")","v":5.4683475434775732E-2},{"$f":"IF(ok_datanedslag>=G2222,IF(Hjælpefane!$C$4=\"\",\"-\",SUM(Hjælpefane!$AS$16:$AS$22))/COUNT(Hjælpefane!$AS$16:$AS$22),\"\")","v":5.4683475434775732E-2},null,"Andel ",{"$f":"IF(ok_datanedslag>=J2222,IF(Hjælpefane!$C$4=\"\",\"-\",SUM(Hjælpefane!$AT$16:$AT$22))/COUNT(Hjælpefane!$AT$16:$AT$22),\"\")","v":1.8026872679714832E-2},{"$f":"IF(ok_datanedslag>=K2222,IF(Hjælpefane!$C$4=\"\",\"-\",SUM(Hjælpefane!$AT$16:$AT$22))/COUNT(Hjælpefane!$AT$16:$AT$22),\"\")","v":1.8026872679714832E-2},{"$f":"IF(ok_datanedslag>=L2222,IF(Hjælpefane!$C$4=\"\",\"-\",SUM(Hjælpefane!$AT$16:$AT$22))/COUNT(Hjælpefane!$AT$16:$AT$22),\"\")","v":1.8026872679714832E-2},{"$f":"IF(ok_datanedslag>=M2222,IF(Hjælpefane!$C$4=\"\",\"-\",SUM(Hjælpefane!$AT$16:$AT$22))/COUNT(Hjælpefane!$AT$16:$AT$22),\"\")","v":1.8026872679714832E-2},{"$f":"IF(ok_datanedslag>=N2222,IF(Hjælpefane!$C$4=\"\",\"-\",SUM(Hjælpefane!$AT$16:$AT$22))/COUNT(Hjælpefane!$AT$16:$AT$22),\"\")","v":1.8026872679714832E-2}]
[null,"Landsgennemsnit",null,null,null,null,null,null,"Landsgennemsnit"]
[null,"Andel ",{"$f":"IF(ok_datanedslag>=C2222,(INDEX(Data_landoek,MATCH(Skyggetabeller!C$14,Landaar2,0),18)),\"\")","v":3.1962217878479339E-2},{"$f":"IF(ok_datanedslag>=D2222,(INDEX(Data_landoek,MATCH(Skyggetabeller!D$14,Landaar2,0),18)),\"\")","v":5.5145906946497701E-2},{"$f":"IF(ok_datanedslag>=E2222,(INDEX(Data_landoek,MATCH(Skyggetabeller!E$14,Landaar2,0),18)),\"\")","v":6.6686539756351026E-2},{"$f":"IF(ok_datanedslag>=F2222,(INDEX(Data_landoek,MATCH(Skyggetabeller!F$14,Landaar2,0),18)),\"\")","v":5.9895469683220973E-2},{"$f":"IF(ok_datanedslag>=G2222,(INDEX(Data_landoek,MATCH(Skyggetabeller!G$14,Landaar2,0),18)),\"\")","v":5.9876940086058865E-2},null,"Andel ",{"$f":"IF(ok_datanedslag>=J2222,(INDEX(Data_landoek,MATCH(Skyggetabeller!C$14,Landaar2,0),21)),\"\")","v":9.000477002522872E-2},{"$f":"IF(ok_datanedslag>=K2222,(INDEX(Data_landoek,MATCH(Skyggetabeller!D$14,Landaar2,0),21)),\"\")","v":5.6682450456661475E-2},{"$f":"IF(ok_datanedslag>=L2222,(INDEX(Data_landoek,MATCH(Skyggetabeller!E$14,Landaar2,0),21)),\"\")","v":5.9592485823132736E-2},{"$f":"IF(ok_datanedslag>=M2222,(INDEX(Data_landoek,MATCH(Skyggetabeller!F$14,Landaar2,0),21)),\"\")","v":6.1723589265531051E-2},{"$f":"IF(ok_datanedslag>=N2222,(INDEX(Data_landoek,MATCH(Skyggetabeller!G$14,Landaar2,0),21)),\"\")","v":6.0315055106407132E-2}]
[null,{"$f":"IF('Dine valg'!$G$24=\"\",\"Ingen sammenligningsgruppe valgt.\",\"Valgte kommuner i sammenligningsgruppen: \"&'Dine valg'!$G$24&\" \"&'Dine valg'!$G$25&\" \"&'Dine valg'!$G$26&\" \"&'Dine valg'!$G$27&\" \"&'Dine valg'!$G$28&\" \"&'Dine valg'!$G$29&\" \"&'Dine valg'!$G$30)","v":"Valgte kommuner i sammenligningsgruppen: Allerød Assens Ballerup    "},null,null,null,null,null,null,{"$f":"IF('Dine valg'!$G$24=\"\",\"Ingen sammenligningsgruppe valgt.\",\"Valgte kommuner i sammenligningsgruppen: \"&'Dine valg'!$G$24&\" \"&'Dine valg'!$G$25&\" \"&'Dine valg'!$G$26&\" \"&'Dine valg'!$G$27&\" \"&'Dine valg'!$G$28&\" \"&'Dine valg'!$G$29&\" \"&'Dine valg'!$G$30)","v":"Valgte kommuner i sammenligningsgruppen: Allerød Assens Ballerup    "}]
[null,{"$f":"RegNøgletal!B235","v":"Anm.: Udgifterne er defineret som art>0 og ekskl. refusioner."},null,null,null,null,null,null,{"$f":"RegNøgletal!B235","v":"Anm.: Udgifterne er defineret som art>0 og ekskl. refusioner."}]
[null,{"$f":"RegNøgletal!B236","v":"Kilde: Kommunale regnskaber, Danmarks Statistik"},null,null,null,null,null,null,{"$f":"RegNøgletal!B236","v":"Kilde: Kommunale regnskaber, Danmarks Statistik"}]

{"sheet":"Rapport","index":6,"n_rows":872,"n_cols":28,"rows_kept":872,"cut":false,"hidden":true,"merged":[[785,0,785,6],[793,0,793,5],[816,0,816,6],[826,0,826,6],[714,0,714,5],[735,0,735,6],[737,0,737,6],[743,0,743,6],[750,0,750,6],[753,0,753,5],[777,0,777,6],[734,0,734,6],[236,0,236,6],[274,0,274,6],[313,0,313,6],[871,1,872,3],[871,4,872,6],[37,1,39,6],[53,0,53,6],[173,0,173,6],[90,0,90,6],[130,0,130,6],[170,0,170,6],[210,0,210,6],[93,0,93,6],[133,0,133,6],[214,0,214,6],[252,0,252,6],[291,0,291,6],[330,0,330,6],[525,0,525,5],[546,0,546,6],[549,0,549,6],[557,0,557,6],[486,0,486,5],[507,0,507,6],[27,1,31,5],[158,0,158,6],[164,0,164,6],[175,0,175,5],[198,0,198,6],[204,0,204,6],[216,0,216,5],[55,0,55,6],[84,0,84,6],[124,0,124,6],[118,0,118,6],[95,0,95,5],[78,0,78,6],[135,0,135,5],[75,0,75,6],[115,0,115,6],[155,0,155,6],[195,0,195,6],[712,0,712,6],[751,0,751,6],[791,0,791,6],[251,0,251,6],[289,0,289,6],[283,0,283,6],[293,0,293,5],[314,0,314,6],[316,0,316,6],[322,0,322,6],[523,0,523,6],[563,0,563,6],[604,0,604,6],[638,0,638,6],[675,0,675,6],[368,0,368,6],[406,0,406,6],[444,0,444,6],[484,0,484,6],[367,0,367,6],[370,0,370,5],[391,0,391,6],[393,0,393,6],[399,0,399,6],[598,0,598,6],[606,0,606,5],[627,0,627,6],[629,0,629,6],[469,0,469,6],[475,0,475,6],[482,0,482,6],[565,0,565,5],[586,0,586,6],[585,0,585,6],[626,0,626,6],[589,0,589,6],[509,0,509,6],[515,0,515,6],[522,0,522,6],[676,0,676,5],[697,0,697,6],[700,0,700,6],[704,0,704,5],[707,0,707,6],[636,0,636,6],[640,0,640,5],[661,0,661,6],[664,0,664,6],[671,0,671,6],[668,0,668,5],[660,0,660,6],[696,0,696,6],[466,0,466,6],[506,0,506,6],[545,0,545,6],[353,0,353,6],[355,0,355,6],[361,0,361,6],[437,0,437,6],[443,0,443,6],[446,0,446,5],[467,0,467,6],[239,0,239,6],[245,0,245,6],[254,0,254,5],[275,0,275,6],[277,0,277,6],[405,0,405,6],[408,0,408,5],[429,0,429,6],[431,0,431,6],[352,0,352,6],[390,0,390,6],[428,0,428,6],[328,0,328,6],[332,0,332,5]]}
[]
[]
[]
[]
[]
[]
[]
[]
[]
[]
[]
[]
[]
[]
[]
[]
[]
[]
[]
[]
[]
[]
[]
[]
[]
[]
[]
[null,{"$f":"Startside!B8","v":"Socialpsykiatriens Nøgletal"}]
[]
[]
[]
[]
[]
[]
[]
[]
[]
[null,{"$f":"Kommune& \" Kommune\"","v":"Herning Kommune"}]
[]
[]
[null,"Data baserer sig på nationale registre fra Danmarks statistik, "]
[null,{"$f":"\"godkendte kommunale regnskaber\"","v":"godkendte kommunale regnskaber"}]
[null,{"$f":"\"og \"& Kommune&\" Kommunes egne data.\"","v":"og Herning Kommunes egne data."}]
[]
[]
[]
[]
[]
[]
[]
[]
[]
[]
["Nøgletal 1: Modtagere af længerevarende botilbud"]
[]
["Udvikling i andel modtagere af længerevarende botilbud"]
[]
[]
[]
[]
[]
[]
[]
[]
[]
[]
[]
[null,null,null,null,null,null,null,null,null,null,null,null,null,null,null,null,null,{"$f":"Skyggetabeller!C24","v":"2018-01-01"},{"$f":"Skyggetabeller!D24","v":"2018-07-01"},{"$f":"Skyggetabeller!E24","v":"2019-01-01"},{"$f":"Skyggetabeller!F24","v":"2019-07-01"},{"$f":"Skyggetabeller!G24","v":"2020-01-01"},{"$f":"Skyggetabeller!H24","v":"2020-07-01"},{"$f":"Skyggetabeller!I24","v":"2021-01-01"},{"$f":"Skyggetabeller!J24","v":"2021-07-01"},{"$f":"Skyggetabeller!K24","v":"2022-01-01"},{"$f":"Skyggetabeller!L24","v":"2022-07-01"},{"$f":"Skyggetabeller!M24","v":"2023-01-01"}]
[null,null,null,null,null,null,null,null,null,null,null,null,null,null,null,null,{"$f":"Skyggetabeller!B25","v":"Herning"},{"$f":"Skyggetabeller!C25","v":4.9382716049382713E-2},{"$f":"Skyggetabeller!D25","v":5.1597051597051594E-2},{"$f":"Skyggetabeller!E25","v":5.6410256410256411E-2},{"$f":"Skyggetabeller!F25","v":5.8823529411764705E-2},{"$f":"Skyggetabeller!G25","v":6.0606060606060608E-2},{"$f":"Skyggetabeller!H25","v":5.4830287206266322E-2},{"$f":"Skyggetabeller!I25","v":5.181347150259067E-2},{"$f":"Skyggetabeller!J25","v":4.859335038363171E-2},{"$f":"Skyggetabeller!K25","v":4.960835509138381E-2},{"$f":"Skyggetabeller!L25","v":5.4794520547945202E-2},{"$f":"Skyggetabeller!M25","v":5.5555555555555552E-2}]
[null,null,null,null,null,null,null,null,null,null,null,null,null,null,null,null,{"$f":"Skyggetabeller!B26","v":"Sammenligningskommuner"},{"$f":"Skyggetabeller!C26","v":6.8686868686868685E-2},{"$f":"Skyggetabeller!D26","v":7.2186836518046707E-2},{"$f":"Skyggetabeller!E26","v":7.2314049586776855E-2},{"$f":"Skyggetabeller!F26","v":6.7346938775510207E-2},{"$f":"Skyggetabeller!G26","v":7.3921971252566734E-2},{"$f":"Skyggetabeller!H26","v":7.5203252032520332E-2},{"$f":"Skyggetabeller!I26","v":7.2580645161290328E-2},{"$f":"Skyggetabeller!J26","v":6.7829457364341081E-2},{"$f":"Skyggetabeller!K26","v":6.7567567567567571E-2},{"$f":"Skyggetabeller!L26","v":6.5913370998116755E-2},{"$f":"Skyggetabeller!M26","v":6.6787003610108309E-2}]
[null,null,null,null,null,null,null,null,null,null,null,null,null,null,null,null,{"$f":"Skyggetabeller!B27","v":"Landsgennemsnit"},{"$f":"Skyggetabeller!C27","v":6.8156001514577805E-2},{"$f":"Skyggetabeller!D27","v":6.8318318318318319E-2},{"$f":"Skyggetabeller!E27","v":6.7764882066641705E-2},{"$f":"Skyggetabeller!F27","v":6.6466391288021023E-2},{"$f":"Skyggetabeller!G27","v":6.5266316579144792E-2},{"$f":"Skyggetabeller!H27","v":6.5794392523364484E-2},{"$f":"Skyggetabeller!I27","v":6.4647210934613966E-2},{"$f":"Skyggetabeller!J27","v":6.3759618908024923E-2},{"$f":"Skyggetabeller!K27","v":6.2952243125904486E-2},{"$f":"Skyggetabeller!L27","v":6.2634216177523266E-2},{"$f":"Skyggetabeller!M27","v":6.2655749377002495E-2}]
[]
[]
[]
[]
[{"$f":"RegNøgletal!B22","v":"Anm.: Hvis nøgletallet er angivet med * er der foretaget en diskretionering af data, da der er for få observationer. N angiver målgruppestørrelsen, som er alle borgere registreret med \"Sindslidelse\" i indberetningen til Danmarks Statistik."}]
["Kilde: Social- og Boligstyrelsens egne beregninger baseret på handicapstiatistikken ved Danmarks Statistik."]
[]
["Udvikling i andel modtagere af længerevarende botilbud"]
[null,{"$f":"R68","v":"2018-01-01"},{"$f":"S68","v":"2018-07-01"},"2019-01-01","2019-07-01","2020-01-01",{"$f":"W68","v":"2020-07-01"}]
[{"$f":"Q69","v":"Herning"},{"$f":"R69","v":4.9382716049382713E-2},5.1597051597051594E-2,5.6410256410256411E-2,5.8823529411764705E-2,6.0606060606060608E-2,{"$f":"W69","v":5.4830287206266322E-2}]
[{"$f":"Q70","v":"Sammenligningskommuner"},{"$f":"R70","v":6.8686868686868685E-2},7.2186836518046707E-2,7.2314049586776855E-2,6.7346938775510207E-2,7.3921971252566734E-2,{"$f":"W70","v":7.5203252032520332E-2}]
[{"$f":"Q71","v":"Landsgennemsnit"},{"$f":"R71","v":6.8156001514577805E-2},6.8318318318318319E-2,6.7764882066641705E-2,6.6466391288021023E-2,6.5266316579144792E-2,{"$f":"W71","v":6.5794392523364484E-2}]
[]
["Udvikling i andel modtagere af længerevarende botilbud"]
[null,{"$f":"X68","v":"2021-01-01"},"2021-07-01","2022-01-01","2022-07-01","2023-01-01"]
[{"$f":"Q69","v":"Herning"},5.181347150259067E-2,4.859335038363171E-2,4.960835509138381E-2,5.4794520547945202E-2,5.5555555555555552E-2]
[{"$f":"Q70","v":"Sammenligningskommuner"},7.2580645161290328E-2,6.7829457364341081E-2,6.7567567567567571E-2,6.5913370998116755E-2,6.6787003610108309E-2]
[{"$f":"Q71","v":"Landsgennemsnit"},6.4647210934613966E-2,6.3759618908024923E-2,6.2952243125904486E-2,6.2634216177523266E-2,6.2655749377002495E-2]
[]
["Nøgletal 1 viser udviklingen i antallet af borgere i målgruppen, som modtager længerevarende botilbud efter serviceloven. Dette svarer til indsatstrappens trin 8. Bemærk at borgerne indgår i nøgletallet for det højeste trin på trappen, som de modtager ydelse efter. Udviklingen i dette nøgletal skal især ses i sammenhæng med udviklingen i nøgletal 2-6. Over tid forventes antallet af borgere at stige på de nederste trin på trappen og falde på de øverste trin. Denne udvikling vil illustrere, at flere borgere kommet tættere på et almindeligt hverdagsliv."]
[]
[]
["Nøgletal 2: Modtagere af botilbudslignende tilbud"]
[]
["Udvikling i andel af modtagere af botilbudslignende tilbud"]
[]
[]
[]
[]
[]
[]
[]
[]
[]
[]
[null,null,null,null,null,null,null,null,null,null,null,null,null,null,null,null,null,{"$f":"Skyggetabeller!C36","v":"2018-01-01"},{"$f":"Skyggetabeller!D36","v":"2018-07-01"},{"$f":"Skyggetabeller!E36","v":"2019-01-01"},{"$f":"Skyggetabeller!F36","v":"2019-07-01"},{"$f":"Skyggetabeller!G36","v":"2020-01-01"},{"$f":"Skyggetabeller!H36","v":"2020-07-01"},{"$f":"Skyggetabeller!I36","v":"2021-01-01"},{"$f":"Skyggetabeller!J36","v":"2021-07-01"},{"$f":"Skyggetabeller!K36","v":"2022-01-01"},{"$f":"Skyggetabeller!L36","v":"2022-07-01"},{"$f":"Skyggetabeller!M36","v":"2023-01-01"}]
[null,null,null,null,null,null,null,null,null,null,null,null,null,null,null,null,{"$f":"Skyggetabeller!B40","v":"Herning"},{"$f":"Skyggetabeller!C40","v":0.1111111111111111},{"$f":"Skyggetabeller!D40","v":0.10810810810810811},{"$f":"Skyggetabeller!E40","v":0.11025641025641025},{"$f":"Skyggetabeller!F40","v":0.11229946524064172},{"$f":"Skyggetabeller!G40","v":0.11570247933884298},{"$f":"Skyggetabeller!H40","v":0.10704960835509138},{"$f":"Skyggetabeller!I40","v":0.10103626943005181},{"$f":"Skyggetabeller!J40","v":9.4629156010230184E-2},{"$f":"Skyggetabeller!K40","v":9.6605744125326368E-2},{"$f":"Skyggetabeller!L40","v":9.8630136986301367E-2},{"$f":"Skyggetabeller!M40","v":9.4444444444444442E-2}]
[null,null,null,null,null,null,null,null,null,null,null,null,null,null,null,null,{"$f":"Skyggetabeller!B41","v":"Sammenligningskommuner"},{"$f":"Skyggetabeller!C41","v":0.10909090909090909},{"$f":"Skyggetabeller!D41","v":0.11677282377919321},{"$f":"Skyggetabeller!E41","v":0.10330578512396695},{"$f":"Skyggetabeller!F41","v":8.3673469387755106E-2},{"$f":"Skyggetabeller!G41","v":8.2135523613963035E-2},{"$f":"Skyggetabeller!H41","v":8.3333333333333329E-2},{"$f":"Skyggetabeller!I41","v":9.6774193548387094E-2},{"$f":"Skyggetabeller!J41","v":9.3023255813953487E-2},{"$f":"Skyggetabeller!K41","v":9.2664092664092659E-2},{"$f":"Skyggetabeller!L41","v":9.03954802259887E-2},{"$f":"Skyggetabeller!M41","v":8.4837545126353789E-2}]
[null,null,null,null,null,null,null,null,null,null,null,null,null,null,null,null,{"$f":"Skyggetabeller!B42","v":"Landsgennemsnit"},{"$f":"Skyggetabeller!C42","v":0.10639909125331314},{"$f":"Skyggetabeller!D42","v":0.10698198198198199},{"$f":"Skyggetabeller!E42","v":0.10670160988393861},{"$f":"Skyggetabeller!F42","v":0.10664663912880211},{"$f":"Skyggetabeller!G42","v":0.1072768192048012},{"$f":"Skyggetabeller!H42","v":0.10616822429906542},{"$f":"Skyggetabeller!I42","v":0.1041743627632065},{"$f":"Skyggetabeller!J42","v":0.10260168559912056},{"$f":"Skyggetabeller!K42","v":0.10057887120115774},{"$f":"Skyggetabeller!L42","v":9.8425196850393706E-2},{"$f":"Skyggetabeller!M42","v":9.7543609825560693E-2}]
[]
[]
[]
[]
[]
[{"$f":"RegNøgletal!B34","v":"Anm.: Hvis nøgletallet er angivet med * er der foretaget en diskretionering af data, da der er for få observationer. N angiver målgruppestørrelsen, som er alle borgere registreret med \"Sindslidelse\" i indberetningen til Danmarks Statistik."}]
["Kilde: Social- og Boligstyrelsens egne beregninger baseret på handicapstiatistikken ved Danmarks Statistik."]
[]
[" \nUdvikling i andel af modtagere af botilbudslignende tilbud"]
[null,{"$f":"R107","v":"2018-01-01"},"2018-07-01","2019-01-01","2019-07-01","2020-01-01","2020-07-01"]
[{"$f":"Q108","v":"Herning"},0.1111111111111111,0.10810810810810811,0.11025641025641025,0.11229946524064172,0.11570247933884298,0.10704960835509138]
[{"$f":"Q109","v":"Sammenligningskommuner"},0.10909090909090909,0.11677282377919321,0.10330578512396695,8.3673469387755106E-2,8.2135523613963035E-2,8.3333333333333329E-2]
[{"$f":"Q110","v":"Landsgennemsnit"},0.10639909125331314,0.10698198198198199,0.10670160988393861,0.10664663912880211,0.1072768192048012,0.10616822429906542]
[]
[" \nUdvikling i andel af modtagere af botilbudslignende tilbud"]
[null,{"$f":"X107","v":"2021-01-01"},"2021-07-01","2022-01-01","2022-07-01","2023-01-01"]
[{"$f":"Q108","v":"Herning"},0.10103626943005181,9.4629156010230184E-2,9.6605744125326368E-2,9.8630136986301367E-2,9.4444444444444442E-2]
[{"$f":"Q109","v":"Sammenligningskommuner"},9.6774193548387094E-2,9.3023255813953487E-2,9.2664092664092659E-2,9.03954802259887E-2,8.4837545126353789E-2]
[{"$f":"Q110","v":"Landsgennemsnit"},0.1041743627632065,0.10260168559912056,0.10057887120115774,9.8425196850393706E-2,9.7543609825560693E-2]
[]
["Nøgletal 2 viser udviklingen i antallet af borgere i målgruppen, som modtager botilbudslignende tilbud efter serviceloven. Dette svarer til indsatstrappens trin 7. Bemærk at borgerne indgår i nøgletallet for det højeste trin på trappen, som de modtager ydelse efter. Udviklingen i dette nøgletal skal især ses i sammenhæng med udviklingen i nøgletal 1 og 3-6. Over tid forventes antallet af borgere at stige på de nederste trin på trappen og falde på de øverste trin. Denne udvikling vil illustrere, at flere borgere kommet tættere på et almindeligt hverdagsliv."]
[]
[]
["Nøgletal 3: Modtagere af midlertidigt botilbud"]
[]
["Udvikling i andel af modtagere af midlertidigt botilbud"]
[]
[]
[]
[]
[]
[]
[]
[]
[]
[]
[]
[null,null,null,null,null,null,null,null,null,null,null,null,null,null,null,null,null,{"$f":"Skyggetabeller!C52","v":"2018-01-01"},{"$f":"Skyggetabeller!D52","v":"2018-07-01"},{"$f":"Skyggetabeller!E52","v":"2019-01-01"},{"$f":"Skyggetabeller!F52","v":"2019-07-01"},{"$f":"Skyggetabeller!G52","v":"2020-01-01"},{"$f":"Skyggetabeller!H52","v":"2020-07-01"},{"$f":"Skyggetabeller!I52","v":"2021-01-01"},{"$f":"Skyggetabeller!J52","v":"2021-07-01"},{"$f":"Skyggetabeller!K52","v":"2022-01-01"},{"$f":"Skyggetabeller!L52","v":"2022-07-01"},{"$f":"Skyggetabeller!M52","v":"2023-01-01"}]
[null,null,null,null,null,null,null,null,null,null,null,null,null,null,null,null,{"$f":"Skyggetabeller!B40","v":"Herning"},{"$f":"Skyggetabeller!C40","v":0.1111111111111111},{"$f":"Skyggetabeller!D40","v":0.10810810810810811},{"$f":"Skyggetabeller!E40","v":0.11025641025641025},{"$f":"Skyggetabeller!F40","v":0.11229946524064172},{"$f":"Skyggetabeller!G40","v":0.11570247933884298},{"$f":"Skyggetabeller!H40","v":0.10704960835509138},{"$f":"Skyggetabeller!I40","v":0.10103626943005181},{"$f":"Skyggetabeller!J40","v":9.4629156010230184E-2},{"$f":"Skyggetabeller!K40","v":9.6605744125326368E-2},{"$f":"Skyggetabeller!L40","v":9.8630136986301367E-2},{"$f":"Skyggetabeller!M40","v":9.4444444444444442E-2}]
[null,null,null,null,null,null,null,null,null,null,null,null,null,null,null,null,{"$f":"Skyggetabeller!B41","v":"Sammenligningskommuner"},{"$f":"Skyggetabeller!C41","v":0.10909090909090909},{"$f":"Skyggetabeller!D41","v":0.11677282377919321},{"$f":"Skyggetabeller!E41","v":0.10330578512396695},{"$f":"Skyggetabeller!F41","v":8.3673469387755106E-2},{"$f":"Skyggetabeller!G41","v":8.2135523613963035E-2},{"$f":"Skyggetabeller!H41","v":8.3333333333333329E-2},{"$f":"Skyggetabeller!I41","v":9.6774193548387094E-2},{"$f":"Skyggetabeller!J41","v":9.3023255813953487E-2},{"$f":"Skyggetabeller!K41","v":9.2664092664092659E-2},{"$f":"Skyggetabeller!L41","v":9.03954802259887E-2},{"$f":"Skyggetabeller!M41","v":8.4837545126353789E-2}]
[null,null,null,null,null,null,null,null,null,null,null,null,null,null,null,null,{"$f":"Skyggetabeller!B42","v":"Landsgennemsnit"},{"$f":"Skyggetabeller!C42","v":0.10639909125331314},{"$f":"Skyggetabeller!D42","v":0.10698198198198199},{"$f":"Skyggetabeller!E42","v":0.10670160988393861},{"$f":"Skyggetabeller!F42","v":0.10664663912880211},{"$f":"Skyggetabeller!G42","v":0.1072768192048012},{"$f":"Skyggetabeller!H42","v":0.10616822429906542},{"$f":"Skyggetabeller!I42","v":0.1041743627632065},{"$f":"Skyggetabeller!J42","v":0.10260168559912056},{"$f":"Skyggetabeller!K42","v":0.10057887120115774},{"$f":"Skyggetabeller!L42","v":9.8425196850393706E-2},{"$f":"Skyggetabeller!M42","v":9.7543609825560693E-2}]
[]
[]
[]
[]
[{"$f":"RegNøgletal!B46","v":"Anm.: Hvis nøgletallet er angivet med * er der foretaget en diskretionering af data, da der er for få observationer. N angiver målgruppestørrelsen, som er alle borgere registreret med \"Sindslidelse\" i indberetningen til Danmarks Statistik."}]
["Kilde: Social- og Boligstyrelsens egne beregninger baseret på handicapstiatistikken ved Danmarks Statistik."]
[]
[" \nUdvikling i andel af modtagere af midlertidigt botilbud"]
[null,{"$f":"R148","v":"2018-01-01"},{"$f":"S148","v":"2018-07-01"},"2019-01-01","2019-07-01","2020-01-01",{"$f":"W148","v":"2020-07-01"}]
[{"$f":"Q149","v":"Herning"},{"$f":"R149","v":0.1111111111111111},0.10810810810810811,0.11025641025641025,0.11229946524064172,0.11570247933884298,{"$f":"W149","v":0.10704960835509138}]
[{"$f":"Q150","v":"Sammenligningskommuner"},{"$f":"R150","v":0.10909090909090909},0.11677282377919321,0.10330578512396695,8.3673469387755106E-2,8.2135523613963035E-2,{"$f":"W150","v":8.3333333333333329E-2}]
[{"$f":"Q151","v":"Landsgennemsnit"},{"$f":"R151","v":0.10639909125331314},0.10698198198198199,0.10670160988393861,0.10664663912880211,0.1072768192048012,{"$f":"W151","v":0.10616822429906542}]
[]
[" \nUdvikling i andel af modtagere af midlertidigt botilbud"]
[null,{"$f":"X148","v":"2021-01-01"},"2021-07-01","2022-01-01","2022-07-01","2023-01-01"]
[{"$f":"Q149","v":"Herning"},0.10103626943005181,9.4629156010230184E-2,9.6605744125326368E-2,9.8630136986301367E-2,9.4444444444444442E-2]
[{"$f":"Q150","v":"Sammenligningskommuner"},9.6774193548387094E-2,9.3023255813953487E-2,9.2664092664092659E-2,9.03954802259887E-2,8.4837545126353789E-2]
[{"$f":"Q151","v":"Landsgennemsnit"},0.1041743627632065,0.10260168559912056,0.10057887120115774,9.8425196850393706E-2,9.7543609825560693E-2]
[]
["Nøgletal 3 viser udviklingen i antallet af borgere i målgruppen, som modtager midlertidigt botilbud efter serviceloven. Dette svarer til indsatstrappens trin 6. Bemærk at borgerne indgår i nøgletallet for det højeste trin på trappen, som de modtager ydelse efter. Udviklingen i dette nøgletal skal især ses i sammenhæng med udviklingen i nøgletal 1-2 og 4-6. Over tid forventes antallet af borgere at stige på de nederste trin på trappen og falde på de øverste trin. Denne udvikling vil illustrere, at flere borgere kommet tættere på et almindeligt hverdagsliv."]
[]
[]
["Nøgletal 4: Modtagere af socialpædagogisk støtte"]
[]
["Udvikling i andel af modtagere af socialpædagogisk støtte"]
[]
[]
[]
[]
[]
[]
[null,null,null,null,null,null,null,null,null,null,null,null,null,null,null,null,null,{"$f":"Skyggetabeller!C68","v":"2018-01-01"},{"$f":"Skyggetabeller!D68","v":"2018-07-01"},{"$f":"Skyggetabeller!E68","v":"2019-01-01"},{"$f":"Skyggetabeller!F68","v":"2019-07-01"},{"$f":"Skyggetabeller!G68","v":"2020-01-01"},{"$f":"Skyggetabeller!H68","v":"2020-07-01"},{"$f":"Skyggetabeller!I68","v":"2021-01-01"},{"$f":"Skyggetabeller!J68","v":"2021-07-01"},{"$f":"Skyggetabeller!K68","v":"2022-01-01"},{"$f":"Skyggetabeller!L68","v":"2022-07-01"},{"$f":"Skyggetabeller!M68","v":"2023-01-01"}]
[null,null,null,null,null,null,null,null,null,null,null,null,null,null,null,null,{"$f":"Skyggetabeller!B56","v":"Herning"},{"$f":"Skyggetabeller!C56","v":6.9135802469135796E-2},{"$f":"Skyggetabeller!D56","v":6.3882063882063883E-2},{"$f":"Skyggetabeller!E56","v":7.179487179487179E-2},{"$f":"Skyggetabeller!F56","v":8.0213903743315509E-2},{"$f":"Skyggetabeller!G56","v":8.2644628099173556E-2},{"$f":"Skyggetabeller!H56","v":6.7885117493472591E-2},{"$f":"Skyggetabeller!I56","v":6.2176165803108807E-2},{"$f":"Skyggetabeller!J56","v":5.8823529411764705E-2},{"$f":"Skyggetabeller!K56","v":5.4830287206266322E-2},{"$f":"Skyggetabeller!L56","v":4.6575342465753428E-2},{"$f":"Skyggetabeller!M56","v":4.1666666666666664E-2}]
[null,null,null,null,null,null,null,null,null,null,null,null,null,null,null,null,{"$f":"Skyggetabeller!B57","v":"Sammenligningskommuner"},{"$f":"Skyggetabeller!C57","v":0.12323232323232323},{"$f":"Skyggetabeller!D57","v":0.12526539278131635},{"$f":"Skyggetabeller!E57","v":0.12603305785123967},{"$f":"Skyggetabeller!F57","v":0.12040816326530612},{"$f":"Skyggetabeller!G57","v":0.11909650924024641},{"$f":"Skyggetabeller!H57","v":0.13008130081300814},{"$f":"Skyggetabeller!I57","v":0.12298387096774194},{"$f":"Skyggetabeller!J57","v":0.13372093023255813},{"$f":"Skyggetabeller!K57","v":0.13127413127413126},{"$f":"Skyggetabeller!L57","v":0.13127413127413126},{"$f":"Skyggetabeller!M57","v":0.13127413127413126}]
[null,null,null,null,null,null,null,null,null,null,null,null,null,null,null,null,{"$f":"Skyggetabeller!B58","v":"Landsgennemsnit"},{"$f":"Skyggetabeller!C58","v":9.0874668686103749E-2},{"$f":"Skyggetabeller!D58","v":9.2342342342342343E-2},{"$f":"Skyggetabeller!E58","v":9.5844253088730819E-2},{"$f":"Skyggetabeller!F58","v":9.763424708974841E-2},{"$f":"Skyggetabeller!G58","v":9.7149287321830452E-2},{"$f":"Skyggetabeller!H58","v":9.7570093457943929E-2},{"$f":"Skyggetabeller!I58","v":9.6047284817140741E-2},{"$f":"Skyggetabeller!J58","v":9.7105166727739098E-2},{"$f":"Skyggetabeller!K58","v":9.7684515195369026E-2},{"$f":"Skyggetabeller!L58","v":9.7351467430207589E-2},{"$f":"Skyggetabeller!M58","v":9.8611605553577786E-2}]
[]
[]
[]
[]
[]
[]
[]
[]
[]
[{"$f":"RegNøgletal!B58","v":"Anm.: Hvis nøgletallet er angivet med * er der foretaget en diskretionering af data, da der er for få observationer. N angiver målgruppestørrelsen, som er alle borgere registreret med \"Sindslidelse\" i indberetningen til Danmarks Statistik."}]
["Kilde: Social- og Boligstyrelsens egne beregninger baseret på handicapstiatistikken ved Danmarks Statistik."]
[]
["Udvikling i andel af modtagere af socialpædagogisk støtte"]
[null,{"$f":"R183","v":"2018-01-01"},{"$f":"S183","v":"2018-07-01"},"2019-01-01","2019-07-01","2020-01-01",{"$f":"W183","v":"2020-07-01"}]
[{"$f":"Q184","v":"Herning"},{"$f":"R184","v":6.9135802469135796E-2},6.3882063882063883E-2,7.179487179487179E-2,8.0213903743315509E-2,8.2644628099173556E-2,{"$f":"W184","v":6.7885117493472591E-2}]
[{"$f":"Q185","v":"Sammenligningskommuner"},{"$f":"R185","v":0.12323232323232323},0.12526539278131635,0.12603305785123967,0.12040816326530612,0.11909650924024641,{"$f":"W185","v":0.13008130081300814}]
[{"$f":"Q186","v":"Landsgennemsnit"},{"$f":"R186","v":9.0874668686103749E-2},9.2342342342342343E-2,9.5844253088730819E-2,9.763424708974841E-2,9.7149287321830452E-2,{"$f":"W186","v":9.7570093457943929E-2}]
[]
["Udvikling i andel af modtagere af socialpædagogisk støtte"]
[null,{"$f":"X183","v":"2021-01-01"},"2021-07-01","2022-01-01","2022-07-01","2023-01-01"]
[{"$f":"Q184","v":"Herning"},6.2176165803108807E-2,5.8823529411764705E-2,5.4830287206266322E-2,4.6575342465753428E-2,4.1666666666666664E-2]
[{"$f":"Q185","v":"Sammenligningskommuner"},0.12298387096774194,0.13372093023255813,0.13127413127413126,0.13127413127413126,0.13127413127413126]
[{"$f":"Q186","v":"Landsgennemsnit"},9.6047284817140741E-2,9.7105166727739098E-2,9.7684515195369026E-2,9.7351467430207589E-2,9.8611605553577786E-2]
[]
["Nøgletal 4 viser udviklingen i antallet af borgere i målgruppen, som modtager socialpædagogisk støtte efter serviceloven. Dette svarer til indsatstrappens trin 5. Bemærk at borgerne indgår i nøgletallet for det højeste trin på trappen, som de modtager ydelse efter. Udviklingen i dette nøgletal skal især ses i sammenhæng med udviklingen i nøgletal 1-3 og 5-6. Over tid forventes antallet af borgere at stige på de nederste trin på trappen og falde på de øverste trin. Denne udvikling vil illustrere, at flere borgere kommet tættere på et almindeligt hverdagsliv.\r\n"]
[]
[]
[]
["Nøgletal 5: Modtagere af beskyttet beskæftigelse og aktivitets- og samværstilbud"]
[]
["Udvikling i andel af modtagere af beskyttet beskæftigelse og aktivitets- og samværstilbud"]
[]
[]
[]
[]
[]
[]
[null,null,null,null,null,null,null,null,null,null,null,null,null,null,null,null,null,{"$f":"Skyggetabeller!C84","v":"2018-01-01"},{"$f":"Skyggetabeller!D84","v":"2018-07-01"},{"$f":"Skyggetabeller!E84","v":"2019-01-01"},{"$f":"Skyggetabeller!F84","v":"2019-07-01"},{"$f":"Skyggetabeller!G84","v":"2020-01-01"},{"$f":"Skyggetabeller!H84","v":"2020-07-01"},{"$f":"Skyggetabeller!I84","v":"2021-01-01"},{"$f":"Skyggetabeller!J84","v":"2021-07-01"},{"$f":"Skyggetabeller!K84","v":"2022-01-01"},{"$f":"Skyggetabeller!L84","v":"2022-07-01"},{"$f":"Skyggetabeller!M84","v":"2023-01-01"}]
[null,null,null,null,null,null,null,null,null,null,null,null,null,null,null,null,{"$f":"Skyggetabeller!B88","v":"Herning"},{"$f":"Skyggetabeller!C88","v":2.4691358024691357E-2},{"$f":"Skyggetabeller!D88","v":2.7027027027027029E-2},{"$f":"Skyggetabeller!E88","v":2.564102564102564E-2},{"$f":"Skyggetabeller!F88","v":2.6737967914438502E-2},{"$f":"Skyggetabeller!G88","v":2.4793388429752067E-2},{"$f":"Skyggetabeller!H88","v":2.8720626631853787E-2},{"$f":"Skyggetabeller!I88","v":3.1088082901554404E-2},{"$f":"Skyggetabeller!J88","v":3.0690537084398978E-2},{"$f":"Skyggetabeller!K88","v":2.3498694516971279E-2},{"$f":"Skyggetabeller!L88","v":2.7397260273972601E-2},{"$f":"Skyggetabeller!M88","v":2.2222222222222223E-2}]
[null,null,null,null,null,null,null,null,null,null,null,null,null,null,null,null,{"$f":"Skyggetabeller!B89","v":"Sammenligningskommuner"},{"$f":"Skyggetabeller!C89","v":0},{"$f":"Skyggetabeller!D89","v":0.11464968152866242},{"$f":"Skyggetabeller!E89","v":0.10743801652892562},{"$f":"Skyggetabeller!F89","v":0.14081632653061224},{"$f":"Skyggetabeller!G89","v":0.13347022587268995},{"$f":"Skyggetabeller!H89","v":0.1016260162601626},{"$f":"Skyggetabeller!I89","v":9.8790322580645157E-2},{"$f":"Skyggetabeller!J89","v":9.1085271317829453E-2},{"$f":"Skyggetabeller!K89","v":8.8803088803088806E-2},{"$f":"Skyggetabeller!L89","v":8.8803088803088806E-2},{"$f":"Skyggetabeller!M89","v":8.8803088803088806E-2}]
[null,null,null,null,null,null,null,null,null,null,null,null,null,null,null,null,{"$f":"Skyggetabeller!B90","v":"Landsgennemsnit"},{"$f":"Skyggetabeller!C90","v":6.7777357061719043E-2},{"$f":"Skyggetabeller!D90","v":6.5315315315315314E-2},{"$f":"Skyggetabeller!E90","v":6.4769749157618864E-2},{"$f":"Skyggetabeller!F90","v":6.3086744273375892E-2},{"$f":"Skyggetabeller!G90","v":6.4141035258814705E-2},{"$f":"Skyggetabeller!H90","v":6.0934579439252338E-2},{"$f":"Skyggetabeller!I90","v":6.1322497229405248E-2},{"$f":"Skyggetabeller!J90","v":6.0461707585196041E-2},{"$f":"Skyggetabeller!K90","v":5.8610709117221417E-2},{"$f":"Skyggetabeller!L90","v":5.833929849677881E-2},{"$f":"Skyggetabeller!M90","v":5.8739765040939834E-2}]
[]
[]
[]
[]
[]
[]
[]
[]
[]
[{"$f":"RegNøgletal!B71","v":"Anm.: Hvis nøgletallet er angivet med * er der foretaget en diskretionering af data, da der er for få observationer. N angiver målgruppestørrelsen, som er alle borgere registreret med \"Sindslidelse\" i indberetningen til Danmarks Statistik."}]
["Kilde: Social- og Boligstyrelsens egne beregninger baseret på handicapstiatistikken ved Danmarks Statistik."]
[]
[" \nUdvikling i andel af modtagere af beskyttet beskæftigelse og aktivitets- og samværstilbud"]
[null,{"$f":"R224","v":"2018-01-01"},"2018-07-01","2019-01-01","2019-07-01","2020-01-01","2020-07-01"]
[{"$f":"Q225","v":"Herning"},2.4691358024691357E-2,2.7027027027027029E-2,2.564102564102564E-2,2.6737967914438502E-2,2.4793388429752067E-2,2.8720626631853787E-2]
[{"$f":"Q226","v":"Sammenligningskommuner"},0,0.11464968152866242,0.10743801652892562,0.14081632653061224,0.13347022587268995,0.1016260162601626]
[{"$f":"Q227","v":"Landsgennemsnit"},6.7777357061719043E-2,6.5315315315315314E-2,6.4769749157618864E-2,6.3086744273375892E-2,6.4141035258814705E-2,6.0934579439252338E-2]
[]
[" \nUdvikling i andel af modtagere af beskyttet beskæftigelse og aktivitets- og samværstilbud"]
[null,{"$f":"X224","v":"2021-01-01"},"2021-07-01","2022-01-01","2022-07-01","2023-01-01"]
[{"$f":"Q225","v":"Herning"},3.1088082901554404E-2,3.0690537084398978E-2,2.3498694516971279E-2,2.7397260273972601E-2,2.2222222222222223E-2]
[{"$f":"Q226","v":"Sammenligningskommuner"},9.8790322580645157E-2,9.1085271317829453E-2,8.8803088803088806E-2,8.8803088803088806E-2,8.8803088803088806E-2]
[{"$f":"Q227","v":"Landsgennemsnit"},6.1322497229405248E-2,6.0461707585196041E-2,5.8610709117221417E-2,5.833929849677881E-2,5.8739765040939834E-2]
[]
["Nøgletal 5 viser udviklingen i antallet af borgere i målgruppen, som modtager beskyttet beskæftigelse og aktivitets- og samværstilbud efter serviceloven. Dette svarer til indsatstrappens trin 3 og 4. Bemærk at borgerne indgår i nøgletallet for det højeste trin på trappen, som de modtager ydelse efter. Udviklingen i dette nøgletal skal især ses i sammenhæng med udviklingen i nøgletal 1-4 og 6. Over tid forventes antallet af borgere at stige på de nederste trin på trappen og falde på de øverste trin. Denne udvikling vil illustrere, at flere borgere kommet tættere på et almindeligt hverdagsliv.\r\n"]
["Nøgletal 6: Modtagere af forebyggende indsatser"]
[]
["Udvikling i andel af modtagere af forebyggende indsatser"]
[]
[]
[]
[]
[]
[]
[null,null,null,null,null,null,null,null,null,null,null,null,null,null,null,null,null,{"$f":"Skyggetabeller!C100","v":"2018-01-01"},{"$f":"Skyggetabeller!D100","v":"2018-07-01"},{"$f":"Skyggetabeller!E100","v":"2019-01-01"},{"$f":"Skyggetabeller!F100","v":"2019-07-01"},{"$f":"Skyggetabeller!G100","v":"2020-01-01"},{"$f":"Skyggetabeller!H100","v":"2020-07-01"},{"$f":"Skyggetabeller!I100","v":"2021-01-01"},{"$f":"Skyggetabeller!J100","v":"2021-07-01"},{"$f":"Skyggetabeller!K100","v":"2022-01-01"},{"$f":"Skyggetabeller!L100","v":"2022-07-01"},{"$f":"Skyggetabeller!M100","v":"2023-01-01"}]
[null,null,null,null,null,null,null,null,null,null,null,null,null,null,null,null,{"$f":"Skyggetabeller!B104","v":"Herning"},{"$f":"Skyggetabeller!C104","v":0},{"$f":"Skyggetabeller!D104","v":0},{"$f":"Skyggetabeller!E104","v":0},{"$f":"Skyggetabeller!F104","v":0},{"$f":"Skyggetabeller!G104","v":"*"},{"$f":"Skyggetabeller!H104","v":3.3942558746736295E-2},{"$f":"Skyggetabeller!I104","v":4.4041450777202069E-2},{"$f":"Skyggetabeller!J104","v":4.0920716112531973E-2},{"$f":"Skyggetabeller!K104","v":4.960835509138381E-2},{"$f":"Skyggetabeller!L104","v":7.6712328767123292E-2},{"$f":"Skyggetabeller!M104","v":8.611111111111111E-2}]
[null,null,null,null,null,null,null,null,null,null,null,null,null,null,null,null,{"$f":"Skyggetabeller!B105","v":"Sammenligningskommuner"},{"$f":"Skyggetabeller!C105","v":0},{"$f":"Skyggetabeller!D105","v":0},{"$f":"Skyggetabeller!E105","v":0},{"$f":"Skyggetabeller!F105","v":0},{"$f":"Skyggetabeller!G105","v":0},{"$f":"Skyggetabeller!H105","v":0},{"$f":"Skyggetabeller!I105","v":0},{"$f":"Skyggetabeller!J105","v":0},{"$f":"Skyggetabeller!K105","v":0},{"$f":"Skyggetabeller!L105","v":0},{"$f":"Skyggetabeller!M105","v":0}]
[null,null,null,null,null,null,null,null,null,null,null,null,null,null,null,null,{"$f":"Skyggetabeller!B106","v":"Landsgennemsnit"},{"$f":"Skyggetabeller!C106","v":0},{"$f":"Skyggetabeller!D106","v":3.3783783783783786E-3},{"$f":"Skyggetabeller!E106","v":8.9853987270685134E-3},{"$f":"Skyggetabeller!F106","v":1.6147202403304545E-2},{"$f":"Skyggetabeller!G106","v":2.288072018004501E-2},{"$f":"Skyggetabeller!H106","v":3.4018691588785045E-2},{"$f":"Skyggetabeller!I106","v":"*"},{"$f":"Skyggetabeller!J106","v":"*"},{"$f":"Skyggetabeller!K106","v":"*"},{"$f":"Skyggetabeller!L106","v":"*"},{"$f":"Skyggetabeller!M106","v":"*"}]
[]
[]
[]
[]
[]
[]
[]
[]
[]
[{"$f":"RegNøgletal!B83","v":"Anm.: Hvis nøgletallet er angivet med * er der foretaget en diskretionering af data, da der er for få observationer. N angiver målgruppestørrelsen, som er alle borgere registreret med \"Sindslidelse\" i indberetningen til Danmarks Statistik. Ydelser efter servicelovens § 82 er først blevet indberetningspligtig pr. 1/7-2020."}]
["Kilde: Social- og Boligstyrelsens egne beregninger baseret på handicapstiatistikken ved Danmarks Statistik."]
[]
[" \nUdvikling i andel af modtagere af forebyggende indsatser"]
[null,{"$f":"R262","v":"2018-01-01"},"2018-07-01","2019-01-01","2019-07-01","2020-01-01","2020-07-01"]
[{"$f":"Q263","v":"Herning"},0,0,0,0,"*",3.3942558746736295E-2]
[{"$f":"Q264","v":"Sammenligningskommuner"},0,0,0,0,0,0]
[{"$f":"Q265","v":"Landsgennemsnit"},0,3.3783783783783786E-3,8.9853987270685134E-3,1.6147202403304545E-2,2.288072018004501E-2,3.4018691588785045E-2]
[]
[" \nUdvikling i andel af modtagere af forebyggende indsatser"]
[null,{"$f":"X262","v":"2021-01-01"},"2021-07-01","2022-01-01","2022-07-01","2023-01-01"]
[{"$f":"Q263","v":"Herning"},4.4041450777202069E-2,4.0920716112531973E-2,4.960835509138381E-2,7.6712328767123292E-2,8.611111111111111E-2]
[{"$f":"Q264","v":"Sammenligningskommuner"},0,0,0,0,0]
[{"$f":"Q265","v":"Landsgennemsnit"},"*","*","*","*","*"]
[]
["Nøgletal 6 viser udviklingen i antallet af borgere i målgruppen, som modtager forebyggende indsatser efter serviceloven. Dette svarer til indsatstrappens trin 2. Bemærk at borgerne indgår i nøgletallet for det højeste trin på trappen, som de modtager ydelse efter. Udviklingen i dette nøgletal skal især ses i sammenhæng med udviklingen i nøgletal 1-5. Over tid forventes antallet af borgere at stige på de nederste trin på trappen og falde på de øverste trin. Denne udvikling vil illustrere, at flere borgere kommet tættere på et almindeligt hverdagsliv.\r\n\r\n"]
[]
["Nøgletal 7: Flytninger fra botilbud"]
[]
["Udvikling i andel af flytninger fra botilbud"]
[]
[]
[]
[]
[]
[]
[null,null,null,null,null,null,null,null,null,null,null,null,null,null,null,null,null,{"$f":"Skyggetabeller!C116","v":"2018-01-01"},{"$f":"Skyggetabeller!D116","v":"2018-07-01"},{"$f":"Skyggetabeller!E116","v":"2019-01-01"},{"$f":"Skyggetabeller!F116","v":"2019-07-01"},{"$f":"Skyggetabeller!G116","v":"2020-01-01"},{"$f":"Skyggetabeller!H116","v":"2020-07-01"},{"$f":"Skyggetabeller!I116","v":"2021-01-01"},{"$f":"Skyggetabeller!J116","v":"2021-07-01"},{"$f":"Skyggetabeller!K116","v":"2022-01-01"},{"$f":"Skyggetabeller!L116","v":"2022-07-01"},{"$f":"Skyggetabeller!M116","v":"2023-01-01"}]
[null,null,null,null,null,null,null,null,null,null,null,null,null,null,null,null,{"$f":"Skyggetabeller!B121","v":"Herning"},null,{"$f":"Skyggetabeller!D121","v":9.6774193548387094E-2},{"$f":"Skyggetabeller!E121","v":5.4945054945054944E-2},{"$f":"Skyggetabeller!F121","v":8.6021505376344093E-2},{"$f":"Skyggetabeller!G121","v":6.3829787234042548E-2},{"$f":"Skyggetabeller!H121","v":0.10638297872340426},{"$f":"Skyggetabeller!I121","v":9.0909090909090912E-2},{"$f":"Skyggetabeller!J121","v":7.2289156626506021E-2},{"$f":"Skyggetabeller!K121","v":5.0632911392405063E-2},{"$f":"Skyggetabeller!L121","v":9.0909090909090912E-2},{"$f":"Skyggetabeller!M121","v":9.5890410958904104E-2}]
[null,null,null,null,null,null,null,null,null,null,null,null,null,null,null,null,{"$f":"Skyggetabeller!B122","v":"Sammenligningskommuner"},null,{"$f":"Skyggetabeller!D122","v":3.3557046979865772E-2},{"$f":"Skyggetabeller!E122","v":7.4324324324324328E-2},{"$f":"Skyggetabeller!F122","v":0.1095890410958904},{"$f":"Skyggetabeller!G122","v":7.1428571428571425E-2},{"$f":"Skyggetabeller!H122","v":0},{"$f":"Skyggetabeller!I122","v":7.4626865671641784E-2},{"$f":"Skyggetabeller!J122","v":7.4626865671641784E-2},{"$f":"Skyggetabeller!K122","v":7.4626865671641784E-2},{"$f":"Skyggetabeller!L122","v":7.4626865671641784E-2},{"$f":"Skyggetabeller!M122","v":7.4626865671641784E-2}]
[null,null,null,null,null,null,null,null,null,null,null,null,null,null,null,null,{"$f":"Skyggetabeller!B123","v":"Landsgennemsnit"},null,{"$f":"Skyggetabeller!D123","v":6.1253561253561253E-2},{"$f":"Skyggetabeller!E123","v":7.4333800841514724E-2},{"$f":"Skyggetabeller!F123","v":7.8947368421052627E-2},{"$f":"Skyggetabeller!G123","v":8.5991678224687937E-2},{"$f":"Skyggetabeller!H123","v":7.37134909596662E-2},{"$f":"Skyggetabeller!I123","v":7.4999999999999997E-2},{"$f":"Skyggetabeller!J123","v":7.252440725244072E-2},{"$f":"Skyggetabeller!K123","v":7.7885952712100137E-2},{"$f":"Skyggetabeller!L123","v":7.2022160664819951E-2},{"$f":"Skyggetabeller!M123","v":6.9252077562326875E-2}]
[]
[]
[]
[]
[]
[]
[]
[]
[]
[{"$f":"RegNøgletal!B95","v":"Anm.: Hvis nøgletallet er angivet med * er der foretaget en diskretionering af data, da der er for få observationer. N angiver målgruppestørrelsen for nøgletallet. Målgruppen er borgere der ved sidste datanedslag modtog længerevarende-, midlertidigt botilbud eller botilbudslignende tilbud."}]
["Kilde: Social- og Boligstyrelsens egne beregninger baseret på partnerskabskommunernes system-til-system indberetninger til handicapstiatistikken ved Danmarks Statistik."]
[]
[" \nUdvikling i andel af flytninger fra botilbud"]
[null,{"$f":"R301","v":"2018-01-01"},"2018-07-01","2019-01-01","2019-07-01","2020-01-01","2020-07-01"]
[{"$f":"Q302","v":"Herning"},null,{"$f":"S302","v":9.6774193548387094E-2},5.4945054945054944E-2,8.6021505376344093E-2,6.3829787234042548E-2,0.10638297872340426]
[{"$f":"Q303","v":"Sammenligningskommuner"},null,3.3557046979865772E-2,7.4324324324324328E-2,0.1095890410958904,7.1428571428571425E-2,0]
[{"$f":"Q304","v":"Landsgennemsnit"},null,6.1253561253561253E-2,7.4333800841514724E-2,7.8947368421052627E-2,8.5991678224687937E-2,7.37134909596662E-2]
[]
[" \nUdvikling i andel af flytninger fra botilbud"]
[null,{"$f":"X301","v":"2021-01-01"},"2021-07-01","2022-01-01","2022-07-01","2023-01-01"]
[{"$f":"Q302","v":"Herning"},9.0909090909090912E-2,7.2289156626506021E-2,5.0632911392405063E-2,9.0909090909090912E-2,9.5890410958904104E-2]
[{"$f":"Q303","v":"Sammenligningskommuner"},7.4626865671641784E-2,7.4626865671641784E-2,7.4626865671641784E-2,7.4626865671641784E-2,7.4626865671641784E-2]
[{"$f":"Q304","v":"Landsgennemsnit"},7.4999999999999997E-2,7.252440725244072E-2,7.7885952712100137E-2,7.2022160664819951E-2,6.9252077562326875E-2]
[]
["Nøgletal 7 viser udviklingen i viser antallet af borgere der har fraflyttet et botilbud siden seneste måling. Det svarer til at have rykket sig fra trin 6-8 på indsatstrappen til et andet trin. Nøgletal 7.1, 7.2 og 7.3 giver mulighed for at se flytninger fra de enkenlte botilbudstyper. Nøgletallet giver mulighed for at følge borgernes bevægelser væk fra botilbud. Nøgletallet skal ses i relation til hvor mange borgere, der er på de enkelte trin på indsatstrappen (nøgletal 1-6) og de øvrige nøgletal, der viser bevægelser på trappen (nøgletal 8-10).  "]
[]
["Nøgletal 8: Fra socialpædagogisk støtte og ned ad trappen"]
[]
["Udvikling i andel af borgere, der har bevæget sig fra socialpædagogisk støtte og ned ad indsatstrappen"]
[]
[]
[]
[]
[]
[]
[null,null,null,null,null,null,null,null,null,null,null,null,null,null,null,null,null,{"$f":"Skyggetabeller!C181","v":"2018-01-01"},{"$f":"Skyggetabeller!D181","v":"2018-07-01"},{"$f":"Skyggetabeller!E181","v":"2019-01-01"},{"$f":"Skyggetabeller!F181","v":"2019-07-01"},{"$f":"Skyggetabeller!G181","v":"2020-01-01"},{"$f":"Skyggetabeller!H181","v":"2020-07-01"},{"$f":"Skyggetabeller!I181","v":"2021-01-01"},{"$f":"Skyggetabeller!J181","v":"2021-07-01"},{"$f":"Skyggetabeller!K181","v":"2022-01-01"},{"$f":"Skyggetabeller!L181","v":"2022-07-01"},{"$f":"Skyggetabeller!M181","v":"2023-01-01"}]
[null,null,null,null,null,null,null,null,null,null,null,null,null,null,null,null,{"$f":"Skyggetabeller!B185","v":"Herning"},null,{"$f":"Skyggetabeller!D185","v":0.1134020618556701},{"$f":"Skyggetabeller!E185","v":0.18983050847457628},{"$f":"Skyggetabeller!F185","v":0.17028985507246377},{"$f":"Skyggetabeller!G185","v":0.17829457364341086},{"$f":"Skyggetabeller!H185","v":0.13253012048192772},{"$f":"Skyggetabeller!I185","v":0.10687022900763359},{"$f":"Skyggetabeller!J185","v":0.12359550561797752},{"$f":"Skyggetabeller!K185","v":9.6428571428571433E-2},{"$f":"Skyggetabeller!L185","v":0.17454545454545456},{"$f":"Skyggetabeller!M185","v":0.10843373493975904}]
[null,null,null,null,null,null,null,null,null,null,null,null,null,null,null,null,{"$f":"Skyggetabeller!B186","v":"Sammenligningskommuner"},null,{"$f":"Skyggetabeller!D186","v":0.14074074074074075},{"$f":"Skyggetabeller!E186","v":9.8765432098765427E-2},{"$f":"Skyggetabeller!F186","v":0.14503816793893129},{"$f":"Skyggetabeller!G186","v":0.11355311355311355},{"$f":"Skyggetabeller!H186","v":0.10661764705882353},{"$f":"Skyggetabeller!I186","v":8.1272084805653705E-2},{"$f":"Skyggetabeller!J186","v":0.12152777777777778},{"$f":"Skyggetabeller!K186","v":0.11475409836065574},{"$f":"Skyggetabeller!L186","v":0.11475409836065574},{"$f":"Skyggetabeller!M186","v":0.11475409836065574}]
[null,null,null,null,null,null,null,null,null,null,null,null,null,null,null,null,{"$f":"Skyggetabeller!B187","v":"Landsgennemsnit"},null,{"$f":"Skyggetabeller!D187","v":0.12464101091326824},{"$f":"Skyggetabeller!E187","v":0.13150371640937678},{"$f":"Skyggetabeller!F187","v":0.13568129330254042},{"$f":"Skyggetabeller!G187","v":0.136337039204213},{"$f":"Skyggetabeller!H187","v":0.12396694214876033},{"$f":"Skyggetabeller!I187","v":0.1233611442193087},{"$f":"Skyggetabeller!J187","v":0.12166172106824925},{"$f":"Skyggetabeller!K187","v":0.12368728121353559},{"$f":"Skyggetabeller!L187","v":0.12801377726750862},{"$f":"Skyggetabeller!M187","v":0.12485811577752554}]
[]
[]
[]
[]
[]
[]
[]
[]
[]
[{"$f":"RegNøgletal!B136","v":"Anm.: Hvis nøgletallet er angivet med * er der foretaget en diskretionering af data, da der er for få observationer. N angiver målgruppestørrelsen for nøgletallet. Målgruppen er borgere der ved sidste datanedslag modtog socialpædagogisk støtte."}]
["Kilde: Social- og Boligstyrelsens egne beregninger baseret på handicapstiatistikken ved Danmarks Statistik."]
[]
["Udvikling i andel af borgere, der har bevæget sig fra socialpædagogisk støtte og ned ad indsatstrappen"]
[null,{"$f":"R340","v":"2018-01-01"},"2018-07-01","2019-01-01","2019-07-01","2020-01-01","2020-07-01"]
[{"$f":"Q341","v":"Herning"},null,{"$f":"S341","v":0.1134020618556701},0.18983050847457628,0.17028985507246377,0.17829457364341086,0.13253012048192772]
[{"$f":"Q342","v":"Sammenligningskommuner"},null,0.14074074074074075,9.8765432098765427E-2,0.14503816793893129,0.11355311355311355,0.10661764705882353]
[{"$f":"Q343","v":"Landsgennemsnit"},null,0.12464101091326824,0.13150371640937678,0.13568129330254042,0.136337039204213,0.12396694214876033]
[]
["Udvikling i andel af borgere, der har bevæget sig fra socialpædagogisk støtte og ned ad indsatstrappen"]
[null,{"$f":"X340","v":"2021-01-01"},"2021-07-01","2022-01-01","2022-07-01","2023-01-01"]
[{"$f":"Q341","v":"Herning"},0.10687022900763359,0.12359550561797752,9.6428571428571433E-2,0.17454545454545456,0.10843373493975904]
[{"$f":"Q342","v":"Sammenligningskommuner"},8.1272084805653705E-2,0.12152777777777778,0.11475409836065574,0.11475409836065574,0.11475409836065574]
[{"$f":"Q343","v":"Landsgennemsnit"},0.1233611442193087,0.12166172106824925,0.12368728121353559,0.12801377726750862,0.12485811577752554]
[]
["Nøgletal 8 viser udviklingen i viser antallet af borgere der har bevæget sig fra socialpædagogisk støtte til et trin lavere på indsatstrappen siden seneste måling. Det svarer til at have rykket sig fra trin 5 og ned ad indsatstrappen. Nøgletallet giver mulighed for at følge borgernes bevægelser væk fra socialpædagogisk støtte. Nøgletallet skal ses i relation til hvor mange borgere, der er på de enkelte trin på indsatstrappen (nøgletal 1-6) og de øvrige nøgletal, der viser bevægelser på trappen (nøgletal 7, 9-10).  \r\n"]
["Nøgletal 9: Fra forebyggende indsatser og ned ad trappen"]
[]
["Udvikling i andel af borgere, der har bevæget sig fra forebyggende indsatser og ned ad trappen"]
[]
[]
[]
[]
[]
[]
[null,null,null,null,null,null,null,null,null,null,null,null,null,null,null,null,null,{"$f":"Skyggetabeller!C197","v":"2018-01-01"},{"$f":"Skyggetabeller!D197","v":"2018-07-01"},{"$f":"Skyggetabeller!E197","v":"2019-01-01"},{"$f":"Skyggetabeller!F197","v":"2019-07-01"},{"$f":"Skyggetabeller!G197","v":"2020-01-01"},{"$f":"Skyggetabeller!H197","v":"2020-07-01"},{"$f":"Skyggetabeller!I197","v":"2021-01-01"},{"$f":"Skyggetabeller!J197","v":"2021-07-01"},{"$f":"Skyggetabeller!K197","v":"2022-01-01"},{"$f":"Skyggetabeller!L197","v":"2022-07-01"},{"$f":"Skyggetabeller!M197","v":"2023-01-01"}]
[null,null,null,null,null,null,null,null,null,null,null,null,null,null,null,null,{"$f":"Skyggetabeller!B201","v":"Herning"},null,{"$f":"Skyggetabeller!D201","v":"*"},{"$f":"Skyggetabeller!E201","v":"*"},{"$f":"Skyggetabeller!F201","v":"*"},{"$f":"Skyggetabeller!G201","v":"*"},{"$f":"Skyggetabeller!H201","v":"*"},{"$f":"Skyggetabeller!I201","v":0.61538461538461542},{"$f":"Skyggetabeller!J201","v":0.70588235294117652},{"$f":"Skyggetabeller!K201","v":0.625},{"$f":"Skyggetabeller!L201","v":0.73684210526315785},{"$f":"Skyggetabeller!M201","v":0.2857142857142857}]
[null,null,null,null,null,null,null,null,null,null,null,null,null,null,null,null,{"$f":"Skyggetabeller!B202","v":"Sammenligningskommuner"},null,{"$f":"Skyggetabeller!D202","v":""},{"$f":"Skyggetabeller!E202","v":""},{"$f":"Skyggetabeller!F202","v":""},{"$f":"Skyggetabeller!G202","v":""},{"$f":"Skyggetabeller!H202","v":""},{"$f":"Skyggetabeller!I202","v":""},{"$f":"Skyggetabeller!J202","v":""},{"$f":"Skyggetabeller!K202","v":""},{"$f":"Skyggetabeller!L202","v":""},{"$f":"Skyggetabeller!M202","v":""}]
[null,null,null,null,null,null,null,null,null,null,null,null,null,null,null,null,{"$f":"Skyggetabeller!B203","v":"Landsgennemsnit"},null,{"$f":"Skyggetabeller!D203","v":0},{"$f":"Skyggetabeller!E203","v":0.77777777777777779},{"$f":"Skyggetabeller!F203","v":0.66666666666666663},{"$f":"Skyggetabeller!G203","v":0.62790697674418605},{"$f":"Skyggetabeller!H203","v":0.54098360655737709},{"$f":"Skyggetabeller!I203","v":0.58241758241758246},{"$f":"Skyggetabeller!J203","v":0.61206896551724133},{"$f":"Skyggetabeller!K203","v":0.52777777777777779},{"$f":"Skyggetabeller!L203","v":0.58260869565217388},{"$f":"Skyggetabeller!M203","v":0.50406504065040647}]
[]
[]
[]
[]
[]
[]
[]
[]
[]
[{"$f":"RegNøgletal!B148","v":"Anm.: Hvis nøgletallet er angivet med * er der foretaget en diskretionering af data, da der er for få observationer. N angiver målgruppestørrelsen for nøgletallet. Målgruppen er borgere der ved sidste datanedslag modtog forebyggende indsats efter SEL § 82. Ydelser efter servicelovens § 82 er først blevet indberetningspligtig pr. 1/7-2020."}]
["Kilde: Social- og Boligstyrelsens egne beregninger baseret på handicapstiatistikken ved Danmarks Statistik."]
[]
["Udvikling i andel af borgere, der har bevæget sig fra forebyggende indsatser og ned ad trappen"]
[null,{"$f":"R378","v":"2018-01-01"},"2018-07-01","2019-01-01","2019-07-01","2020-01-01","2020-07-01"]
[{"$f":"Q379","v":"Herning"},null,{"$f":"S379","v":"*"},"*","*","*","*"]
[{"$f":"Q380","v":"Sammenligningskommuner"},null,"","","","",""]
[{"$f":"Q381","v":"Landsgennemsnit"},null,0,0.77777777777777779,0.66666666666666663,0.62790697674418605,0.54098360655737709]
[]
["Udvikling i andel af borgere, der har bevæget sig fra forebyggende indsatser og ned ad trappen"]
[null,{"$f":"X378","v":"2021-01-01"},"2021-07-01","2022-01-01","2022-07-01","2023-01-01"]
[{"$f":"Q379","v":"Herning"},0.61538461538461542,0.70588235294117652,0.625,0.73684210526315785,0.2857142857142857]
[{"$f":"Q380","v":"Sammenligningskommuner"},"","","","",""]
[{"$f":"Q381","v":"Landsgennemsnit"},0.58241758241758246,0.61206896551724133,0.52777777777777779,0.58260869565217388,0.50406504065040647]
[]
["Nøgletal 9 viser udviklingen i viser antallet af borgere der har bevæget sig fra forebyggende indsatser til ikke at modtage støtte i den kommunale forvaltning siden seneste måling. Det svarer til at have rykket sig fra trin 2 og ned ad indsatstrappen. Nøgletallet giver mulighed for at følge borgernes bevægelser efter den forebyggende indsats. Nøgletallet skal især ses i relation til nøgletal 10, men også til hvor mange borgere, der er på de enkelte trin på indsatstrappen (nøgletal 1-6) og de øvrige nøgletal, der viser bevægelser på trappen (nøgletal 7-8).  \r\n\r\n"]
["Nøgletal 10: Fra forebyggende indsatser og op ad trappen"]
[]
["Udvikling i andel af borgere, der har bevæget sig fra forebyggende indsatser og op ad trappen"]
[]
[]
[]
[]
[]
[]
[null,null,null,null,null,null,null,null,null,null,null,null,null,null,null,null,null,{"$f":"Skyggetabeller!C213","v":"2018-01-01"},{"$f":"Skyggetabeller!D213","v":"2018-07-01"},{"$f":"Skyggetabeller!E213","v":"2019-01-01"},{"$f":"Skyggetabeller!F213","v":"2019-07-01"},{"$f":"Skyggetabeller!G213","v":"2020-01-01"},{"$f":"Skyggetabeller!H213","v":"2020-07-01"},{"$f":"Skyggetabeller!I213","v":"2021-01-01"},{"$f":"Skyggetabeller!J213","v":"2021-07-01"},{"$f":"Skyggetabeller!K213","v":"2022-01-01"},{"$f":"Skyggetabeller!L213","v":"2022-07-01"},{"$f":"Skyggetabeller!M213","v":"2023-01-01"}]
[null,null,null,null,null,null,null,null,null,null,null,null,null,null,null,null,{"$f":"Skyggetabeller!B217","v":"Herning"},null,{"$f":"Skyggetabeller!D217","v":"*"},{"$f":"Skyggetabeller!E217","v":"*"},{"$f":"Skyggetabeller!F217","v":"*"},{"$f":"Skyggetabeller!G217","v":"*"},{"$f":"Skyggetabeller!H217","v":"*"},{"$f":"Skyggetabeller!I217","v":"*"},{"$f":"Skyggetabeller!J217","v":"*"},{"$f":"Skyggetabeller!K217","v":"*"},{"$f":"Skyggetabeller!L217","v":"*"},{"$f":"Skyggetabeller!M217","v":0.21428571428571427}]
[null,null,null,null,null,null,null,null,null,null,null,null,null,null,null,null,{"$f":"Skyggetabeller!B218","v":"Sammenligningskommuner"},null,{"$f":"Skyggetabeller!D218","v":""},{"$f":"Skyggetabeller!E218","v":""},{"$f":"Skyggetabeller!F218","v":""},{"$f":"Skyggetabeller!G218","v":""},{"$f":"Skyggetabeller!H218","v":""},{"$f":"Skyggetabeller!I218","v":""},{"$f":"Skyggetabeller!J218","v":""},{"$f":"Skyggetabeller!K218","v":""},{"$f":"Skyggetabeller!L218","v":""},{"$f":"Skyggetabeller!M218","v":""}]
[null,null,null,null,null,null,null,null,null,null,null,null,null,null,null,null,{"$f":"Skyggetabeller!B219","v":"Landsgennemsnit"},null,{"$f":"Skyggetabeller!D219","v":0},{"$f":"Skyggetabeller!E219","v":0},{"$f":"Skyggetabeller!F219","v":8.3333333333333329E-2},{"$f":"Skyggetabeller!G219","v":0.11627906976744186},{"$f":"Skyggetabeller!H219","v":9.8360655737704916E-2},{"$f":"Skyggetabeller!I219","v":0.10989010989010989},{"$f":"Skyggetabeller!J219","v":0.1206896551724138},{"$f":"Skyggetabeller!K219","v":0.17592592592592593},{"$f":"Skyggetabeller!L219","v":0.14782608695652175},{"$f":"Skyggetabeller!M219","v":0.14634146341463414}]
[]
[]
[]
[]
[]
[]
[]
[]
[]
[{"$f":"RegNøgletal!B160","v":"Anm.: Hvis nøgletallet er angivet med * er der foretaget en diskretionering af data, da der er for få observationer. N angiver målgruppestørrelsen for nøgletallet. Målgruppen er borgere der ved sidste datanedslag modtog forebyggende indsats efter SEL § 82. Ydelser efter servicelovens § 82 er først blevet indberetningspligtig pr. 1/7-2020."}]
["Kilde: Social- og Boligstyrelsens egne beregninger baseret på handicapstiatistikken ved Danmarks Statistik."]
[]
["Udvikling i andel af borgere, der har bevæget sig fra forebyggende indsatser og op ad trappen"]
[null,{"$f":"R416","v":"2018-01-01"},"2018-07-01","2019-01-01","2019-07-01","2020-01-01","2020-07-01"]
[{"$f":"Q417","v":"Herning"},null,{"$f":"S417","v":"*"},"*","*","*","*"]
[{"$f":"Q418","v":"Sammenligningskommuner"},null,"","","","",""]
[{"$f":"Q419","v":"Landsgennemsnit"},null,0,0,8.3333333333333329E-2,0.11627906976744186,9.8360655737704916E-2]
[]
["Udvikling i andel af borgere, der har bevæget sig fra forebyggende indsatser og op ad trappen"]
[null,{"$f":"X416","v":"2021-01-01"},"2021-07-01","2022-01-01","2022-07-01","2023-01-01"]
[{"$f":"Q417","v":"Herning"},"*","*","*","*",0.21428571428571427]
[{"$f":"Q418","v":"Sammenligningskommuner"},"","","","",""]
[{"$f":"Q419","v":"Landsgennemsnit"},0.10989010989010989,0.1206896551724138,0.17592592592592593,0.14782608695652175,0.14634146341463414]
[]
["Nøgletal 10 viser udviklingen i viser antallet af borgere der har bevæget sig fra forebyggende indsatser til en anden støtte i den kommunale forvaltning siden seneste måling. Det svarer til at have rykket sig fra trin 2 og op ad indsatstrappen. Nøgletallet giver mulighed for at følge borgernes bevægelser efter den forebyggende indsats. Nøgletallet skal især ses i relation til nøgletal 9, men også til hvor mange borgere, der er på de enkelte trin på indsatstrappen (nøgletal 1-6) og de øvrige nøgletal, der viser bevægelser på trappen (nøgletal 7-8).  "]
["Nøgletal 11: Uddannelsesgrad"]
[]
["Udvikling i uddannelsesgrad"]
[]
[]
[]
[]
[]
[]
[null,null,null,null,null,null,null,null,null,null,null,null,null,null,null,null,null,{"$f":"Skyggetabeller!C229","v":"2018-01-01"},{"$f":"Skyggetabeller!D229","v":"2018-07-01"},{"$f":"Skyggetabeller!E229","v":"2019-01-01"},{"$f":"Skyggetabeller!F229","v":"2019-07-01"},{"$f":"Skyggetabeller!G229","v":"2020-01-01"},{"$f":"Skyggetabeller!H229","v":"2020-07-01"},{"$f":"Skyggetabeller!I229","v":"2021-01-01"},{"$f":"Skyggetabeller!J229","v":"2021-07-01"},{"$f":"Skyggetabeller!K229","v":"2022-01-01"},{"$f":"Skyggetabeller!L229","v":"2022-07-01"},{"$f":"Skyggetabeller!M229","v":"2023-01-01"}]
[null,null,null,null,null,null,null,null,null,null,null,null,null,null,null,null,{"$f":"Skyggetabeller!B233","v":"Herning"},{"$f":"Skyggetabeller!C233","v":1.1680911680911701E-2},{"$f":"Skyggetabeller!D233","v":1.2710262710262699E-2},{"$f":"Skyggetabeller!E233","v":1.39546351084813E-2},{"$f":"Skyggetabeller!F233","v":1.4705882352941201E-2},{"$f":"Skyggetabeller!G233","v":1.6952744225471501E-2},{"$f":"Skyggetabeller!H233","v":1.3155252058646301E-2},{"$f":"Skyggetabeller!I233","v":9.5157433240334807E-3},{"$f":"Skyggetabeller!J233","v":1.7755262640173099E-2},{"$f":"Skyggetabeller!K233","v":2.4854388431411901E-2},{"$f":"Skyggetabeller!L233","v":1.71232876712329E-2},{"$f":"Skyggetabeller!M233","v":1.55448717948718E-2}]
[null,null,null,null,null,null,null,null,null,null,null,null,null,null,null,null,{"$f":"Skyggetabeller!B234","v":"Sammenligningskommuner"},{"$f":"Skyggetabeller!C234","v":1.7433853422280165E-2},{"$f":"Skyggetabeller!D234","v":9.654131135322366E-3},{"$f":"Skyggetabeller!E234","v":1.6848963002809168E-2},{"$f":"Skyggetabeller!F234","v":1.2994290712840813E-2},{"$f":"Skyggetabeller!G234","v":1.1503610768316635E-2},{"$f":"Skyggetabeller!H234","v":1.1386894003381465E-2},{"$f":"Skyggetabeller!I234","v":1.5064132741375934E-2},{"$f":"Skyggetabeller!J234","v":2.0067261241174274E-2},{"$f":"Skyggetabeller!K234","v":2.3860414567422911E-2},{"$f":"Skyggetabeller!L234","v":2.3860414567422911E-2},{"$f":"Skyggetabeller!M234","v":2.3860414567422911E-2}]
[null,null,null,null,null,null,null,null,null,null,null,null,null,null,null,null,{"$f":"Skyggetabeller!B235","v":"Landsgennemsnit"},{"$f":"Skyggetabeller!C235","v":1.7313059519783899E-2},{"$f":"Skyggetabeller!D235","v":1.6986515435763998E-2},{"$f":"Skyggetabeller!E235","v":1.8052228559398899E-2},{"$f":"Skyggetabeller!F235","v":1.75650846785145E-2},{"$f":"Skyggetabeller!G235","v":1.7759326891353001E-2},{"$f":"Skyggetabeller!H235","v":1.7881152363236799E-2},{"$f":"Skyggetabeller!I235","v":1.7148238082597699E-2},{"$f":"Skyggetabeller!J235","v":1.7882283315321799E-2},{"$f":"Skyggetabeller!K235","v":1.89442897857077E-2},{"$f":"Skyggetabeller!L235","v":1.8351049410289099E-2},{"$f":"Skyggetabeller!M235","v":1.7409567400365599E-2}]
[]
[]
[]
[]
[]
[]
[]
[]
[]
[{"$f":"RegNøgletal!B171","v":"Anm.: Hvis nøgletallet er angivet med * er der foretaget en diskretionering af data, da der er for få observationer. N angiver målgruppestørrelsen, som er alle borgere registreret med \"Sindslidelse\" i indberetningen til Danmarks Statistik."}]
["Kilde: Social- og Boligstyrelsens egne beregninger baseret på handicapstiatistikken ved Danmarks Statistik og DREAM."]
[]
[" \nUdvikling i uddannelsesgrad"]
[null,{"$f":"R454","v":"2018-01-01"},"2018-07-01","2019-01-01","2019-07-01","2020-01-01","2020-07-01"]
[{"$f":"Q455","v":"Herning"},1.1680911680911701E-2,1.2710262710262699E-2,1.39546351084813E-2,1.4705882352941201E-2,1.6952744225471501E-2,1.3155252058646301E-2]
[{"$f":"Q456","v":"Sammenligningskommuner"},1.7433853422280165E-2,9.654131135322366E-3,1.6848963002809168E-2,1.2994290712840813E-2,1.1503610768316635E-2,1.1386894003381465E-2]
[{"$f":"Q457","v":"Landsgennemsnit"},1.7313059519783899E-2,1.6986515435763998E-2,1.8052228559398899E-2,1.75650846785145E-2,1.7759326891353001E-2,1.7881152363236799E-2]
[]
[" \nUdvikling i udannelsesgrad"]
[null,{"$f":"X454","v":"2021-01-01"},"2021-07-01","2022-01-01",{"$f":"AA454","v":"2022-07-01"},{"$f":"AB454","v":"2023-01-01"}]
[{"$f":"Q455","v":"Herning"},9.5157433240334807E-3,1.7755262640173099E-2,2.4854388431411901E-2,1.71232876712329E-2,1.55448717948718E-2]
[{"$f":"Q456","v":"Sammenligningskommuner"},1.5064132741375934E-2,2.0067261241174274E-2,2.3860414567422911E-2,2.3860414567422911E-2,2.3860414567422911E-2]
[{"$f":"Q457","v":"Landsgennemsnit"},1.7148238082597699E-2,1.7882283315321799E-2,1.89442897857077E-2,1.8351049410289099E-2,1.7409567400365599E-2]
[]
[]
["Nøgletal 11 viser udviklingen i målgruppens uddannelsesgrad over tid. Forventningen er, at målgruppen som helhed vil opleve en større tilknytning til arbejdsmarked og/eller uddannelse. Derfor skal nøgletal 11 og 12 ses i sammenhæng med hinanden.\r\n"]
[]
["Nøgletal 12: Beskæftigelsesgrad"]
[]
["Udvikling i beskæftigelsesgrad"]
[]
[]
[]
[]
[]
[]
[null,null,null,null,null,null,null,null,null,null,null,null,null,null,null,null,null,{"$f":"Skyggetabeller!C245","v":"2018-01-01"},{"$f":"Skyggetabeller!D245","v":"2018-07-01"},{"$f":"Skyggetabeller!E245","v":"2019-01-01"},{"$f":"Skyggetabeller!F245","v":"2019-07-01"},{"$f":"Skyggetabeller!G245","v":"2020-01-01"},{"$f":"Skyggetabeller!H245","v":"2020-07-01"},{"$f":"Skyggetabeller!I245","v":"2021-01-01"},{"$f":"Skyggetabeller!J245","v":"2021-07-01"},{"$f":"Skyggetabeller!K245","v":"2022-01-01"},{"$f":"Skyggetabeller!L245","v":"2022-07-01"},{"$f":"Skyggetabeller!M245","v":"2023-01-01"}]
[null,null,null,null,null,null,null,null,null,null,null,null,null,null,null,null,{"$f":"Skyggetabeller!B249","v":"Herning"},{"$f":"Skyggetabeller!C249","v":8.8651471984805302E-2},{"$f":"Skyggetabeller!D249","v":8.8499338499338498E-2},{"$f":"Skyggetabeller!E249","v":6.5581854043392507E-2},{"$f":"Skyggetabeller!F249","v":5.8772110242698503E-2},{"$f":"Skyggetabeller!G249","v":5.0540368722186903E-2},{"$f":"Skyggetabeller!H249","v":5.02108857200241E-2},{"$f":"Skyggetabeller!I249","v":5.3656835392586699E-2},{"$f":"Skyggetabeller!J249","v":6.3200865630533204E-2},{"$f":"Skyggetabeller!K249","v":5.8395260092387997E-2},{"$f":"Skyggetabeller!L249","v":6.9178082191780801E-2},{"$f":"Skyggetabeller!M249","v":8.8087606837606899E-2}]
[null,null,null,null,null,null,null,null,null,null,null,null,null,null,null,null,{"$f":"Skyggetabeller!B250","v":"Sammenligningskommuner"},{"$f":"Skyggetabeller!C250","v":5.6686929698568367E-2},{"$f":"Skyggetabeller!D250","v":3.5700369379836464E-2},{"$f":"Skyggetabeller!E250","v":5.2651515151515171E-2},{"$f":"Skyggetabeller!F250","v":7.1903719537801877E-2},{"$f":"Skyggetabeller!G250","v":8.3302904114924692E-2},{"$f":"Skyggetabeller!H250","v":7.8831654912524127E-2},{"$f":"Skyggetabeller!I250","v":7.2110032587194894E-2},{"$f":"Skyggetabeller!J250","v":6.2357921466617096E-2},{"$f":"Skyggetabeller!K250","v":5.9333685421984299E-2},{"$f":"Skyggetabeller!L250","v":5.9333685421984299E-2},{"$f":"Skyggetabeller!M250","v":5.9333685421984299E-2}]
[null,null,null,null,null,null,null,null,null,null,null,null,null,null,null,null,{"$f":"Skyggetabeller!B251","v":"Landsgennemsnit"},{"$f":"Skyggetabeller!C251","v":5.01587238692792E-2},{"$f":"Skyggetabeller!D251","v":5.1822712818020998E-2},{"$f":"Skyggetabeller!E251","v":5.25409849604207E-2},{"$f":"Skyggetabeller!F251","v":5.4053878156906397E-2},{"$f":"Skyggetabeller!G251","v":5.5326167854654697E-2},{"$f":"Skyggetabeller!H251","v":5.6471543611260798E-2},{"$f":"Skyggetabeller!I251","v":5.71087201829725E-2},{"$f":"Skyggetabeller!J251","v":5.8363550720793599E-2},{"$f":"Skyggetabeller!K251","v":6.3460416909620898E-2},{"$f":"Skyggetabeller!L251","v":6.8978936247113098E-2},{"$f":"Skyggetabeller!M251","v":7.1174536042857006E-2}]
[]
[]
[]
[]
[]
[]
[]
[]
[]
[{"$f":"RegNøgletal!B182","v":"Anm.: Hvis nøgletallet er angivet med * er der foretaget en diskretionering af data, da der er for få observationer. N angiver målgruppestørrelsen, som er alle borgere registreret med \"Sindslidelse\" i indberetningen til Danmarks Statistik."}]
["Kilde: Social- og Boligstyrelsens egne beregninger baseret på handicapstiatistikken ved Danmarks Statistik og DREAM."]
[]
[" \nUdvikling i beskæftigelsesgrad"]
[null,{"$f":"R494","v":"2018-01-01"},"2018-07-01","2019-01-01","2019-07-01","2020-01-01","2020-07-01"]
[{"$f":"Q495","v":"Herning"},8.8651471984805302E-2,8.8499338499338498E-2,6.5581854043392507E-2,5.8772110242698503E-2,5.0540368722186903E-2,5.02108857200241E-2]
[{"$f":"Q496","v":"Sammenligningskommuner"},5.6686929698568367E-2,3.5700369379836464E-2,5.2651515151515171E-2,7.1903719537801877E-2,8.3302904114924692E-2,7.8831654912524127E-2]
[{"$f":"Q497","v":"Landsgennemsnit"},5.01587238692792E-2,5.1822712818020998E-2,5.25409849604207E-2,5.4053878156906397E-2,5.5326167854654697E-2,5.6471543611260798E-2]
[]
[" \nUdvikling i beskæftigelsesgrad"]
[null,{"$f":"X494","v":"2021-01-01"},"2021-07-01","2022-01-01",{"$f":"AA494","v":"2022-07-01"},{"$f":"AB494","v":"2023-01-01"}]
[{"$f":"Q495","v":"Herning"},5.3656835392586699E-2,6.3200865630533204E-2,5.8395260092387997E-2,6.9178082191780801E-2,8.8087606837606899E-2]
[{"$f":"Q496","v":"Sammenligningskommuner"},7.2110032587194894E-2,6.2357921466617096E-2,5.9333685421984299E-2,5.9333685421984299E-2,5.9333685421984299E-2]
[{"$f":"Q497","v":"Landsgennemsnit"},5.71087201829725E-2,5.8363550720793599E-2,6.3460416909620898E-2,6.8978936247113098E-2,7.1174536042857006E-2]
[]
[]
["Nøgletal 12 viser udviklingen i målgruppens beskæftigelsesgrad over tid. Forventningen er, at målgruppen som helhed vil opleve en større tilknytning til arbejdsmarked og/eller uddannelse. Derfor skal nøgletal 11 og 12 ses i sammenhæng med hinanden. Nøgletal 12.1 og 12.2 viser desuden beskæftigelsesgraden fordelt på modtagere af forebyggende indsatser og den øvrige del af målgruppen. Det forventes, at beskæftigelsesgraden i højere grad kan øges for den del af målgruppen der kun modtager forebyggende indsatser."]
["Nøgletal 13: Trivsel"]
[]
["Udvikling i målgruppens trivselsscore (WHO-5)"]
[]
[]
[]
[]
[]
[]
[null,null,null,null,null,null,null,null,null,null,null,null,null,null,null,null,null,{"$f":"Skyggetabeller!C290","v":"2023-07-01"},{"$f":"Skyggetabeller!D290","v":"2024-01-01"},{"$f":"Skyggetabeller!E290","v":"2024-07-01"},{"$f":"Skyggetabeller!F290","v":"2025-01-01"}]
[null,null,null,null,null,null,null,null,null,null,null,null,null,null,null,null,{"$f":"Kommune","v":"Herning"},{"$f":"IF(Skyggetabeller!C291=\"\",\"\",Skyggetabeller!C291)","v":"*"},{"$f":"IF(Skyggetabeller!D291=\"\",\"\",Skyggetabeller!D291)","v":"*"},{"$f":"IF(Skyggetabeller!E291=\"\",\"\",Skyggetabeller!E291)","v":"*"},{"$f":"IF(Skyggetabeller!F291=\"\",\"\",Skyggetabeller!F291)","v":"*"}]
[]
[]
[]
[]
[]
[]
[]
[]
[]
[]
[]
[{"$f":"Indtastningsark!B46","v":"Kilde: Lokalt indsamlede surveybesvarelser fra borgere i socialpsykiatrien på instrumentet WHO-5 og Brief-Inspire-O."}]
[]
[]
[]
["Udvikling i målgruppens trivsel (WHO-5)"]
[null,{"$f":"R533","v":"2023-07-01"},"2024-01-01","2024-07-01","2025-01-01"]
["Score","*","*","*","*"]
[]
["Scoren kan ligge mellem 0 og 100. Jo flere points, desto bedre er trivslen."]
["Hvis tallet er 50 eller mindre, er borgeren i risikozonen for ikke at trives."]
[]
[]
["Nøgletal 13 viser udviklingen i den generelle trivsel for målgruppen. Det er forventningen at trivslen vil stige for målgruppen i forbindelse med omlægningen. Nøgletal 13.1 og 13.2 viser desuden trivslen fordelt på modtagere af forebyggende indsatser og den øvrige del af målgruppen. Nøgletal 13 skal ses i sammenhæng med nøgletal 14. Nøgletallene 13 og 14 kan indirekte vise, hvorvidt borgernes mestring forbedres. Det forventes, at øget borgeroplevet kontrol reducerer omfanget af arousal, angst, stress og frustration, hvilket vil føre til øget trivsel og dermed muliggøre udvikling af funktionsevne og mestring.\r\n"]
[]
[]
[]
[]
[]
["Nøgletal 14: Personlig recovery"]
[]
["Udvikling i målgruppens personlige recovery (Brief-Inspire-O)"]
[]
[]
[]
[]
[]
[]
[null,null,null,null,null,null,null,null,null,null,null,null,null,null,null,null,null,{"$f":"Skyggetabeller!C310","v":"2023-07-01"},{"$f":"Skyggetabeller!D310","v":"2024-01-01"},{"$f":"Skyggetabeller!E310","v":"2024-07-01"},{"$f":"Skyggetabeller!F310","v":"2025-01-01"}]
[null,null,null,null,null,null,null,null,null,null,null,null,null,null,null,null,{"$f":"Skyggetabeller!B311","v":"Herning"},{"$f":"IF(Skyggetabeller!C311=\"\",\"\",Skyggetabeller!C311)","v":"*"},{"$f":"IF(Skyggetabeller!D311=\"\",\"\",Skyggetabeller!D311)","v":"*"},{"$f":"IF(Skyggetabeller!E311=\"\",\"\",Skyggetabeller!E311)","v":"*"},{"$f":"IF(Skyggetabeller!F311=\"\",\"\",Skyggetabeller!F311)","v":"*"}]
[]
[]
[]
[]
[]
[]
[]
[]
[]
[]
[]
[{"$f":"Indtastningsark!$B$46","v":"Kilde: Lokalt indsamlede surveybesvarelser fra borgere i socialpsykiatrien på instrumentet WHO-5 og Brief-Inspire-O."}]
[]
[]
[]
["\nUdvikling i målgruppens personlige recovery (Brief-Inspire-O)"]
[null,{"$f":"R573","v":"2023-07-01"},"2024-01-01","2024-07-01","2025-01-01"]
["Faktisk antal modtagere","*","*","*","*"]
[]
["Scoren kan ligge mellem 0 og 100. Jo flere points, desto bedre er den personlige recovery."]
["Der besvares på en 5 punktsskala:"]
["Slet ikke (0) - meget lidt (1) - en gang imellem (2) - ofte (3) - meget ofte (4)."]
[]
[]
["Nøgletal 14 viser udviklingen i oplevelsen af personlig recovery for målgruppen. Det er forventningen at denne vil stige for målgruppen i forbindelse med omlægningen. Nøgletal 14 skal ses i sammenhæng med nøgletal 13. Nøgletallene 13 og 14 kan indirekte vise, hvorvidt borgernes mestring forbedres. Det forventes, at øget borgeroplevet kontrol reducerer omfanget af arousal, angst, stress og frustration, hvilket vil føre til øget trivsel og dermed muliggøre udvikling af funktionsevne og mestring."]
[]
[]
[]
[]
[]
["Nøgletal 15: Mental sundhed"]
[]
["Udvikling i målgruppens mentale sundhed"]
[]
[]
[]
[]
[]
[]
[null,null,null,null,null,null,null,null,null,null,null,null,null,null,null,null,null,{"$f":"Skyggetabeller!C319","v":"2023-07-01"},{"$f":"Skyggetabeller!D319","v":"2024-01-01"},{"$f":"Skyggetabeller!E319","v":"2024-07-01"},{"$f":"Skyggetabeller!F319","v":"2025-01-01"}]
[null,null,null,null,null,null,null,null,null,null,null,null,null,null,null,null,{"$f":"Skyggetabeller!B320","v":"Mental sundhed – Ikke umiddelbar risiko for stress og depression "},{"$f":"IF(Skyggetabeller!C320=\"\",\"\",Skyggetabeller!C320)","v":"Beregnes"},{"$f":"IF(Skyggetabeller!D320=\"\",\"\",Skyggetabeller!D320)","v":"Beregnes"},{"$f":"IF(Skyggetabeller!E320=\"\",\"\",Skyggetabeller!E320)","v":"Beregnes"},{"$f":"IF(Skyggetabeller!F320=\"\",\"\",Skyggetabeller!F320)","v":"Beregnes"}]
[null,null,null,null,null,null,null,null,null,null,null,null,null,null,null,null,{"$f":"Skyggetabeller!B321","v":"Mental sundhed – Risiko for stress og depression"},{"$f":"IF(Skyggetabeller!C321=\"\",\"\",Skyggetabeller!C321)","v":"Beregnes"},{"$f":"IF(Skyggetabeller!D321=\"\",\"\",Skyggetabeller!D321)","v":"Beregnes"},{"$f":"IF(Skyggetabeller!E321=\"\",\"\",Skyggetabeller!E321)","v":"Beregnes"},{"$f":"IF(Skyggetabeller!F321=\"\",\"\",Skyggetabeller!F321)","v":"Beregnes"}]
[null,null,null,null,null,null,null,null,null,null,null,null,null,null,null,null,{"$f":"Skyggetabeller!B322","v":"Mental sundhed – Stor risiko for stress og depression"},{"$f":"IF(Skyggetabeller!C322=\"\",\"\",Skyggetabeller!C322)","v":"Beregnes"},{"$f":"IF(Skyggetabeller!D322=\"\",\"\",Skyggetabeller!D322)","v":"Beregnes"},{"$f":"IF(Skyggetabeller!E322=\"\",\"\",Skyggetabeller!E322)","v":"Beregnes"},{"$f":"IF(Skyggetabeller!F322=\"\",\"\",Skyggetabeller!F322)","v":"Beregnes"}]
[]
[]
[]
[]
[]
[]
[]
[]
[]
[{"$f":"Indtastningsark!$B$46","v":"Kilde: Lokalt indsamlede surveybesvarelser fra borgere i socialpsykiatrien på instrumentet WHO-5 og Brief-Inspire-O."}]
[]
[]
["\nUdvikling i målgruppens mentale sundhed"]
[null,{"$f":"R614","v":"2023-07-01"},"2024-01-01","2024-07-01","2025-01-01"]
[{"$f":"Q615","v":"Mental sundhed – Ikke umiddelbar risiko for stress og depression "},"Beregnes","Beregnes","Beregnes","Beregnes"]
[{"$f":"Q616","v":"Mental sundhed – Risiko for stress og depression"},"Beregnes","Beregnes","Beregnes","Beregnes"]
[{"$f":"Q617","v":"Mental sundhed – Stor risiko for stress og depression"},"Beregnes","Beregnes","Beregnes","Beregnes"]
[]
[]
["Nøgletal 15 viser udviklingen i målguppens mentale sundhed baseret på risikoen for stress og depression. Nøgletallet viser, hvorvidt borgernes mentale sundhed forbedres i forbindelse med omlægningen – som det er forventningen. Nøgletallet skal ses i sammenhæng med nøgletal 16-18. \r\n"]
[]
["Nøgletal 16: Forbedret mental sundhed"]
[]
["Udvikling i andelen af borgere, der oplever forbedret mental sundhed"]
[]
[]
[]
[]
[]
[]
[null,null,null,null,null,null,null,null,null,null,null,null,null,null,null,null,null,{"$f":"Skyggetabeller!C334","v":"2023-07-01"},{"$f":"Skyggetabeller!D334","v":"2024-01-01"},{"$f":"Skyggetabeller!E334","v":"2024-07-01"},{"$f":"Skyggetabeller!F334","v":"2025-01-01"}]
[null,null,null,null,null,null,null,null,null,null,null,null,null,null,null,null,{"$f":"Kommune","v":"Herning"},null,{"$f":"IF(Skyggetabeller!D335=\"\",\"\",Skyggetabeller!D335)","v":"Beregnes"},{"$f":"IF(Skyggetabeller!E335=\"\",\"\",Skyggetabeller!E335)","v":"Beregnes"},{"$f":"IF(Skyggetabeller!F335=\"\",\"\",Skyggetabeller!F335)","v":"Beregnes"}]
[]
[]
[]
[]
[]
[]
[]
[]
[]
[]
[]
[{"$f":"Indtastningsark!$B$46","v":"Kilde: Lokalt indsamlede surveybesvarelser fra borgere i socialpsykiatrien på instrumentet WHO-5 og Brief-Inspire-O."}]
[]
[]
[]
["\nUdvikling i andelen af borgere, der oplever forbedret mental sundhed"]
[null,{"$f":"R648","v":"2023-07-01"},{"$f":"S648","v":"2024-01-01"},{"$f":"T648","v":"2024-07-01"},{"$f":"U648","v":"2025-01-01"}]
["Faktisk antal modtagere",null,{"$f":"S649","v":"Beregnes"},{"$f":"T649","v":"Beregnes"},{"$f":"U649","v":"Beregnes"}]
[]
["Andelen af borgere, der siden seneste måling, har opnået højere trivselsscore målt ved WHO-5 og dermed er flyttet en risikogruppe op (enten fra \"Stor risiko\" til \"Risiko\" eller fra \"Risiko\" til \"Ikke umiddelbar risiko\")."]
[]
[]
["Nøgletal 16 viser hvor stor en del af målgruppen, der får forbedret mental sundhed baseret på risikoen for stress og depression. Nøgletallet viser, hvorvidt borgernes mentale sundhed forbedres i forbindelse med omlægningen – som det er forventningen. Nøgletallet skal ses i sammenhæng med nøgletal 15 og 17-18. "]
[]
[]
[]
["Nøgletal 17: Forværret mental sundhed"]
["\nUdvikling i andelen af borgere, der oplever forværret mental sundhed"]
[]
[]
[]
[]
[]
[]
[null,null,null,null,null,null,null,null,null,null,null,null,null,null,null,null,null,{"$f":"Skyggetabeller!C343","v":"2023-07-01"},{"$f":"Skyggetabeller!D343","v":"2024-01-01"},{"$f":"Skyggetabeller!E343","v":"2024-07-01"},{"$f":"Skyggetabeller!F343","v":"2025-01-01"}]
[null,null,null,null,null,null,null,null,null,null,null,null,null,null,null,null,{"$f":"Kommune","v":"Herning"},null,{"$f":"IF(Skyggetabeller!D344=\"\",\"\",Skyggetabeller!D344)","v":"Beregnes"},{"$f":"IF(Skyggetabeller!E344=\"\",\"\",Skyggetabeller!E344)","v":"Beregnes"},{"$f":"IF(Skyggetabeller!F344=\"\",\"\",Skyggetabeller!F344)","v":"Beregnes"}]
[]
[]
[]
[]
[]
[]
[]
[]
[]
[]
[]
[{"$f":"Indtastningsark!$B$46","v":"Kilde: Lokalt indsamlede surveybesvarelser fra borgere i socialpsykiatrien på instrumentet WHO-5 og Brief-Inspire-O."}]
[]
[]
[]
["\nUdvikling i andelen af borgere, der oplever forværret mental sundhed"]
[null,{"$f":"R684","v":"2023-07-01"},{"$f":"S684","v":"2024-01-01"},{"$f":"T684","v":"2024-07-01"},{"$f":"U684","v":"2025-01-01"}]
["Faktisk antal modtagere",null,{"$f":"S685","v":"Beregnes"},{"$f":"T685","v":"Beregnes"},{"$f":"U685","v":"Beregnes"}]
[]
["Andelen af borgere, der siden seneste måling, har opnået lavere trivselsscore målt ved WHO-5 og dermed er flyttet en risikogruppe ned (enten fra \"Risiko\" til \"Stor risiko\" eller fra \"Ikke umiddelbar risiko\" til \"Risiko\")."]
[]
[]
["Nøgletal 17 viser hvor stor en del af målgruppen, der får forværret mental sundhed baseret på risikoen for stress og depression. Nøgletallet viser, hvorvidt borgernes mentale sundhed forbedres i forbindelse med omlægningen – som det er forventningen. Nøgletallet skal ses i sammenhæng med nøgletal 15-16 og 18. "]
[]
[]
[]
[]
["Nøgletal 18: Genindlæggelser"]
[]
["Udvikling i andelen af genindlæggelser"]
[]
[]
[]
[]
[]
[]
[null,null,null,null,null,null,null,null,null,null,null,null,null,null,null,null,null,{"$f":"Skyggetabeller!C353","v":"2018-01-01"},{"$f":"Skyggetabeller!D353","v":"2018-07-01"},{"$f":"Skyggetabeller!E353","v":"2019-01-01"},{"$f":"Skyggetabeller!F353","v":"2019-07-01"},{"$f":"Skyggetabeller!G353","v":"2020-01-01"},{"$f":"Skyggetabeller!H353","v":"2020-07-01"},{"$f":"Skyggetabeller!I353","v":"2021-01-01"},{"$f":"Skyggetabeller!J353","v":"2021-07-01"},{"$f":"Skyggetabeller!K353","v":"2022-01-01"},{"$f":"Skyggetabeller!L353","v":"2022-07-01"},{"$f":"Skyggetabeller!M353","v":"2023-01-01"}]
[null,null,null,null,null,null,null,null,null,null,null,null,null,null,null,null,{"$f":"Skyggetabeller!B357","v":"Herning"},{"$f":"Skyggetabeller!C357","v":0},{"$f":"Skyggetabeller!D357","v":0.37662337662337703},{"$f":"Skyggetabeller!E357","v":0.38823529411764701},{"$f":"Skyggetabeller!F357","v":0.5},{"$f":"Skyggetabeller!G357","v":0.45600000000000002},{"$f":"Skyggetabeller!H357","v":0.33620689655172398},{"$f":"Skyggetabeller!I357","v":0.48666666666666702},{"$f":"Skyggetabeller!J357","v":0.61111111111111105},{"$f":"Skyggetabeller!K357","v":0.52027027027026995},{"$f":"Skyggetabeller!L357","v":0.42446043165467601},{"$f":"Skyggetabeller!M357","v":0.45283018867924502}]
[null,null,null,null,null,null,null,null,null,null,null,null,null,null,null,null,{"$f":"Skyggetabeller!B358","v":"Sammenligningskommuner"},{"$f":"Skyggetabeller!C358","v":0},{"$f":"Skyggetabeller!D358","v":0.51595279720279741},{"$f":"Skyggetabeller!E358","v":0.5387590334236676},{"$f":"Skyggetabeller!F358","v":0.62106027596223701},{"$f":"Skyggetabeller!G358","v":0.55710170712076901},{"$f":"Skyggetabeller!H358","v":0.55710170712076901},{"$f":"Skyggetabeller!I358","v":0.330979284369115},{"$f":"Skyggetabeller!J358","v":0.48512336719883903},{"$f":"Skyggetabeller!K358","v":0.57007575757575768},{"$f":"Skyggetabeller!L358","v":0.51595279720279741},{"$f":"Skyggetabeller!M358","v":0.5387590334236676}]
[null,null,null,null,null,null,null,null,null,null,null,null,null,null,null,null,{"$f":"Skyggetabeller!B359","v":"Landsgennemsnit"},{"$f":"Skyggetabeller!C359","v":0},{"$f":"Skyggetabeller!D359","v":0.47793796417649598},{"$f":"Skyggetabeller!E359","v":0.49547920433996401},{"$f":"Skyggetabeller!F359","v":0.49721883055216398},{"$f":"Skyggetabeller!G359","v":0.461561881564926},{"$f":"Skyggetabeller!H359","v":0.47684042398722198},{"$f":"Skyggetabeller!I359","v":0.47670145524033503},{"$f":"Skyggetabeller!J359","v":0.47938820101966501},{"$f":"Skyggetabeller!K359","v":0.48539195834538601},{"$f":"Skyggetabeller!L359","v":0.48610529255690499},{"$f":"Skyggetabeller!M359","v":0.509436766235696}]
[]
[]
[]
[]
[]
[]
[]
[]
[]
[{"$f":"RegNøgletal!B210","v":"Anm.: Hvis nøgletallet er angivet med * er der foretaget en diskretionering af data, da der er for få observationer. N angiver målgruppestørrelsen, som er alle borgere registreret med \"Sindslidelse\" i indberetningen til Danmarks Statistik."}]
["Kilde: Social- og Boligstyrelsens egne beregninger baseret på handicapstiatistikken ved Danmarks Statistik og registerdata fra Landspatientregistret."]
[]
["Udvikling i andelen af genindlæggelser"]
[null,{"$f":"R722","v":"2018-01-01"},"2018-07-01","2019-01-01","2019-07-01","2020-01-01","2020-07-01"]
[{"$f":"Q723","v":"Herning"},0,0.37662337662337703,0.38823529411764701,0.5,0.45600000000000002,0.33620689655172398]
[{"$f":"Q724","v":"Sammenligningskommuner"},0,0.51595279720279741,0.5387590334236676,0.62106027596223701,0.55710170712076901,0.55710170712076901]
[{"$f":"Q725","v":"Landsgennemsnit"},0,0.47793796417649598,0.49547920433996401,0.49721883055216398,0.461561881564926,0.47684042398722198]
[]
[" \nUdvikling i andelen af genindlæggelser"]
[null,{"$f":"X722","v":"2021-01-01"},"2021-07-01","2022-01-01",{"$f":"AA722","v":"2022-07-01"},{"$f":"AB722","v":"2023-01-01"}]
[{"$f":"Q723","v":"Herning"},0.48666666666666702,0.61111111111111105,0.52027027027026995,0.42446043165467601,0.45283018867924502]
[{"$f":"Q724","v":"Sammenligningskommuner"},0.330979284369115,0.48512336719883903,0.57007575757575768,0.51595279720279741,0.5387590334236676]
[{"$f":"Q725","v":"Landsgennemsnit"},0.47670145524033503,0.47938820101966501,0.48539195834538601,0.48610529255690499,0.509436766235696]
[]
[]
["Nøgletal 18 viser, hvorvidt målgruppen oplever færre genindlæggelser i psykiatrien. Forventningen er, at genindlæggelser i højere grad kan forebygges som følge af en mere recoveryorienteret og rehabiliterende indsats. Nøgletallet skal ses i sammenhæng med nøgletal 15-17. \r\n"]
["Nøgletal 19: Udgifter til forebyggende indsatser ift. udgifter til støttende indsatser"]
[]
["Udvikling i udgifter til forebyggende indsatser ift. udgifter til støttende indsatser"]
[]
[]
[]
[]
[]
[]
[null,null,null,null,null,null,null,null,null,null,null,null,null,null,null,null,null,{"$f":"Skyggetabeller!C368","v":2018},{"$f":"Skyggetabeller!D368","v":2019},{"$f":"Skyggetabeller!E368","v":2020},{"$f":"Skyggetabeller!F368","v":2021},{"$f":"Skyggetabeller!G368","v":2022}]
[null,null,null,null,null,null,null,null,null,null,null,null,null,null,null,null,{"$f":"Skyggetabeller!B372","v":"Herning"},{"$f":"IF(Skyggetabeller!C372=\"\",\"\",Skyggetabeller!C372)","v":0},{"$f":"IF(Skyggetabeller!D372=\"\",\"\",Skyggetabeller!D372)","v":0},{"$f":"IF(Skyggetabeller!E372=\"\",\"\",Skyggetabeller!E372)","v":0},{"$f":"IF(Skyggetabeller!F372=\"\",\"\",Skyggetabeller!F372)","v":1.8315575849822401E-2},{"$f":"IF(Skyggetabeller!G372=\"\",\"\",Skyggetabeller!G372)","v":4.7985651681020598E-2}]
[null,null,null,null,null,null,null,null,null,null,null,null,null,null,null,null,{"$f":"Skyggetabeller!B373","v":"Sammenligningskommuner"},{"$f":"IF(Skyggetabeller!C373=\"\",\"\",Skyggetabeller!C373)","v":1.8625058043264798E-2},{"$f":"IF(Skyggetabeller!D373=\"\",\"\",Skyggetabeller!D373)","v":9.6148649996311997E-3},{"$f":"IF(Skyggetabeller!E373=\"\",\"\",Skyggetabeller!E373)","v":8.1363229241807333E-3},{"$f":"IF(Skyggetabeller!F373=\"\",\"\",Skyggetabeller!F373)","v":1.1686884949111534E-2},{"$f":"IF(Skyggetabeller!G373=\"\",\"\",Skyggetabeller!G373)","v":9.0639216693111993E-3}]
[null,null,null,null,null,null,null,null,null,null,null,null,null,null,null,null,{"$f":"Skyggetabeller!B374","v":"Landsgennemsnit"},{"$f":"IF(Skyggetabeller!C374=\"\",\"\",Skyggetabeller!C374)","v":7.219936968902492E-2},{"$f":"IF(Skyggetabeller!D374=\"\",\"\",Skyggetabeller!D374)","v":5.4772078154910801E-2},{"$f":"IF(Skyggetabeller!E374=\"\",\"\",Skyggetabeller!E374)","v":-6.3346504494451922E-2},{"$f":"IF(Skyggetabeller!F374=\"\",\"\",Skyggetabeller!F374)","v":-9.5977704201101223E-3},{"$f":"IF(Skyggetabeller!G374=\"\",\"\",Skyggetabeller!G374)","v":-5.6212950379680403E-2}]
[]
[]
[]
[]
[]
[]
[]
[]
[]
[{"$f":"RegNøgletal!B220","v":"Anm.: Udgifterne er defineret som art>0 og ekskl. refusioner."}]
["Kilde: Kommunale regnskaber, Danmarks Statistik"]
[]
[]
["\nUdvikling i udgifter til forebyggende indsatser ift. udgifter til støttende indsatser"]
[null,{"$f":"R761","v":2018},2019,2020,2021,2022]
[{"$f":"Q762","v":"Herning"},0,0,0,1.8315575849822401E-2,4.7985651681020598E-2]
[{"$f":"Q763","v":"Sammenligningskommuner"},1.8625058043264798E-2,9.6148649996311997E-3,8.1363229241807333E-3,1.1686884949111534E-2,9.0639216693111993E-3]
[{"$f":"Q764","v":"Landsgennemsnit"},7.219936968902492E-2,5.4772078154910801E-2,-6.3346504494451922E-2,-9.5977704201101223E-3,-5.6212950379680403E-2]
[]
[]
[]
["Nøgletal 19 viser udviklingen i forholdet mellem udgifterne til forebyggende indsatser (trin 2 på indsatstrappen) og udgifter til støttende indsatser (trin 3-8). Nøgletallet skal ses i sammenhæng med nøgletal 20. Nøgletal 19 og 20 giver mulighed for at se på, hvordan serviceudgifterne til socialpsykiatrien fordeler sig på de enkelte trin på indsatstrappen. Forventningen er, at nøgletallene vil vise en større prioritering af midler på de nederste trin på trappen i takt med at omlægningen pågår. Det svarer i nøgletal 19 til et stigende forhold mellem udgifter til forebyggelse og øvrige udgifter. \r\n"]
[]
[]
[]
[]
[]
["Nøgletal 20: Udgiftsandele"]
[]
["Figur 1: Udvikling i fordelingen af udgiftsandele"]
[]
[]
[]
[]
[]
[]
[null,null,null,null,null,null,null,null,null,null,null,null,null,null,null,null,null,{"$f":"Skyggetabeller!C416","v":2018},{"$f":"Skyggetabeller!D416","v":2019},{"$f":"Skyggetabeller!E416","v":2020},{"$f":"Skyggetabeller!F416","v":2021},{"$f":"Skyggetabeller!G416","v":2022}]
[null,null,null,null,null,null,null,null,null,null,null,null,null,null,null,null,{"$f":"Skyggetabeller!B417","v":"Længerevarende botilbud"},{"$f":"IF(Skyggetabeller!C417=\"\",\"\",Skyggetabeller!C417)","v":0.175613626388467},{"$f":"IF(Skyggetabeller!D417=\"\",\"\",Skyggetabeller!D417)","v":0.18853526280223501},{"$f":"IF(Skyggetabeller!E417=\"\",\"\",Skyggetabeller!E417)","v":0.193999533815058},{"$f":"IF(Skyggetabeller!F417=\"\",\"\",Skyggetabeller!F417)","v":0.19426037566638399},{"$f":"IF(Skyggetabeller!G417=\"\",\"\",Skyggetabeller!G417)","v":0.20666160776272699}]
[null,null,null,null,null,null,null,null,null,null,null,null,null,null,null,null,{"$f":"Skyggetabeller!B418","v":"Botilbudslignende tilbud"},{"$f":"IF(Skyggetabeller!C418=\"\",\"\",Skyggetabeller!C418)","v":0.28795705459333498},{"$f":"IF(Skyggetabeller!D418=\"\",\"\",Skyggetabeller!D418)","v":0.303199116575742},{"$f":"IF(Skyggetabeller!E418=\"\",\"\",Skyggetabeller!E418)","v":0.279278079318038},{"$f":"IF(Skyggetabeller!F418=\"\",\"\",Skyggetabeller!F418)","v":0.29551757926029298},{"$f":"IF(Skyggetabeller!G418=\"\",\"\",Skyggetabeller!G418)","v":0.27127565106479201}]
[null,null,null,null,null,null,null,null,null,null,null,null,null,null,null,null,{"$f":"Skyggetabeller!B419","v":"Midlertidige botilbud"},{"$f":"IF(Skyggetabeller!C419=\"\",\"\",Skyggetabeller!C419)","v":0.23616597454336699},{"$f":"IF(Skyggetabeller!D419=\"\",\"\",Skyggetabeller!D419)","v":0.29347485702042098},{"$f":"IF(Skyggetabeller!E419=\"\",\"\",Skyggetabeller!E419)","v":0.28731976957144301},{"$f":"IF(Skyggetabeller!F419=\"\",\"\",Skyggetabeller!F419)","v":0.27729892215966601},{"$f":"IF(Skyggetabeller!G419=\"\",\"\",Skyggetabeller!G419)","v":0.21292603774803401}]
[null,null,null,null,null,null,null,null,null,null,null,null,null,null,null,null,{"$f":"Skyggetabeller!B420","v":"Socialpædagogisk støtte"},{"$f":"IF(Skyggetabeller!C420=\"\",\"\",Skyggetabeller!C420)","v":0.243239137040413},{"$f":"IF(Skyggetabeller!D420=\"\",\"\",Skyggetabeller!D420)","v":0.15812634944703599},{"$f":"IF(Skyggetabeller!E420=\"\",\"\",Skyggetabeller!E420)","v":0.17292131464153701},{"$f":"IF(Skyggetabeller!F420=\"\",\"\",Skyggetabeller!F420)","v":0.15757394582565201},{"$f":"IF(Skyggetabeller!G420=\"\",\"\",Skyggetabeller!G420)","v":0.216720215703053}]
[null,null,null,null,null,null,null,null,null,null,null,null,null,null,null,null,{"$f":"Skyggetabeller!B421","v":"Beskyttet beskæftigelse og aktivitets- og samværstilbud"},{"$f":"IF(Skyggetabeller!C421=\"\",\"\",Skyggetabeller!C421)","v":5.70242074344171E-2},{"$f":"IF(Skyggetabeller!D421=\"\",\"\",Skyggetabeller!D421)","v":5.66644141545663E-2},{"$f":"IF(Skyggetabeller!E421=\"\",\"\",Skyggetabeller!E421)","v":6.6481302653924296E-2},{"$f":"IF(Skyggetabeller!F421=\"\",\"\",Skyggetabeller!F421)","v":5.7363027917559303E-2},{"$f":"IF(Skyggetabeller!G421=\"\",\"\",Skyggetabeller!G421)","v":4.6628025251465199E-2}]
[null,null,null,null,null,null,null,null,null,null,null,null,null,null,null,null,{"$f":"Skyggetabeller!B422","v":"Forebyggende indsatser"},{"$f":"IF(Skyggetabeller!C422=\"\",\"\",Skyggetabeller!C422)","v":0},{"$f":"IF(Skyggetabeller!D422=\"\",\"\",Skyggetabeller!D422)","v":0},{"$f":"IF(Skyggetabeller!E422=\"\",\"\",Skyggetabeller!E422)","v":0},{"$f":"IF(Skyggetabeller!F422=\"\",\"\",Skyggetabeller!F422)","v":1.7986149170444901E-2},{"$f":"IF(Skyggetabeller!G422=\"\",\"\",Skyggetabeller!G422)","v":4.5788462469929098E-2}]
[]
[]
[]
[]
[]
[]
[{"$f":"RegNøgletal!B235","v":"Anm.: Udgifterne er defineret som art>0 og ekskl. refusioner."}]
["Kilde: Kommunale regnskaber, Danmarks Statistik"]
[]
["\nUdvikling i fordelingen af udgiftsandele"]
[null,{"$f":"R801","v":2018},{"$f":"S801","v":2019},{"$f":"T801","v":2020},{"$f":"U801","v":2021},2022]
["Udgiftsandel til længerevarende botilbud",0.175613626388467,0.18853526280223501,0.193999533815058,0.19426037566638399,0.20666160776272699]
["Udgiftsandel til botilbudslignende tilbud",0.28795705459333498,0.303199116575742,0.279278079318038,0.29551757926029298,0.27127565106479201]
["Udgiftsandel til midlertidige botilbud",0.23616597454336699,0.29347485702042098,0.28731976957144301,0.27729892215966601,0.21292603774803401]
["Udgiftsandel til socialpædagogisk støtte",0.243239137040413,0.15812634944703599,0.17292131464153701,0.15757394582565201,0.216720215703053]
["Udgiftsandel til beskyttet beskæftigelse og aktivitets- og samværstilbud",5.70242074344171E-2,5.66644141545663E-2,6.6481302653924296E-2,5.7363027917559303E-2,4.6628025251465199E-2]
["Udgiftsandel til forebyggende indsatser",0,0,0,1.7986149170444901E-2,4.5788462469929098E-2]
[]
[]
["Nøgletal 20 viser udviklingen i andelen af serviceudgifter til socialpsykiatrien for trin 2-8 på indsatstrappen. Summen af nøgletal 20.1-20.6 svarer dermed til 100 pct. Nøgletallet skal ses i sammenhæng med nøgletal 19. Nøgletal 19 og 20 giver mulighed for at se på, hvordan serviceudgifterne til socialpsykiatrien fordeler sig på de enkelte trin på indsatstrappen. Forventningen er, at nøgletallene vil vise en større prioritering af midler på de nederste trin på trappen i takt med at omlægningen pågår. Det svarer i nøgletal 20 til øgede udgiftsandele på de nederste trin på trappen. "]
[]
[]
[]
[]
[]
[]
[]
[]
[]
[]
[]
[]
[]
[]
[]
[]
[]
[]
[]
[]
[]
[]
[]
[]
[]
[]
[]
[]
[]
[]
[]
[]
[]
[]
[]
[]
[]
[]
[]
[]
[]
[]
[]
[null,{"$f":"\"Fra \"&Startside!B8&\", v\"&MID(Startside!B11,2,10)","v":"Fra Socialpsykiatriens Nøgletal, version 1.2"}]
[null,{"$f":"TODAY()","v":"2024-04-22"}]

{"sheet":"Infotekster","index":7,"n_rows":115,"n_cols":4,"rows_kept":115,"cut":false,"hidden":false,"merged":[]}
[]
[]
["Fane","Infoboks navn","Nøgletal","Tekst"]
["Dine valg","Billede1",null,"Vælg den kommune, som du ønsker at lave analysen for."]
["Dine valg","Billede2",null,"Vælg en sammenligningsgruppe bestående af 1-7 kommuner. \n\nTryk på \"Dan gruppe\" når alle de ønskede kommuner er krydset af."]
["Nøgletalsanalyse + registerdata + egne indtastninger","Billede3","Nøgletal 1","Definition af nøgletal: \nAntal borgere i målgruppen, som modtager støtte efter SEL § 108.\n\nMålgruppedefinition:\nBorgere der er registreret med \"Sindslidelse\".\n\nDatakilde: \nStatistikken om handicap og udsatte (voksne)\nVariabel: MODT_YDELSE_KODE = ”1.8.1”.\n\nFrekvens:\nHalvårligt med skæring ultimo juni og ultimo december. Startende fra 31. december 2017 til seneste opgørelse. "]
["Nøgletalsanalyse + registerdata + egne indtastninger","Billede4","Nøgletal 2","Definition af nøgletal: \nAntal borgere i målgruppen, som modtager støtte efter ABL § 105 + SEL § 85.\n\nMålgruppedefinition:\nBorgere der er registreret med \"Sindslidelse\".\n\nDatakilde: \nStatistikken om handicap og udsatte (voksne)\nVariabel: MODT_YDELSE_KODE = ”1.12.0.1”.\n\nFrekvens:\nHalvårligt med skæring ultimo juni og ultimo december. Startende fra 31. december 2017 til seneste opgørelse. "]
["Nøgletalsanalyse + registerdata + egne indtastninger","Billede5","Nøgletal 3","Definition af nøgletal: \nAntal borgere i målgruppen, som modtager støtte efter SEL § 107.\n\nMålgruppedefinition:\nBorgere der er registreret med \"Sindslidelse\".\n\nDatakilde: \nStatistikken om handicap og udsatte (voksne)\nVariabel: MODT_YDELSE_KODE = ”1.8.2”.\n\nFrekvens:\nHalvårligt med skæring ultimo juni og ultimo december. Startende fra 31. december 2017 til seneste opgørelse. "]
["Nøgletalsanalyse + registerdata + egne indtastninger","Billede6","Nøgletal 4","Definition af nøgletal: \nAntal borgere i målgruppen, som modtager støtte efter SEL § 85.\n\nMålgruppedefinition:\nBorgere der er registreret med \"Sindslidelse\".\n\nDatakilde: \nStatistikken om handicap og udsatte (voksne)\nVariabel: MODT_YDELSE_KODE = ”1.12.0.2”.\n\nFrekvens:\nHalvårligt med skæring ultimo juni og ultimo december. Startende fra 31. december 2017 til seneste opgørelse. "]
["Nøgletalsanalyse + registerdata + egne indtastninger","Billede7","Nøgletal 5","Definition af nøgletal: \nAntal borgere i målgruppen, som modtager støtte efter SEL § 103 eller 104.\n\nMålgruppedefinition:\nBorgere der er registreret med \"Sindslidelse\".\n\nDatakilde: \nStatistikken om handicap og udsatte (voksne)\nVariabel: MODT_YDELSE_KODE = ”1.1”, ”1.4”.\n\nFrekvens:\nHalvårligt med skæring ultimo juni og ultimo december. Startende fra 31. december 2017 til seneste opgørelse. "]
["Nøgletalsanalyse + registerdata + egne indtastninger","Billede8","Nøgletal 6","Definition af nøgletal: \nAntal borgere i målgruppen, der modtager støtte efter § 82a eller b.\n\nMålgruppedefinition:\nBorgere der er registreret med \"Sindslidelse\".\n\nDatakilde: \nStatistikken om handicap og udsatte (voksne)\nVariabel: MODT_YDELSE_KODE=\"1.18.1\",\"1.18.2\".\n\nFrekvens:\nHalvårligt med skæring ultimo juni og ultimo december. Startende fra 31. december 2017 til seneste opgørelse. "]
["Nøgletalsanalyse + registerdata + egne indtastninger","Billede9","Nøgletal 7","Definition af nøgletal: \nAntal borgere i målgruppen, som ved sidste måling var på et botilbud efter SEL § 108, § 107 eller ABL §105+SEL §85, men som nu er flyttet fra botilbuddet.\n\nMålgruppedefinition:\nBorgere der er registreret med \"Sindslidelse\", som har modtaget ydelse efter  SEL § 108, § 107 eller ABL §105+SEL §85 ved seneste måling.\n\nDatakilde: \nStatistikken om handicap og udsatte (voksne)\nVariabel: MODT_YDELSE_KODE=”1.8.2”, ”1.12.0.1” og ”1.8.1”.\n\nFrekvens:\nHalvårligt med skæring ultimo juni og ultimo december. Startende fra 31. december 2017 til seneste opgørelse. "]
["Nøgletalsanalyse + registerdata + egne indtastninger","Billede10","Nøgletal 7.1","Definition af nøgletal: \nAntal borgere i målgruppen, som ved sidste måling var på et botilbud efter § 108 eller ABL §105+SEL §85, men som nu er et midlertidigt botilbud efter SEL § 107.\n\nMålgruppedefinition:\nBorgere der er registreret med \"Sindslidelse\", som har modtaget ydelse efter SEL § 108 eller ABL §105+SEL §85 ved seneste måling.\n\nDatakilde: \nStatistikken om handicap og udsatte (voksne)\nVariabel: MODT_YDELSE_KODE=”1.8.2”, ”1.12.0.1” og ”1.8.1”.\n\nFrekvens:\nHalvårligt med skæring ultimo juni og ultimo december. Startende fra 31. december 2017 til seneste opgørelse. "]
["Nøgletalsanalyse + registerdata + egne indtastninger","Billede11","Nøgletal 7.2","Definition af nøgletal: \nAntal borgere i målgruppen, som ved sidste måling var på et botilbud efter § 108 eller ABL §105+SEL §85, men som nu er i eget hjem med eller uden støtte.\n\nMålgruppedefinition:\nBorgere der er registreret med \"Sindslidelse\", som har modtaget ydelse efter SEL § 108 eller ABL §105+SEL §85 ved seneste måling.\n\nDatakilde: \nStatistikken om handicap og udsatte (voksne)\nVariabel: MODT_YDELSE_KODE=”1.8.1”, ”1.12.0.1” og ”1.12.0.2”.\n\nFrekvens:\nHalvårligt med skæring ultimo juni og ultimo december. Startende fra 31. december 2017 til seneste opgørelse. "]
["Nøgletalsanalyse + registerdata + egne indtastninger","Billede12","Nøgletal 7.3","Definition af nøgletal: \nAntal borgere i målgruppen, som ved sidste måling var på et midlertidigt botilbud efter § 107, men som nu er i eget hjem med eller uden støtte.\n\nMålgruppedefinition:\nBorgere der er registreret med \"Sindslidelse\", som har modtaget ydelse efter SEL § 107 ved seneste måling.\n\nDatakilde: \nStatistikken om handicap og udsatte (voksne)\nVariabel: MODT_YDELSE_KODE=”1.8.2”, \"1.12.0.2\".\n\nFrekvens:\nHalvårligt med skæring ultimo juni og ultimo december. Startende fra 31. december 2017 til seneste opgørelse. "]
["Nøgletalsanalyse + registerdata + egne indtastninger","Billede13","Nøgletal 8","Definition af nøgletal: \nAntal borgere i målgruppe som ved sidste måling modtog støtte efter SEL §85, som nu modtager støtte efter SEL §82a eller b eller ingen støtte.\n\nMålgruppedefinition:\nBorgere der er registreret med \"Sindslidelse\", som har modtaget ydelse efter SEL § 85 ved seneste måling.\n\nDatakilde: \nStatistikken om handicap og udsatte (voksne)\nVariabel: MODT_YDELSE_KODE=”1.12.0.2”, \"1.18.1\", \"1.18.2\".\n\nFrekvens:\nHalvårligt med skæring ultimo juni og ultimo december. Startende fra 31. december 2017 til seneste opgørelse. "]
["Nøgletalsanalyse + registerdata + egne indtastninger","Billede14","Nøgletal 9","Definition af nøgletal: \nAntal borgere i målgruppe som med sidste måling modtog støtte efter SEL §82a eller b, som nu ikke modtager støtte.\n\nMålgruppedefinition:\nBorgere der er registreret med \"Sindslidelse\", som har modtaget ydelse efter SEL § 82a eller b ved seneste måling.\n\nDatakilde: \nStatistikken om handicap og udsatte (voksne)\nVariabel: MODT_YDELSE_KODE = \"1.18.1\", \"1.18.2\".\n\nFrekvens:\nHalvårligt med skæring ultimo juni og ultimo december. Startende fra 31. december 2017 til seneste opgørelse. "]
["Nøgletalsanalyse + registerdata + egne indtastninger","Billede15","Nøgletal 10","Definition af nøgletal: \nAntal borgere i målgruppen som ved sidste måling modtog støtte efter SEL §82a eller b, som nu modtager støtte efter SEL §85, §103, §104, §107, §108 eller ABL §105+SEL§85.\n\nMålgruppedefinition:\nBorgere der er registreret med \"Sindslidelse\", som har modtaget ydelse efter SEL § 82a eller b ved seneste måling.\n\nDatakilde: \nStatistikken om handicap og udsatte (voksne)\nVariabel: MODT_YDELSE_KODE = ”1.4”, ”1.1”, ”1.12.0.2”, ”1.8.2”, ”1.12.0.1”, ”1.8.1”, \"1.18.1\", \"1.18.2\".\n\nFrekvens:\nHalvårligt med skæring ultimo juni og ultimo december. Startende fra 31. december 2017 til seneste opgørelse. "]
["Nøgletalsanalyse + registerdata + egne indtastninger","Billede16","Nøgletal 11","Definition af nøgletal: \nGennemsnitlig uddannelsesgrad for målgruppen. Uddannelsesgrad er defineret som andel af året borgerne har modtaget SU eller SVU. Et år defineres til seneste 52 uger.\n\nMålgruppedefinition:\nBorgere der er registreret med \"Sindslidelse\".\n\nDatakilde: \nStatistikken om handicap og udsatte (voksne) samt DREAM.\n\nFrekvens:\nHalvårligt med skæring ultimo juni og ultimo december. Startende fra 31. december 2017 til seneste opgørelse. "]
["Nøgletalsanalyse + registerdata + egne indtastninger","Billede17","Nøgletal 12","Definition af nøgletal: \nGennemsnitlig beskæftigelsesgrad for målgruppen.\nBeskæftigelsesgrad er defineret som andelen af året en borger har været i ordinær beskæftigelse eller fået tilskud til beskæftigelse. Et år defineres til seneste 52 uger.\n\nMålgruppedefinition:\nBorgere der er registreret med \"Sindslidelse\".\n\nDatakilde: \nStatistikken om handicap og udsatte (voksne) samt DREAM.\nVariabel (DREAM):Y_xxxx hvor koderne for følgende medtages: Ingen ydelse, løntilskud, skånejob, fleksjob, servicejob, jobrotation, supplerende dagpenge, sygedagpenge delvist rask, voksenlærling m. tilskud.\n\nFrekvens:\nHalvårligt med skæring ultimo juni og ultimo december. Startende fra 31. december 2017 til seneste opgørelse. "]
["Nøgletalsanalyse + registerdata + egne indtastninger","Billede18","Nøgletal 12.1","Definition af nøgletal: \nGennemsnitlig beskæftigelsesgrad for borgere i målgruppen, der modtager støtte efter SEL §82a eller b.\n\nMålgruppedefinition:\nBorgere der er registret med \"Sindslidelse\", som har modtaget ydelse efter SEL § 82a eller b.\n\nDatakilde: \nStatistikken om handicap og udsatte (voksne) samt DREAM.\nVariabel (DREAM): Y_xxxx hvor koderne for følgende medtages: Ingen ydelse, løntilskud, skånejob, fleksjob, servicejob, jobrotation, supplerende dagpenge, sygedagpenge delvist rask, voksenlærling m. tilskud.\nVariabel (HANDIC): MODT_YDELSE_KODE = \"1.18.1\", \"1.18.2\".\n\nFrekvens:\nHalvårligt med skæring ultimo juni og ultimo december. Startende fra 31. december 2017 til seneste opgørelse. "]
["Nøgletalsanalyse + registerdata + egne indtastninger","Billede19","Nøgletal 12.2","Definition af nøgletal: \nGennemsnitlig beskæftigelsesgrad for øvrige borgere i målgruppen.\n\nMålgruppedefinition:\nBorgere registreret med \"Sindslidelse\", som ikke modtager støtte efter SEL 82a eller b.\n\nDatakilde: \nStatistikken om handicap og udsatte (voksne) samt DREAM.\nVariabel (DREAM):Y_xxxx hvor koderne for følgende medtages: Ingen ydelse, løntilskud, skånejob, fleksjob, servicejob, jobrotation, supplerende dagpenge, sygedagpenge delvist rask, voksenlærling m. tilskud.\n\nFrekvens:\nHalvårligt med skæring ultimo juni og ultimo december. Startende fra 31. december 2017 til seneste opgørelse. "]
["Nøgletalsanalyse + registerdata + egne indtastninger","Billede20","Nøgletal 13","Definition af nøgletal: \nGennemsnitlig trivselsscore for borgere i målgruppen, målt ved WHO5 trivselsindeks.\n\nMålgruppedefinition:\nBorgere der er omfattet af omlægningen i kommunen og som kommunen har indsamlet spørgeskema for.\n\nDatakilde: \nEgne indtastninger.\n\nFrekvens:\nHalvårligt med skæring ultimo juni og ultimo december.  "]
["Nøgletalsanalyse + registerdata + egne indtastninger","Billede21","Nøgletal 13.1","Definition af nøgletal: \nGennemsnitlig trivselsscore for borgere der modtager støtte efter SEL §82a og b, målt ved WHO5-trivselsindeks.\n\nMålgruppedefinition:\nBorgere der er omfattet af omlægningen i kommunen og som kommunen har indsamlet spørgeskema for. Målgruppen afgrænses til borgere der har modtaget ydelse efter SEL § 82a eller b.\n\nDatakilde: \nEgne indtastninger.\n\nFrekvens:\nHalvårligt med skæring ultimo juni og ultimo december."]
["Nøgletalsanalyse + registerdata + egne indtastninger","Billede22","Nøgletal 13.2","Definition af nøgletal: \nGennemsnitlig trivselsscore for øvrige borgere i målgruppen, målt ved WHO5-trivselsindeks.\n\nMålgruppedefinition:\nBorgere der er omfattet af omlægningen i kommunen og som kommunen har indsamlet spørgeskema for. Målgruppen afgrænses til borgere der ikke har modtaget ydelse efter SEL § 82a eller b.\n\nDatakilde: \nEgne indtastninger.\n\nFrekvens:\nHalvårligt med skæring ultimo juni og ultimo december."]
["Nøgletalsanalyse + registerdata + egne indtastninger","Billede23","Nøgletal 14","Definition af nøgletal: \nGennemsnitlig score for målgruppen målt ved Brief Inspire-O.\n\nMålgruppedefinition:\nBorgere der er omfattet af omlægningen i kommunen og som kommunen har indsamlet spørgeskema for. \n\nDatakilde: \nEgne indtastninger.\n\nFrekvens:\nHalvårligt med skæring ultimo juni og ultimo december. "]
["Nøgletalsanalyse + registerdata + egne indtastninger","Billede24","Nøgletal 15.1","Definition af nøgletal: \nAndelen af borgere i målgruppen der har en trivselsscore over 50 målt ved WHO-5.\n\nMålgruppedefinition:\nBorgere der er omfattet af omlægningen i kommunen og som kommunen har indsamlet spørgeskema for. \n\nDatakilde: \nEgne indtastninger.\n\nFrekvens:\nHalvårligt med skæring ultimo juni og ultimo december."]
["Nøgletalsanalyse + registerdata + egne indtastninger","Billede25","Nøgletal 15.2","Definition af nøgletal: \nAndelen af borgere i målgruppen der har en trivselsscore mellem 36 og 50 målt ved WHO-5.\n\nMålgruppedefinition:\nBorgere der er omfattet af omlægningen i kommunen og som kommunen har indsamlet spørgeskema for.\n\nDatakilde: \nEgne indtastninger.\n\nFrekvens:\nHalvårligt med skæring ultimo juni og ultimo december."]
["Nøgletalsanalyse + registerdata + egne indtastninger","Billede26","Nøgletal 15.3","Definition af nøgletal: \nAndelen af borgere i målgruppen der har en trivselsscore mellem 0 og 35 målt ved WHO-5.\n\nMålgruppedefinition:\nBorgere der er omfattet af omlægningen i kommunen og som kommunen har indsamlet spørgeskema for. \n\nDatakilde: \nEgne indtastninger.\n\nFrekvens:\nHalvårligt med skæring ultimo juni og ultimo december. "]
["Nøgletalsanalyse + registerdata + egne indtastninger","Billede27","Nøgletal 16","Definition af nøgletal: \nAndelen af borgere, der siden seneste måling, har opnået højere trivselsscore målt ved WHO-5 og dermed er flyttet en risikogruppe op (enten fra \"Stor risiko\" til \"Risiko\" eller fra \"Risiko\" til \"Ikke umiddelbar risiko\").\n\nMålgruppedefinition:\nBorgere der er omfattet af omlægningen i kommunen og som kommunen har indsamlet spørgeskema for.\n\nDatakilde: \nEgne indtastninger.\n\nFrekvens:\nHalvårligt med skæring ultimo juni og ultimo december.  "]
["Nøgletalsanalyse + registerdata + egne indtastninger","Billede28","Nøgletal 17","Definition af nøgletal: \nAndelen af borgere, der siden seneste måling, har opnået lavere trivselsscore målt ved WHO-5 og dermed er flyttet en risikogruppe ned (enten fra \"Risiko\" til \"Stor risiko\" eller fra \"Ikke umiddelbar risiko\" til \"Risiko\").\n\nMålgruppedefinition:\nBorgere der er omfattet af omlægningen i kommunen og som kommunen har indsamlet spørgeskema for.\n\nDatakilde: \nEgne indtastninger.\n\nFrekvens:\nHalvårligt med skæring ultimo juni og ultimo december."]
["Nøgletalsanalyse + registerdata + egne indtastninger","Billede29","Nøgletal 18","Definition af nøgletal: \nAndelen af indlæggelser blandt borgere i målgruppen siden seneste måling, der er en genindlæggelse.\nEn genindlæggelse defineres ved, at borgere er blevet indlagt mindst 4 timer efter, og højest 30 dage efter sidste indlæggelse på psykiatrisk sygehus.\n\nMålgruppedefinition:\nBorgere registreret med \"Sindslidelse\".\n\nDatakilde: \nStatistikken om handicap og udsatte (voksne) samt LPR.\n\nFrekvens:\nHalvårligt med skæring ultimo juni og ultimo december. Startende fra 31. december 2017 til seneste opgørelse."]
["Nøgletalsanalyse + registerdata + egne indtastninger","Billede30","Nøgletal 19","Definition af nøgletal: \nSummen af udgifter til SEL §82, SEL §99 delt med summen af udgifter til SEL §108, ABL §105 + SEL §85, SEL §107, SEL §85, SEL §104, SEL §103. Definition baseret på kontoplanen jf. delnøgletal under 20*.\n\nDatakilde: \nDe kommunale regnskaber.\n\nFrekvens:\nÅrligt med skæring ultimo året. Fra 2018 til seneste opgørelse."]
["Nøgletalsanalyse + registerdata + egne indtastninger","Billede31","Nøgletal 20.1","Definition af nøgletal: \nUdgifter til SEL §108 (funktion 5.38.50, gruppering 003, dranst 1, art >0) som andel af de samlede udgifter til socialpsykiatrien (Summen af udgifter til SEL §82, SEL §99, SEL §108, ABL §105 + SEL §85, SEL §107, SEL §85, SEL §104, SEL §103). Definition baseret på den autoriserede kontoplan*.\n\nDatakilde: \nDe kommunale regnskaber.\n\nFrekvens:\nÅrligt med skæring ultimo året. Fra 2018 til seneste opgørelse."]
["Nøgletalsanalyse + registerdata + egne indtastninger","Billede32","Nøgletal 20.2","Definition af nøgletal: \nUdgifter til ABL §105 + SEL §85 (funktion 5.38.51, gruppering 003, dranst 1, art >0) som andel af de samlede udgifter til socialpsykiatrien (Summen af udgifter til SEL §82, SEL §99, SEL §108, ABL §105 + SEL §85, SEL §107, SEL §85, SEL §104, SEL §103). Definition baseret på den autoriserede kontoplan*.\n\nDatakilde: \nDe kommunale regnskaber.\n\nFrekvens:\nÅrligt med skæring ultimo året. Fra 2018 til seneste opgørelse."]
["Nøgletalsanalyse + registerdata + egne indtastninger","Billede33","Nøgletal 20.3","Definition af nøgletal: \nUdgifter til SEL §107 (funktion 5.38.52, gruppering 003, dranst 1, art >0) som andel af de samlede udgifter til socialpsykiatrien (Summen af udgifter til SEL §82, SEL §99, SEL §108, ABL §105 + SEL §85, SEL §107, SEL §85, SEL §104, SEL §103). Definition baseret på den autoriserede kontoplan*.\n\nDatakilde: \nDe kommunale regnskaber.\n\nFrekvens:\nÅrligt med skæring ultimo året. Fra 2018 til seneste opgørelse."]
["Nøgletalsanalyse + registerdata + egne indtastninger","Billede34","Nøgletal 20.4","Definition af nøgletal: \nUdgifter til SEL §85 (funktion 5.38.39, gruppering 005, dranst 1, art >0) som andel af de samlede udgifter til socialpsykiatrien (Summen af udgifter til SEL §82, SEL §99, SEL §108, ABL §105 + SEL §85, SEL §107, SEL §85, SEL §104, SEL §103). Definition baseret på den autoriserede kontoplan*.\n\nDatakilde: \nDe kommunale regnskaber.\n\nFrekvens:\nÅrligt med skæring ultimo året. Fra 2018 til seneste opgørelse."]
["Nøgletalsanalyse + registerdata + egne indtastninger","Billede35","Nøgletal 20.5","Definition af nøgletal: \nUdgifter til SEL §103 (funktion 5.38.58, gruppering 003, dranst 1, art >0) samt udgifter til SEL §104 (funktion 5.38.59, gruppering 003, dranst 1, art >0) som andel af de samlede udgifter til socialpsykiatrien (Summen af udgifter til SEL §82, SEL §99, SEL §108, ABL §105 + SEL §85, SEL §107, SEL §85, SEL §104, SEL §103). Definition baseret på den autoriserede kontoplan*.\n\nDatakilde: \nDe kommunale regnskaber.\n\nFrekvens:\nÅrligt med skæring ultimo året. Fra 2018 til seneste opgørelse."]
["Nøgletalsanalyse + registerdata + egne indtastninger","Billede36","Nøgletal 20.6","Definition af nøgletal: \nUdgifter til SEL §99 (funktion 5.38.53, gruppering 002, dranst 1, art >0) samt udgifter til SEL §82 a, b og c (funktion 5.38.39, gruppering 011, 012, 013, dranst 1, art >0) som andel af de samlede udgifter til socialpsykiatrien (Summen af udgifter til SEL §82, SEL §99, SEL §108, ABL §105 + SEL §85, SEL §107, SEL §85, SEL §104, SEL §103). Definition baseret på den autoriserede kontoplan*.\n\nDatakilde: \nDe kommunale regnskaber.\n\nFrekvens:\nÅrligt med skæring ultimo året. Fra 2018 til seneste opgørelse."]
["Nøgletalsanalyse","Billede37","Nøgletal 1","Figuren viser udviklingen i antal modtagere i perioden 2018-seneste år."]
["Nøgletalsanalyse","Billede38","Nøgletal 1","Figuren viser udviklingen i antal modtagere som en andel af målgruppen for din valgte kommune, for sammenligningsgruppen og for hele landet. Figuren viser udviklingen fra 2018-seneste år."]
["Nøgletalsanalyse","Billede39","Nøgletal 2","Figuren viser udviklingen i antal modtagere i perioden 2018-seneste år. "]
["Nøgletalsanalyse","Billede40","Nøgletal 2","Figuren viser udviklingen i antal modtagere som en andel af målgruppen for din valgte kommune, for sammenligningsgruppen og for hele landet. Figuren viser udviklingen fra 2018-seneste år."]
["Nøgletalsanalyse","Billede41","Nøgletal 3","Figuren viser udviklingen i antal modtagere i perioden 2018-seneste år."]
["Nøgletalsanalyse","Billede42","Nøgletal 3","Figuren viser udviklingen i antal modtagere som en andel af målgruppen for din valgte kommune, for sammenligningsgruppen og for hele landet. Figuren viser udviklingen fra 2018-seneste år."]
["Nøgletalsanalyse","Billede43","Nøgletal 4","Figuren viser udviklingen i antal modtagere i perioden 2018-seneste år."]
["Nøgletalsanalyse","Billede44","Nøgletal 4","Figuren viser udviklingen i antal modtagere som en andel af målgruppen for din valgte kommune, for sammenligningsgruppen og for hele landet. Figuren viser udviklingen fra 2018-seneste år."]
["Nøgletalsanalyse","Billede45","Nøgletal 5","Figuren viser udviklingen i antal modtagere i perioden 2018-seneste år."]
["Nøgletalsanalyse","Billede46","Nøgletal 5","Figuren viser udviklingen i antal modtagere som en andel af målgruppen for din valgte kommune, for sammenligningsgruppen og for hele landet. Figuren viser udviklingen fra 2018-seneste år."]
["Nøgletalsanalyse","Billede47","Nøgletal 6","Figuren viser udviklingen i antal modtagere i perioden 2018-seneste år."]
["Nøgletalsanalyse","Billede48","Nøgletal 6","Figuren viser udviklingen i antal modtagere som en andel af målgruppen for din valgte kommune, for sammenligningsgruppen og for hele landet. Figuren viser udviklingen fra 2018-seneste år."]
["Nøgletalsanalyse","Billede49","Nøgletal 7","Figuren viser udviklingen i antal modtagere, som er flyttet fra et botilbud siden seneste måling. Udviklingen vises i perioden 2018-seneste år."]
["Nøgletalsanalyse","Billede50","Nøgletal 7","Figuren viser udviklingen i antal modtagere som en andel af målgruppen, som er flyttet fra botilbud siden seneste måling for din valgte kommune, for sammenligningsgruppen og for hele landet. Figuren viser udviklingen fra 2018-seneste år."]
["Nøgletalsanalyse","Billede51","Nøgletal 7.1","Figuren viser udviklingen i antal modtagere, som er flyttet fra et botilbud siden seneste måling. Udviklingen vises i perioden 2018-seneste år."]
["Nøgletalsanalyse","Billede52","Nøgletal 7.1","Figuren viser udviklingen i antal modtagere som en andel af målgruppen, som er flyttet fra botilbud siden seneste måling for din valgte kommune, for sammenligningsgruppen og for hele landet. Figuren viser udviklingen fra 2018-seneste år."]
["Nøgletalsanalyse","Billede53","Nøgletal 7.2","Figuren viser udviklingen i antal modtagere, som er flyttet fra et botilbud siden seneste måling. Udviklingen vises i perioden 2018-seneste år."]
["Nøgletalsanalyse","Billede54","Nøgletal 7.2","Figuren viser udviklingen i antal modtagere som en andel af målgruppen, som er flyttet fra botilbud siden seneste måling for din valgte kommune, for sammenligningsgruppen og for hele landet. Figuren viser udviklingen fra 2018-seneste år."]
["Nøgletalsanalyse","Billede55","Nøgletal 7.3","Figuren viser udviklingen i antal modtagere, som er flyttet fra et botilbud siden seneste måling. Udviklingen vises i perioden 2018-seneste år."]
["Nøgletalsanalyse","Billede56","Nøgletal 7.3","Figuren viser udviklingen i antal modtagere som en andel af målgruppen, som er flyttet fra botilbud siden seneste måling for din valgte kommune, for sammenligningsgruppen og for hele landet. Figuren viser udviklingen fra 2018-seneste år."]
["Nøgletalsanalyse","Billede57","Nøgletal 8","Figuren viser udviklingen i antal modtagere, som er rykket ned ad indsatstrappen siden seneste måling. Udviklingen i perioden 2018-seneste år."]
["Nøgletalsanalyse","Billede58","Nøgletal 8","Figuren viser udviklingen i antal modtagere som en andel af målgruppen, som er rykket ned ad indsatstrappen siden seneste måling for din valgte kommune, for sammenligningsgruppen og for hele landet. Figuren viser udviklingen fra 2018-seneste år."]
["Nøgletalsanalyse","Billede59","Nøgletal 9","Figuren viser udviklingen i antal modtagere, som er rykket ned ad indsatstrappen siden seneste måling. Udviklingen vises i perioden 2018-seneste år."]
["Nøgletalsanalyse","Billede60","Nøgletal 9","Figuren viser udviklingen i antal modtagere som en andel af målgruppen, som er rykket ned ad indsatstrappen siden seneste måling for din valgte kommune, for sammenligningsgruppen og for hele landet. Figuren viser udviklingen fra 2018-seneste år."]
["Nøgletalsanalyse","Billede61","Nøgletal 10","Figuren viser udviklingen i antal modtagere, som er rykket op ad indsatstrappen siden seneste måling. Udviklingen vises i perioden 2018-seneste år."]
["Nøgletalsanalyse","Billede62","Nøgletal 10","Figuren viser udviklingen i antal modtagere som en andel af målgruppen, som er rykket op ad indsatstrappen siden seneste måling for din valgte kommune, for sammenligningsgruppen og for hele landet. Figuren viser udviklingen fra 2018-seneste år."]
["Nøgletalsanalyse","Billede63","Nøgletal 11","Figuren viser udviklingen i målgruppens seneste års uddannelsesgrad i perioden 2018-seneste år.."]
["Nøgletalsanalyse","Billede64","Nøgletal 11","Figuren viser udviklingen i målgruppens seneste års uddannelsesgrad for din valgte kommune, for sammenligningsgruppen og for hele landet. Figuren viser udviklingen fra 2018-seneste år."]
["Nøgletalsanalyse","Billede65","Nøgletal 12","Figuren viser udviklingen i målgruppens seneste års beskæftigelsesgrad i perioden 2018-seneste år."]
["Nøgletalsanalyse","Billede66","Nøgletal 12","Figuren viser udviklingen i målgruppens seneste års beskæftigelsesgrad for din valgte kommune, for sammenligningsgruppen og for hele landet. Figuren viser udviklingen fra 2018-seneste år."]
["Nøgletalsanalyse","Billede67","Nøgletal 12.1","Figuren viser udviklingen i målgruppens seneste års beskæftigelsesgrad i perioden 2018-seneste år."]
["Nøgletalsanalyse","Billede68","Nøgletal 12.1","Figuren viser udviklingen i målgruppens seneste års beskæftigelsesgrad for din valgte kommune, for sammenligningsgruppen og for hele landet. Figuren viser udviklingen fra 2018-seneste år."]
["Nøgletalsanalyse","Billede69","Nøgletal 12.2","Figuren viser udviklingen i målgruppens seneste års beskæftigelsesgrad i perioden 2018-seneste år."]
["Nøgletalsanalyse","Billede70","Nøgletal 12.2","Figuren viser udviklingen i målgruppens seneste års beskæftigelsesgrad for din valgte kommune, for sammenligningsgruppen og for hele landet. Figuren viser udviklingen fra 2018-seneste år."]
["Nøgletalsanalyse","Billede71","Nøgletal 13","Figuren viser udviklingen i målgruppens trivselsscore i din kommune, hvis du har indtastet data under \"Egne indtastninger\"."]
["Nøgletalsanalyse","Billede72","Nøgletal 13.1","Figuren viser udviklingen i målgruppens trivselsscore i din kommune, hvis du har indtastet data under \"Egne indtastninger\"."]
["Nøgletalsanalyse","Billede73","Nøgletal 13.2","Figuren viser udviklingen i målgruppens trivselsscore i din kommune, hvis du har indtastet data under \"Egne indtastninger\"."]
["Nøgletalsanalyse","Billede74","Nøgletal 14","Figuren viser udviklingen i målgruppens personlige recovery for din kommune, hvis du har indtastet data under \"Egne indtastninger\"."]
["Nøgletalsanalyse","Billede75","Nøgletal 15","Figuren viser udviklingen i målgruppens mentale sundhed i din kommune, hvis du har indtastet data under \"Egne indtastninger\"."]
["Nøgletalsanalyse","Billede76","Nøgletal 15","Figurerne viser udviklingen i målgruppens mentale sundhed for din kommune, hvis du har indtastet data under \"Egne indtastninger\"."]
["Nøgletalsanalyse","Billede77","Nøgletal 15.1","Figuren viser udviklingen i målgruppens mentale sundhed for din kommune, hvis du har indtastet data under \"Egne indtastninger\"."]
["Nøgletalsanalyse","Billede78","Nøgletal 15.2","Figuren viser udviklingen i målgruppens mentale sundhed for din kommune, hvis du har indtastet data under \"Egne indtastninger\"."]
["Nøgletalsanalyse","Billede79","Nøgletal 15.3","Figuren viser udviklingen i målgruppens mentale sundhed for din kommune, hvis du har indtastet data under \"Egne indtastninger\"."]
["Nøgletalsanalyse","Billede80","Nøgletal 16","Figuren viser udviklingen i  andelen af målgruppen, som har oplevet forbedring i mental sundhed for din kommune, hvis du har indtastet data under \"Egne indtastninger\"."]
["Nøgletalsanalyse","Billede81","Nøgletal 17","Figuren viser udviklingen i  andelen af målgruppen, som har oplevet forværring i mental sundhed for din kommune, hvis du har indtastet data under \"Egne indtastninger\"."]
["Nøgletalsanalyse","Billede82","Nøgletal 18","Figuren viser udviklingen i antal borgere i målgruppen, som  har oplevet genindlæggelse på psykiatriak sygehus siden seneste måling, i perioden 2018-seneste år."]
["Nøgletalsanalyse","Billede83","Nøgletal 18","Figuren viser udviklingen i antal borgere i målgruppen, som har oplevet genindlæggelse på psykiatrisk sygehus siden seneste måling, som en andel af målgruppen for din valgte kommune, for sammenligningsgruppen og for hele landet. Figuren viser udviklingen fra 2018-seneste år."]
["Nøgletalsanalyse","Billede84","Nøgletal 19","Figuren viser udviklingen i udgiftsandelen til forebyggende indsatser ift. udgiftsandelen til støttende indsatser i årene 2018-seneste år. "]
["Nøgletalsanalyse","Billede85","Nøgletal 19","Figuren viser udviklingen i udgiftsandelen til forebyggende indsatser ift. udgiftsandelen til støttende indsatser i årene 2018-seneste år for din valgte kommune, for sammenligningsgruppen og for hele landet. "]
["Nøgletalsanalyse","Billede86","Nøgletal 20","Figuren viser udviklingen i udgiftsandelene i årene 2018-seneste år for:\n- længerevarende botilbud\n- botilbudslignende tilbud\n- midlertidige botilbud\n- socialpædagogisk støtte\n- beskyttet beskæftigelse og aktivitets- og samværstilbud\n- forebyggende indsatser"]
["Nøgletalsanalyse","Billede87","Nøgletal 20","Figurerne viser udviklingen i udgiftsandelene i årene 2018-seneste år for:\n- længerevarende botilbud\n- botilbudslignende tilbud\n- midlertidige botilbud\n- socialpædagogisk støtte\n- beskyttet beskæftigelse og aktivitets- og samværstilbud\n- forebyggende indsatser"]
["Nøgletalsanalyse","Billede88","Nøgletal 20","Figurerne viser udviklingen i fordelingen af udgiftsandele i årene 2018-seneste år for din valgte kommune, for sammenligningsgruppen og for hele landet. "]
["Nøgletalsanalyse","Billede89","Nøgletal 20","Figurerne viser udviklingen for hver af de seks udgiftsandele for din valgte kommune, for sammenligningsgruppen og for hele landet i årene 2018-seneste år."]
["Nøgletalsanalyse","Billede90","Nøgletal 15","Nøgetallet måler på målgruppens mentale sundhed.\n\nNøgletal 15.1 måler på andelen af borgere i målgruppen der har en trivselsscore over 50 målt ved WHO-5.\n\nNøgletal 15.2 måler på andelen af borgere i målgruppen der har en trivselsscore mellem 36 og 50 målt ved WHO-5.\n\nNøgletal 15.3 måler på andelen af borgere i målgruppen der har en trivselsscore mellem 0 og 35 målt ved WHO-5.\n\nMålgruppedefinition:\nBorgere der er omfattet af omlægningen i kommunen og som kommunen har indsamlet spørgeskema for. \n\nDatakilde: \nEgne indtastninger.\n\nFrekvens:\nHalvårligt med skæring ultimo juni og ultimo december."]
["Nøgletalsanalyse","Billede91","Nøgletal 20","Nøgletal 20 viser udgiftsandele fordelt på seks områder:\n- længerevarende botilbud\n- botilbudslignende tilbud\n- midlertidige botilbud\n- socialpædagogisk støtte\n- beskyttet beskæftigelse og aktivitets- og samværstilbud\n- forebyggende indsatser\n\nDefinition af længerevarende botilbud:\nUdgifter til SEL §108 (funktion 5.38.50, gruppering 003, dranst 1, art >0) som andel af de samlede udgifter til socialpsykiatrien (Summen af udgifter til SEL §82, SEL §99, SEL §108, ABL §105 + SEL §85, SEL §107, SEL §85, SEL §104, SEL §103). Definition baseret på den autoriserede kontoplan.\n\nDefinition af botilbudslignende tilbud:\nUdgifter til ABL §105 + SEL §85 (funktion 5.38.51, gruppering 003, dranst 1, art >0) som andel af de samlede udgifter til socialpsykiatrien (Summen af udgifter til SEL §82, SEL §99, SEL §108, ABL §105 + SEL §85, SEL §107, SEL §85, SEL §104, SEL §103). Definition baseret på den autoriserede kontoplan.\n\nDefinition af midlertidige botilbud:\nUdgifter til SEL §107 (funktion 5.38.52, gruppering 003, dranst 1, art >0) som andel af de samlede udgifter til socialpsykiatrien (Summen af udgifter til SEL §82, SEL §99, SEL §108, ABL §105 + SEL §85, SEL §107, SEL §85, SEL §104, SEL §103). Definition baseret på den autoriserede kontoplan.\n\nDefinition af socialpædagogisk støtte:\nUdgifter til SEL §85 (funktion 5.38.39, gruppering 005, dranst 1, art >0) som andel af de samlede udgifter til socialpsykiatrien (Summen af udgifter til SEL §82, SEL §99, SEL §108, ABL §105 + SEL §85, SEL §107, SEL §85, SEL §104, SEL §103). Definition baseret på den autoriserede kontoplan.\n\nDefinition af beskyttet beskæftigelse og aktivitets- og samværstilbud:\nUdgifter til SEL §103 (funktion 5.38.58, gruppering 003, dranst 1, art >0) samt udgifter til SEL §104 (funktion 5.38.59, gruppering 003, dranst 1, art >0) som andel af de samlede udgifter til socialpsykiatrien (Summen af udgifter til SEL §82, SEL §99, SEL §108, ABL §105 + SEL §85, SEL §107, SEL §85, SEL §104, SEL §103). Definition baseret på den autoriserede kontoplan.\n\nDefinition af forebyggende indsatser:\nUdgifter til SEL §99 (funktion 5.38.53, gruppering 002, dranst 1, art >0) samt udgifter til SEL §82 a, b og c (funktion 5.38.39, gruppering 011, 012, 013, dranst 1, art >0) som andel af de samlede udgifter til socialpsykiatrien (Summen af udgifter til SEL §82, SEL §99, SEL §108, ABL §105 + SEL §85, SEL §107, SEL §85, SEL §104, SEL §103). Definition baseret på den autoriserede kontoplan.\n\nDatakilde: \nDe kommunale regnskaber.\n\nFrekvens:\nÅrligt med skæring ultimo året. Fra 2018 til seneste opgørelse."]
["Startside","Billede37","Versioner","Versionshistorik:\n\nVersion 1: Første offentliggørelse af redskabet. Nationale registerdata for 2018-2021. Nøgletal 18 er ikke dataunderstøttet pga. omlægning af landspatientregisteret.\n\nVersion 1.1: Redskabet indeholder nu data for Nøgletal 18. De økonomiske nøgletal er opdateret med regnskabstal for 2022."]
[]
[]
[]
[]
[]
[]
[]
[]
[]
[]
[]
[]
[]
[]
[]
[]
[]
[]
[]
[null,null,"Årstal","Vælg det nøgletal, du gerne vil se. \nDer er registerdata til og med 2019.  \n\nTabellerne viser som udgangspunkt minimum fem år. \nVælges der flere år, udvides tabeller og figurer.\nDet er vigtigt, at du sletter alle år, inden du tilføjer ekstra år.\nF.eks. hvis du har valgt 2018 og 2019. Skal du slette disse for at få 2020 med."]

{"sheet":"Skyggetabeller","index":8,"n_rows":442,"n_cols":19,"rows_kept":442,"cut":false,"hidden":false,"merged":[[413,1,413,3],[444,1,444,4]]}
["Skyggetabeller for figurer på fanen \"Udvikling over tid\""]
[null,"OBS! Alle de navngivne datanedslag skal rettes til ved hver opdatering, så formlerne rettes."]
[null,"Datanedslag:","2023-01-01","Sidste år med handic-data"]
[null,"ok_datanedslag",2022,"Sidste år med økonomi data"]
[null,"LPR_datanedslag:","2023-01-01","Sidste datanedslag med LPR data"]
[null,"Datanedsag_valideredeinstr:","2025-01-01","Næste mulige nedslag for validerede instrumenter"]
[]
[]
[null,"Datanedslag i redskabet til kolonneoverskrifter i tabeller"]
[null,"Datanedslag, registre, fra sas",20181,20182,20191,20192,20201,20202,20211,20212,20221,20222,20231,20232,20241,20242,20251]
[null,"Datanedslag, registre, oversat",{"$f":"VLOOKUP(C10,Data!$I$1072:$J$1091,2,FALSE)","v":"2018-01-01"},{"$f":"VLOOKUP(D10,Data!$I$1072:$J$1091,2,FALSE)","v":"2018-07-01"},{"$f":"VLOOKUP(E10,Data!$I$1072:$J$1091,2,FALSE)","v":"2019-01-01"},{"$f":"VLOOKUP(F10,Data!$I$1072:$J$1091,2,FALSE)","v":"2019-07-01"},{"$f":"VLOOKUP(G10,Data!$I$1072:$J$1091,2,FALSE)","v":"2020-01-01"},{"$f":"VLOOKUP(H10,Data!$I$1072:$J$1091,2,FALSE)","v":"2020-07-01"},{"$f":"VLOOKUP(I10,Data!$I$1072:$J$1091,2,FALSE)","v":"2021-01-01"},{"$f":"VLOOKUP(J10,Data!$I$1072:$J$1091,2,FALSE)","v":"2021-07-01"},{"$f":"VLOOKUP(K10,Data!$I$1072:$J$1091,2,FALSE)","v":"2022-01-01"},{"$f":"VLOOKUP(L10,Data!$I$1072:$J$1091,2,FALSE)","v":"2022-07-01"},{"$f":"VLOOKUP(M10,Data!$I$1072:$J$1091,2,FALSE)","v":"2023-01-01"},{"$f":"VLOOKUP(N10,Data!$I$1072:$J$1091,2,FALSE)","v":"2023-07-01"},{"$f":"VLOOKUP(O10,Data!$I$1072:$J$1091,2,FALSE)","v":"2024-01-01"},{"$f":"VLOOKUP(P10,Data!$I$1072:$J$1091,2,FALSE)","v":"2024-07-01"},{"$f":"VLOOKUP(Q10,Data!$I$1072:$J$1091,2,FALSE)","v":"2025-01-01"}]
[]
[null,"Datanedslag, egne indtastninger","2023-07-01","2024-01-01","2024-07-01","2025-01-01"]
[null,"Datanedslag, økonomi",2018,2019,2020,2021,2022,2023,2024,2025]
[]
[]
[null,"Nøgletal 1 - Modtagere af længerevarende botilbud"]
[]
[null,{"$f":"Kommune","v":"Herning"},{"$f":"Skyggetabeller!C$10","v":20181},{"$f":"Skyggetabeller!D$10","v":20182},{"$f":"Skyggetabeller!E$10","v":20191},{"$f":"Skyggetabeller!F$10","v":20192},{"$f":"Skyggetabeller!G$10","v":20201},{"$f":"Skyggetabeller!H$10","v":20202},{"$f":"Skyggetabeller!I$10","v":20211},{"$f":"Skyggetabeller!J$10","v":20212},{"$f":"Skyggetabeller!K$10","v":20221},{"$f":"Skyggetabeller!L$10","v":20222},{"$f":"Skyggetabeller!M$10","v":20231}]
[null,null,{"$f":"Skyggetabeller!C$11","v":"2018-01-01"},{"$f":"Skyggetabeller!D$11","v":"2018-07-01"},{"$f":"Skyggetabeller!E$11","v":"2019-01-01"},{"$f":"Skyggetabeller!F$11","v":"2019-07-01"},{"$f":"Skyggetabeller!G$11","v":"2020-01-01"},{"$f":"Skyggetabeller!H$11","v":"2020-07-01"},{"$f":"Skyggetabeller!I$11","v":"2021-01-01"},{"$f":"Skyggetabeller!J$11","v":"2021-07-01"},{"$f":"Skyggetabeller!K$11","v":"2022-01-01"},{"$f":"Skyggetabeller!L$11","v":"2022-07-01"},{"$f":"Skyggetabeller!M$11","v":"2023-01-01"}]
[null,"Antal modtagere",{"$f":"IFERROR(IF(INDEX(Data_kom2,MATCH(1,(komnavn2=Kommune)*(komaar2=C19),0),4)=\"\",\"*\",INDEX(Data_kom2,MATCH(1,(komnavn2=Kommune)*(komaar2=C19),0),4)),\"Ingen data\")","v":20},{"$f":"IFERROR(IF(INDEX(Data_kom2,MATCH(1,(komnavn2=Kommune)*(komaar2=D19),0),4)=\"\",\"*\",INDEX(Data_kom2,MATCH(1,(komnavn2=Kommune)*(komaar2=D19),0),4)),\"Ingen data\")","v":21},{"$f":"IFERROR(IF(INDEX(Data_kom2,MATCH(1,(komnavn2=Kommune)*(komaar2=E19),0),4)=\"\",\"*\",INDEX(Data_kom2,MATCH(1,(komnavn2=Kommune)*(komaar2=E19),0),4)),\"Ingen data\")","v":22},{"$f":"IFERROR(IF(INDEX(Data_kom2,MATCH(1,(komnavn2=Kommune)*(komaar2=F19),0),4)=\"\",\"*\",INDEX(Data_kom2,MATCH(1,(komnavn2=Kommune)*(komaar2=F19),0),4)),\"Ingen data\")","v":22},{"$f":"IFERROR(IF(INDEX(Data_kom2,MATCH(1,(komnavn2=Kommune)*(komaar2=G19),0),4)=\"\",\"*\",INDEX(Data_kom2,MATCH(1,(komnavn2=Kommune)*(komaar2=G19),0),4)),\"Ingen data\")","v":22},{"$f":"IFERROR(IF(INDEX(Data_kom2,MATCH(1,(komnavn2=Kommune)*(komaar2=H19),0),4)=\"\",\"*\",INDEX(Data_kom2,MATCH(1,(komnavn2=Kommune)*(komaar2=H19),0),4)),\"Ingen data\")","v":21},{"$f":"IFERROR(IF(INDEX(Data_kom2,MATCH(1,(komnavn2=Kommune)*(komaar2=I19),0),4)=\"\",\"*\",INDEX(Data_kom2,MATCH(1,(komnavn2=Kommune)*(komaar2=I19),0),4)),\"Ingen data\")","v":20},{"$f":"IFERROR(IF(INDEX(Data_kom2,MATCH(1,(komnavn2=Kommune)*(komaar2=J19),0),4)=\"\",\"*\",INDEX(Data_kom2,MATCH(1,(komnavn2=Kommune)*(komaar2=J19),0),4)),\"Ingen data\")","v":19},{"$f":"IFERROR(IF(INDEX(Data_kom2,MATCH(1,(komnavn2=Kommune)*(komaar2=K19),0),4)=\"\",\"*\",INDEX(Data_kom2,MATCH(1,(komnavn2=Kommune)*(komaar2=K19),0),4)),\"Ingen data\")","v":19},{"$f":"IFERROR(IF(INDEX(Data_kom2,MATCH(1,(komnavn2=Kommune)*(komaar2=L19),0),4)=\"\",\"*\",INDEX(Data_kom2,MATCH(1,(komnavn2=Kommune)*(komaar2=L19),0),4)),\"Ingen data\")","v":20},{"$f":"IFERROR(IF(INDEX(Data_kom2,MATCH(1,(komnavn2=Kommune)*(komaar2=M19),0),4)=\"\",\"*\",INDEX(Data_kom2,MATCH(1,(komnavn2=Kommune)*(komaar2=M19),0),4)),\"Ingen data\")","v":20},"Ved næste datanedslag trækkes formlen i den gule række én gang til højre. Trækkes kun i gule felter"]
[]
[]
[null,"Andele",{"$f":"Skyggetabeller!C$11","v":"2018-01-01"},{"$f":"Skyggetabeller!D$11","v":"2018-07-01"},{"$f":"Skyggetabeller!E$11","v":"2019-01-01"},{"$f":"Skyggetabeller!F$11","v":"2019-07-01"},{"$f":"Skyggetabeller!G$11","v":"2020-01-01"},{"$f":"Skyggetabeller!H$11","v":"2020-07-01"},{"$f":"Skyggetabeller!I$11","v":"2021-01-01"},{"$f":"Skyggetabeller!J$11","v":"2021-07-01"},{"$f":"Skyggetabeller!K$11","v":"2022-01-01"},{"$f":"Skyggetabeller!L$11","v":"2022-07-01"},{"$f":"Skyggetabeller!M$11","v":"2023-01-01"}]
[null,{"$f":"Kommune","v":"Herning"},{"$f":"IF(Datanedslag>=C$20,IF(INDEX(Data_kom2,MATCH(1,(komnavn2=$B25)*(komaar2=Skyggetabeller!C$10),0),4)=\"\",\"*\",INDEX(Data_kom2,MATCH(1,(komnavn2=$B25)*(komaar2=Skyggetabeller!C$10),0),4)/INDEX(Data_kom2,MATCH(1,(komnavn2=$B25)*(komaar2=Skyggetabeller!C$10),0),7)),\"\")","v":4.9382716049382713E-2},{"$f":"IF(Datanedslag>=D$20,IF(INDEX(Data_kom2,MATCH(1,(komnavn2=$B25)*(komaar2=Skyggetabeller!D$10),0),4)=\"\",\"*\",INDEX(Data_kom2,MATCH(1,(komnavn2=$B25)*(komaar2=Skyggetabeller!D$10),0),4)/INDEX(Data_kom2,MATCH(1,(komnavn2=$B25)*(komaar2=Skyggetabeller!D$10),0),7)),\"\")","v":5.1597051597051594E-2},{"$f":"IF(Datanedslag>=E$20,IF(INDEX(Data_kom2,MATCH(1,(komnavn2=$B25)*(komaar2=Skyggetabeller!E$10),0),4)=\"\",\"*\",INDEX(Data_kom2,MATCH(1,(komnavn2=$B25)*(komaar2=Skyggetabeller!E$10),0),4)/INDEX(Data_kom2,MATCH(1,(komnavn2=$B25)*(komaar2=Skyggetabeller!E$10),0),7)),\"\")","v":5.6410256410256411E-2},{"$f":"IF(Datanedslag>=F$20,IF(INDEX(Data_kom2,MATCH(1,(komnavn2=$B25)*(komaar2=Skyggetabeller!F$10),0),4)=\"\",\"*\",INDEX(Data_kom2,MATCH(1,(komnavn2=$B25)*(komaar2=Skyggetabeller!F$10),0),4)/INDEX(Data_kom2,MATCH(1,(komnavn2=$B25)*(komaar2=Skyggetabeller!F$10),0),7)),\"\")","v":5.8823529411764705E-2},{"$f":"IF(Datanedslag>=G$20,IF(INDEX(Data_kom2,MATCH(1,(komnavn2=$B25)*(komaar2=Skyggetabeller!G$10),0),4)=\"\",\"*\",INDEX(Data_kom2,MATCH(1,(komnavn2=$B25)*(komaar2=Skyggetabeller!G$10),0),4)/INDEX(Data_kom2,MATCH(1,(komnavn2=$B25)*(komaar2=Skyggetabeller!G$10),0),7)),\"\")","v":6.0606060606060608E-2},{"$f":"IF(Datanedslag>=H$20,IF(INDEX(Data_kom2,MATCH(1,(komnavn2=$B25)*(komaar2=Skyggetabeller!H$10),0),4)=\"\",\"*\",INDEX(Data_kom2,MATCH(1,(komnavn2=$B25)*(komaar2=Skyggetabeller!H$10),0),4)/INDEX(Data_kom2,MATCH(1,(komnavn2=$B25)*(komaar2=Skyggetabeller!H$10),0),7)),\"\")","v":5.4830287206266322E-2},{"$f":"IF(Datanedslag>=I$20,IF(INDEX(Data_kom2,MATCH(1,(komnavn2=$B25)*(komaar2=Skyggetabeller!I$10),0),4)=\"\",\"*\",INDEX(Data_kom2,MATCH(1,(komnavn2=$B25)*(komaar2=Skyggetabeller!I$10),0),4)/INDEX(Data_kom2,MATCH(1,(komnavn2=$B25)*(komaar2=Skyggetabeller!I$10),0),7)),\"\")","v":5.181347150259067E-2},{"$f":"IF(Datanedslag>=J$20,IF(INDEX(Data_kom2,MATCH(1,(komnavn2=$B25)*(komaar2=Skyggetabeller!J$10),0),4)=\"\",\"*\",INDEX(Data_kom2,MATCH(1,(komnavn2=$B25)*(komaar2=Skyggetabeller!J$10),0),4)/INDEX(Data_kom2,MATCH(1,(komnavn2=$B25)*(komaar2=Skyggetabeller!J$10),0),7)),\"\")","v":4.859335038363171E-2},{"$f":"IF(Datanedslag>=K$20,IF(INDEX(Data_kom2,MATCH(1,(komnavn2=$B25)*(komaar2=Skyggetabeller!K$10),0),4)=\"\",\"*\",INDEX(Data_kom2,MATCH(1,(komnavn2=$B25)*(komaar2=Skyggetabeller!K$10),0),4)/INDEX(Data_kom2,MATCH(1,(komnavn2=$B25)*(komaar2=Skyggetabeller!K$10),0),7)),\"\")","v":4.960835509138381E-2},{"$f":"IF(Datanedslag>=L$20,IF(INDEX(Data_kom2,MATCH(1,(komnavn2=$B25)*(komaar2=Skyggetabeller!L$10),0),4)=\"\",\"*\",INDEX(Data_kom2,MATCH(1,(komnavn2=$B25)*(komaar2=Skyggetabeller!L$10),0),4)/INDEX(Data_kom2,MATCH(1,(komnavn2=$B25)*(komaar2=Skyggetabeller!L$10),0),7)),\"\")","v":5.4794520547945202E-2},{"$f":"IF(Datanedslag>=M$20,IF(INDEX(Data_kom2,MATCH(1,(komnavn2=$B25)*(komaar2=Skyggetabeller!M$10),0),4)=\"\",\"*\",INDEX(Data_kom2,MATCH(1,(komnavn2=$B25)*(komaar2=Skyggetabeller!M$10),0),4)/INDEX(Data_kom2,MATCH(1,(komnavn2=$B25)*(komaar2=Skyggetabeller!M$10),0),7)),\"\")","v":5.5555555555555552E-2}]
[null,"Sammenligningskommuner",{"$f":"IFERROR(IF(Datanedslag>=C$20,IF(Hjælpefane!$C$4=\"\",\"*\",SUM(Hjælpefane!$D$4:$D$10))/SUM(Hjælpefane!$E$4:$E$10),\"\"),\"\")","v":6.8686868686868685E-2},{"$f":"IFERROR(IF(Datanedslag>=D$20,IF(Hjælpefane!$C$4=\"\",\"*\",SUM(Hjælpefane!$D$16:$D$22))/SUM(Hjælpefane!$E$16:$E$22),\"\"),\"\")","v":7.2186836518046707E-2},{"$f":"IFERROR(IF(Datanedslag>=E$20,IF(Hjælpefane!$C$4=\"\",\"*\",SUM(Hjælpefane!$D$28:$D$34))/SUM(Hjælpefane!$E$28:$E$34),\"\"),\"\")","v":7.2314049586776855E-2},{"$f":"IFERROR(IF(Datanedslag>=F$20,IF(Hjælpefane!$C$4=\"\",\"*\",SUM(Hjælpefane!$D$40:$D$46))/SUM(Hjælpefane!$E$40:$E$46),\"\"),\"\")","v":6.7346938775510207E-2},{"$f":"IFERROR(IF(Datanedslag>=G$20,IF(Hjælpefane!$C$4=\"\",\"*\",SUM(Hjælpefane!$D$52:$D$58))/SUM(Hjælpefane!$E$52:$E$58),\"\"),\"\")","v":7.3921971252566734E-2},{"$f":"IFERROR(IF(Datanedslag>=H$20,IF(Hjælpefane!$C$4=\"\",\"*\",SUM(Hjælpefane!$D$64:$D$70))/SUM(Hjælpefane!$E$64:$E$70),\"\"),\"\")","v":7.5203252032520332E-2},{"$f":"IFERROR(IF(Datanedslag>=I$20,IF(Hjælpefane!$C$4=\"\",\"*\",SUM(Hjælpefane!$D$76:$D$82))/SUM(Hjælpefane!$E$76:$E$82),\"\"),\"\")","v":7.2580645161290328E-2},{"$f":"IFERROR(IF(Datanedslag>=J$20,IF(Hjælpefane!$C$4=\"\",\"*\",SUM(Hjælpefane!$D$88:$D$94))/SUM(Hjælpefane!$E$88:$E$94),\"\"),\"\")","v":6.7829457364341081E-2},{"$f":"IFERROR(IF(Datanedslag>=K$20,IF(Hjælpefane!$C$4=\"\",\"*\",SUM(Hjælpefane!$D$100:$D$106))/SUM(Hjælpefane!$E$100:$E$106),\"\"),\"\")","v":6.7567567567567571E-2},{"$f":"IFERROR(IF(Datanedslag>=L$20,IF(Hjælpefane!$C$4=\"\",\"*\",SUM(Hjælpefane!$D$112:$D$118))/SUM(Hjælpefane!$E$112:$E$118),\"\"),\"\")","v":6.5913370998116755E-2},{"$f":"IFERROR(IF(Datanedslag>=M$20,IF(Hjælpefane!$C$4=\"\",\"*\",SUM(Hjælpefane!$D$124:$D$130))/SUM(Hjælpefane!$E$124:$E$130),\"\"),\"\")","v":6.6787003610108309E-2}]
[null,"Landsgennemsnit",{"$f":"IF(Datanedslag>=C$20,IF(INDEX(Data_land,MATCH(C$19,Landaar,0),4)=\"\",\"*\",INDEX(Data_land,MATCH(C$19,Landaar,0),4)/INDEX(Data_land,MATCH(C$19,Landaar,0),7)),\"\")","v":6.8156001514577805E-2},{"$f":"IF(Datanedslag>=D$20,IF(INDEX(Data_land,MATCH(D$19,Landaar,0),4)=\"\",\"*\",INDEX(Data_land,MATCH(D$19,Landaar,0),4)/INDEX(Data_land,MATCH(D$19,Landaar,0),7)),\"\")","v":6.8318318318318319E-2},{"$f":"IF(Datanedslag>=E$20,IF(INDEX(Data_land,MATCH(E$19,Landaar,0),4)=\"\",\"*\",INDEX(Data_land,MATCH(E$19,Landaar,0),4)/INDEX(Data_land,MATCH(E$19,Landaar,0),7)),\"\")","v":6.7764882066641705E-2},{"$f":"IF(Datanedslag>=F$20,IF(INDEX(Data_land,MATCH(F$19,Landaar,0),4)=\"\",\"*\",INDEX(Data_land,MATCH(F$19,Landaar,0),4)/INDEX(Data_land,MATCH(F$19,Landaar,0),7)),\"\")","v":6.6466391288021023E-2},{"$f":"IF(Datanedslag>=G$20,IF(INDEX(Data_land,MATCH(G$19,Landaar,0),4)=\"\",\"*\",INDEX(Data_land,MATCH(G$19,Landaar,0),4)/INDEX(Data_land,MATCH(G$19,Landaar,0),7)),\"\")","v":6.5266316579144792E-2},{"$f":"IF(Datanedslag>=H$20,IF(INDEX(Data_land,MATCH(H$19,Landaar,0),4)=\"\",\"*\",INDEX(Data_land,MATCH(H$19,Landaar,0),4)/INDEX(Data_land,MATCH(H$19,Landaar,0),7)),\"\")","v":6.5794392523364484E-2},{"$f":"IF(Datanedslag>=I$20,IF(INDEX(Data_land,MATCH(I$19,Landaar,0),4)=\"\",\"*\",INDEX(Data_land,MATCH(I$19,Landaar,0),4)/INDEX(Data_land,MATCH(I$19,Landaar,0),7)),\"\")","v":6.4647210934613966E-2},{"$f":"IF(Datanedslag>=J$20,IF(INDEX(Data_land,MATCH(J$19,Landaar,0),4)=\"\",\"*\",INDEX(Data_land,MATCH(J$19,Landaar,0),4)/INDEX(Data_land,MATCH(J$19,Landaar,0),7)),\"\")","v":6.3759618908024923E-2},{"$f":"IF(Datanedslag>=K$20,IF(INDEX(Data_land,MATCH(K$19,Landaar,0),4)=\"\",\"*\",INDEX(Data_land,MATCH(K$19,Landaar,0),4)/INDEX(Data_land,MATCH(K$19,Landaar,0),7)),\"\")","v":6.2952243125904486E-2},{"$f":"IF(Datanedslag>=L$20,IF(INDEX(Data_land,MATCH(L$19,Landaar,0),4)=\"\",\"*\",INDEX(Data_land,MATCH(L$19,Landaar,0),4)/INDEX(Data_land,MATCH(L$19,Landaar,0),7)),\"\")","v":6.2634216177523266E-2},{"$f":"IF(Datanedslag>=M$20,IF(INDEX(Data_land,MATCH(M$19,Landaar,0),4)=\"\",\"*\",INDEX(Data_land,MATCH(M$19,Landaar,0),4)/INDEX(Data_land,MATCH(M$19,Landaar,0),7)),\"\")","v":6.2655749377002495E-2}]
[null,"N"]
[null,{"$f":"B25&(\", N\")","v":"Herning, N"},{"$f":"IF(Datanedslag>=C$20,IF(INDEX(Data_kom2,MATCH(1,(komnavn2=$B25)*(komaar2=Skyggetabeller!C$10),0),7)=\"\",\"*\",INDEX(Data_kom2,MATCH(1,(komnavn2=$B25)*(komaar2=Skyggetabeller!C$10),0),7)),\"\")","v":405},{"$f":"IF(Datanedslag>=D$20,IF(INDEX(Data_kom2,MATCH(1,(komnavn2=$B25)*(komaar2=Skyggetabeller!D$10),0),7)=\"\",\"*\",INDEX(Data_kom2,MATCH(1,(komnavn2=$B25)*(komaar2=Skyggetabeller!D$10),0),7)),\"\")","v":407},{"$f":"IF(Datanedslag>=E$20,IF(INDEX(Data_kom2,MATCH(1,(komnavn2=$B25)*(komaar2=Skyggetabeller!E$10),0),7)=\"\",\"*\",INDEX(Data_kom2,MATCH(1,(komnavn2=$B25)*(komaar2=Skyggetabeller!E$10),0),7)),\"\")","v":390},{"$f":"IF(Datanedslag>=F$20,IF(INDEX(Data_kom2,MATCH(1,(komnavn2=$B25)*(komaar2=Skyggetabeller!F$10),0),7)=\"\",\"*\",INDEX(Data_kom2,MATCH(1,(komnavn2=$B25)*(komaar2=Skyggetabeller!F$10),0),7)),\"\")","v":374},{"$f":"IF(Datanedslag>=G$20,IF(INDEX(Data_kom2,MATCH(1,(komnavn2=$B25)*(komaar2=Skyggetabeller!G$10),0),7)=\"\",\"*\",INDEX(Data_kom2,MATCH(1,(komnavn2=$B25)*(komaar2=Skyggetabeller!G$10),0),7)),\"\")","v":363},{"$f":"IF(Datanedslag>=H$20,IF(INDEX(Data_kom2,MATCH(1,(komnavn2=$B25)*(komaar2=Skyggetabeller!H$10),0),7)=\"\",\"*\",INDEX(Data_kom2,MATCH(1,(komnavn2=$B25)*(komaar2=Skyggetabeller!H$10),0),7)),\"\")","v":383},{"$f":"IF(Datanedslag>=I$20,IF(INDEX(Data_kom2,MATCH(1,(komnavn2=$B25)*(komaar2=Skyggetabeller!I$10),0),7)=\"\",\"*\",INDEX(Data_kom2,MATCH(1,(komnavn2=$B25)*(komaar2=Skyggetabeller!I$10),0),7)),\"\")","v":386},{"$f":"IF(Datanedslag>=J$20,IF(INDEX(Data_kom2,MATCH(1,(komnavn2=$B25)*(komaar2=Skyggetabeller!J$10),0),7)=\"\",\"*\",INDEX(Data_kom2,MATCH(1,(komnavn2=$B25)*(komaar2=Skyggetabeller!J$10),0),7)),\"\")","v":391},{"$f":"IF(Datanedslag>=K$20,IF(INDEX(Data_kom2,MATCH(1,(komnavn2=$B25)*(komaar2=Skyggetabeller!K$10),0),7)=\"\",\"*\",INDEX(Data_kom2,MATCH(1,(komnavn2=$B25)*(komaar2=Skyggetabeller!K$10),0),7)),\"\")","v":383},{"$f":"IF(Datanedslag>=L$20,IF(INDEX(Data_kom2,MATCH(1,(komnavn2=$B25)*(komaar2=Skyggetabeller!L$10),0),7)=\"\",\"*\",INDEX(Data_kom2,MATCH(1,(komnavn2=$B25)*(komaar2=Skyggetabeller!L$10),0),7)),\"\")","v":365},{"$f":"IF(Datanedslag>=M$20,IF(INDEX(Data_kom2,MATCH(1,(komnavn2=$B25)*(komaar2=Skyggetabeller!M$10),0),7)=\"\",\"*\",INDEX(Data_kom2,MATCH(1,(komnavn2=$B25)*(komaar2=Skyggetabeller!M$10),0),7)),\"\")","v":360}]
[null,{"$f":"B26&(\", N\")","v":"Sammenligningskommuner, N"},{"$f":"IFERROR(IF(Datanedslag>=C$20,IF(SUM(Hjælpefane!$E$4:$E$10)=\"\",\"\",SUM(Hjælpefane!$E$4:$E$10)),\"\"),\"\")","v":495},{"$f":"IF(Datanedslag>=D$20,IF(SUM(Hjælpefane!$E$16:$E$22)=\"\",\"\",SUM(Hjælpefane!$E$16:$E$22)),\"\")","v":471},{"$f":"IF(Datanedslag>=E$20,IF(SUM(Hjælpefane!$E$28:$E$34)=\"\",\"*\",SUM(Hjælpefane!$E$28:$E$34)),\"\")","v":484},{"$f":"IF(Datanedslag>=F$20,IF(SUM(Hjælpefane!$E$40:$E$46)=\"\",\"*\",SUM(Hjælpefane!$E$40:$E$46)),\"\")","v":490},{"$f":"IF(Datanedslag>=G$20,IF(SUM(Hjælpefane!$E$52:$E$58)=\"\",\"*\",SUM(Hjælpefane!$E$52:$E$58)),\"\")","v":487},{"$f":"IF(Datanedslag>=H$20,IF(SUM(Hjælpefane!$E$64:$E$70)=\"\",\"*\",SUM(Hjælpefane!$E$64:$E$70)),\"\")","v":492},{"$f":"IF(Datanedslag>=I$20,IF(SUM(Hjælpefane!$E$76:$E$82)=\"\",\"*\",SUM(Hjælpefane!$E$76:$E$82)),\"\")","v":496},{"$f":"IF(Datanedslag>=J$20,IF(SUM(Hjælpefane!$E$88:$E$94)=\"\",\"*\",SUM(Hjælpefane!$E$88:$E$94)),\"\")","v":516},{"$f":"IF(Datanedslag>=K$20,IF(SUM(Hjælpefane!$E$100:$E$106)=\"\",\"*\",SUM(Hjælpefane!$E$100:$E$106)),\"\")","v":518},{"$f":"IF(Datanedslag>=L$20,IF(SUM(Hjælpefane!$E$112:$E$118)=\"\",\"*\",SUM(Hjælpefane!$E$112:$E$118)),\"\")","v":531},{"$f":"IF(Datanedslag>=M$20,IF(SUM(Hjælpefane!$E$124:$E$130)=\"\",\"*\",SUM(Hjælpefane!$E$124:$E$130)),\"\")","v":554}]
[null,{"$f":"B27&(\", N\")","v":"Landsgennemsnit, N"},{"$f":"IF(Datanedslag>=C$20,IF(INDEX(Data_land,MATCH(Skyggetabeller!C$10,Landaar,0),7)=\"\",\"*\",INDEX(Data_land,MATCH(Skyggetabeller!C$10,Landaar,0),7)),\"\")","v":26410},{"$f":"IF(Datanedslag>=D$20,IF(INDEX(Data_land,MATCH(Skyggetabeller!D$10,Landaar,0),7)=\"\",\"*\",INDEX(Data_land,MATCH(Skyggetabeller!D$10,Landaar,0),7)),\"\")","v":26640},{"$f":"IF(Datanedslag>=E$20,IF(INDEX(Data_land,MATCH(Skyggetabeller!E$10,Landaar,0),7)=\"\",\"*\",INDEX(Data_land,MATCH(Skyggetabeller!E$10,Landaar,0),7)),\"\")","v":26710},{"$f":"IF(Datanedslag>=F$20,IF(INDEX(Data_land,MATCH(Skyggetabeller!F$10,Landaar,0),7)=\"\",\"*\",INDEX(Data_land,MATCH(Skyggetabeller!F$10,Landaar,0),7)),\"\")","v":26630},{"$f":"IF(Datanedslag>=G$20,IF(INDEX(Data_land,MATCH(Skyggetabeller!G$10,Landaar,0),7)=\"\",\"*\",INDEX(Data_land,MATCH(Skyggetabeller!G$10,Landaar,0),7)),\"\")","v":26660},{"$f":"IF(Datanedslag>=H$20,IF(INDEX(Data_land,MATCH(Skyggetabeller!H$10,Landaar,0),7)=\"\",\"*\",INDEX(Data_land,MATCH(Skyggetabeller!H$10,Landaar,0),7)),\"\")","v":26750},{"$f":"IF(Datanedslag>=I$20,IF(INDEX(Data_land,MATCH(Skyggetabeller!I$10,Landaar,0),7)=\"\",\"*\",INDEX(Data_land,MATCH(Skyggetabeller!I$10,Landaar,0),7)),\"\")","v":27070},{"$f":"IF(Datanedslag>=J$20,IF(INDEX(Data_land,MATCH(Skyggetabeller!J$10,Landaar,0),7)=\"\",\"*\",INDEX(Data_land,MATCH(Skyggetabeller!J$10,Landaar,0),7)),\"\")","v":27290},{"$f":"IF(Datanedslag>=K$20,IF(INDEX(Data_land,MATCH(Skyggetabeller!K$10,Landaar,0),7)=\"\",\"*\",INDEX(Data_land,MATCH(Skyggetabeller!K$10,Landaar,0),7)),\"\")","v":27640},{"$f":"IF(Datanedslag>=L$20,IF(INDEX(Data_land,MATCH(Skyggetabeller!L$10,Landaar,0),7)=\"\",\"*\",INDEX(Data_land,MATCH(Skyggetabeller!L$10,Landaar,0),7)),\"\")","v":27940},{"$f":"IF(Datanedslag>=M$20,IF(INDEX(Data_land,MATCH(Skyggetabeller!M$10,Landaar,0),7)=\"\",\"*\",INDEX(Data_land,MATCH(Skyggetabeller!M$10,Landaar,0),7)),\"\")","v":28090}]
[]
[null,"Nøgletal 2 - Modtagere af botilbudslignende tilbud"]
[]
[null,{"$f":"Kommune","v":"Herning"},{"$f":"Skyggetabeller!C$10","v":20181},{"$f":"Skyggetabeller!D$10","v":20182},{"$f":"Skyggetabeller!E$10","v":20191},{"$f":"Skyggetabeller!F$10","v":20192},{"$f":"Skyggetabeller!G$10","v":20201},{"$f":"Skyggetabeller!H$10","v":20202},{"$f":"Skyggetabeller!I$10","v":20211},{"$f":"Skyggetabeller!J$10","v":20212},{"$f":"Skyggetabeller!K$10","v":20221},{"$f":"Skyggetabeller!L$10","v":20222},{"$f":"Skyggetabeller!M$10","v":20231}]
[null,null,{"$f":"Skyggetabeller!C$11","v":"2018-01-01"},{"$f":"Skyggetabeller!D$11","v":"2018-07-01"},{"$f":"Skyggetabeller!E$11","v":"2019-01-01"},{"$f":"Skyggetabeller!F$11","v":"2019-07-01"},{"$f":"Skyggetabeller!G$11","v":"2020-01-01"},{"$f":"Skyggetabeller!H$11","v":"2020-07-01"},{"$f":"Skyggetabeller!I$11","v":"2021-01-01"},{"$f":"Skyggetabeller!J$11","v":"2021-07-01"},{"$f":"Skyggetabeller!K$11","v":"2022-01-01"},{"$f":"Skyggetabeller!L$11","v":"2022-07-01"},{"$f":"Skyggetabeller!M$11","v":"2023-01-01"}]
[null,"Antal modtagere",{"$f":"IFERROR(IF(INDEX(Data_kom2,MATCH(1,(komnavn2=Kommune)*(komaar2=C35),0),8)=\"\",\"*\",INDEX(Data_kom2,MATCH(1,(komnavn2=Kommune)*(komaar2=C35),0),8)),\"Ingen data\")","v":45},{"$f":"IFERROR(IF(INDEX(Data_kom2,MATCH(1,(komnavn2=Kommune)*(komaar2=D35),0),8)=\"\",\"*\",INDEX(Data_kom2,MATCH(1,(komnavn2=Kommune)*(komaar2=D35),0),8)),\"Ingen data\")","v":44},{"$f":"IFERROR(IF(INDEX(Data_kom2,MATCH(1,(komnavn2=Kommune)*(komaar2=E35),0),8)=\"\",\"*\",INDEX(Data_kom2,MATCH(1,(komnavn2=Kommune)*(komaar2=E35),0),8)),\"Ingen data\")","v":43},{"$f":"IFERROR(IF(INDEX(Data_kom2,MATCH(1,(komnavn2=Kommune)*(komaar2=F35),0),8)=\"\",\"*\",INDEX(Data_kom2,MATCH(1,(komnavn2=Kommune)*(komaar2=F35),0),8)),\"Ingen data\")","v":42},{"$f":"IFERROR(IF(INDEX(Data_kom2,MATCH(1,(komnavn2=Kommune)*(komaar2=G35),0),8)=\"\",\"*\",INDEX(Data_kom2,MATCH(1,(komnavn2=Kommune)*(komaar2=G35),0),8)),\"Ingen data\")","v":42},{"$f":"IFERROR(IF(INDEX(Data_kom2,MATCH(1,(komnavn2=Kommune)*(komaar2=H35),0),8)=\"\",\"*\",INDEX(Data_kom2,MATCH(1,(komnavn2=Kommune)*(komaar2=H35),0),8)),\"Ingen data\")","v":41},{"$f":"IFERROR(IF(INDEX(Data_kom2,MATCH(1,(komnavn2=Kommune)*(komaar2=I35),0),8)=\"\",\"*\",INDEX(Data_kom2,MATCH(1,(komnavn2=Kommune)*(komaar2=I35),0),8)),\"Ingen data\")","v":39},{"$f":"IFERROR(IF(INDEX(Data_kom2,MATCH(1,(komnavn2=Kommune)*(komaar2=J35),0),8)=\"\",\"*\",INDEX(Data_kom2,MATCH(1,(komnavn2=Kommune)*(komaar2=J35),0),8)),\"Ingen data\")","v":37},{"$f":"IFERROR(IF(INDEX(Data_kom2,MATCH(1,(komnavn2=Kommune)*(komaar2=K35),0),8)=\"\",\"*\",INDEX(Data_kom2,MATCH(1,(komnavn2=Kommune)*(komaar2=K35),0),8)),\"Ingen data\")","v":37},{"$f":"IFERROR(IF(INDEX(Data_kom2,MATCH(1,(komnavn2=Kommune)*(komaar2=L35),0),8)=\"\",\"*\",INDEX(Data_kom2,MATCH(1,(komnavn2=Kommune)*(komaar2=L35),0),8)),\"Ingen data\")","v":36},{"$f":"IFERROR(IF(INDEX(Data_kom2,MATCH(1,(komnavn2=Kommune)*(komaar2=M35),0),8)=\"\",\"*\",INDEX(Data_kom2,MATCH(1,(komnavn2=Kommune)*(komaar2=M35),0),8)),\"Ingen data\")","v":34},"Ved næste datanedslag trækkes formlen i den gule række én gang til højre. Trækkes kun i gule felter"]
[]
[null,null,{"$f":"Skyggetabeller!C$11","v":"2018-01-01"},{"$f":"Skyggetabeller!D$11","v":"2018-07-01"},{"$f":"Skyggetabeller!E$11","v":"2019-01-01"},{"$f":"Skyggetabeller!F$11","v":"2019-07-01"},{"$f":"Skyggetabeller!G$11","v":"2020-01-01"},{"$f":"Skyggetabeller!H$11","v":"2020-07-01"},{"$f":"Skyggetabeller!I$11","v":"2021-01-01"},{"$f":"Skyggetabeller!J$11","v":"2021-07-01"},{"$f":"Skyggetabeller!K$11","v":"2022-01-01"},{"$f":"Skyggetabeller!L$11","v":"2022-07-01"},{"$f":"Skyggetabeller!M$11","v":"2023-01-01"}]
[null,{"$f":"Kommune","v":"Herning"},{"$f":"IF(Datanedslag>=C$20,IF(INDEX(Data_kom2,MATCH(1,(komnavn2=$B40)*(komaar2=Skyggetabeller!C$10),0),8)=\"\",\"*\",INDEX(Data_kom2,MATCH(1,(komnavn2=$B40)*(komaar2=Skyggetabeller!C$10),0),8)/INDEX(Data_kom2,MATCH(1,(komnavn2=$B40)*(komaar2=Skyggetabeller!C$10),0),11)),\"\")","v":0.1111111111111111},{"$f":"IF(Datanedslag>=D$20,IF(INDEX(Data_kom2,MATCH(1,(komnavn2=$B40)*(komaar2=Skyggetabeller!D$10),0),8)=\"\",\"*\",INDEX(Data_kom2,MATCH(1,(komnavn2=$B40)*(komaar2=Skyggetabeller!D$10),0),8)/INDEX(Data_kom2,MATCH(1,(komnavn2=$B40)*(komaar2=Skyggetabeller!D$10),0),11)),\"\")","v":0.10810810810810811},{"$f":"IF(Datanedslag>=E$20,IF(INDEX(Data_kom2,MATCH(1,(komnavn2=$B40)*(komaar2=Skyggetabeller!E$10),0),8)=\"\",\"*\",INDEX(Data_kom2,MATCH(1,(komnavn2=$B40)*(komaar2=Skyggetabeller!E$10),0),8)/INDEX(Data_kom2,MATCH(1,(komnavn2=$B40)*(komaar2=Skyggetabeller!E$10),0),11)),\"\")","v":0.11025641025641025},{"$f":"IF(Datanedslag>=F$20,IF(INDEX(Data_kom2,MATCH(1,(komnavn2=$B40)*(komaar2=Skyggetabeller!F$10),0),8)=\"\",\"*\",INDEX(Data_kom2,MATCH(1,(komnavn2=$B40)*(komaar2=Skyggetabeller!F$10),0),8)/INDEX(Data_kom2,MATCH(1,(komnavn2=$B40)*(komaar2=Skyggetabeller!F$10),0),11)),\"\")","v":0.11229946524064172},{"$f":"IF(Datanedslag>=G$20,IF(INDEX(Data_kom2,MATCH(1,(komnavn2=$B40)*(komaar2=Skyggetabeller!G$10),0),8)=\"\",\"*\",INDEX(Data_kom2,MATCH(1,(komnavn2=$B40)*(komaar2=Skyggetabeller!G$10),0),8)/INDEX(Data_kom2,MATCH(1,(komnavn2=$B40)*(komaar2=Skyggetabeller!G$10),0),11)),\"\")","v":0.11570247933884298},{"$f":"IF(Datanedslag>=H$20,IF(INDEX(Data_kom2,MATCH(1,(komnavn2=$B40)*(komaar2=Skyggetabeller!H$10),0),8)=\"\",\"*\",INDEX(Data_kom2,MATCH(1,(komnavn2=$B40)*(komaar2=Skyggetabeller!H$10),0),8)/INDEX(Data_kom2,MATCH(1,(komnavn2=$B40)*(komaar2=Skyggetabeller!H$10),0),11)),\"\")","v":0.10704960835509138},{"$f":"IF(Datanedslag>=I$20,IF(INDEX(Data_kom2,MATCH(1,(komnavn2=$B40)*(komaar2=Skyggetabeller!I$10),0),8)=\"\",\"*\",INDEX(Data_kom2,MATCH(1,(komnavn2=$B40)*(komaar2=Skyggetabeller!I$10),0),8)/INDEX(Data_kom2,MATCH(1,(komnavn2=$B40)*(komaar2=Skyggetabeller!I$10),0),11)),\"\")","v":0.10103626943005181},{"$f":"IF(Datanedslag>=J$20,IF(INDEX(Data_kom2,MATCH(1,(komnavn2=$B40)*(komaar2=Skyggetabeller!J$10),0),8)=\"\",\"*\",INDEX(Data_kom2,MATCH(1,(komnavn2=$B40)*(komaar2=Skyggetabeller!J$10),0),8)/INDEX(Data_kom2,MATCH(1,(komnavn2=$B40)*(komaar2=Skyggetabeller!J$10),0),11)),\"\")","v":9.4629156010230184E-2},{"$f":"IF(Datanedslag>=K$20,IF(INDEX(Data_kom2,MATCH(1,(komnavn2=$B40)*(komaar2=Skyggetabeller!K$10),0),8)=\"\",\"*\",INDEX(Data_kom2,MATCH(1,(komnavn2=$B40)*(komaar2=Skyggetabeller!K$10),0),8)/INDEX(Data_kom2,MATCH(1,(komnavn2=$B40)*(komaar2=Skyggetabeller!K$10),0),11)),\"\")","v":9.6605744125326368E-2},{"$f":"IF(Datanedslag>=L$20,IF(INDEX(Data_kom2,MATCH(1,(komnavn2=$B40)*(komaar2=Skyggetabeller!L$10),0),8)=\"\",\"*\",INDEX(Data_kom2,MATCH(1,(komnavn2=$B40)*(komaar2=Skyggetabeller!L$10),0),8)/INDEX(Data_kom2,MATCH(1,(komnavn2=$B40)*(komaar2=Skyggetabeller!L$10),0),11)),\"\")","v":9.8630136986301367E-2},{"$f":"IF(Datanedslag>=M$20,IF(INDEX(Data_kom2,MATCH(1,(komnavn2=$B40)*(komaar2=Skyggetabeller!M$10),0),8)=\"\",\"*\",INDEX(Data_kom2,MATCH(1,(komnavn2=$B40)*(komaar2=Skyggetabeller!M$10),0),8)/INDEX(Data_kom2,MATCH(1,(komnavn2=$B40)*(komaar2=Skyggetabeller!M$10),0),11)),\"\")","v":9.4444444444444442E-2}]
[null,"Sammenligningskommuner",{"$f":"IFERROR(IF(Datanedslag>=C$20,IF(Hjælpefane!$C$4=\"\",\"*\",SUM(Hjælpefane!$F$4:$F$10))/SUM(Hjælpefane!$G$4:$G$10),\"\"),\"\")","v":0.10909090909090909},{"$f":"IFERROR(IF(Datanedslag>=D$20,IF(Hjælpefane!$C$4=\"\",\"*\",SUM(Hjælpefane!$F$16:$F$22))/SUM(Hjælpefane!$G$16:$G$22),\"\"),\"\")","v":0.11677282377919321},{"$f":"IFERROR(IF(Datanedslag>=E$20,IF(Hjælpefane!$C$4=\"\",\"*\",SUM(Hjælpefane!$F$28:$F$34))/SUM(Hjælpefane!$G$28:$G$34),\"\"),\"\")","v":0.10330578512396695},{"$f":"IFERROR(IF(Datanedslag>=F$20,IF(Hjælpefane!$C$4=\"\",\"*\",SUM(Hjælpefane!$F$40:$F$46))/SUM(Hjælpefane!$G$40:$G$46),\"\"),\"\")","v":8.3673469387755106E-2},{"$f":"IFERROR(IF(Datanedslag>=G$20,IF(Hjælpefane!$C$4=\"\",\"*\",SUM(Hjælpefane!$F$52:$F$58))/SUM(Hjælpefane!$G$52:$G$58),\"\"),\"\")","v":8.2135523613963035E-2},{"$f":"IFERROR(IF(Datanedslag>=H$20,IF(Hjælpefane!$C$4=\"\",\"*\",SUM(Hjælpefane!$F$64:$F$70))/SUM(Hjælpefane!$G$64:$G$70),\"\"),\"\")","v":8.3333333333333329E-2},{"$f":"IFERROR(IF(Datanedslag>=I$20,IF(Hjælpefane!$C$4=\"\",\"*\",SUM(Hjælpefane!$F$76:$F$82))/SUM(Hjælpefane!$G$76:$G$82),\"\"),\"\")","v":9.6774193548387094E-2},{"$f":"IFERROR(IF(Datanedslag>=J$20,IF(Hjælpefane!$C$4=\"\",\"*\",SUM(Hjælpefane!$F$88:$F$94))/SUM(Hjælpefane!$G$88:$G$94),\"\"),\"\")","v":9.3023255813953487E-2},{"$f":"IFERROR(IF(Datanedslag>=K$20,IF(Hjælpefane!$C$4=\"\",\"*\",SUM(Hjælpefane!$F$100:$F$106))/SUM(Hjælpefane!$G$100:$G$106),\"\"),\"\")","v":9.2664092664092659E-2},{"$f":"IFERROR(IF(Datanedslag>=L$20,IF(Hjælpefane!$C$4=\"\",\"*\",SUM(Hjælpefane!$F$112:$F$118))/SUM(Hjælpefane!$G$112:$G$118),\"\"),\"\")","v":9.03954802259887E-2},{"$f":"IFERROR(IF(Datanedslag>=M$20,IF(Hjælpefane!$C$4=\"\",\"*\",SUM(Hjælpefane!$F$124:$F$130))/SUM(Hjælpefane!$G$124:$G$130),\"\"),\"\")","v":8.4837545126353789E-2}]
[null,"Landsgennemsnit",{"$f":"IF(Datanedslag>=C$20,IF(INDEX(Data_land,MATCH(C$19,Landaar,0),8)=\"\",\"*\",INDEX(Data_land,MATCH(C$19,Landaar,0),8)/INDEX(Data_land,MATCH(C$19,Landaar,0),11)),\"\")","v":0.10639909125331314},{"$f":"IF(Datanedslag>=D$20,IF(INDEX(Data_land,MATCH(D$19,Landaar,0),8)=\"\",\"*\",INDEX(Data_land,MATCH(D$19,Landaar,0),8)/INDEX(Data_land,MATCH(D$19,Landaar,0),11)),\"\")","v":0.10698198198198199},{"$f":"IF(Datanedslag>=E$20,IF(INDEX(Data_land,MATCH(E$19,Landaar,0),8)=\"\",\"*\",INDEX(Data_land,MATCH(E$19,Landaar,0),8)/INDEX(Data_land,MATCH(E$19,Landaar,0),11)),\"\")","v":0.10670160988393861},{"$f":"IF(Datanedslag>=F$20,IF(INDEX(Data_land,MATCH(F$19,Landaar,0),8)=\"\",\"*\",INDEX(Data_land,MATCH(F$19,Landaar,0),8)/INDEX(Data_land,MATCH(F$19,Landaar,0),11)),\"\")","v":0.10664663912880211},{"$f":"IF(Datanedslag>=G$20,IF(INDEX(Data_land,MATCH(G$19,Landaar,0),8)=\"\",\"*\",INDEX(Data_land,MATCH(G$19,Landaar,0),8)/INDEX(Data_land,MATCH(G$19,Landaar,0),11)),\"\")","v":0.1072768192048012},{"$f":"IF(Datanedslag>=H$20,IF(INDEX(Data_land,MATCH(H$19,Landaar,0),8)=\"\",\"*\",INDEX(Data_land,MATCH(H$19,Landaar,0),8)/INDEX(Data_land,MATCH(H$19,Landaar,0),11)),\"\")","v":0.10616822429906542},{"$f":"IF(Datanedslag>=I$20,IF(INDEX(Data_land,MATCH(I$19,Landaar,0),8)=\"\",\"*\",INDEX(Data_land,MATCH(I$19,Landaar,0),8)/INDEX(Data_land,MATCH(I$19,Landaar,0),11)),\"\")","v":0.1041743627632065},{"$f":"IF(Datanedslag>=J$20,IF(INDEX(Data_land,MATCH(J$19,Landaar,0),8)=\"\",\"*\",INDEX(Data_land,MATCH(J$19,Landaar,0),8)/INDEX(Data_land,MATCH(J$19,Landaar,0),11)),\"\")","v":0.10260168559912056},{"$f":"IF(Datanedslag>=K$20,IF(INDEX(Data_land,MATCH(K$19,Landaar,0),8)=\"\",\"*\",INDEX(Data_land,MATCH(K$19,Landaar,0),8)/INDEX(Data_land,MATCH(K$19,Landaar,0),11)),\"\")","v":0.10057887120115774},{"$f":"IF(Datanedslag>=L$20,IF(INDEX(Data_land,MATCH(L$19,Landaar,0),8)=\"\",\"*\",INDEX(Data_land,MATCH(L$19,Landaar,0),8)/INDEX(Data_land,MATCH(L$19,Landaar,0),11)),\"\")","v":9.8425196850393706E-2},{"$f":"IF(Datanedslag>=M$20,IF(INDEX(Data_land,MATCH(M$19,Landaar,0),8)=\"\",\"*\",INDEX(Data_land,MATCH(M$19,Landaar,0),8)/INDEX(Data_land,MATCH(M$19,Landaar,0),11)),\"\")","v":9.7543609825560693E-2}]
[null,"N"]
[null,{"$f":"B40&(\", N\")","v":"Herning, N"},{"$f":"IF(Datanedslag>=C$20,IF(INDEX(Data_kom2,MATCH(1,(komnavn2=$B40)*(komaar2=Skyggetabeller!C$10),0),11)=\"\",\"*\",INDEX(Data_kom2,MATCH(1,(komnavn2=$B40)*(komaar2=Skyggetabeller!C$10),0),11)),\"\")","v":405},{"$f":"IF(Datanedslag>=D$20,IF(INDEX(Data_kom2,MATCH(1,(komnavn2=$B40)*(komaar2=Skyggetabeller!D$10),0),11)=\"\",\"*\",INDEX(Data_kom2,MATCH(1,(komnavn2=$B40)*(komaar2=Skyggetabeller!D$10),0),11)),\"\")","v":407},{"$f":"IF(Datanedslag>=E$20,IF(INDEX(Data_kom2,MATCH(1,(komnavn2=$B40)*(komaar2=Skyggetabeller!E$10),0),11)=\"\",\"*\",INDEX(Data_kom2,MATCH(1,(komnavn2=$B40)*(komaar2=Skyggetabeller!E$10),0),11)),\"\")","v":390},{"$f":"IF(Datanedslag>=F$20,IF(INDEX(Data_kom2,MATCH(1,(komnavn2=$B40)*(komaar2=Skyggetabeller!F$10),0),11)=\"\",\"*\",INDEX(Data_kom2,MATCH(1,(komnavn2=$B40)*(komaar2=Skyggetabeller!F$10),0),11)),\"\")","v":374},{"$f":"IF(Datanedslag>=G$20,IF(INDEX(Data_kom2,MATCH(1,(komnavn2=$B40)*(komaar2=Skyggetabeller!G$10),0),11)=\"\",\"*\",INDEX(Data_kom2,MATCH(1,(komnavn2=$B40)*(komaar2=Skyggetabeller!G$10),0),11)),\"\")","v":363},{"$f":"IF(Datanedslag>=H$20,IF(INDEX(Data_kom2,MATCH(1,(komnavn2=$B40)*(komaar2=Skyggetabeller!H$10),0),11)=\"\",\"*\",INDEX(Data_kom2,MATCH(1,(komnavn2=$B40)*(komaar2=Skyggetabeller!H$10),0),11)),\"\")","v":383},{"$f":"IF(Datanedslag>=I$20,IF(INDEX(Data_kom2,MATCH(1,(komnavn2=$B40)*(komaar2=Skyggetabeller!I$10),0),11)=\"\",\"*\",INDEX(Data_kom2,MATCH(1,(komnavn2=$B40)*(komaar2=Skyggetabeller!I$10),0),11)),\"\")","v":386},{"$f":"IF(Datanedslag>=J$20,IF(INDEX(Data_kom2,MATCH(1,(komnavn2=$B40)*(komaar2=Skyggetabeller!J$10),0),11)=\"\",\"*\",INDEX(Data_kom2,MATCH(1,(komnavn2=$B40)*(komaar2=Skyggetabeller!J$10),0),11)),\"\")","v":391},{"$f":"IF(Datanedslag>=K$20,IF(INDEX(Data_kom2,MATCH(1,(komnavn2=$B40)*(komaar2=Skyggetabeller!K$10),0),11)=\"\",\"*\",INDEX(Data_kom2,MATCH(1,(komnavn2=$B40)*(komaar2=Skyggetabeller!K$10),0),11)),\"\")","v":383},{"$f":"IF(Datanedslag>=L$20,IF(INDEX(Data_kom2,MATCH(1,(komnavn2=$B40)*(komaar2=Skyggetabeller!L$10),0),11)=\"\",\"*\",INDEX(Data_kom2,MATCH(1,(komnavn2=$B40)*(komaar2=Skyggetabeller!L$10),0),11)),\"\")","v":365},{"$f":"IF(Datanedslag>=M$20,IF(INDEX(Data_kom2,MATCH(1,(komnavn2=$B40)*(komaar2=Skyggetabeller!M$10),0),11)=\"\",\"*\",INDEX(Data_kom2,MATCH(1,(komnavn2=$B40)*(komaar2=Skyggetabeller!M$10),0),11)),\"\")","v":360}]
[null,{"$f":"B41&(\", N\")","v":"Sammenligningskommuner, N"},{"$f":"IF(Datanedslag>=C$20,IF(SUM(Hjælpefane!$G$4:$G$10)=\"\",\"\",SUM(Hjælpefane!$G$4:$G$10)),\"\")","v":495},{"$f":"IF(Datanedslag>=D$20,IF(SUM(Hjælpefane!$G$16:$G$22)=\"\",\"\",SUM(Hjælpefane!$G$16:$G$22)),\"\")","v":471},{"$f":"IF(Datanedslag>=E$20,IF(SUM(Hjælpefane!$G$28:$G$34)=\"\",\"*\",SUM(Hjælpefane!$G$28:$G$34)),\"\")","v":484},{"$f":"IF(Datanedslag>=F$20,IF(SUM(Hjælpefane!$G$40:$G$46)=\"\",\"*\",SUM(Hjælpefane!$G$40:$G$46)),\"\")","v":490},{"$f":"IF(Datanedslag>=G$20,IF(SUM(Hjælpefane!$G$52:$G$58)=\"\",\"*\",SUM(Hjælpefane!$G$52:$G$58)),\"\")","v":487},{"$f":"IF(Datanedslag>=H$20,IF(SUM(Hjælpefane!$G$64:$G$70)=\"\",\"*\",SUM(Hjælpefane!$G$64:$G$70)),\"\")","v":492},{"$f":"IF(Datanedslag>=I$20,IF(SUM(Hjælpefane!$G$76:$G$82)=\"\",\"*\",SUM(Hjælpefane!$G$76:$G$82)),\"\")","v":496},{"$f":"IF(Datanedslag>=J$20,IF(SUM(Hjælpefane!$G$88:$G$94)=\"\",\"*\",SUM(Hjælpefane!$G$88:$G$94)),\"\")","v":516},{"$f":"IF(Datanedslag>=K$20,IF(SUM(Hjælpefane!$G$100:$G$106)=\"\",\"*\",SUM(Hjælpefane!$G$100:$G$106)),\"\")","v":518},{"$f":"IF(Datanedslag>=L$20,IF(SUM(Hjælpefane!$G$100:$G$106)=\"\",\"*\",SUM(Hjælpefane!$G$100:$G$106)),\"\")","v":518},{"$f":"IF(Datanedslag>=M$20,IF(SUM(Hjælpefane!$G$100:$G$106)=\"\",\"*\",SUM(Hjælpefane!$G$100:$G$106)),\"\")","v":518}]
[null,{"$f":"B42&(\", N\")","v":"Landsgennemsnit, N"},{"$f":"IF(Datanedslag>=C$20,IF(INDEX(Data_land,MATCH(Skyggetabeller!C$10,Landaar,0),11)=\"\",\"*\",INDEX(Data_land,MATCH(Skyggetabeller!C$10,Landaar,0),11)),\"\")","v":26410},{"$f":"IF(Datanedslag>=D$20,IF(INDEX(Data_land,MATCH(Skyggetabeller!D$10,Landaar,0),11)=\"\",\"*\",INDEX(Data_land,MATCH(Skyggetabeller!D$10,Landaar,0),11)),\"\")","v":26640},{"$f":"IF(Datanedslag>=E$20,IF(INDEX(Data_land,MATCH(Skyggetabeller!E$10,Landaar,0),11)=\"\",\"*\",INDEX(Data_land,MATCH(Skyggetabeller!E$10,Landaar,0),11)),\"\")","v":26710},{"$f":"IF(Datanedslag>=F$20,IF(INDEX(Data_land,MATCH(Skyggetabeller!F$10,Landaar,0),11)=\"\",\"*\",INDEX(Data_land,MATCH(Skyggetabeller!F$10,Landaar,0),11)),\"\")","v":26630},{"$f":"IF(Datanedslag>=G$20,IF(INDEX(Data_land,MATCH(Skyggetabeller!G$10,Landaar,0),11)=\"\",\"*\",INDEX(Data_land,MATCH(Skyggetabeller!G$10,Landaar,0),11)),\"\")","v":26660},{"$f":"IF(Datanedslag>=H$20,IF(INDEX(Data_land,MATCH(Skyggetabeller!H$10,Landaar,0),11)=\"\",\"*\",INDEX(Data_land,MATCH(Skyggetabeller!H$10,Landaar,0),11)),\"\")","v":26750},{"$f":"IF(Datanedslag>=I$20,IF(INDEX(Data_land,MATCH(Skyggetabeller!I$10,Landaar,0),11)=\"\",\"*\",INDEX(Data_land,MATCH(Skyggetabeller!I$10,Landaar,0),11)),\"\")","v":27070},{"$f":"IF(Datanedslag>=J$20,IF(INDEX(Data_land,MATCH(Skyggetabeller!J$10,Landaar,0),11)=\"\",\"*\",INDEX(Data_land,MATCH(Skyggetabeller!J$10,Landaar,0),11)),\"\")","v":27290},{"$f":"IF(Datanedslag>=K$20,IF(INDEX(Data_land,MATCH(Skyggetabeller!K$10,Landaar,0),11)=\"\",\"*\",INDEX(Data_land,MATCH(Skyggetabeller!K$10,Landaar,0),11)),\"\")","v":27640},{"$f":"IF(Datanedslag>=L$20,IF(INDEX(Data_land,MATCH(Skyggetabeller!L$10,Landaar,0),11)=\"\",\"*\",INDEX(Data_land,MATCH(Skyggetabeller!L$10,Landaar,0),11)),\"\")","v":27940},{"$f":"IF(Datanedslag>=M$20,IF(INDEX(Data_land,MATCH(Skyggetabeller!M$10,Landaar,0),11)=\"\",\"*\",INDEX(Data_land,MATCH(Skyggetabeller!M$10,Landaar,0),11)),\"\")","v":28090}]
[]
[]
[null,"Nøgletal 3 - Modtagere af midlertidigt botilbud"]
[]
[null,{"$f":"Kommune","v":"Herning"},{"$f":"Skyggetabeller!C$10","v":20181},{"$f":"Skyggetabeller!D$10","v":20182},{"$f":"Skyggetabeller!E$10","v":20191},{"$f":"Skyggetabeller!F$10","v":20192},{"$f":"Skyggetabeller!G$10","v":20201},{"$f":"Skyggetabeller!H$10","v":20202},{"$f":"Skyggetabeller!I$10","v":20211},{"$f":"Skyggetabeller!J$10","v":20212},{"$f":"Skyggetabeller!K$10","v":20221},{"$f":"Skyggetabeller!L$10","v":20222},{"$f":"Skyggetabeller!M$10","v":20231}]
[null,null,{"$f":"Skyggetabeller!C$11","v":"2018-01-01"},{"$f":"Skyggetabeller!D$11","v":"2018-07-01"},{"$f":"Skyggetabeller!E$11","v":"2019-01-01"},{"$f":"Skyggetabeller!F$11","v":"2019-07-01"},{"$f":"Skyggetabeller!G$11","v":"2020-01-01"},{"$f":"Skyggetabeller!H$11","v":"2020-07-01"},{"$f":"Skyggetabeller!I$11","v":"2021-01-01"},{"$f":"Skyggetabeller!J$11","v":"2021-07-01"},{"$f":"Skyggetabeller!K$11","v":"2022-01-01"},{"$f":"Skyggetabeller!L$11","v":"2022-07-01"},{"$f":"Skyggetabeller!M$11","v":"2023-01-01"}]
[null,"Antal modtagere",{"$f":"IFERROR(IF(INDEX(Data_kom2,MATCH(1,(komnavn2=Kommune)*(komaar2=C51),0),12)=\"\",\"*\",INDEX(Data_kom2,MATCH(1,(komnavn2=Kommune)*(komaar2=C51),0),12)),\"Ingen data\")","v":28},{"$f":"IFERROR(IF(INDEX(Data_kom2,MATCH(1,(komnavn2=Kommune)*(komaar2=D51),0),12)=\"\",\"*\",INDEX(Data_kom2,MATCH(1,(komnavn2=Kommune)*(komaar2=D51),0),12)),\"Ingen data\")","v":26},{"$f":"IFERROR(IF(INDEX(Data_kom2,MATCH(1,(komnavn2=Kommune)*(komaar2=E51),0),12)=\"\",\"*\",INDEX(Data_kom2,MATCH(1,(komnavn2=Kommune)*(komaar2=E51),0),12)),\"Ingen data\")","v":28},{"$f":"IFERROR(IF(INDEX(Data_kom2,MATCH(1,(komnavn2=Kommune)*(komaar2=F51),0),12)=\"\",\"*\",INDEX(Data_kom2,MATCH(1,(komnavn2=Kommune)*(komaar2=F51),0),12)),\"Ingen data\")","v":30},{"$f":"IFERROR(IF(INDEX(Data_kom2,MATCH(1,(komnavn2=Kommune)*(komaar2=G51),0),12)=\"\",\"*\",INDEX(Data_kom2,MATCH(1,(komnavn2=Kommune)*(komaar2=G51),0),12)),\"Ingen data\")","v":30},{"$f":"IFERROR(IF(INDEX(Data_kom2,MATCH(1,(komnavn2=Kommune)*(komaar2=H51),0),12)=\"\",\"*\",INDEX(Data_kom2,MATCH(1,(komnavn2=Kommune)*(komaar2=H51),0),12)),\"Ingen data\")","v":26},{"$f":"IFERROR(IF(INDEX(Data_kom2,MATCH(1,(komnavn2=Kommune)*(komaar2=I51),0),12)=\"\",\"*\",INDEX(Data_kom2,MATCH(1,(komnavn2=Kommune)*(komaar2=I51),0),12)),\"Ingen data\")","v":24},{"$f":"IFERROR(IF(INDEX(Data_kom2,MATCH(1,(komnavn2=Kommune)*(komaar2=J51),0),12)=\"\",\"*\",INDEX(Data_kom2,MATCH(1,(komnavn2=Kommune)*(komaar2=J51),0),12)),\"Ingen data\")","v":23},{"$f":"IFERROR(IF(INDEX(Data_kom2,MATCH(1,(komnavn2=Kommune)*(komaar2=K51),0),12)=\"\",\"*\",INDEX(Data_kom2,MATCH(1,(komnavn2=Kommune)*(komaar2=K51),0),12)),\"Ingen data\")","v":21},{"$f":"IFERROR(IF(INDEX(Data_kom2,MATCH(1,(komnavn2=Kommune)*(komaar2=L51),0),12)=\"\",\"*\",INDEX(Data_kom2,MATCH(1,(komnavn2=Kommune)*(komaar2=L51),0),12)),\"Ingen data\")","v":17},{"$f":"IFERROR(IF(INDEX(Data_kom2,MATCH(1,(komnavn2=Kommune)*(komaar2=M51),0),12)=\"\",\"*\",INDEX(Data_kom2,MATCH(1,(komnavn2=Kommune)*(komaar2=M51),0),12)),\"Ingen data\")","v":15},"Ved næste datanedslag trækkes formlen i den gule række én gang til højre. Trækkes kun i gule felter"]
[]
[null,null,{"$f":"Skyggetabeller!C$11","v":"2018-01-01"},{"$f":"Skyggetabeller!D$11","v":"2018-07-01"},{"$f":"Skyggetabeller!E$11","v":"2019-01-01"},{"$f":"Skyggetabeller!F$11","v":"2019-07-01"},{"$f":"Skyggetabeller!G$11","v":"2020-01-01"},{"$f":"Skyggetabeller!H$11","v":"2020-07-01"},{"$f":"Skyggetabeller!I$11","v":"2021-01-01"},{"$f":"Skyggetabeller!J$11","v":"2021-07-01"},{"$f":"Skyggetabeller!K$11","v":"2022-01-01"},{"$f":"Skyggetabeller!L$11","v":"2022-07-01"},{"$f":"Skyggetabeller!M$11","v":"2023-01-01"}]
[null,{"$f":"Kommune","v":"Herning"},{"$f":"IF(Datanedslag>=C$20,IF(INDEX(Data_kom2,MATCH(1,(komnavn2=$B56)*(komaar2=Skyggetabeller!C$10),0),12)=\"\",\"*\",INDEX(Data_kom2,MATCH(1,(komnavn2=$B56)*(komaar2=Skyggetabeller!C$10),0),12)/INDEX(Data_kom2,MATCH(1,(komnavn2=$B56)*(komaar2=Skyggetabeller!C$10),0),15)),\"\")","v":6.9135802469135796E-2},{"$f":"IF(Datanedslag>=D$20,IF(INDEX(Data_kom2,MATCH(1,(komnavn2=$B56)*(komaar2=Skyggetabeller!D$10),0),12)=\"\",\"*\",INDEX(Data_kom2,MATCH(1,(komnavn2=$B56)*(komaar2=Skyggetabeller!D$10),0),12)/INDEX(Data_kom2,MATCH(1,(komnavn2=$B56)*(komaar2=Skyggetabeller!D$10),0),15)),\"\")","v":6.3882063882063883E-2},{"$f":"IF(Datanedslag>=E$20,IF(INDEX(Data_kom2,MATCH(1,(komnavn2=$B56)*(komaar2=Skyggetabeller!E$10),0),12)=\"\",\"*\",INDEX(Data_kom2,MATCH(1,(komnavn2=$B56)*(komaar2=Skyggetabeller!E$10),0),12)/INDEX(Data_kom2,MATCH(1,(komnavn2=$B56)*(komaar2=Skyggetabeller!E$10),0),15)),\"\")","v":7.179487179487179E-2},{"$f":"IF(Datanedslag>=F$20,IF(INDEX(Data_kom2,MATCH(1,(komnavn2=$B56)*(komaar2=Skyggetabeller!F$10),0),12)=\"\",\"*\",INDEX(Data_kom2,MATCH(1,(komnavn2=$B56)*(komaar2=Skyggetabeller!F$10),0),12)/INDEX(Data_kom2,MATCH(1,(komnavn2=$B56)*(komaar2=Skyggetabeller!F$10),0),15)),\"\")","v":8.0213903743315509E-2},{"$f":"IF(Datanedslag>=G$20,IF(INDEX(Data_kom2,MATCH(1,(komnavn2=$B56)*(komaar2=Skyggetabeller!G$10),0),12)=\"\",\"*\",INDEX(Data_kom2,MATCH(1,(komnavn2=$B56)*(komaar2=Skyggetabeller!G$10),0),12)/INDEX(Data_kom2,MATCH(1,(komnavn2=$B56)*(komaar2=Skyggetabeller!G$10),0),15)),\"\")","v":8.2644628099173556E-2},{"$f":"IF(Datanedslag>=H$20,IF(INDEX(Data_kom2,MATCH(1,(komnavn2=$B56)*(komaar2=Skyggetabeller!H$10),0),12)=\"\",\"*\",INDEX(Data_kom2,MATCH(1,(komnavn2=$B56)*(komaar2=Skyggetabeller!H$10),0),12)/INDEX(Data_kom2,MATCH(1,(komnavn2=$B56)*(komaar2=Skyggetabeller!H$10),0),15)),\"\")","v":6.7885117493472591E-2},{"$f":"IF(Datanedslag>=I$20,IF(INDEX(Data_kom2,MATCH(1,(komnavn2=$B56)*(komaar2=Skyggetabeller!I$10),0),12)=\"\",\"*\",INDEX(Data_kom2,MATCH(1,(komnavn2=$B56)*(komaar2=Skyggetabeller!I$10),0),12)/INDEX(Data_kom2,MATCH(1,(komnavn2=$B56)*(komaar2=Skyggetabeller!I$10),0),15)),\"\")","v":6.2176165803108807E-2},{"$f":"IF(Datanedslag>=J$20,IF(INDEX(Data_kom2,MATCH(1,(komnavn2=$B56)*(komaar2=Skyggetabeller!J$10),0),12)=\"\",\"*\",INDEX(Data_kom2,MATCH(1,(komnavn2=$B56)*(komaar2=Skyggetabeller!J$10),0),12)/INDEX(Data_kom2,MATCH(1,(komnavn2=$B56)*(komaar2=Skyggetabeller!J$10),0),15)),\"\")","v":5.8823529411764705E-2},{"$f":"IF(Datanedslag>=K$20,IF(INDEX(Data_kom2,MATCH(1,(komnavn2=$B56)*(komaar2=Skyggetabeller!K$10),0),12)=\"\",\"*\",INDEX(Data_kom2,MATCH(1,(komnavn2=$B56)*(komaar2=Skyggetabeller!K$10),0),12)/INDEX(Data_kom2,MATCH(1,(komnavn2=$B56)*(komaar2=Skyggetabeller!K$10),0),15)),\"\")","v":5.4830287206266322E-2},{"$f":"IF(Datanedslag>=L$20,IF(INDEX(Data_kom2,MATCH(1,(komnavn2=$B56)*(komaar2=Skyggetabeller!L$10),0),12)=\"\",\"*\",INDEX(Data_kom2,MATCH(1,(komnavn2=$B56)*(komaar2=Skyggetabeller!L$10),0),12)/INDEX(Data_kom2,MATCH(1,(komnavn2=$B56)*(komaar2=Skyggetabeller!L$10),0),15)),\"\")","v":4.6575342465753428E-2},{"$f":"IF(Datanedslag>=M$20,IF(INDEX(Data_kom2,MATCH(1,(komnavn2=$B56)*(komaar2=Skyggetabeller!M$10),0),12)=\"\",\"*\",INDEX(Data_kom2,MATCH(1,(komnavn2=$B56)*(komaar2=Skyggetabeller!M$10),0),12)/INDEX(Data_kom2,MATCH(1,(komnavn2=$B56)*(komaar2=Skyggetabeller!M$10),0),15)),\"\")","v":4.1666666666666664E-2}]
[null,"Sammenligningskommuner",{"$f":"IFERROR(IF(Datanedslag>=C$20,IF(Hjælpefane!$C$4=\"\",\"*\",SUM(Hjælpefane!$H$4:$H$10))/SUM(Hjælpefane!$I$4:$I$10),\"\"),\"\")","v":0.12323232323232323},{"$f":"IFERROR(IF(Datanedslag>=D$20,IF(Hjælpefane!$C$4=\"\",\"*\",SUM(Hjælpefane!$H$16:$H$22))/SUM(Hjælpefane!$I$16:$I$22),\"\"),\"\")","v":0.12526539278131635},{"$f":"IFERROR(IF(Datanedslag>=E$20,IF(Hjælpefane!$C$4=\"\",\"*\",SUM(Hjælpefane!$H$28:$H$34))/SUM(Hjælpefane!$I$28:$I$34),\"\"),\"\")","v":0.12603305785123967},{"$f":"IFERROR(IF(Datanedslag>=F$20,IF(Hjælpefane!$C$4=\"\",\"*\",SUM(Hjælpefane!$H$40:$H$46))/SUM(Hjælpefane!$I$40:$I$46),\"\"),\"\")","v":0.12040816326530612},{"$f":"IFERROR(IF(Datanedslag>=G$20,IF(Hjælpefane!$C$4=\"\",\"*\",SUM(Hjælpefane!$H$52:$H$58))/SUM(Hjælpefane!$I$52:$I$58),\"\"),\"\")","v":0.11909650924024641},{"$f":"IFERROR(IF(Datanedslag>=H$20,IF(Hjælpefane!$C$4=\"\",\"*\",SUM(Hjælpefane!$H$64:$H$70))/SUM(Hjælpefane!$I$64:$I$70),\"\"),\"\")","v":0.13008130081300814},{"$f":"IFERROR(IFERROR(IF(Datanedslag>=I$20,IF(Hjælpefane!$C$4=\"\",\"*\",SUM(Hjælpefane!$H$76:$H$82))/SUM(Hjælpefane!$I$76:$I$82),\"\"),\"*\"),\"\")","v":0.12298387096774194},{"$f":"IFERROR(IF(Datanedslag>=J$20,IF(Hjælpefane!$C$4=\"\",\"*\",SUM(Hjælpefane!$H$88:$H$94))/SUM(Hjælpefane!$I$88:$I$94),\"\"),\"\")","v":0.13372093023255813},{"$f":"IFERROR(IF(Datanedslag>=K$20,IF(Hjælpefane!$C$4=\"\",\"*\",SUM(Hjælpefane!$H$100:$H$106))/SUM(Hjælpefane!$I$100:$I$106),\"\"),\"\")","v":0.13127413127413126},{"$f":"IFERROR(IF(Datanedslag>=L$20,IF(Hjælpefane!$C$4=\"\",\"*\",SUM(Hjælpefane!$H$100:$H$106))/SUM(Hjælpefane!$I$100:$I$106),\"\"),\"\")","v":0.13127413127413126},{"$f":"IFERROR(IF(Datanedslag>=M$20,IF(Hjælpefane!$C$4=\"\",\"*\",SUM(Hjælpefane!$H$100:$H$106))/SUM(Hjælpefane!$I$100:$I$106),\"\"),\"\")","v":0.13127413127413126}]
[null,"Landsgennemsnit",{"$f":"IF(Datanedslag>=C$20,IF(INDEX(Data_land,MATCH(C$19,Landaar,0),12)=\"\",\"*\",INDEX(Data_land,MATCH(C$19,Landaar,0),12)/INDEX(Data_land,MATCH(C$19,Landaar,0),15)),\"\")","v":9.0874668686103749E-2},{"$f":"IF(Datanedslag>=D$20,IF(INDEX(Data_land,MATCH(D$19,Landaar,0),12)=\"\",\"*\",INDEX(Data_land,MATCH(D$19,Landaar,0),12)/INDEX(Data_land,MATCH(D$19,Landaar,0),15)),\"\")","v":9.2342342342342343E-2},{"$f":"IF(Datanedslag>=E$20,IF(INDEX(Data_land,MATCH(E$19,Landaar,0),12)=\"\",\"*\",INDEX(Data_land,MATCH(E$19,Landaar,0),12)/INDEX(Data_land,MATCH(E$19,Landaar,0),15)),\"\")","v":9.5844253088730819E-2},{"$f":"IF(Datanedslag>=F$20,IF(INDEX(Data_land,MATCH(F$19,Landaar,0),12)=\"\",\"*\",INDEX(Data_land,MATCH(F$19,Landaar,0),12)/INDEX(Data_land,MATCH(F$19,Landaar,0),15)),\"\")","v":9.763424708974841E-2},{"$f":"IF(Datanedslag>=G$20,IF(INDEX(Data_land,MATCH(G$19,Landaar,0),12)=\"\",\"*\",INDEX(Data_land,MATCH(G$19,Landaar,0),12)/INDEX(Data_land,MATCH(G$19,Landaar,0),15)),\"\")","v":9.7149287321830452E-2},{"$f":"IF(Datanedslag>=H$20,IF(INDEX(Data_land,MATCH(H$19,Landaar,0),12)=\"\",\"*\",INDEX(Data_land,MATCH(H$19,Landaar,0),12)/INDEX(Data_land,MATCH(H$19,Landaar,0),15)),\"\")","v":9.7570093457943929E-2},{"$f":"IF(Datanedslag>=I$20,IF(INDEX(Data_land,MATCH(I$19,Landaar,0),12)=\"\",\"*\",INDEX(Data_land,MATCH(I$19,Landaar,0),12)/INDEX(Data_land,MATCH(I$19,Landaar,0),15)),\"\")","v":9.6047284817140741E-2},{"$f":"IF(Datanedslag>=J$20,IF(INDEX(Data_land,MATCH(J$19,Landaar,0),12)=\"\",\"*\",INDEX(Data_land,MATCH(J$19,Landaar,0),12)/INDEX(Data_land,MATCH(J$19,Landaar,0),15)),\"\")","v":9.7105166727739098E-2},{"$f":"IF(Datanedslag>=K$20,IF(INDEX(Data_land,MATCH(K$19,Landaar,0),12)=\"\",\"*\",INDEX(Data_land,MATCH(K$19,Landaar,0),12)/INDEX(Data_land,MATCH(K$19,Landaar,0),15)),\"\")","v":9.7684515195369026E-2},{"$f":"IF(Datanedslag>=L$20,IF(INDEX(Data_land,MATCH(L$19,Landaar,0),12)=\"\",\"*\",INDEX(Data_land,MATCH(L$19,Landaar,0),12)/INDEX(Data_land,MATCH(L$19,Landaar,0),15)),\"\")","v":9.7351467430207589E-2},{"$f":"IF(Datanedslag>=M$20,IF(INDEX(Data_land,MATCH(M$19,Landaar,0),12)=\"\",\"*\",INDEX(Data_land,MATCH(M$19,Landaar,0),12)/INDEX(Data_land,MATCH(M$19,Landaar,0),15)),\"\")","v":9.8611605553577786E-2}]
[]
[null,{"$f":"B56&(\", N\")","v":"Herning, N"},{"$f":"IF(Datanedslag>=C$20,IF(INDEX(Data_kom2,MATCH(1,(komnavn2=$B56)*(komaar2=Skyggetabeller!C$10),0),15)=\"\",\"*\",INDEX(Data_kom2,MATCH(1,(komnavn2=$B56)*(komaar2=Skyggetabeller!C$10),0),15)),\"\")","v":405},{"$f":"IF(Datanedslag>=D$20,IF(INDEX(Data_kom2,MATCH(1,(komnavn2=$B56)*(komaar2=Skyggetabeller!D$10),0),15)=\"\",\"*\",INDEX(Data_kom2,MATCH(1,(komnavn2=$B56)*(komaar2=Skyggetabeller!D$10),0),15)),\"\")","v":407},{"$f":"IF(Datanedslag>=E$20,IF(INDEX(Data_kom2,MATCH(1,(komnavn2=$B56)*(komaar2=Skyggetabeller!E$10),0),15)=\"\",\"*\",INDEX(Data_kom2,MATCH(1,(komnavn2=$B56)*(komaar2=Skyggetabeller!E$10),0),15)),\"\")","v":390},{"$f":"IF(Datanedslag>=F$20,IF(INDEX(Data_kom2,MATCH(1,(komnavn2=$B56)*(komaar2=Skyggetabeller!F$10),0),15)=\"\",\"*\",INDEX(Data_kom2,MATCH(1,(komnavn2=$B56)*(komaar2=Skyggetabeller!F$10),0),15)),\"\")","v":374},{"$f":"IF(Datanedslag>=G$20,IF(INDEX(Data_kom2,MATCH(1,(komnavn2=$B56)*(komaar2=Skyggetabeller!G$10),0),15)=\"\",\"*\",INDEX(Data_kom2,MATCH(1,(komnavn2=$B56)*(komaar2=Skyggetabeller!G$10),0),15)),\"\")","v":363},{"$f":"IF(Datanedslag>=H$20,IF(INDEX(Data_kom2,MATCH(1,(komnavn2=$B56)*(komaar2=Skyggetabeller!H$10),0),15)=\"\",\"*\",INDEX(Data_kom2,MATCH(1,(komnavn2=$B56)*(komaar2=Skyggetabeller!H$10),0),15)),\"\")","v":383},{"$f":"IF(Datanedslag>=I$20,IF(INDEX(Data_kom2,MATCH(1,(komnavn2=$B56)*(komaar2=Skyggetabeller!I$10),0),15)=\"\",\"*\",INDEX(Data_kom2,MATCH(1,(komnavn2=$B56)*(komaar2=Skyggetabeller!I$10),0),15)),\"\")","v":386},{"$f":"IF(Datanedslag>=J$20,IF(INDEX(Data_kom2,MATCH(1,(komnavn2=$B56)*(komaar2=Skyggetabeller!J$10),0),15)=\"\",\"*\",INDEX(Data_kom2,MATCH(1,(komnavn2=$B56)*(komaar2=Skyggetabeller!J$10),0),15)),\"\")","v":391},{"$f":"IF(Datanedslag>=K$20,IF(INDEX(Data_kom2,MATCH(1,(komnavn2=$B56)*(komaar2=Skyggetabeller!K$10),0),15)=\"\",\"*\",INDEX(Data_kom2,MATCH(1,(komnavn2=$B56)*(komaar2=Skyggetabeller!K$10),0),15)),\"\")","v":383},{"$f":"IF(Datanedslag>=L$20,IF(INDEX(Data_kom2,MATCH(1,(komnavn2=$B56)*(komaar2=Skyggetabeller!L$10),0),15)=\"\",\"*\",INDEX(Data_kom2,MATCH(1,(komnavn2=$B56)*(komaar2=Skyggetabeller!L$10),0),15)),\"\")","v":365},{"$f":"IF(Datanedslag>=M$20,IF(INDEX(Data_kom2,MATCH(1,(komnavn2=$B56)*(komaar2=Skyggetabeller!M$10),0),15)=\"\",\"*\",INDEX(Data_kom2,MATCH(1,(komnavn2=$B56)*(komaar2=Skyggetabeller!M$10),0),15)),\"\")","v":360}]
[null,{"$f":"B57&(\", N\")","v":"Sammenligningskommuner, N"},{"$f":"IF(Datanedslag>=C$20,IF(SUM(Hjælpefane!$I$4:$I$10)=\"\",\"\",SUM(Hjælpefane!$I$4:$I$10)),\"\")","v":495},{"$f":"IF(Datanedslag>=D$20,IF(SUM(Hjælpefane!$I$16:$I$22)=\"\",\"\",SUM(Hjælpefane!$I$16:$I$22)),\"\")","v":471},{"$f":"IF(Datanedslag>=E$20,IF(SUM(Hjælpefane!$I$28:$I$34)=\"\",\"*\",SUM(Hjælpefane!$I$28:$I$34)),\"\")","v":484},{"$f":"IF(Datanedslag>=F$20,IF(SUM(Hjælpefane!$I$40:$I$46)=\"\",\"*\",SUM(Hjælpefane!$I$40:$I$46)),\"\")","v":490},{"$f":"IF(Datanedslag>=G$20,IF(SUM(Hjælpefane!$I$52:$I$58)=\"\",\"*\",SUM(Hjælpefane!$I$52:$I$58)),\"\")","v":487},{"$f":"IF(Datanedslag>=H$20,IF(SUM(Hjælpefane!$I$64:$I$70)=\"\",\"*\",SUM(Hjælpefane!$I$64:$I$70)),\"\")","v":492},{"$f":"IF(Datanedslag>=I$20,IF(SUM(Hjælpefane!$I$76:$I$82)=\"\",\"*\",SUM(Hjælpefane!$I$76:$I$82)),\"\")","v":496},{"$f":"IF(Datanedslag>=J$20,IF(SUM(Hjælpefane!$I$88:$I$94)=\"\",\"*\",SUM(Hjælpefane!$I$88:$I$94)),\"\")","v":516},{"$f":"IF(Datanedslag>=K$20,IF(SUM(Hjælpefane!$I$100:$I$106)=\"\",\"*\",SUM(Hjælpefane!$I$100:$I$106)),\"\")","v":518},{"$f":"IF(Datanedslag>=L$20,IF(SUM(Hjælpefane!$I$100:$I$106)=\"\",\"*\",SUM(Hjælpefane!$I$100:$I$106)),\"\")","v":518},{"$f":"IF(Datanedslag>=M$20,IF(SUM(Hjælpefane!$I$100:$I$106)=\"\",\"*\",SUM(Hjælpefane!$I$100:$I$106)),\"\")","v":518}]
[null,{"$f":"B58&(\", N\")","v":"Landsgennemsnit, N"},{"$f":"IF(Datanedslag>=C$20,IF(INDEX(Data_land,MATCH(Skyggetabeller!C$10,Landaar,0),15)=\"\",\"*\",INDEX(Data_land,MATCH(Skyggetabeller!C$10,Landaar,0),15)),\"\")","v":26410},{"$f":"IF(Datanedslag>=D$20,IF(INDEX(Data_land,MATCH(Skyggetabeller!D$10,Landaar,0),15)=\"\",\"*\",INDEX(Data_land,MATCH(Skyggetabeller!D$10,Landaar,0),15)),\"\")","v":26640},{"$f":"IF(Datanedslag>=E$20,IF(INDEX(Data_land,MATCH(Skyggetabeller!E$10,Landaar,0),15)=\"\",\"*\",INDEX(Data_land,MATCH(Skyggetabeller!E$10,Landaar,0),15)),\"\")","v":26710},{"$f":"IF(Datanedslag>=F$20,IF(INDEX(Data_land,MATCH(Skyggetabeller!F$10,Landaar,0),15)=\"\",\"*\",INDEX(Data_land,MATCH(Skyggetabeller!F$10,Landaar,0),15)),\"\")","v":26630},{"$f":"IF(Datanedslag>=G$20,IF(INDEX(Data_land,MATCH(Skyggetabeller!G$10,Landaar,0),15)=\"\",\"*\",INDEX(Data_land,MATCH(Skyggetabeller!G$10,Landaar,0),15)),\"\")","v":26660},{"$f":"IF(Datanedslag>=H$20,IF(INDEX(Data_land,MATCH(Skyggetabeller!H$10,Landaar,0),15)=\"\",\"*\",INDEX(Data_land,MATCH(Skyggetabeller!H$10,Landaar,0),15)),\"\")","v":26750},{"$f":"IF(Datanedslag>=I$20,IF(INDEX(Data_land,MATCH(Skyggetabeller!I$10,Landaar,0),15)=\"\",\"*\",INDEX(Data_land,MATCH(Skyggetabeller!I$10,Landaar,0),15)),\"\")","v":27070},{"$f":"IF(Datanedslag>=J$20,IF(INDEX(Data_land,MATCH(Skyggetabeller!J$10,Landaar,0),15)=\"\",\"*\",INDEX(Data_land,MATCH(Skyggetabeller!J$10,Landaar,0),15)),\"\")","v":27290},{"$f":"IF(Datanedslag>=K$20,IF(INDEX(Data_land,MATCH(Skyggetabeller!K$10,Landaar,0),15)=\"\",\"*\",INDEX(Data_land,MATCH(Skyggetabeller!K$10,Landaar,0),15)),\"\")","v":27640},{"$f":"IF(Datanedslag>=L$20,IF(INDEX(Data_land,MATCH(Skyggetabeller!L$10,Landaar,0),15)=\"\",\"*\",INDEX(Data_land,MATCH(Skyggetabeller!L$10,Landaar,0),15)),\"\")","v":27940},{"$f":"IF(Datanedslag>=M$20,IF(INDEX(Data_land,MATCH(Skyggetabeller!M$10,Landaar,0),15)=\"\",\"*\",INDEX(Data_land,MATCH(Skyggetabeller!M$10,Landaar,0),15)),\"\")","v":28090}]
[]
[]
[null,"Nøgletal 4 - Modtagere af socialpædagogisk støtte"]
[]
[null,{"$f":"Kommune","v":"Herning"},{"$f":"Skyggetabeller!C$10","v":20181},{"$f":"Skyggetabeller!D$10","v":20182},{"$f":"Skyggetabeller!E$10","v":20191},{"$f":"Skyggetabeller!F$10","v":20192},{"$f":"Skyggetabeller!G$10","v":20201},{"$f":"Skyggetabeller!H$10","v":20202},{"$f":"Skyggetabeller!I$10","v":20211},{"$f":"Skyggetabeller!J$10","v":20212},{"$f":"Skyggetabeller!K$10","v":20221},{"$f":"Skyggetabeller!L$10","v":20222},{"$f":"Skyggetabeller!M$10","v":20231}]
[null,null,{"$f":"Skyggetabeller!C$11","v":"2018-01-01"},{"$f":"Skyggetabeller!D$11","v":"2018-07-01"},{"$f":"Skyggetabeller!E$11","v":"2019-01-01"},{"$f":"Skyggetabeller!F$11","v":"2019-07-01"},{"$f":"Skyggetabeller!G$11","v":"2020-01-01"},{"$f":"Skyggetabeller!H$11","v":"2020-07-01"},{"$f":"Skyggetabeller!I$11","v":"2021-01-01"},{"$f":"Skyggetabeller!J$11","v":"2021-07-01"},{"$f":"Skyggetabeller!K$11","v":"2022-01-01"},{"$f":"Skyggetabeller!L$11","v":"2022-07-01"},{"$f":"Skyggetabeller!M$11","v":"2023-01-01"}]
[null,"Antal modtagere",{"$f":"IFERROR(IF(INDEX(Data_kom2,MATCH(1,(komnavn2=Kommune)*(komaar2=C67),0),16)=\"\",\"*\",INDEX(Data_kom2,MATCH(1,(komnavn2=Kommune)*(komaar2=C67),0),16)),\"Ingen data\")","v":291},{"$f":"IFERROR(IF(INDEX(Data_kom2,MATCH(1,(komnavn2=Kommune)*(komaar2=D67),0),16)=\"\",\"*\",INDEX(Data_kom2,MATCH(1,(komnavn2=Kommune)*(komaar2=D67),0),16)),\"Ingen data\")","v":295},{"$f":"IFERROR(IF(INDEX(Data_kom2,MATCH(1,(komnavn2=Kommune)*(komaar2=E67),0),16)=\"\",\"*\",INDEX(Data_kom2,MATCH(1,(komnavn2=Kommune)*(komaar2=E67),0),16)),\"Ingen data\")","v":276},{"$f":"IFERROR(IF(INDEX(Data_kom2,MATCH(1,(komnavn2=Kommune)*(komaar2=F67),0),16)=\"\",\"*\",INDEX(Data_kom2,MATCH(1,(komnavn2=Kommune)*(komaar2=F67),0),16)),\"Ingen data\")","v":258},{"$f":"IFERROR(IF(INDEX(Data_kom2,MATCH(1,(komnavn2=Kommune)*(komaar2=G67),0),16)=\"\",\"*\",INDEX(Data_kom2,MATCH(1,(komnavn2=Kommune)*(komaar2=G67),0),16)),\"Ingen data\")","v":249},{"$f":"IFERROR(IF(INDEX(Data_kom2,MATCH(1,(komnavn2=Kommune)*(komaar2=H67),0),16)=\"\",\"*\",INDEX(Data_kom2,MATCH(1,(komnavn2=Kommune)*(komaar2=H67),0),16)),\"Ingen data\")","v":262},{"$f":"IFERROR(IF(INDEX(Data_kom2,MATCH(1,(komnavn2=Kommune)*(komaar2=I67),0),16)=\"\",\"*\",INDEX(Data_kom2,MATCH(1,(komnavn2=Kommune)*(komaar2=I67),0),16)),\"Ingen data\")","v":267},{"$f":"IFERROR(IF(INDEX(Data_kom2,MATCH(1,(komnavn2=Kommune)*(komaar2=J67),0),16)=\"\",\"*\",INDEX(Data_kom2,MATCH(1,(komnavn2=Kommune)*(komaar2=J67),0),16)),\"Ingen data\")","v":280},{"$f":"IFERROR(IF(INDEX(Data_kom2,MATCH(1,(komnavn2=Kommune)*(komaar2=K67),0),16)=\"\",\"*\",INDEX(Data_kom2,MATCH(1,(komnavn2=Kommune)*(komaar2=K67),0),16)),\"Ingen data\")","v":275},{"$f":"IFERROR(IF(INDEX(Data_kom2,MATCH(1,(komnavn2=Kommune)*(komaar2=L67),0),16)=\"\",\"*\",INDEX(Data_kom2,MATCH(1,(komnavn2=Kommune)*(komaar2=L67),0),16)),\"Ingen data\")","v":249},{"$f":"IFERROR(IF(INDEX(Data_kom2,MATCH(1,(komnavn2=Kommune)*(komaar2=M67),0),16)=\"\",\"*\",INDEX(Data_kom2,MATCH(1,(komnavn2=Kommune)*(komaar2=M67),0),16)),\"Ingen data\")","v":247},"Ved næste datanedslag trækkes formlen i den gule række én gang til højre. Trækkes kun i gule felter"]
[]
[null,null,{"$f":"Skyggetabeller!C$11","v":"2018-01-01"},{"$f":"Skyggetabeller!D$11","v":"2018-07-01"},{"$f":"Skyggetabeller!E$11","v":"2019-01-01"},{"$f":"Skyggetabeller!F$11","v":"2019-07-01"},{"$f":"Skyggetabeller!G$11","v":"2020-01-01"},{"$f":"Skyggetabeller!H$11","v":"2020-07-01"},{"$f":"Skyggetabeller!I$11","v":"2021-01-01"},{"$f":"Skyggetabeller!J$11","v":"2021-07-01"},{"$f":"Skyggetabeller!K$11","v":"2022-01-01"},{"$f":"Skyggetabeller!L$11","v":"2022-07-01"},{"$f":"Skyggetabeller!M$11","v":"2023-01-01"}]
[null,{"$f":"Kommune","v":"Herning"},{"$f":"IF(Datanedslag>=C$20,IF(INDEX(Data_kom2,MATCH(1,(komnavn2=$B72)*(komaar2=Skyggetabeller!C$10),0),16)=\"\",\"*\",INDEX(Data_kom2,MATCH(1,(komnavn2=$B72)*(komaar2=Skyggetabeller!C$10),0),16)/INDEX(Data_kom2,MATCH(1,(komnavn2=$B72)*(komaar2=Skyggetabeller!C$10),0),19)),\"\")","v":0.71851851851851856},{"$f":"IF(Datanedslag>=D$20,IF(INDEX(Data_kom2,MATCH(1,(komnavn2=$B72)*(komaar2=Skyggetabeller!D$10),0),16)=\"\",\"*\",INDEX(Data_kom2,MATCH(1,(komnavn2=$B72)*(komaar2=Skyggetabeller!D$10),0),16)/INDEX(Data_kom2,MATCH(1,(komnavn2=$B72)*(komaar2=Skyggetabeller!D$10),0),19)),\"\")","v":0.72481572481572487},{"$f":"IF(Datanedslag>=E$20,IF(INDEX(Data_kom2,MATCH(1,(komnavn2=$B72)*(komaar2=Skyggetabeller!E$10),0),16)=\"\",\"*\",INDEX(Data_kom2,MATCH(1,(komnavn2=$B72)*(komaar2=Skyggetabeller!E$10),0),16)/INDEX(Data_kom2,MATCH(1,(komnavn2=$B72)*(komaar2=Skyggetabeller!E$10),0),19)),\"\")","v":0.70769230769230773},{"$f":"IF(Datanedslag>=F$20,IF(INDEX(Data_kom2,MATCH(1,(komnavn2=$B72)*(komaar2=Skyggetabeller!F$10),0),16)=\"\",\"*\",INDEX(Data_kom2,MATCH(1,(komnavn2=$B72)*(komaar2=Skyggetabeller!F$10),0),16)/INDEX(Data_kom2,MATCH(1,(komnavn2=$B72)*(komaar2=Skyggetabeller!F$10),0),19)),\"\")","v":0.68983957219251335},{"$f":"IF(Datanedslag>=G$20,IF(INDEX(Data_kom2,MATCH(1,(komnavn2=$B72)*(komaar2=Skyggetabeller!G$10),0),16)=\"\",\"*\",INDEX(Data_kom2,MATCH(1,(komnavn2=$B72)*(komaar2=Skyggetabeller!G$10),0),16)/INDEX(Data_kom2,MATCH(1,(komnavn2=$B72)*(komaar2=Skyggetabeller!G$10),0),19)),\"\")","v":0.68595041322314054},{"$f":"IF(Datanedslag>=H$20,IF(INDEX(Data_kom2,MATCH(1,(komnavn2=$B72)*(komaar2=Skyggetabeller!H$10),0),16)=\"\",\"*\",INDEX(Data_kom2,MATCH(1,(komnavn2=$B72)*(komaar2=Skyggetabeller!H$10),0),16)/INDEX(Data_kom2,MATCH(1,(komnavn2=$B72)*(komaar2=Skyggetabeller!H$10),0),19)),\"\")","v":0.68407310704960833},{"$f":"IF(Datanedslag>=I$20,IF(INDEX(Data_kom2,MATCH(1,(komnavn2=$B72)*(komaar2=Skyggetabeller!I$10),0),16)=\"\",\"*\",INDEX(Data_kom2,MATCH(1,(komnavn2=$B72)*(komaar2=Skyggetabeller!I$10),0),16)/INDEX(Data_kom2,MATCH(1,(komnavn2=$B72)*(komaar2=Skyggetabeller!I$10),0),19)),\"\")","v":0.69170984455958551},{"$f":"IF(Datanedslag>=J$20,IF(INDEX(Data_kom2,MATCH(1,(komnavn2=$B72)*(komaar2=Skyggetabeller!J$10),0),16)=\"\",\"*\",INDEX(Data_kom2,MATCH(1,(komnavn2=$B72)*(komaar2=Skyggetabeller!J$10),0),16)/INDEX(Data_kom2,MATCH(1,(komnavn2=$B72)*(komaar2=Skyggetabeller!J$10),0),19)),\"\")","v":0.71611253196930946},{"$f":"IF(Datanedslag>=K$20,IF(INDEX(Data_kom2,MATCH(1,(komnavn2=$B72)*(komaar2=Skyggetabeller!K$10),0),16)=\"\",\"*\",INDEX(Data_kom2,MATCH(1,(komnavn2=$B72)*(komaar2=Skyggetabeller!K$10),0),16)/INDEX(Data_kom2,MATCH(1,(komnavn2=$B72)*(komaar2=Skyggetabeller!K$10),0),19)),\"\")","v":0.71801566579634468},{"$f":"IF(Datanedslag>=L$20,IF(INDEX(Data_kom2,MATCH(1,(komnavn2=$B72)*(komaar2=Skyggetabeller!L$10),0),16)=\"\",\"*\",INDEX(Data_kom2,MATCH(1,(komnavn2=$B72)*(komaar2=Skyggetabeller!L$10),0),16)/INDEX(Data_kom2,MATCH(1,(komnavn2=$B72)*(komaar2=Skyggetabeller!L$10),0),19)),\"\")","v":0.68219178082191778},{"$f":"IF(Datanedslag>=M$20,IF(INDEX(Data_kom2,MATCH(1,(komnavn2=$B72)*(komaar2=Skyggetabeller!M$10),0),16)=\"\",\"*\",INDEX(Data_kom2,MATCH(1,(komnavn2=$B72)*(komaar2=Skyggetabeller!M$10),0),16)/INDEX(Data_kom2,MATCH(1,(komnavn2=$B72)*(komaar2=Skyggetabeller!M$10),0),19)),\"\")","v":0.68611111111111112}]
[null,"Sammenligningskommuner",{"$f":"IFERROR(IF(Datanedslag>=C$20,IF(Hjælpefane!$C$4=\"\",\"*\",SUM(Hjælpefane!$J$4:$J$10))/SUM(Hjælpefane!$K$4:$K$10),\"\"),\"\")","v":0.54545454545454541},{"$f":"IFERROR(IF(Datanedslag>=D$20,IF(Hjælpefane!$C$4=\"\",\"*\",SUM(Hjælpefane!$J$16:$J$22))/SUM(Hjælpefane!$K$16:$K$22),\"\"),\"\")","v":0.51592356687898089},{"$f":"IFERROR(IF(Datanedslag>=E$20,IF(Hjælpefane!$C$4=\"\",\"*\",SUM(Hjælpefane!$J$28:$J$34))/SUM(Hjælpefane!$K$28:$K$34),\"\"),\"\")","v":0.54132231404958675},{"$f":"IFERROR(IF(Datanedslag>=F$20,IF(Hjælpefane!$C$4=\"\",\"*\",SUM(Hjælpefane!$J$40:$J$46))/SUM(Hjælpefane!$K$40:$K$46),\"\"),\"\")","v":0.55714285714285716},{"$f":"IFERROR(IF(Datanedslag>=G$20,IF(Hjælpefane!$C$4=\"\",\"*\",SUM(Hjælpefane!$J$52:$J$58))/SUM(Hjælpefane!$K$52:$K$58),\"\"),\"\")","v":0.55852156057494862},{"$f":"IFERROR(IF(Datanedslag>=H$20,IF(Hjælpefane!$C$4=\"\",\"*\",SUM(Hjælpefane!$J$64:$J$70))/SUM(Hjælpefane!$K$64:$K$70),\"\"),\"\")","v":0.57520325203252032},{"$f":"IFERROR(IF(Datanedslag>=I$20,IF(Hjælpefane!$C$4=\"\",\"*\",SUM(Hjælpefane!$J$76:$J$82))/SUM(Hjælpefane!$K$76:$K$82),\"\"),\"\")","v":0.58064516129032262},{"$f":"IFERROR(IF(Datanedslag>=J$20,IF(Hjælpefane!$C$4=\"\",\"*\",SUM(Hjælpefane!$J$88:$J$94))/SUM(Hjælpefane!$K$88:$K$94),\"\"),\"\")","v":0.59108527131782951},{"$f":"IFERROR(IF(Datanedslag>=K$20,IF(Hjælpefane!$C$4=\"\",\"*\",SUM(Hjælpefane!$J$100:$J$106))/SUM(Hjælpefane!$K$100:$K$106),\"\"),\"\")","v":0.59652509652509655},{"$f":"IFERROR(IF(Datanedslag>=L$20,IF(Hjælpefane!$C$4=\"\",\"*\",SUM(Hjælpefane!$J$100:$J$106))/SUM(Hjælpefane!$K$100:$K$106),\"\"),\"\")","v":0.59652509652509655},{"$f":"IFERROR(IF(Datanedslag>=M$20,IF(Hjælpefane!$C$4=\"\",\"*\",SUM(Hjælpefane!$J$100:$J$106))/SUM(Hjælpefane!$K$100:$K$106),\"\"),\"\")","v":0.59652509652509655}]
[null,"Landsgennemsnit",{"$f":"IF(Datanedslag>=C$20,IF(INDEX(Data_land,MATCH(C$19,Landaar,0),16)=\"\",\"*\",INDEX(Data_land,MATCH(C$19,Landaar,0),16)/INDEX(Data_land,MATCH(C$19,Landaar,0),19)),\"\")","v":0.65921999242711093},{"$f":"IF(Datanedslag>=D$20,IF(INDEX(Data_land,MATCH(D$19,Landaar,0),16)=\"\",\"*\",INDEX(Data_land,MATCH(D$19,Landaar,0),16)/INDEX(Data_land,MATCH(D$19,Landaar,0),19)),\"\")","v":0.65653153153153154},{"$f":"IF(Datanedslag>=E$20,IF(INDEX(Data_land,MATCH(E$19,Landaar,0),16)=\"\",\"*\",INDEX(Data_land,MATCH(E$19,Landaar,0),16)/INDEX(Data_land,MATCH(E$19,Landaar,0),19)),\"\")","v":0.64844627480344441},{"$f":"IF(Datanedslag>=F$20,IF(INDEX(Data_land,MATCH(F$19,Landaar,0),16)=\"\",\"*\",INDEX(Data_land,MATCH(F$19,Landaar,0),16)/INDEX(Data_land,MATCH(F$19,Landaar,0),19)),\"\")","v":0.64175741644761553},{"$f":"IF(Datanedslag>=G$20,IF(INDEX(Data_land,MATCH(G$19,Landaar,0),16)=\"\",\"*\",INDEX(Data_land,MATCH(G$19,Landaar,0),16)/INDEX(Data_land,MATCH(G$19,Landaar,0),19)),\"\")","v":0.63540885221305321},{"$f":"IF(Datanedslag>=H$20,IF(INDEX(Data_land,MATCH(H$19,Landaar,0),16)=\"\",\"*\",INDEX(Data_land,MATCH(H$19,Landaar,0),16)/INDEX(Data_land,MATCH(H$19,Landaar,0),19)),\"\")","v":0.6272897196261682},{"$f":"IF(Datanedslag>=I$20,IF(INDEX(Data_land,MATCH(I$19,Landaar,0),16)=\"\",\"*\",INDEX(Data_land,MATCH(I$19,Landaar,0),16)/INDEX(Data_land,MATCH(I$19,Landaar,0),19)),\"\")","v":0.6224602881418545},{"$f":"IF(Datanedslag>=J$20,IF(INDEX(Data_land,MATCH(J$19,Landaar,0),16)=\"\",\"*\",INDEX(Data_land,MATCH(J$19,Landaar,0),16)/INDEX(Data_land,MATCH(J$19,Landaar,0),19)),\"\")","v":0.62806888970318797},{"$f":"IF(Datanedslag>=K$20,IF(INDEX(Data_land,MATCH(K$19,Landaar,0),16)=\"\",\"*\",INDEX(Data_land,MATCH(K$19,Landaar,0),16)/INDEX(Data_land,MATCH(K$19,Landaar,0),19)),\"\")","v":0.63024602026049203},{"$f":"IF(Datanedslag>=L$20,IF(INDEX(Data_land,MATCH(L$19,Landaar,0),16)=\"\",\"*\",INDEX(Data_land,MATCH(L$19,Landaar,0),16)/INDEX(Data_land,MATCH(L$19,Landaar,0),19)),\"\")","v":0.63063707945597713},{"$f":"IF(Datanedslag>=M$20,IF(INDEX(Data_land,MATCH(M$19,Landaar,0),16)=\"\",\"*\",INDEX(Data_land,MATCH(M$19,Landaar,0),16)/INDEX(Data_land,MATCH(M$19,Landaar,0),19)),\"\")","v":0.62726949092203632}]
[]
[null,{"$f":"B72&(\", N\")","v":"Herning, N"},{"$f":"IF(Datanedslag>=C$20,IF(INDEX(Data_kom2,MATCH(1,(komnavn2=$B72)*(komaar2=Skyggetabeller!C$10),0),19)=\"\",\"*\",INDEX(Data_kom2,MATCH(1,(komnavn2=$B72)*(komaar2=Skyggetabeller!C$10),0),19)),\"\")","v":405},{"$f":"IF(Datanedslag>=D$20,IF(INDEX(Data_kom2,MATCH(1,(komnavn2=$B72)*(komaar2=Skyggetabeller!D$10),0),19)=\"\",\"*\",INDEX(Data_kom2,MATCH(1,(komnavn2=$B72)*(komaar2=Skyggetabeller!D$10),0),19)),\"\")","v":407},{"$f":"IF(Datanedslag>=E$20,IF(INDEX(Data_kom2,MATCH(1,(komnavn2=$B72)*(komaar2=Skyggetabeller!E$10),0),19)=\"\",\"*\",INDEX(Data_kom2,MATCH(1,(komnavn2=$B72)*(komaar2=Skyggetabeller!E$10),0),19)),\"\")","v":390},{"$f":"IF(Datanedslag>=F$20,IF(INDEX(Data_kom2,MATCH(1,(komnavn2=$B72)*(komaar2=Skyggetabeller!F$10),0),19)=\"\",\"*\",INDEX(Data_kom2,MATCH(1,(komnavn2=$B72)*(komaar2=Skyggetabeller!F$10),0),19)),\"\")","v":374},{"$f":"IF(Datanedslag>=G$20,IF(INDEX(Data_kom2,MATCH(1,(komnavn2=$B72)*(komaar2=Skyggetabeller!G$10),0),19)=\"\",\"*\",INDEX(Data_kom2,MATCH(1,(komnavn2=$B72)*(komaar2=Skyggetabeller!G$10),0),19)),\"\")","v":363},{"$f":"IF(Datanedslag>=H$20,IF(INDEX(Data_kom2,MATCH(1,(komnavn2=$B72)*(komaar2=Skyggetabeller!H$10),0),19)=\"\",\"*\",INDEX(Data_kom2,MATCH(1,(komnavn2=$B72)*(komaar2=Skyggetabeller!H$10),0),19)),\"\")","v":383},{"$f":"IF(Datanedslag>=I$20,IF(INDEX(Data_kom2,MATCH(1,(komnavn2=$B72)*(komaar2=Skyggetabeller!I$10),0),19)=\"\",\"*\",INDEX(Data_kom2,MATCH(1,(komnavn2=$B72)*(komaar2=Skyggetabeller!I$10),0),19)),\"\")","v":386},{"$f":"IF(Datanedslag>=J$20,IF(INDEX(Data_kom2,MATCH(1,(komnavn2=$B72)*(komaar2=Skyggetabeller!J$10),0),19)=\"\",\"*\",INDEX(Data_kom2,MATCH(1,(komnavn2=$B72)*(komaar2=Skyggetabeller!J$10),0),19)),\"\")","v":391},{"$f":"IF(Datanedslag>=K$20,IF(INDEX(Data_kom2,MATCH(1,(komnavn2=$B72)*(komaar2=Skyggetabeller!K$10),0),19)=\"\",\"*\",INDEX(Data_kom2,MATCH(1,(komnavn2=$B72)*(komaar2=Skyggetabeller!K$10),0),19)),\"\")","v":383},{"$f":"IF(Datanedslag>=L$20,IF(INDEX(Data_kom2,MATCH(1,(komnavn2=$B72)*(komaar2=Skyggetabeller!L$10),0),19)=\"\",\"*\",INDEX(Data_kom2,MATCH(1,(komnavn2=$B72)*(komaar2=Skyggetabeller!L$10),0),19)),\"\")","v":365},{"$f":"IF(Datanedslag>=M$20,IF(INDEX(Data_kom2,MATCH(1,(komnavn2=$B72)*(komaar2=Skyggetabeller!M$10),0),19)=\"\",\"*\",INDEX(Data_kom2,MATCH(1,(komnavn2=$B72)*(komaar2=Skyggetabeller!M$10),0),19)),\"\")","v":360}]
[null,{"$f":"B73&(\", N\")","v":"Sammenligningskommuner, N"},{"$f":"IF(Datanedslag>=C$20,IF(SUM(Hjælpefane!$K$4:$K$10)=\"\",\"\",SUM(Hjælpefane!$K$4:$K$10)),\"\")","v":495},{"$f":"IF(Datanedslag>=D$20,IF(SUM(Hjælpefane!$K$16:$K$22)=\"\",\"\",SUM(Hjælpefane!$K$16:$K$22)),\"\")","v":471},{"$f":"IF(Datanedslag>=E$20,IF(SUM(Hjælpefane!$K$28:$K$34)=\"\",\"*\",SUM(Hjælpefane!$K$28:$K$34)),\"\")","v":484},{"$f":"IF(Datanedslag>=F$20,IF(SUM(Hjælpefane!$K$40:$K$46)=\"\",\"*\",SUM(Hjælpefane!$K$40:$K$46)),\"\")","v":490},{"$f":"IF(Datanedslag>=G$20,IF(SUM(Hjælpefane!$K$52:$K$58)=\"\",\"*\",SUM(Hjælpefane!$K$52:$K$58)),\"\")","v":487},{"$f":"IF(Datanedslag>=H$20,IF(SUM(Hjælpefane!$K$64:$K$70)=\"\",\"*\",SUM(Hjælpefane!$K$64:$K$70)),\"\")","v":492},{"$f":"IF(Datanedslag>=I$20,IF(SUM(Hjælpefane!$K$76:$K$82)=\"\",\"*\",SUM(Hjælpefane!$K$76:$K$82)),\"\")","v":496},{"$f":"IF(Datanedslag>=J$20,IF(SUM(Hjælpefane!$K$88:$K$94)=\"\",\"*\",SUM(Hjælpefane!$K$88:$K$94)),\"\")","v":516},{"$f":"IF(Datanedslag>=K$20,IF(SUM(Hjælpefane!$K$100:$K$106)=\"\",\"*\",SUM(Hjælpefane!$K$100:$K$106)),\"\")","v":518},{"$f":"IF(Datanedslag>=L$20,IF(SUM(Hjælpefane!$K$100:$K$106)=\"\",\"*\",SUM(Hjælpefane!$K$100:$K$106)),\"\")","v":518},{"$f":"IF(Datanedslag>=M$20,IF(SUM(Hjælpefane!$K$100:$K$106)=\"\",\"*\",SUM(Hjælpefane!$K$100:$K$106)),\"\")","v":518}]
[null,{"$f":"B74&(\", N\")","v":"Landsgennemsnit, N"},{"$f":"IF(Datanedslag>=C$20,IF(INDEX(Data_land,MATCH(Skyggetabeller!C$10,Landaar,0),19)=\"\",\"*\",INDEX(Data_land,MATCH(Skyggetabeller!C$10,Landaar,0),19)),\"\")","v":26410},{"$f":"IF(Datanedslag>=D$20,IF(INDEX(Data_land,MATCH(Skyggetabeller!D$10,Landaar,0),19)=\"\",\"*\",INDEX(Data_land,MATCH(Skyggetabeller!D$10,Landaar,0),19)),\"\")","v":26640},{"$f":"IF(Datanedslag>=E$20,IF(INDEX(Data_land,MATCH(Skyggetabeller!E$10,Landaar,0),19)=\"\",\"*\",INDEX(Data_land,MATCH(Skyggetabeller!E$10,Landaar,0),19)),\"\")","v":26710},{"$f":"IF(Datanedslag>=F$20,IF(INDEX(Data_land,MATCH(Skyggetabeller!F$10,Landaar,0),19)=\"\",\"*\",INDEX(Data_land,MATCH(Skyggetabeller!F$10,Landaar,0),19)),\"\")","v":26630},{"$f":"IF(Datanedslag>=G$20,IF(INDEX(Data_land,MATCH(Skyggetabeller!G$10,Landaar,0),19)=\"\",\"*\",INDEX(Data_land,MATCH(Skyggetabeller!G$10,Landaar,0),19)),\"\")","v":26660},{"$f":"IF(Datanedslag>=H$20,IF(INDEX(Data_land,MATCH(Skyggetabeller!H$10,Landaar,0),19)=\"\",\"*\",INDEX(Data_land,MATCH(Skyggetabeller!H$10,Landaar,0),19)),\"\")","v":26750},{"$f":"IF(Datanedslag>=I$20,IF(INDEX(Data_land,MATCH(Skyggetabeller!I$10,Landaar,0),19)=\"\",\"*\",INDEX(Data_land,MATCH(Skyggetabeller!I$10,Landaar,0),19)),\"\")","v":27070},{"$f":"IF(Datanedslag>=J$20,IF(INDEX(Data_land,MATCH(Skyggetabeller!J$10,Landaar,0),19)=\"\",\"*\",INDEX(Data_land,MATCH(Skyggetabeller!J$10,Landaar,0),19)),\"\")","v":27290},{"$f":"IF(Datanedslag>=K$20,IF(INDEX(Data_land,MATCH(Skyggetabeller!K$10,Landaar,0),19)=\"\",\"*\",INDEX(Data_land,MATCH(Skyggetabeller!K$10,Landaar,0),19)),\"\")","v":27640},{"$f":"IF(Datanedslag>=L$20,IF(INDEX(Data_land,MATCH(Skyggetabeller!L$10,Landaar,0),19)=\"\",\"*\",INDEX(Data_land,MATCH(Skyggetabeller!L$10,Landaar,0),19)),\"\")","v":27940},{"$f":"IF(Datanedslag>=M$20,IF(INDEX(Data_land,MATCH(Skyggetabeller!M$10,Landaar,0),19)=\"\",\"*\",INDEX(Data_land,MATCH(Skyggetabeller!M$10,Landaar,0),19)),\"\")","v":28090}]
[]
[]
[null,"Nøgletal 5 - Modtagere af beskyttet beskæftigelse og aktivitets- og samværstilbud"]
[]
[null,{"$f":"Kommune","v":"Herning"},{"$f":"Skyggetabeller!C$10","v":20181},{"$f":"Skyggetabeller!D$10","v":20182},{"$f":"Skyggetabeller!E$10","v":20191},{"$f":"Skyggetabeller!F$10","v":20192},{"$f":"Skyggetabeller!G$10","v":20201},{"$f":"Skyggetabeller!H$10","v":20202},{"$f":"Skyggetabeller!I$10","v":20211},{"$f":"Skyggetabeller!J$10","v":20212},{"$f":"Skyggetabeller!K$10","v":20221},{"$f":"Skyggetabeller!L$10","v":20222},{"$f":"Skyggetabeller!M$10","v":20231}]
[null,null,{"$f":"Skyggetabeller!C$11","v":"2018-01-01"},{"$f":"Skyggetabeller!D$11","v":"2018-07-01"},{"$f":"Skyggetabeller!E$11","v":"2019-01-01"},{"$f":"Skyggetabeller!F$11","v":"2019-07-01"},{"$f":"Skyggetabeller!G$11","v":"2020-01-01"},{"$f":"Skyggetabeller!H$11","v":"2020-07-01"},{"$f":"Skyggetabeller!I$11","v":"2021-01-01"},{"$f":"Skyggetabeller!J$11","v":"2021-07-01"},{"$f":"Skyggetabeller!K$11","v":"2022-01-01"},{"$f":"Skyggetabeller!L$11","v":"2022-07-01"},{"$f":"Skyggetabeller!M$11","v":"2023-01-01"}]
[null,"Antal modtagere",{"$f":"IFERROR(IF(INDEX(Data_kom2,MATCH(1,(komnavn2=Kommune)*(komaar2=C83),0),20)=\"\",\"*\",INDEX(Data_kom2,MATCH(1,(komnavn2=Kommune)*(komaar2=C83),0),20)),\"Ingen data\")","v":10},{"$f":"IFERROR(IF(INDEX(Data_kom2,MATCH(1,(komnavn2=Kommune)*(komaar2=D83),0),20)=\"\",\"*\",INDEX(Data_kom2,MATCH(1,(komnavn2=Kommune)*(komaar2=D83),0),20)),\"Ingen data\")","v":11},{"$f":"IFERROR(IF(INDEX(Data_kom2,MATCH(1,(komnavn2=Kommune)*(komaar2=E83),0),20)=\"\",\"*\",INDEX(Data_kom2,MATCH(1,(komnavn2=Kommune)*(komaar2=E83),0),20)),\"Ingen data\")","v":10},{"$f":"IFERROR(IF(INDEX(Data_kom2,MATCH(1,(komnavn2=Kommune)*(komaar2=F83),0),20)=\"\",\"*\",INDEX(Data_kom2,MATCH(1,(komnavn2=Kommune)*(komaar2=F83),0),20)),\"Ingen data\")","v":10},{"$f":"IFERROR(IF(INDEX(Data_kom2,MATCH(1,(komnavn2=Kommune)*(komaar2=G83),0),20)=\"\",\"*\",INDEX(Data_kom2,MATCH(1,(komnavn2=Kommune)*(komaar2=G83),0),20)),\"Ingen data\")","v":9},{"$f":"IFERROR(IF(INDEX(Data_kom2,MATCH(1,(komnavn2=Kommune)*(komaar2=H83),0),20)=\"\",\"*\",INDEX(Data_kom2,MATCH(1,(komnavn2=Kommune)*(komaar2=H83),0),20)),\"Ingen data\")","v":11},{"$f":"IFERROR(IF(INDEX(Data_kom2,MATCH(1,(komnavn2=Kommune)*(komaar2=I83),0),20)=\"\",\"*\",INDEX(Data_kom2,MATCH(1,(komnavn2=Kommune)*(komaar2=I83),0),20)),\"Ingen data\")","v":12},{"$f":"IFERROR(IF(INDEX(Data_kom2,MATCH(1,(komnavn2=Kommune)*(komaar2=J83),0),20)=\"\",\"*\",INDEX(Data_kom2,MATCH(1,(komnavn2=Kommune)*(komaar2=J83),0),20)),\"Ingen data\")","v":12},{"$f":"IFERROR(IF(INDEX(Data_kom2,MATCH(1,(komnavn2=Kommune)*(komaar2=K83),0),20)=\"\",\"*\",INDEX(Data_kom2,MATCH(1,(komnavn2=Kommune)*(komaar2=K83),0),20)),\"Ingen data\")","v":9},{"$f":"IFERROR(IF(INDEX(Data_kom2,MATCH(1,(komnavn2=Kommune)*(komaar2=L83),0),20)=\"\",\"*\",INDEX(Data_kom2,MATCH(1,(komnavn2=Kommune)*(komaar2=L83),0),20)),\"Ingen data\")","v":10},{"$f":"IFERROR(IF(INDEX(Data_kom2,MATCH(1,(komnavn2=Kommune)*(komaar2=M83),0),20)=\"\",\"*\",INDEX(Data_kom2,MATCH(1,(komnavn2=Kommune)*(komaar2=M83),0),20)),\"Ingen data\")","v":8},"Ved næste datanedslag trækkes formlen i den gule række én gang til højre. Trækkes kun i gule felter"]
[]
[null,null,{"$f":"Skyggetabeller!C$11","v":"2018-01-01"},{"$f":"Skyggetabeller!D$11","v":"2018-07-01"},{"$f":"Skyggetabeller!E$11","v":"2019-01-01"},{"$f":"Skyggetabeller!F$11","v":"2019-07-01"},{"$f":"Skyggetabeller!G$11","v":"2020-01-01"},{"$f":"Skyggetabeller!H$11","v":"2020-07-01"},{"$f":"Skyggetabeller!I$11","v":"2021-01-01"},{"$f":"Skyggetabeller!J$11","v":"2021-07-01"},{"$f":"Skyggetabeller!K$11","v":"2022-01-01"},{"$f":"Skyggetabeller!L$11","v":"2022-07-01"},{"$f":"Skyggetabeller!M$11","v":"2023-01-01"}]
[null,{"$f":"Kommune","v":"Herning"},{"$f":"IF(Datanedslag>=C$20,IF(INDEX(Data_kom2,MATCH(1,(komnavn2=$B88)*(komaar2=Skyggetabeller!C$10),0),20)=\"\",\"*\",INDEX(Data_kom2,MATCH(1,(komnavn2=$B88)*(komaar2=Skyggetabeller!C$10),0),20)/INDEX(Data_kom2,MATCH(1,(komnavn2=$B88)*(komaar2=Skyggetabeller!C$10),0),23)),\"\")","v":2.4691358024691357E-2},{"$f":"IF(Datanedslag>=D$20,IF(INDEX(Data_kom2,MATCH(1,(komnavn2=$B88)*(komaar2=Skyggetabeller!D$10),0),20)=\"\",\"*\",INDEX(Data_kom2,MATCH(1,(komnavn2=$B88)*(komaar2=Skyggetabeller!D$10),0),20)/INDEX(Data_kom2,MATCH(1,(komnavn2=$B88)*(komaar2=Skyggetabeller!D$10),0),23)),\"\")","v":2.7027027027027029E-2},{"$f":"IF(Datanedslag>=E$20,IF(INDEX(Data_kom2,MATCH(1,(komnavn2=$B88)*(komaar2=Skyggetabeller!E$10),0),20)=\"\",\"*\",INDEX(Data_kom2,MATCH(1,(komnavn2=$B88)*(komaar2=Skyggetabeller!E$10),0),20)/INDEX(Data_kom2,MATCH(1,(komnavn2=$B88)*(komaar2=Skyggetabeller!E$10),0),23)),\"\")","v":2.564102564102564E-2},{"$f":"IF(Datanedslag>=F$20,IF(INDEX(Data_kom2,MATCH(1,(komnavn2=$B88)*(komaar2=Skyggetabeller!F$10),0),20)=\"\",\"*\",INDEX(Data_kom2,MATCH(1,(komnavn2=$B88)*(komaar2=Skyggetabeller!F$10),0),20)/INDEX(Data_kom2,MATCH(1,(komnavn2=$B88)*(komaar2=Skyggetabeller!F$10),0),23)),\"\")","v":2.6737967914438502E-2},{"$f":"IF(Datanedslag>=G$20,IF(INDEX(Data_kom2,MATCH(1,(komnavn2=$B88)*(komaar2=Skyggetabeller!G$10),0),20)=\"\",\"*\",INDEX(Data_kom2,MATCH(1,(komnavn2=$B88)*(komaar2=Skyggetabeller!G$10),0),20)/INDEX(Data_kom2,MATCH(1,(komnavn2=$B88)*(komaar2=Skyggetabeller!G$10),0),23)),\"\")","v":2.4793388429752067E-2},{"$f":"IF(Datanedslag>=H$20,IF(INDEX(Data_kom2,MATCH(1,(komnavn2=$B88)*(komaar2=Skyggetabeller!H$10),0),20)=\"\",\"*\",INDEX(Data_kom2,MATCH(1,(komnavn2=$B88)*(komaar2=Skyggetabeller!H$10),0),20)/INDEX(Data_kom2,MATCH(1,(komnavn2=$B88)*(komaar2=Skyggetabeller!H$10),0),23)),\"\")","v":2.8720626631853787E-2},{"$f":"IF(Datanedslag>=I$20,IF(INDEX(Data_kom2,MATCH(1,(komnavn2=$B88)*(komaar2=Skyggetabeller!I$10),0),20)=\"\",\"*\",INDEX(Data_kom2,MATCH(1,(komnavn2=$B88)*(komaar2=Skyggetabeller!I$10),0),20)/INDEX(Data_kom2,MATCH(1,(komnavn2=$B88)*(komaar2=Skyggetabeller!I$10),0),23)),\"\")","v":3.1088082901554404E-2},{"$f":"IF(Datanedslag>=J$20,IF(INDEX(Data_kom2,MATCH(1,(komnavn2=$B88)*(komaar2=Skyggetabeller!J$10),0),20)=\"\",\"*\",INDEX(Data_kom2,MATCH(1,(komnavn2=$B88)*(komaar2=Skyggetabeller!J$10),0),20)/INDEX(Data_kom2,MATCH(1,(komnavn2=$B88)*(komaar2=Skyggetabeller!J$10),0),23)),\"\")","v":3.0690537084398978E-2},{"$f":"IF(Datanedslag>=K$20,IF(INDEX(Data_kom2,MATCH(1,(komnavn2=$B88)*(komaar2=Skyggetabeller!K$10),0),20)=\"\",\"*\",INDEX(Data_kom2,MATCH(1,(komnavn2=$B88)*(komaar2=Skyggetabeller!K$10),0),20)/INDEX(Data_kom2,MATCH(1,(komnavn2=$B88)*(komaar2=Skyggetabeller!K$10),0),23)),\"\")","v":2.3498694516971279E-2},{"$f":"IF(Datanedslag>=L$20,IF(INDEX(Data_kom2,MATCH(1,(komnavn2=$B88)*(komaar2=Skyggetabeller!L$10),0),20)=\"\",\"*\",INDEX(Data_kom2,MATCH(1,(komnavn2=$B88)*(komaar2=Skyggetabeller!L$10),0),20)/INDEX(Data_kom2,MATCH(1,(komnavn2=$B88)*(komaar2=Skyggetabeller!L$10),0),23)),\"\")","v":2.7397260273972601E-2},{"$f":"IF(Datanedslag>=M$20,IF(INDEX(Data_kom2,MATCH(1,(komnavn2=$B88)*(komaar2=Skyggetabeller!M$10),0),20)=\"\",\"*\",INDEX(Data_kom2,MATCH(1,(komnavn2=$B88)*(komaar2=Skyggetabeller!M$10),0),20)/INDEX(Data_kom2,MATCH(1,(komnavn2=$B88)*(komaar2=Skyggetabeller!M$10),0),23)),\"\")","v":2.2222222222222223E-2}]
[null,"Sammenligningskommuner",{"$f":"IFERROR(IF(Datanedslag>=C$20,IF(Hjælpefane!$C$4=\"\",\"*\",SUM(Hjælpefane!$L$4:$L$10))/SUM(Hjælpefane!$M$4:$M$10),\"\"),\"\")","v":0},{"$f":"IFERROR(IF(Datanedslag>=D$20,IF(Hjælpefane!$C$4=\"\",\"*\",SUM(Hjælpefane!$L$16:$L$22))/SUM(Hjælpefane!$M$16:$M$22),\"\"),\"\")","v":0.11464968152866242},{"$f":"IFERROR(IF(Datanedslag>=E$20,IF(Hjælpefane!$C$4=\"\",\"*\",SUM(Hjælpefane!$L$28:$L$34))/SUM(Hjælpefane!$M$28:$M$34),\"\"),\"\")","v":0.10743801652892562},{"$f":"IFERROR(IF(Datanedslag>=F$20,IF(Hjælpefane!$C$4=\"\",\"*\",SUM(Hjælpefane!$L$40:$L$46))/SUM(Hjælpefane!$M$40:$M$46),\"\"),\"\")","v":0.14081632653061224},{"$f":"IFERROR(IF(Datanedslag>=G$20,IF(Hjælpefane!$C$4=\"\",\"*\",SUM(Hjælpefane!$L$52:$L$58))/SUM(Hjælpefane!$M$52:$M$58),\"\"),\"\")","v":0.13347022587268995},{"$f":"IFERROR(IF(Datanedslag>=H$20,IF(Hjælpefane!$C$4=\"\",\"*\",SUM(Hjælpefane!$L$64:$L$70))/SUM(Hjælpefane!$M$64:$M$70),\"\"),\"\")","v":0.1016260162601626},{"$f":"IFERROR(IF(Datanedslag>=I$20,IF(Hjælpefane!$C$4=\"\",\"*\",SUM(Hjælpefane!$L$76:$L$82))/SUM(Hjælpefane!$M$76:$M$82),\"\"),\"\")","v":9.8790322580645157E-2},{"$f":"IFERROR(IF(Datanedslag>=J$20,IF(Hjælpefane!$C$4=\"\",\"*\",SUM(Hjælpefane!$L$88:$L$94))/SUM(Hjælpefane!$M$88:$M$94),\"\"),\"\")","v":9.1085271317829453E-2},{"$f":"IFERROR(IF(Datanedslag>=K$20,IF(Hjælpefane!$C$4=\"\",\"*\",SUM(Hjælpefane!$L$100:$L$106))/SUM(Hjælpefane!$M$100:$M$106),\"\"),\"\")","v":8.8803088803088806E-2},{"$f":"IFERROR(IF(Datanedslag>=L$20,IF(Hjælpefane!$C$4=\"\",\"*\",SUM(Hjælpefane!$L$100:$L$106))/SUM(Hjælpefane!$M$100:$M$106),\"\"),\"\")","v":8.8803088803088806E-2},{"$f":"IFERROR(IF(Datanedslag>=M$20,IF(Hjælpefane!$C$4=\"\",\"*\",SUM(Hjælpefane!$L$100:$L$106))/SUM(Hjælpefane!$M$100:$M$106),\"\"),\"\")","v":8.8803088803088806E-2}]
[null,"Landsgennemsnit",{"$f":"IF(Datanedslag>=C$20,IF(INDEX(Data_land,MATCH(C$19,Landaar,0),20)=\"\",\"*\",INDEX(Data_land,MATCH(C$19,Landaar,0),20)/INDEX(Data_land,MATCH(C$19,Landaar,0),23)),\"\")","v":6.7777357061719043E-2},{"$f":"IF(Datanedslag>=D$20,IF(INDEX(Data_land,MATCH(D$19,Landaar,0),20)=\"\",\"*\",INDEX(Data_land,MATCH(D$19,Landaar,0),20)/INDEX(Data_land,MATCH(D$19,Landaar,0),23)),\"\")","v":6.5315315315315314E-2},{"$f":"IF(Datanedslag>=E$20,IF(INDEX(Data_land,MATCH(E$19,Landaar,0),20)=\"\",\"*\",INDEX(Data_land,MATCH(E$19,Landaar,0),20)/INDEX(Data_land,MATCH(E$19,Landaar,0),23)),\"\")","v":6.4769749157618864E-2},{"$f":"IF(Datanedslag>=F$20,IF(INDEX(Data_land,MATCH(F$19,Landaar,0),20)=\"\",\"*\",INDEX(Data_land,MATCH(F$19,Landaar,0),20)/INDEX(Data_land,MATCH(F$19,Landaar,0),23)),\"\")","v":6.3086744273375892E-2},{"$f":"IF(Datanedslag>=G$20,IF(INDEX(Data_land,MATCH(G$19,Landaar,0),20)=\"\",\"*\",INDEX(Data_land,MATCH(G$19,Landaar,0),20)/INDEX(Data_land,MATCH(G$19,Landaar,0),23)),\"\")","v":6.4141035258814705E-2},{"$f":"IF(Datanedslag>=H$20,IF(INDEX(Data_land,MATCH(H$19,Landaar,0),20)=\"\",\"*\",INDEX(Data_land,MATCH(H$19,Landaar,0),20)/INDEX(Data_land,MATCH(H$19,Landaar,0),23)),\"\")","v":6.0934579439252338E-2},{"$f":"IF(Datanedslag>=I$20,IF(INDEX(Data_land,MATCH(I$19,Landaar,0),20)=\"\",\"*\",INDEX(Data_land,MATCH(I$19,Landaar,0),20)/INDEX(Data_land,MATCH(I$19,Landaar,0),23)),\"\")","v":6.1322497229405248E-2},{"$f":"IF(Datanedslag>=J$20,IF(INDEX(Data_land,MATCH(J$19,Landaar,0),20)=\"\",\"*\",INDEX(Data_land,MATCH(J$19,Landaar,0),20)/INDEX(Data_land,MATCH(J$19,Landaar,0),23)),\"\")","v":6.0461707585196041E-2},{"$f":"IF(Datanedslag>=K$20,IF(INDEX(Data_land,MATCH(K$19,Landaar,0),20)=\"\",\"*\",INDEX(Data_land,MATCH(K$19,Landaar,0),20)/INDEX(Data_land,MATCH(K$19,Landaar,0),23)),\"\")","v":5.8610709117221417E-2},{"$f":"IF(Datanedslag>=L$20,IF(INDEX(Data_land,MATCH(L$19,Landaar,0),20)=\"\",\"*\",INDEX(Data_land,MATCH(L$19,Landaar,0),20)/INDEX(Data_land,MATCH(L$19,Landaar,0),23)),\"\")","v":5.833929849677881E-2},{"$f":"IF(Datanedslag>=M$20,IF(INDEX(Data_land,MATCH(M$19,Landaar,0),20)=\"\",\"*\",INDEX(Data_land,MATCH(M$19,Landaar,0),20)/INDEX(Data_land,MATCH(M$19,Landaar,0),23)),\"\")","v":5.8739765040939834E-2}]
[]
[null,{"$f":"B88&(\", N\")","v":"Herning, N"},{"$f":"IF(Datanedslag>=C$20,IF(INDEX(Data_kom2,MATCH(1,(komnavn2=$B88)*(komaar2=Skyggetabeller!C$10),0),23)=\"\",\"*\",INDEX(Data_kom2,MATCH(1,(komnavn2=$B88)*(komaar2=Skyggetabeller!C$10),0),23)),\"\")","v":405},{"$f":"IF(Datanedslag>=D$20,IF(INDEX(Data_kom2,MATCH(1,(komnavn2=$B88)*(komaar2=Skyggetabeller!D$10),0),23)=\"\",\"*\",INDEX(Data_kom2,MATCH(1,(komnavn2=$B88)*(komaar2=Skyggetabeller!D$10),0),23)),\"\")","v":407},{"$f":"IF(Datanedslag>=E$20,IF(INDEX(Data_kom2,MATCH(1,(komnavn2=$B88)*(komaar2=Skyggetabeller!E$10),0),23)=\"\",\"*\",INDEX(Data_kom2,MATCH(1,(komnavn2=$B88)*(komaar2=Skyggetabeller!E$10),0),23)),\"\")","v":390},{"$f":"IF(Datanedslag>=F$20,IF(INDEX(Data_kom2,MATCH(1,(komnavn2=$B88)*(komaar2=Skyggetabeller!F$10),0),23)=\"\",\"*\",INDEX(Data_kom2,MATCH(1,(komnavn2=$B88)*(komaar2=Skyggetabeller!F$10),0),23)),\"\")","v":374},{"$f":"IF(Datanedslag>=G$20,IF(INDEX(Data_kom2,MATCH(1,(komnavn2=$B88)*(komaar2=Skyggetabeller!G$10),0),23)=\"\",\"*\",INDEX(Data_kom2,MATCH(1,(komnavn2=$B88)*(komaar2=Skyggetabeller!G$10),0),23)),\"\")","v":363},{"$f":"IF(Datanedslag>=H$20,IF(INDEX(Data_kom2,MATCH(1,(komnavn2=$B88)*(komaar2=Skyggetabeller!H$10),0),23)=\"\",\"*\",INDEX(Data_kom2,MATCH(1,(komnavn2=$B88)*(komaar2=Skyggetabeller!H$10),0),23)),\"\")","v":383},{"$f":"IF(Datanedslag>=I$20,IF(INDEX(Data_kom2,MATCH(1,(komnavn2=$B88)*(komaar2=Skyggetabeller!I$10),0),23)=\"\",\"*\",INDEX(Data_kom2,MATCH(1,(komnavn2=$B88)*(komaar2=Skyggetabeller!I$10),0),23)),\"\")","v":386},{"$f":"IF(Datanedslag>=J$20,IF(INDEX(Data_kom2,MATCH(1,(komnavn2=$B88)*(komaar2=Skyggetabeller!J$10),0),23)=\"\",\"*\",INDEX(Data_kom2,MATCH(1,(komnavn2=$B88)*(komaar2=Skyggetabeller!J$10),0),23)),\"\")","v":391},{"$f":"IF(Datanedslag>=K$20,IF(INDEX(Data_kom2,MATCH(1,(komnavn2=$B88)*(komaar2=Skyggetabeller!K$10),0),23)=\"\",\"*\",INDEX(Data_kom2,MATCH(1,(komnavn2=$B88)*(komaar2=Skyggetabeller!K$10),0),23)),\"\")","v":383},{"$f":"IF(Datanedslag>=L$20,IF(INDEX(Data_kom2,MATCH(1,(komnavn2=$B88)*(komaar2=Skyggetabeller!L$10),0),23)=\"\",\"*\",INDEX(Data_kom2,MATCH(1,(komnavn2=$B88)*(komaar2=Skyggetabeller!L$10),0),23)),\"\")","v":365},{"$f":"IF(Datanedslag>=M$20,IF(INDEX(Data_kom2,MATCH(1,(komnavn2=$B88)*(komaar2=Skyggetabeller!M$10),0),23)=\"\",\"*\",INDEX(Data_kom2,MATCH(1,(komnavn2=$B88)*(komaar2=Skyggetabeller!M$10),0),23)),\"\")","v":360}]
[null,{"$f":"B89&(\", N\")","v":"Sammenligningskommuner, N"},{"$f":"IF(Datanedslag>=C$20,IF(SUM(Hjælpefane!$M$4:$M$10)=\"\",\"\",SUM(Hjælpefane!$M$4:$M$10)),\"\")","v":495},{"$f":"IF(Datanedslag>=D$20,IF(SUM(Hjælpefane!$M$16:$M$22)=\"\",\"\",SUM(Hjælpefane!$M$16:$M$22)),\"\")","v":471},{"$f":"IF(Datanedslag>=E$20,IF(SUM(Hjælpefane!$M$28:$M$34)=\"\",\"*\",SUM(Hjælpefane!$M$28:$M$34)),\"\")","v":484},{"$f":"IF(Datanedslag>=F$20,IF(SUM(Hjælpefane!$M$40:$M$46)=\"\",\"*\",SUM(Hjælpefane!$M$40:$M$46)),\"\")","v":490},{"$f":"IF(Datanedslag>=G$20,IF(SUM(Hjælpefane!$M$52:$M$58)=\"\",\"*\",SUM(Hjælpefane!$M$52:$M$58)),\"\")","v":487},{"$f":"IF(Datanedslag>=H$20,IF(SUM(Hjælpefane!$M$64:$M$70)=\"\",\"*\",SUM(Hjælpefane!$M$64:$M$70)),\"\")","v":492},{"$f":"IF(Datanedslag>=I$20,IF(SUM(Hjælpefane!$M$76:$M$82)=\"\",\"*\",SUM(Hjælpefane!$M$76:$M$82)),\"\")","v":496},{"$f":"IF(Datanedslag>=J$20,IF(SUM(Hjælpefane!$M$88:$M$94)=\"\",\"*\",SUM(Hjælpefane!$M$88:$M$94)),\"\")","v":516},{"$f":"IF(Datanedslag>=K$20,IF(SUM(Hjælpefane!$M$100:$M$106)=\"\",\"*\",SUM(Hjælpefane!$M$100:$M$106)),\"\")","v":518},{"$f":"IF(Datanedslag>=L$20,IF(SUM(Hjælpefane!$M$100:$M$106)=\"\",\"*\",SUM(Hjælpefane!$M$100:$M$106)),\"\")","v":518},{"$f":"IF(Datanedslag>=M$20,IF(SUM(Hjælpefane!$M$100:$M$106)=\"\",\"*\",SUM(Hjælpefane!$M$100:$M$106)),\"\")","v":518}]
[null,{"$f":"B90&(\", N\")","v":"Landsgennemsnit, N"},{"$f":"IF(Datanedslag>=C$20,IF(INDEX(Data_land,MATCH(Skyggetabeller!C$10,Landaar,0),23)=\"\",\"*\",INDEX(Data_land,MATCH(Skyggetabeller!C$10,Landaar,0),23)),\"\")","v":26410},{"$f":"IF(Datanedslag>=D$20,IF(INDEX(Data_land,MATCH(Skyggetabeller!D$10,Landaar,0),23)=\"\",\"*\",INDEX(Data_land,MATCH(Skyggetabeller!D$10,Landaar,0),23)),\"\")","v":26640},{"$f":"IF(Datanedslag>=E$20,IF(INDEX(Data_land,MATCH(Skyggetabeller!E$10,Landaar,0),23)=\"\",\"*\",INDEX(Data_land,MATCH(Skyggetabeller!E$10,Landaar,0),23)),\"\")","v":26710},{"$f":"IF(Datanedslag>=F$20,IF(INDEX(Data_land,MATCH(Skyggetabeller!F$10,Landaar,0),23)=\"\",\"*\",INDEX(Data_land,MATCH(Skyggetabeller!F$10,Landaar,0),23)),\"\")","v":26630},{"$f":"IF(Datanedslag>=G$20,IF(INDEX(Data_land,MATCH(Skyggetabeller!G$10,Landaar,0),23)=\"\",\"*\",INDEX(Data_land,MATCH(Skyggetabeller!G$10,Landaar,0),23)),\"\")","v":26660},{"$f":"IF(Datanedslag>=H$20,IF(INDEX(Data_land,MATCH(Skyggetabeller!H$10,Landaar,0),23)=\"\",\"*\",INDEX(Data_land,MATCH(Skyggetabeller!H$10,Landaar,0),23)),\"\")","v":26750},{"$f":"IF(Datanedslag>=I$20,IF(INDEX(Data_land,MATCH(Skyggetabeller!I$10,Landaar,0),23)=\"\",\"*\",INDEX(Data_land,MATCH(Skyggetabeller!I$10,Landaar,0),23)),\"\")","v":27070},{"$f":"IF(Datanedslag>=J$20,IF(INDEX(Data_land,MATCH(Skyggetabeller!J$10,Landaar,0),23)=\"\",\"*\",INDEX(Data_land,MATCH(Skyggetabeller!J$10,Landaar,0),23)),\"\")","v":27290},{"$f":"IF(Datanedslag>=K$20,IF(INDEX(Data_land,MATCH(Skyggetabeller!K$10,Landaar,0),23)=\"\",\"*\",INDEX(Data_land,MATCH(Skyggetabeller!K$10,Landaar,0),23)),\"\")","v":27640},{"$f":"IF(Datanedslag>=L$20,IF(INDEX(Data_land,MATCH(Skyggetabeller!L$10,Landaar,0),23)=\"\",\"*\",INDEX(Data_land,MATCH(Skyggetabeller!L$10,Landaar,0),23)),\"\")","v":27940},{"$f":"IF(Datanedslag>=M$20,IF(INDEX(Data_land,MATCH(Skyggetabeller!M$10,Landaar,0),23)=\"\",\"*\",INDEX(Data_land,MATCH(Skyggetabeller!M$10,Landaar,0),23)),\"\")","v":28090}]
[]
[]
[null,"Nøgletal 6 - Modtagere af forebyggende indsatser"]
[]
[null,{"$f":"Kommune","v":"Herning"},{"$f":"Skyggetabeller!C$10","v":20181},{"$f":"Skyggetabeller!D$10","v":20182},{"$f":"Skyggetabeller!E$10","v":20191},{"$f":"Skyggetabeller!F$10","v":20192},{"$f":"Skyggetabeller!G$10","v":20201},{"$f":"Skyggetabeller!H$10","v":20202},{"$f":"Skyggetabeller!I$10","v":20211},{"$f":"Skyggetabeller!J$10","v":20212},{"$f":"Skyggetabeller!K$10","v":20221},{"$f":"Skyggetabeller!L$10","v":20222},{"$f":"Skyggetabeller!M$10","v":20231}]
[null,null,{"$f":"Skyggetabeller!C$11","v":"2018-01-01"},{"$f":"Skyggetabeller!D$11","v":"2018-07-01"},{"$f":"Skyggetabeller!E$11","v":"2019-01-01"},{"$f":"Skyggetabeller!F$11","v":"2019-07-01"},{"$f":"Skyggetabeller!G$11","v":"2020-01-01"},{"$f":"Skyggetabeller!H$11","v":"2020-07-01"},{"$f":"Skyggetabeller!I$11","v":"2021-01-01"},{"$f":"Skyggetabeller!J$11","v":"2021-07-01"},{"$f":"Skyggetabeller!K$11","v":"2022-01-01"},{"$f":"Skyggetabeller!L$11","v":"2022-07-01"},{"$f":"Skyggetabeller!M$11","v":"2023-01-01"}]
[null,"Antal modtagere",{"$f":"IFERROR(IF(INDEX(Data_kom2,MATCH(1,(komnavn2=Kommune)*(komaar2=C99),0),24)=\"\",\"*\",INDEX(Data_kom2,MATCH(1,(komnavn2=Kommune)*(komaar2=C99),0),24)),\"Ingen data\")","v":0},{"$f":"IFERROR(IF(INDEX(Data_kom2,MATCH(1,(komnavn2=Kommune)*(komaar2=D99),0),24)=\"\",\"*\",INDEX(Data_kom2,MATCH(1,(komnavn2=Kommune)*(komaar2=D99),0),24)),\"Ingen data\")","v":0},{"$f":"IFERROR(IF(INDEX(Data_kom2,MATCH(1,(komnavn2=Kommune)*(komaar2=E99),0),24)=\"\",\"*\",INDEX(Data_kom2,MATCH(1,(komnavn2=Kommune)*(komaar2=E99),0),24)),\"Ingen data\")","v":0},{"$f":"IFERROR(IF(INDEX(Data_kom2,MATCH(1,(komnavn2=Kommune)*(komaar2=F99),0),24)=\"\",\"*\",INDEX(Data_kom2,MATCH(1,(komnavn2=Kommune)*(komaar2=F99),0),24)),\"Ingen data\")","v":0},{"$f":"IFERROR(IF(INDEX(Data_kom2,MATCH(1,(komnavn2=Kommune)*(komaar2=G99),0),24)=\"\",\"*\",INDEX(Data_kom2,MATCH(1,(komnavn2=Kommune)*(komaar2=G99),0),24)),\"Ingen data\")","v":"*"},{"$f":"IFERROR(IF(INDEX(Data_kom2,MATCH(1,(komnavn2=Kommune)*(komaar2=H99),0),24)=\"\",\"*\",INDEX(Data_kom2,MATCH(1,(komnavn2=Kommune)*(komaar2=H99),0),24)),\"Ingen data\")","v":13},{"$f":"IFERROR(IF(INDEX(Data_kom2,MATCH(1,(komnavn2=Kommune)*(komaar2=I99),0),24)=\"\",\"*\",INDEX(Data_kom2,MATCH(1,(komnavn2=Kommune)*(komaar2=I99),0),24)),\"Ingen data\")","v":17},{"$f":"IFERROR(IF(INDEX(Data_kom2,MATCH(1,(komnavn2=Kommune)*(komaar2=J99),0),24)=\"\",\"*\",INDEX(Data_kom2,MATCH(1,(komnavn2=Kommune)*(komaar2=J99),0),24)),\"Ingen data\")","v":16},{"$f":"IFERROR(IF(INDEX(Data_kom2,MATCH(1,(komnavn2=Kommune)*(komaar2=K99),0),24)=\"\",\"*\",INDEX(Data_kom2,MATCH(1,(komnavn2=Kommune)*(komaar2=K99),0),24)),\"Ingen data\")","v":19},{"$f":"IFERROR(IF(INDEX(Data_kom2,MATCH(1,(komnavn2=Kommune)*(komaar2=L99),0),24)=\"\",\"*\",INDEX(Data_kom2,MATCH(1,(komnavn2=Kommune)*(komaar2=L99),0),24)),\"Ingen data\")","v":28},{"$f":"IFERROR(IF(INDEX(Data_kom2,MATCH(1,(komnavn2=Kommune)*(komaar2=M99),0),24)=\"\",\"*\",INDEX(Data_kom2,MATCH(1,(komnavn2=Kommune)*(komaar2=M99),0),24)),\"Ingen data\")","v":31},"Ved næste datanedslag trækkes formlen i den gule række én gang til højre. Trækkes kun i gule felter"]
[]
[null,null,{"$f":"Skyggetabeller!C$11","v":"2018-01-01"},{"$f":"Skyggetabeller!D$11","v":"2018-07-01"},{"$f":"Skyggetabeller!E$11","v":"2019-01-01"},{"$f":"Skyggetabeller!F$11","v":"2019-07-01"},{"$f":"Skyggetabeller!G$11","v":"2020-01-01"},{"$f":"Skyggetabeller!H$11","v":"2020-07-01"},{"$f":"Skyggetabeller!I$11","v":"2021-01-01"},{"$f":"Skyggetabeller!J$11","v":"2021-07-01"},{"$f":"Skyggetabeller!K$11","v":"2022-01-01"},{"$f":"Skyggetabeller!L$11","v":"2022-07-01"},{"$f":"Skyggetabeller!M$11","v":"2023-01-01"}]
[null,{"$f":"Kommune","v":"Herning"},{"$f":"IF(Datanedslag>=C$20,IF(INDEX(Data_kom2,MATCH(1,(komnavn2=$B104)*(komaar2=Skyggetabeller!C$10),0),24)=\"\",\"*\",INDEX(Data_kom2,MATCH(1,(komnavn2=$B104)*(komaar2=Skyggetabeller!C$10),0),24)/INDEX(Data_kom2,MATCH(1,(komnavn2=$B104)*(komaar2=Skyggetabeller!C$10),0),27)),\"\")","v":0},{"$f":"IF(Datanedslag>=D$20,IF(INDEX(Data_kom2,MATCH(1,(komnavn2=$B104)*(komaar2=Skyggetabeller!D$10),0),24)=\"\",\"*\",INDEX(Data_kom2,MATCH(1,(komnavn2=$B104)*(komaar2=Skyggetabeller!D$10),0),24)/INDEX(Data_kom2,MATCH(1,(komnavn2=$B104)*(komaar2=Skyggetabeller!D$10),0),27)),\"\")","v":0},{"$f":"IF(Datanedslag>=E$20,IF(INDEX(Data_kom2,MATCH(1,(komnavn2=$B104)*(komaar2=Skyggetabeller!E$10),0),24)=\"\",\"*\",INDEX(Data_kom2,MATCH(1,(komnavn2=$B104)*(komaar2=Skyggetabeller!E$10),0),24)/INDEX(Data_kom2,MATCH(1,(komnavn2=$B104)*(komaar2=Skyggetabeller!E$10),0),27)),\"\")","v":0},{"$f":"IF(Datanedslag>=F$20,IF(INDEX(Data_kom2,MATCH(1,(komnavn2=$B104)*(komaar2=Skyggetabeller!F$10),0),24)=\"\",\"*\",INDEX(Data_kom2,MATCH(1,(komnavn2=$B104)*(komaar2=Skyggetabeller!F$10),0),24)/INDEX(Data_kom2,MATCH(1,(komnavn2=$B104)*(komaar2=Skyggetabeller!F$10),0),27)),\"\")","v":0},{"$f":"IF(Datanedslag>=G$20,IF(INDEX(Data_kom2,MATCH(1,(komnavn2=$B104)*(komaar2=Skyggetabeller!G$10),0),24)=\"\",\"*\",INDEX(Data_kom2,MATCH(1,(komnavn2=$B104)*(komaar2=Skyggetabeller!G$10),0),24)/INDEX(Data_kom2,MATCH(1,(komnavn2=$B104)*(komaar2=Skyggetabeller!G$10),0),27)),\"\")","v":"*"},{"$f":"IF(Datanedslag>=H$20,IF(INDEX(Data_kom2,MATCH(1,(komnavn2=$B104)*(komaar2=Skyggetabeller!H$10),0),24)=\"\",\"*\",INDEX(Data_kom2,MATCH(1,(komnavn2=$B104)*(komaar2=Skyggetabeller!H$10),0),24)/INDEX(Data_kom2,MATCH(1,(komnavn2=$B104)*(komaar2=Skyggetabeller!H$10),0),27)),\"\")","v":3.3942558746736295E-2},{"$f":"IF(Datanedslag>=I$20,IF(INDEX(Data_kom2,MATCH(1,(komnavn2=$B104)*(komaar2=Skyggetabeller!I$10),0),24)=\"\",\"*\",INDEX(Data_kom2,MATCH(1,(komnavn2=$B104)*(komaar2=Skyggetabeller!I$10),0),24)/INDEX(Data_kom2,MATCH(1,(komnavn2=$B104)*(komaar2=Skyggetabeller!I$10),0),27)),\"\")","v":4.4041450777202069E-2},{"$f":"IF(Datanedslag>=J$20,IF(INDEX(Data_kom2,MATCH(1,(komnavn2=$B104)*(komaar2=Skyggetabeller!J$10),0),24)=\"\",\"*\",INDEX(Data_kom2,MATCH(1,(komnavn2=$B104)*(komaar2=Skyggetabeller!J$10),0),24)/INDEX(Data_kom2,MATCH(1,(komnavn2=$B104)*(komaar2=Skyggetabeller!J$10),0),27)),\"\")","v":4.0920716112531973E-2},{"$f":"IF(Datanedslag>=K$20,IF(INDEX(Data_kom2,MATCH(1,(komnavn2=$B104)*(komaar2=Skyggetabeller!K$10),0),24)=\"\",\"*\",INDEX(Data_kom2,MATCH(1,(komnavn2=$B104)*(komaar2=Skyggetabeller!K$10),0),24)/INDEX(Data_kom2,MATCH(1,(komnavn2=$B104)*(komaar2=Skyggetabeller!K$10),0),27)),\"\")","v":4.960835509138381E-2},{"$f":"IF(Datanedslag>=L$20,IF(INDEX(Data_kom2,MATCH(1,(komnavn2=$B104)*(komaar2=Skyggetabeller!L$10),0),24)=\"\",\"*\",INDEX(Data_kom2,MATCH(1,(komnavn2=$B104)*(komaar2=Skyggetabeller!L$10),0),24)/INDEX(Data_kom2,MATCH(1,(komnavn2=$B104)*(komaar2=Skyggetabeller!L$10),0),27)),\"\")","v":7.6712328767123292E-2},{"$f":"IF(Datanedslag>=M$20,IF(INDEX(Data_kom2,MATCH(1,(komnavn2=$B104)*(komaar2=Skyggetabeller!M$10),0),24)=\"\",\"*\",INDEX(Data_kom2,MATCH(1,(komnavn2=$B104)*(komaar2=Skyggetabeller!M$10),0),24)/INDEX(Data_kom2,MATCH(1,(komnavn2=$B104)*(komaar2=Skyggetabeller!M$10),0),27)),\"\")","v":8.611111111111111E-2}]
[null,"Sammenligningskommuner",{"$f":"IFERROR(IF(Datanedslag>=C$20,IF(Hjælpefane!$C$4=\"\",\"*\",SUM(Hjælpefane!$N$4:$N$10))/SUM(Hjælpefane!$O$4:$O$10),\"\"),\"\")","v":0},{"$f":"IFERROR(IF(Datanedslag>=D$20,IF(Hjælpefane!$C$4=\"\",\"*\",SUM(Hjælpefane!$N$16:$N$22))/SUM(Hjælpefane!$O$16:$O$22),\"\"),\"\")","v":0},{"$f":"IFERROR(IF(Datanedslag>=E$20,IF(Hjælpefane!$C$4=\"\",\"*\",SUM(Hjælpefane!$N$28:$N$34))/SUM(Hjælpefane!$O$28:$O$34),\"\"),\"\")","v":0},{"$f":"IFERROR(IF(Datanedslag>=F$20,IF(Hjælpefane!$C$4=\"\",\"*\",SUM(Hjælpefane!$N$40:$N$46))/SUM(Hjælpefane!$O$40:$O$46),\"\"),\"\")","v":0},{"$f":"IFERROR(IF(Datanedslag>=G$20,IF(Hjælpefane!$C$4=\"\",\"*\",SUM(Hjælpefane!$N$52:$N$58))/SUM(Hjælpefane!$O$52:$O$58),\"\"),\"\")","v":0},{"$f":"IFERROR(IF(Datanedslag>=H$20,IF(Hjælpefane!$C$4=\"\",\"*\",SUM(Hjælpefane!$N$64:$N$70))/SUM(Hjælpefane!$O$64:$O$70),\"\"),\"\")","v":0},{"$f":"IFERROR(IF(Datanedslag>=I$20,IF(Hjælpefane!$C$4=\"\",\"*\",SUM(Hjælpefane!$N$76:$N$82))/SUM(Hjælpefane!$O$76:$O$82),\"\"),\"\")","v":0},{"$f":"IFERROR(IF(Datanedslag>=J$20,IF(Hjælpefane!$C$4=\"\",\"*\",SUM(Hjælpefane!$N$88:$N$94))/SUM(Hjælpefane!$O$88:$O$94),\"\"),\"\")","v":0},{"$f":"IFERROR(IF(Datanedslag>=K$20,IF(Hjælpefane!$C$4=\"\",\"*\",SUM(Hjælpefane!$N$100:$N$106))/SUM(Hjælpefane!$O$100:$O$106),\"\"),\"\")","v":0},{"$f":"IFERROR(IF(Datanedslag>=L$20,IF(Hjælpefane!$C$4=\"\",\"*\",SUM(Hjælpefane!$N$100:$N$106))/SUM(Hjælpefane!$O$100:$O$106),\"\"),\"\")","v":0},{"$f":"IFERROR(IF(Datanedslag>=M$20,IF(Hjælpefane!$C$4=\"\",\"*\",SUM(Hjælpefane!$N$100:$N$106))/SUM(Hjælpefane!$O$100:$O$106),\"\"),\"\")","v":0}]
[null,"Landsgennemsnit",{"$f":"IF(Datanedslag>=C$20,IF(INDEX(Data_land,MATCH(C$19,Landaar,0),24)=\"\",\"*\",INDEX(Data_land,MATCH(C$19,Landaar,0),24)/INDEX(Data_land,MATCH(C$19,Landaar,0),27)),\"\")","v":0},{"$f":"IF(Datanedslag>=D$20,IF(INDEX(Data_land,MATCH(D$19,Landaar,0),24)=\"\",\"*\",INDEX(Data_land,MATCH(D$19,Landaar,0),24)/INDEX(Data_land,MATCH(D$19,Landaar,0),27)),\"\")","v":3.3783783783783786E-3},{"$f":"IF(Datanedslag>=E$20,IF(INDEX(Data_land,MATCH(E$19,Landaar,0),24)=\"\",\"*\",INDEX(Data_land,MATCH(E$19,Landaar,0),24)/INDEX(Data_land,MATCH(E$19,Landaar,0),27)),\"\")","v":8.9853987270685134E-3},{"$f":"IF(Datanedslag>=F$20,IF(INDEX(Data_land,MATCH(F$19,Landaar,0),24)=\"\",\"*\",INDEX(Data_land,MATCH(F$19,Landaar,0),24)/INDEX(Data_land,MATCH(F$19,Landaar,0),27)),\"\")","v":1.6147202403304545E-2},{"$f":"IF(Datanedslag>=G$20,IF(INDEX(Data_land,MATCH(G$19,Landaar,0),24)=\"\",\"*\",INDEX(Data_land,MATCH(G$19,Landaar,0),24)/INDEX(Data_land,MATCH(G$19,Landaar,0),27)),\"\")","v":2.288072018004501E-2},{"$f":"IF(Datanedslag>=H$20,IF(INDEX(Data_land,MATCH(H$19,Landaar,0),24)=\"\",\"*\",INDEX(Data_land,MATCH(H$19,Landaar,0),24)/INDEX(Data_land,MATCH(H$19,Landaar,0),27)),\"\")","v":3.4018691588785045E-2},{"$f":"IF(Datanedslag>=I$20,IF(INDEX(Data_land,MATCH(I$19,Landaar,0),25)=\"\",\"*\",INDEX(Data_land,MATCH(I$19,Landaar,0),25)/INDEX(Data_land,MATCH(I$19,Landaar,0),27)),\"\")","v":"*"},{"$f":"IF(Datanedslag>=J$20,IF(INDEX(Data_land,MATCH(J$19,Landaar,0),25)=\"\",\"*\",INDEX(Data_land,MATCH(J$19,Landaar,0),25)/INDEX(Data_land,MATCH(J$19,Landaar,0),27)),\"\")","v":"*"},{"$f":"IF(Datanedslag>=K$20,IF(INDEX(Data_land,MATCH(K$19,Landaar,0),25)=\"\",\"*\",INDEX(Data_land,MATCH(K$19,Landaar,0),25)/INDEX(Data_land,MATCH(K$19,Landaar,0),27)),\"\")","v":"*"},{"$f":"IF(Datanedslag>=L$20,IF(INDEX(Data_land,MATCH(L$19,Landaar,0),25)=\"\",\"*\",INDEX(Data_land,MATCH(L$19,Landaar,0),25)/INDEX(Data_land,MATCH(L$19,Landaar,0),27)),\"\")","v":"*"},{"$f":"IF(Datanedslag>=M$20,IF(INDEX(Data_land,MATCH(M$19,Landaar,0),25)=\"\",\"*\",INDEX(Data_land,MATCH(M$19,Landaar,0),25)/INDEX(Data_land,MATCH(M$19,Landaar,0),27)),\"\")","v":"*"}]
[]
[null,{"$f":"B104&(\", N\")","v":"Herning, N"},{"$f":"IF(Datanedslag>=C$20,IF(INDEX(Data_kom2,MATCH(1,(komnavn2=$B104)*(komaar2=Skyggetabeller!C$10),0),27)=\"\",\"*\",INDEX(Data_kom2,MATCH(1,(komnavn2=$B104)*(komaar2=Skyggetabeller!C$10),0),27)),\"\")","v":405},{"$f":"IF(Datanedslag>=D$20,IF(INDEX(Data_kom2,MATCH(1,(komnavn2=$B104)*(komaar2=Skyggetabeller!D$10),0),27)=\"\",\"*\",INDEX(Data_kom2,MATCH(1,(komnavn2=$B104)*(komaar2=Skyggetabeller!D$10),0),27)),\"\")","v":407},{"$f":"IF(Datanedslag>=E$20,IF(INDEX(Data_kom2,MATCH(1,(komnavn2=$B104)*(komaar2=Skyggetabeller!E$10),0),27)=\"\",\"*\",INDEX(Data_kom2,MATCH(1,(komnavn2=$B104)*(komaar2=Skyggetabeller!E$10),0),27)),\"\")","v":390},{"$f":"IF(Datanedslag>=F$20,IF(INDEX(Data_kom2,MATCH(1,(komnavn2=$B104)*(komaar2=Skyggetabeller!F$10),0),27)=\"\",\"*\",INDEX(Data_kom2,MATCH(1,(komnavn2=$B104)*(komaar2=Skyggetabeller!F$10),0),27)),\"\")","v":374},{"$f":"IF(Datanedslag>=G$20,IF(INDEX(Data_kom2,MATCH(1,(komnavn2=$B104)*(komaar2=Skyggetabeller!G$10),0),27)=\"\",\"*\",INDEX(Data_kom2,MATCH(1,(komnavn2=$B104)*(komaar2=Skyggetabeller!G$10),0),27)),\"\")","v":363},{"$f":"IF(Datanedslag>=H$20,IF(INDEX(Data_kom2,MATCH(1,(komnavn2=$B104)*(komaar2=Skyggetabeller!H$10),0),27)=\"\",\"*\",INDEX(Data_kom2,MATCH(1,(komnavn2=$B104)*(komaar2=Skyggetabeller!H$10),0),27)),\"\")","v":383},{"$f":"IF(Datanedslag>=I$20,IF(INDEX(Data_kom2,MATCH(1,(komnavn2=$B104)*(komaar2=Skyggetabeller!I$10),0),27)=\"\",\"*\",INDEX(Data_kom2,MATCH(1,(komnavn2=$B104)*(komaar2=Skyggetabeller!I$10),0),27)),\"\")","v":386},{"$f":"IF(Datanedslag>=J$20,IF(INDEX(Data_kom2,MATCH(1,(komnavn2=$B104)*(komaar2=Skyggetabeller!J$10),0),27)=\"\",\"*\",INDEX(Data_kom2,MATCH(1,(komnavn2=$B104)*(komaar2=Skyggetabeller!J$10),0),27)),\"\")","v":391},{"$f":"IF(Datanedslag>=K$20,IF(INDEX(Data_kom2,MATCH(1,(komnavn2=$B104)*(komaar2=Skyggetabeller!K$10),0),27)=\"\",\"*\",INDEX(Data_kom2,MATCH(1,(komnavn2=$B104)*(komaar2=Skyggetabeller!K$10),0),27)),\"\")","v":383},{"$f":"IF(Datanedslag>=L$20,IF(INDEX(Data_kom2,MATCH(1,(komnavn2=$B104)*(komaar2=Skyggetabeller!L$10),0),27)=\"\",\"*\",INDEX(Data_kom2,MATCH(1,(komnavn2=$B104)*(komaar2=Skyggetabeller!L$10),0),27)),\"\")","v":365},{"$f":"IF(Datanedslag>=M$20,IF(INDEX(Data_kom2,MATCH(1,(komnavn2=$B104)*(komaar2=Skyggetabeller!M$10),0),27)=\"\",\"*\",INDEX(Data_kom2,MATCH(1,(komnavn2=$B104)*(komaar2=Skyggetabeller!M$10),0),27)),\"\")","v":360}]
[null,{"$f":"B105&(\", N\")","v":"Sammenligningskommuner, N"},{"$f":"IF(Datanedslag>=C$20,IF(SUM(Hjælpefane!$O$4:$O$10)=\"\",\"\",SUM(Hjælpefane!$O$4:$O$10)),\"\")","v":495},{"$f":"IF(Datanedslag>=D$20,IF(SUM(Hjælpefane!$O$16:$O$22)=\"\",\"\",SUM(Hjælpefane!$O$16:$O$22)),\"\")","v":471},{"$f":"IF(Datanedslag>=E$20,IF(SUM(Hjælpefane!$O$28:$O$34)=\"\",\"*\",SUM(Hjælpefane!$O$28:$O$34)),\"\")","v":484},{"$f":"IF(Datanedslag>=F$20,IF(SUM(Hjælpefane!$O$40:$O$46)=\"\",\"*\",SUM(Hjælpefane!$O$40:$O$46)),\"\")","v":490},{"$f":"IF(Datanedslag>=G$20,IF(SUM(Hjælpefane!$O$52:$O$58)=\"\",\"*\",SUM(Hjælpefane!$O$52:$O$58)),\"\")","v":487},{"$f":"IF(Datanedslag>=H$20,IF(SUM(Hjælpefane!$O$64:$O$70)=\"\",\"*\",SUM(Hjælpefane!$O$64:$O$70)),\"\")","v":492},{"$f":"IF(Datanedslag>=I$20,IF(SUM(Hjælpefane!$O$76:$O$82)=\"\",\"*\",SUM(Hjælpefane!$O$76:$O$82)),\"\")","v":496},{"$f":"IF(Datanedslag>=J$20,IF(SUM(Hjælpefane!$O$88:$O$94)=\"\",\"*\",SUM(Hjælpefane!$O$88:$O$94)),\"\")","v":516},{"$f":"IF(Datanedslag>=K$20,IF(SUM(Hjælpefane!$O$100:$O$106)=\"\",\"*\",SUM(Hjælpefane!$O$100:$O$106)),\"\")","v":518},{"$f":"IF(Datanedslag>=L$20,IF(SUM(Hjælpefane!$O$100:$O$106)=\"\",\"*\",SUM(Hjælpefane!$O$100:$O$106)),\"\")","v":518},{"$f":"IF(Datanedslag>=M$20,IF(SUM(Hjælpefane!$O$100:$O$106)=\"\",\"*\",SUM(Hjælpefane!$O$100:$O$106)),\"\")","v":518}]
[null,{"$f":"B106&(\", N\")","v":"Landsgennemsnit, N"},{"$f":"IF(Datanedslag>=C$20,IF(INDEX(Data_land,MATCH(Skyggetabeller!C$10,Landaar,0),27)=\"\",\"*\",INDEX(Data_land,MATCH(Skyggetabeller!C$10,Landaar,0),27)),\"\")","v":26410},{"$f":"IF(Datanedslag>=D$20,IF(INDEX(Data_land,MATCH(Skyggetabeller!D$10,Landaar,0),27)=\"\",\"*\",INDEX(Data_land,MATCH(Skyggetabeller!D$10,Landaar,0),27)),\"\")","v":26640},{"$f":"IF(Datanedslag>=E$20,IF(INDEX(Data_land,MATCH(Skyggetabeller!E$10,Landaar,0),27)=\"\",\"*\",INDEX(Data_land,MATCH(Skyggetabeller!E$10,Landaar,0),27)),\"\")","v":26710},{"$f":"IF(Datanedslag>=F$20,IF(INDEX(Data_land,MATCH(Skyggetabeller!F$10,Landaar,0),27)=\"\",\"*\",INDEX(Data_land,MATCH(Skyggetabeller!F$10,Landaar,0),27)),\"\")","v":26630},{"$f":"IF(Datanedslag>=G$20,IF(INDEX(Data_land,MATCH(Skyggetabeller!G$10,Landaar,0),27)=\"\",\"*\",INDEX(Data_land,MATCH(Skyggetabeller!G$10,Landaar,0),27)),\"\")","v":26660},{"$f":"IF(Datanedslag>=H$20,IF(INDEX(Data_land,MATCH(Skyggetabeller!H$10,Landaar,0),27)=\"\",\"*\",INDEX(Data_land,MATCH(Skyggetabeller!H$10,Landaar,0),27)),\"\")","v":26750},{"$f":"IF(Datanedslag>=I$20,IF(INDEX(Data_land,MATCH(Skyggetabeller!I$10,Landaar,0),27)=\"\",\"*\",INDEX(Data_land,MATCH(Skyggetabeller!I$10,Landaar,0),27)),\"\")","v":27070},{"$f":"IF(Datanedslag>=J$20,IF(INDEX(Data_land,MATCH(Skyggetabeller!J$10,Landaar,0),27)=\"\",\"*\",INDEX(Data_land,MATCH(Skyggetabeller!J$10,Landaar,0),27)),\"\")","v":27290},{"$f":"IF(Datanedslag>=K$20,IF(INDEX(Data_land,MATCH(Skyggetabeller!K$10,Landaar,0),27)=\"\",\"*\",INDEX(Data_land,MATCH(Skyggetabeller!K$10,Landaar,0),27)),\"\")","v":27640},{"$f":"IF(Datanedslag>=L$20,IF(INDEX(Data_land,MATCH(Skyggetabeller!L$10,Landaar,0),27)=\"\",\"*\",INDEX(Data_land,MATCH(Skyggetabeller!L$10,Landaar,0),27)),\"\")","v":27940},{"$f":"IF(Datanedslag>=M$20,IF(INDEX(Data_land,MATCH(Skyggetabeller!M$10,Landaar,0),27)=\"\",\"*\",INDEX(Data_land,MATCH(Skyggetabeller!M$10,Landaar,0),27)),\"\")","v":28090}]
[]
[]
[null,"Nøgletal 7 - Flytning fra botilbud "]
[]
[null,{"$f":"Kommune","v":"Herning"},{"$f":"Skyggetabeller!C$10","v":20181},{"$f":"Skyggetabeller!D$10","v":20182},{"$f":"Skyggetabeller!E$10","v":20191},{"$f":"Skyggetabeller!F$10","v":20192},{"$f":"Skyggetabeller!G$10","v":20201},{"$f":"Skyggetabeller!H$10","v":20202},{"$f":"Skyggetabeller!I$10","v":20211},{"$f":"Skyggetabeller!J$10","v":20212},{"$f":"Skyggetabeller!K$10","v":20221},{"$f":"Skyggetabeller!L$10","v":20222},{"$f":"Skyggetabeller!M$10","v":20231}]
[null,null,{"$f":"Skyggetabeller!C$11","v":"2018-01-01"},{"$f":"Skyggetabeller!D$11","v":"2018-07-01"},{"$f":"Skyggetabeller!E$11","v":"2019-01-01"},{"$f":"Skyggetabeller!F$11","v":"2019-07-01"},{"$f":"Skyggetabeller!G$11","v":"2020-01-01"},{"$f":"Skyggetabeller!H$11","v":"2020-07-01"},{"$f":"Skyggetabeller!I$11","v":"2021-01-01"},{"$f":"Skyggetabeller!J$11","v":"2021-07-01"},{"$f":"Skyggetabeller!K$11","v":"2022-01-01"},{"$f":"Skyggetabeller!L$11","v":"2022-07-01"},{"$f":"Skyggetabeller!M$11","v":"2023-01-01"}]
[null,"Antal flytninger",null,{"$f":"IFERROR(IF(INDEX(Data_kom2,MATCH(1,(komnavn2=Kommune)*(komaar2=D115),0),28)=\"\",\"*\",INDEX(Data_kom2,MATCH(1,(komnavn2=Kommune)*(komaar2=D115),0),28)),\"Ingen data\")","v":9},{"$f":"IFERROR(IF(INDEX(Data_kom2,MATCH(1,(komnavn2=Kommune)*(komaar2=E115),0),28)=\"\",\"*\",INDEX(Data_kom2,MATCH(1,(komnavn2=Kommune)*(komaar2=E115),0),28)),\"Ingen data\")","v":5},{"$f":"IFERROR(IF(INDEX(Data_kom2,MATCH(1,(komnavn2=Kommune)*(komaar2=F115),0),28)=\"\",\"*\",INDEX(Data_kom2,MATCH(1,(komnavn2=Kommune)*(komaar2=F115),0),28)),\"Ingen data\")","v":8},{"$f":"IFERROR(IF(INDEX(Data_kom2,MATCH(1,(komnavn2=Kommune)*(komaar2=G115),0),28)=\"\",\"*\",INDEX(Data_kom2,MATCH(1,(komnavn2=Kommune)*(komaar2=G115),0),28)),\"Ingen data\")","v":6},{"$f":"IFERROR(IF(INDEX(Data_kom2,MATCH(1,(komnavn2=Kommune)*(komaar2=H115),0),28)=\"\",\"*\",INDEX(Data_kom2,MATCH(1,(komnavn2=Kommune)*(komaar2=H115),0),28)),\"Ingen data\")","v":10},{"$f":"IFERROR(IF(INDEX(Data_kom2,MATCH(1,(komnavn2=Kommune)*(komaar2=I115),0),28)=\"\",\"*\",INDEX(Data_kom2,MATCH(1,(komnavn2=Kommune)*(komaar2=I115),0),28)),\"Ingen data\")","v":8},{"$f":"IFERROR(IF(INDEX(Data_kom2,MATCH(1,(komnavn2=Kommune)*(komaar2=J115),0),28)=\"\",\"*\",INDEX(Data_kom2,MATCH(1,(komnavn2=Kommune)*(komaar2=J115),0),28)),\"Ingen data\")","v":6},{"$f":"IFERROR(IF(INDEX(Data_kom2,MATCH(1,(komnavn2=Kommune)*(komaar2=K115),0),28)=\"\",\"*\",INDEX(Data_kom2,MATCH(1,(komnavn2=Kommune)*(komaar2=K115),0),28)),\"Ingen data\")","v":4},{"$f":"IFERROR(IF(INDEX(Data_kom2,MATCH(1,(komnavn2=Kommune)*(komaar2=L115),0),28)=\"\",\"*\",INDEX(Data_kom2,MATCH(1,(komnavn2=Kommune)*(komaar2=L115),0),28)),\"Ingen data\")","v":7},{"$f":"IFERROR(IF(INDEX(Data_kom2,MATCH(1,(komnavn2=Kommune)*(komaar2=M115),0),28)=\"\",\"*\",INDEX(Data_kom2,MATCH(1,(komnavn2=Kommune)*(komaar2=M115),0),28)),\"Ingen data\")","v":7},"Ved næste datanedslag trækkes formlen i den gule række én gang til højre. Trækkes kun i gule felter"]
[]
[]
[null,null,{"$f":"Skyggetabeller!C$11","v":"2018-01-01"},{"$f":"Skyggetabeller!D$11","v":"2018-07-01"},{"$f":"Skyggetabeller!E$11","v":"2019-01-01"},{"$f":"Skyggetabeller!F$11","v":"2019-07-01"},{"$f":"Skyggetabeller!G$11","v":"2020-01-01"},{"$f":"Skyggetabeller!H$11","v":"2020-07-01"},{"$f":"Skyggetabeller!I$11","v":"2021-01-01"},{"$f":"Skyggetabeller!J$11","v":"2021-07-01"},{"$f":"Skyggetabeller!K$11","v":"2022-01-01"},{"$f":"Skyggetabeller!L$11","v":"2022-07-01"},{"$f":"Skyggetabeller!M$11","v":"2023-01-01"}]
[null,{"$f":"Kommune","v":"Herning"},null,{"$f":"IFERROR(IF(Datanedslag>=D$120,IF(INDEX(Data_kom2,MATCH(1,(komnavn2=$B121)*(komaar2=Skyggetabeller!D$10),0),28)=\"\",\"*\",INDEX(Data_kom2,MATCH(1,(komnavn2=$B121)*(komaar2=Skyggetabeller!D$10),0),28)/INDEX(Data_kom2,MATCH(1,(komnavn2=$B121)*(komaar2=Skyggetabeller!D$10),0),31)),\"\"),\"*\")","v":9.6774193548387094E-2},{"$f":"IFERROR(IF(Datanedslag>=E$120,IF(INDEX(Data_kom2,MATCH(1,(komnavn2=$B121)*(komaar2=Skyggetabeller!E$10),0),28)=\"\",\"*\",INDEX(Data_kom2,MATCH(1,(komnavn2=$B121)*(komaar2=Skyggetabeller!E$10),0),28)/INDEX(Data_kom2,MATCH(1,(komnavn2=$B121)*(komaar2=Skyggetabeller!E$10),0),31)),\"\"),\"*\")","v":5.4945054945054944E-2},{"$f":"IFERROR(IF(Datanedslag>=F$120,IF(INDEX(Data_kom2,MATCH(1,(komnavn2=$B121)*(komaar2=Skyggetabeller!F$10),0),28)=\"\",\"*\",INDEX(Data_kom2,MATCH(1,(komnavn2=$B121)*(komaar2=Skyggetabeller!F$10),0),28)/INDEX(Data_kom2,MATCH(1,(komnavn2=$B121)*(komaar2=Skyggetabeller!F$10),0),31)),\"\"),\"*\")","v":8.6021505376344093E-2},{"$f":"IFERROR(IF(Datanedslag>=G$120,IF(INDEX(Data_kom2,MATCH(1,(komnavn2=$B121)*(komaar2=Skyggetabeller!G$10),0),28)=\"\",\"*\",INDEX(Data_kom2,MATCH(1,(komnavn2=$B121)*(komaar2=Skyggetabeller!G$10),0),28)/INDEX(Data_kom2,MATCH(1,(komnavn2=$B121)*(komaar2=Skyggetabeller!G$10),0),31)),\"\"),\"*\")","v":6.3829787234042548E-2},{"$f":"IFERROR(IF(Datanedslag>=H$120,IF(INDEX(Data_kom2,MATCH(1,(komnavn2=$B121)*(komaar2=Skyggetabeller!H$10),0),28)=\"\",\"*\",INDEX(Data_kom2,MATCH(1,(komnavn2=$B121)*(komaar2=Skyggetabeller!H$10),0),28)/INDEX(Data_kom2,MATCH(1,(komnavn2=$B121)*(komaar2=Skyggetabeller!H$10),0),31)),\"\"),\"*\")","v":0.10638297872340426},{"$f":"IFERROR(IF(Datanedslag>=I$120,IF(INDEX(Data_kom2,MATCH(1,(komnavn2=$B121)*(komaar2=Skyggetabeller!I$10),0),28)=\"\",\"*\",INDEX(Data_kom2,MATCH(1,(komnavn2=$B121)*(komaar2=Skyggetabeller!I$10),0),28)/INDEX(Data_kom2,MATCH(1,(komnavn2=$B121)*(komaar2=Skyggetabeller!I$10),0),31)),\"\"),\"*\")","v":9.0909090909090912E-2},{"$f":"IFERROR(IF(Datanedslag>=J$120,IF(INDEX(Data_kom2,MATCH(1,(komnavn2=$B121)*(komaar2=Skyggetabeller!J$10),0),28)=\"\",\"*\",INDEX(Data_kom2,MATCH(1,(komnavn2=$B121)*(komaar2=Skyggetabeller!J$10),0),28)/INDEX(Data_kom2,MATCH(1,(komnavn2=$B121)*(komaar2=Skyggetabeller!J$10),0),31)),\"\"),\"*\")","v":7.2289156626506021E-2},{"$f":"IFERROR(IF(Datanedslag>=K$120,IF(INDEX(Data_kom2,MATCH(1,(komnavn2=$B121)*(komaar2=Skyggetabeller!K$10),0),28)=\"\",\"*\",INDEX(Data_kom2,MATCH(1,(komnavn2=$B121)*(komaar2=Skyggetabeller!K$10),0),28)/INDEX(Data_kom2,MATCH(1,(komnavn2=$B121)*(komaar2=Skyggetabeller!K$10),0),31)),\"\"),\"*\")","v":5.0632911392405063E-2},{"$f":"IFERROR(IF(Datanedslag>=L$120,IF(INDEX(Data_kom2,MATCH(1,(komnavn2=$B121)*(komaar2=Skyggetabeller!L$10),0),28)=\"\",\"*\",INDEX(Data_kom2,MATCH(1,(komnavn2=$B121)*(komaar2=Skyggetabeller!L$10),0),28)/INDEX(Data_kom2,MATCH(1,(komnavn2=$B121)*(komaar2=Skyggetabeller!L$10),0),31)),\"\"),\"*\")","v":9.0909090909090912E-2},{"$f":"IFERROR(IF(Datanedslag>=M$120,IF(INDEX(Data_kom2,MATCH(1,(komnavn2=$B121)*(komaar2=Skyggetabeller!M$10),0),28)=\"\",\"*\",INDEX(Data_kom2,MATCH(1,(komnavn2=$B121)*(komaar2=Skyggetabeller!M$10),0),28)/INDEX(Data_kom2,MATCH(1,(komnavn2=$B121)*(komaar2=Skyggetabeller!M$10),0),31)),\"\"),\"*\")","v":9.5890410958904104E-2}]
[null,"Sammenligningskommuner",null,{"$f":"IFERROR(IF(Datanedslag>=D$20,IF(Hjælpefane!$C$4=\"\",\"*\",SUM(Hjælpefane!$P$16:$P$22))/SUM(Hjælpefane!$Q$16:$Q$22),\"\"),\"\")","v":3.3557046979865772E-2},{"$f":"IFERROR(IF(Datanedslag>=E$20,IF(Hjælpefane!$C$4=\"\",\"*\",SUM(Hjælpefane!$P$28:$P$34))/SUM(Hjælpefane!$Q$28:$Q$34),\"\"),\"\")","v":7.4324324324324328E-2},{"$f":"IFERROR(IF(Datanedslag>=F$20,IF(Hjælpefane!$C$4=\"\",\"*\",SUM(Hjælpefane!$P$40:$P$46))/SUM(Hjælpefane!$Q$40:$Q$46),\"\"),\"\")","v":0.1095890410958904},{"$f":"IFERROR(IF(Datanedslag>=G$20,IF(Hjælpefane!$C$4=\"\",\"*\",SUM(Hjælpefane!$P$52:$P$58))/SUM(Hjælpefane!$Q$52:$Q$58),\"\"),\"\")","v":7.1428571428571425E-2},{"$f":"IFERROR(IF(Datanedslag>=H$20,IF(Hjælpefane!$C$4=\"\",\"*\",SUM(Hjælpefane!$P$64:$P$70))/SUM(Hjælpefane!$Q$64:$Q$70),\"\"),\"\")","v":0},{"$f":"IFERROR(IF(Datanedslag>=I$20,IF(Hjælpefane!$C$4=\"\",\"*\",SUM(Hjælpefane!$P$76:$P$82))/SUM(Hjælpefane!$Q$76:$Q$82),\"\"),\"\")","v":7.4626865671641784E-2},{"$f":"IFERROR(IF(Datanedslag>=J$20,IF(Hjælpefane!$C$4=\"\",\"*\",SUM(Hjælpefane!$P$76:$P$82))/SUM(Hjælpefane!$Q$76:$Q$82),\"\"),\"\")","v":7.4626865671641784E-2},{"$f":"IFERROR(IF(Datanedslag>=K$20,IF(Hjælpefane!$C$4=\"\",\"*\",SUM(Hjælpefane!$P$76:$P$82))/SUM(Hjælpefane!$Q$76:$Q$82),\"\"),\"\")","v":7.4626865671641784E-2},{"$f":"IFERROR(IF(Datanedslag>=L$20,IF(Hjælpefane!$C$4=\"\",\"*\",SUM(Hjælpefane!$P$76:$P$82))/SUM(Hjælpefane!$Q$76:$Q$82),\"\"),\"\")","v":7.4626865671641784E-2},{"$f":"IFERROR(IF(Datanedslag>=M$20,IF(Hjælpefane!$C$4=\"\",\"*\",SUM(Hjælpefane!$P$76:$P$82))/SUM(Hjælpefane!$Q$76:$Q$82),\"\"),\"\")","v":7.4626865671641784E-2}]
[null,"Landsgennemsnit",null,{"$f":"IF(Datanedslag>=D$20,IF(INDEX(Data_land,MATCH(D$19,Landaar,0),28)=\"\",\"*\",IF(INDEX(Data_land,MATCH(D$19,Landaar,0),31)=\"\",\"*\",IF(INDEX(Data_land,MATCH(D$19,Landaar,0),28)=\"\",\"*\",INDEX(Data_land,MATCH(D$19,Landaar,0),28)/INDEX(Data_land,MATCH(D$19,Landaar,0),31)))),\"\")","v":6.1253561253561253E-2},{"$f":"IF(Datanedslag>=E$20,IF(INDEX(Data_land,MATCH(E$19,Landaar,0),28)=\"\",\"*\",IF(INDEX(Data_land,MATCH(E$19,Landaar,0),31)=\"\",\"*\",IF(INDEX(Data_land,MATCH(E$19,Landaar,0),28)=\"\",\"*\",INDEX(Data_land,MATCH(E$19,Landaar,0),28)/INDEX(Data_land,MATCH(E$19,Landaar,0),31)))),\"\")","v":7.4333800841514724E-2},{"$f":"IF(Datanedslag>=F$20,IF(INDEX(Data_land,MATCH(F$19,Landaar,0),28)=\"\",\"*\",IF(INDEX(Data_land,MATCH(F$19,Landaar,0),31)=\"\",\"*\",IF(INDEX(Data_land,MATCH(F$19,Landaar,0),28)=\"\",\"*\",INDEX(Data_land,MATCH(F$19,Landaar,0),28)/INDEX(Data_land,MATCH(F$19,Landaar,0),31)))),\"\")","v":7.8947368421052627E-2},{"$f":"IF(Datanedslag>=G$20,IF(INDEX(Data_land,MATCH(G$19,Landaar,0),28)=\"\",\"*\",IF(INDEX(Data_land,MATCH(G$19,Landaar,0),31)=\"\",\"*\",IF(INDEX(Data_land,MATCH(G$19,Landaar,0),28)=\"\",\"*\",INDEX(Data_land,MATCH(G$19,Landaar,0),28)/INDEX(Data_land,MATCH(G$19,Landaar,0),31)))),\"\")","v":8.5991678224687937E-2},{"$f":"IF(Datanedslag>=H$20,IF(INDEX(Data_land,MATCH(H$19,Landaar,0),28)=\"\",\"*\",IF(INDEX(Data_land,MATCH(H$19,Landaar,0),31)=\"\",\"*\",IF(INDEX(Data_land,MATCH(H$19,Landaar,0),28)=\"\",\"*\",INDEX(Data_land,MATCH(H$19,Landaar,0),28)/INDEX(Data_land,MATCH(H$19,Landaar,0),31)))),\"\")","v":7.37134909596662E-2},{"$f":"IF(Datanedslag>=I$20,IF(INDEX(Data_land,MATCH(I$19,Landaar,0),28)=\"\",\"*\",IF(INDEX(Data_land,MATCH(I$19,Landaar,0),31)=\"\",\"*\",IF(INDEX(Data_land,MATCH(I$19,Landaar,0),28)=\"\",\"*\",INDEX(Data_land,MATCH(I$19,Landaar,0),28)/INDEX(Data_land,MATCH(I$19,Landaar,0),31)))),\"\")","v":7.4999999999999997E-2},{"$f":"IF(Datanedslag>=J$20,IF(INDEX(Data_land,MATCH(J$19,Landaar,0),28)=\"\",\"*\",IF(INDEX(Data_land,MATCH(J$19,Landaar,0),31)=\"\",\"*\",IF(INDEX(Data_land,MATCH(J$19,Landaar,0),28)=\"\",\"*\",INDEX(Data_land,MATCH(J$19,Landaar,0),28)/INDEX(Data_land,MATCH(J$19,Landaar,0),31)))),\"\")","v":7.252440725244072E-2},{"$f":"IF(Datanedslag>=K$20,IF(INDEX(Data_land,MATCH(K$19,Landaar,0),28)=\"\",\"*\",IF(INDEX(Data_land,MATCH(K$19,Landaar,0),31)=\"\",\"*\",IF(INDEX(Data_land,MATCH(K$19,Landaar,0),28)=\"\",\"*\",INDEX(Data_land,MATCH(K$19,Landaar,0),28)/INDEX(Data_land,MATCH(K$19,Landaar,0),31)))),\"\")","v":7.7885952712100137E-2},{"$f":"IF(Datanedslag>=L$20,IF(INDEX(Data_land,MATCH(L$19,Landaar,0),28)=\"\",\"*\",IF(INDEX(Data_land,MATCH(L$19,Landaar,0),31)=\"\",\"*\",IF(INDEX(Data_land,MATCH(L$19,Landaar,0),28)=\"\",\"*\",INDEX(Data_land,MATCH(L$19,Landaar,0),28)/INDEX(Data_land,MATCH(L$19,Landaar,0),31)))),\"\")","v":7.2022160664819951E-2},{"$f":"IF(Datanedslag>=M$20,IF(INDEX(Data_land,MATCH(M$19,Landaar,0),28)=\"\",\"*\",IF(INDEX(Data_land,MATCH(M$19,Landaar,0),31)=\"\",\"*\",IF(INDEX(Data_land,MATCH(M$19,Landaar,0),28)=\"\",\"*\",INDEX(Data_land,MATCH(M$19,Landaar,0),28)/INDEX(Data_land,MATCH(M$19,Landaar,0),31)))),\"\")","v":6.9252077562326875E-2}]
[]
[null,{"$f":"B121&(\", N\")","v":"Herning, N"},null,{"$f":"IF(Datanedslag>=D$20,IF(INDEX(Data_kom2,MATCH(1,(komnavn2=$B121)*(komaar2=Skyggetabeller!D$10),0),31)=\"\",\"*\",INDEX(Data_kom2,MATCH(1,(komnavn2=$B121)*(komaar2=Skyggetabeller!D$10),0),31)),\"\")","v":93},{"$f":"IF(Datanedslag>=E$20,IF(INDEX(Data_kom2,MATCH(1,(komnavn2=$B121)*(komaar2=Skyggetabeller!E$10),0),31)=\"\",\"*\",INDEX(Data_kom2,MATCH(1,(komnavn2=$B121)*(komaar2=Skyggetabeller!E$10),0),31)),\"\")","v":91},{"$f":"IF(Datanedslag>=F$20,IF(INDEX(Data_kom2,MATCH(1,(komnavn2=$B121)*(komaar2=Skyggetabeller!F$10),0),31)=\"\",\"*\",INDEX(Data_kom2,MATCH(1,(komnavn2=$B121)*(komaar2=Skyggetabeller!F$10),0),31)),\"\")","v":93},{"$f":"IF(Datanedslag>=G$20,IF(INDEX(Data_kom2,MATCH(1,(komnavn2=$B121)*(komaar2=Skyggetabeller!G$10),0),31)=\"\",\"*\",INDEX(Data_kom2,MATCH(1,(komnavn2=$B121)*(komaar2=Skyggetabeller!G$10),0),31)),\"\")","v":94},{"$f":"IF(Datanedslag>=H$20,IF(INDEX(Data_kom2,MATCH(1,(komnavn2=$B121)*(komaar2=Skyggetabeller!H$10),0),31)=\"\",\"*\",INDEX(Data_kom2,MATCH(1,(komnavn2=$B121)*(komaar2=Skyggetabeller!H$10),0),31)),\"\")","v":94},{"$f":"IF(Datanedslag>=I$20,IF(INDEX(Data_kom2,MATCH(1,(komnavn2=$B121)*(komaar2=Skyggetabeller!I$10),0),31)=\"\",\"*\",INDEX(Data_kom2,MATCH(1,(komnavn2=$B121)*(komaar2=Skyggetabeller!I$10),0),31)),\"\")","v":88},{"$f":"IF(Datanedslag>=J$20,IF(INDEX(Data_kom2,MATCH(1,(komnavn2=$B121)*(komaar2=Skyggetabeller!J$10),0),31)=\"\",\"*\",INDEX(Data_kom2,MATCH(1,(komnavn2=$B121)*(komaar2=Skyggetabeller!J$10),0),31)),\"\")","v":83},{"$f":"IF(Datanedslag>=K$20,IF(INDEX(Data_kom2,MATCH(1,(komnavn2=$B121)*(komaar2=Skyggetabeller!K$10),0),31)=\"\",\"*\",INDEX(Data_kom2,MATCH(1,(komnavn2=$B121)*(komaar2=Skyggetabeller!K$10),0),31)),\"\")","v":79},{"$f":"IF(Datanedslag>=L$20,IF(INDEX(Data_kom2,MATCH(1,(komnavn2=$B121)*(komaar2=Skyggetabeller!L$10),0),31)=\"\",\"*\",INDEX(Data_kom2,MATCH(1,(komnavn2=$B121)*(komaar2=Skyggetabeller!L$10),0),31)),\"\")","v":77},{"$f":"IF(Datanedslag>=M$20,IF(INDEX(Data_kom2,MATCH(1,(komnavn2=$B121)*(komaar2=Skyggetabeller!M$10),0),31)=\"\",\"*\",INDEX(Data_kom2,MATCH(1,(komnavn2=$B121)*(komaar2=Skyggetabeller!M$10),0),31)),\"\")","v":73}]
[null,{"$f":"B122&(\", N\")","v":"Sammenligningskommuner, N"},null,{"$f":"IF(Datanedslag>=D$20,IF(SUM(Hjælpefane!$Q$16:$Q$22)=\"\",\"\",SUM(Hjælpefane!$Q$16:$Q$22)),\"\")","v":149},{"$f":"IF(Datanedslag>=E$20,IF(SUM(Hjælpefane!$Q$28:$Q$34)=\"\",\"*\",SUM(Hjælpefane!$Q$28:$Q$34)),\"\")","v":148},{"$f":"IF(Datanedslag>=F$20,IF(SUM(Hjælpefane!$Q$40:$Q$46)=\"\",\"*\",SUM(Hjælpefane!$Q$40:$Q$46)),\"\")","v":146},{"$f":"IF(Datanedslag>=G$20,IF(SUM(Hjælpefane!$Q$52:$Q$58)=\"\",\"*\",SUM(Hjælpefane!$Q$52:$Q$58)),\"\")","v":126},{"$f":"IF(Datanedslag>=H$20,IF(SUM(Hjælpefane!$Q$64:$Q$70)=\"\",\"*\",SUM(Hjælpefane!$Q$64:$Q$70)),\"\")","v":126},{"$f":"IF(Datanedslag>=I$20,IF(SUM(Hjælpefane!$Q$76:$Q$82)=\"\",\"*\",SUM(Hjælpefane!$Q$76:$Q$82)),\"\")","v":134},{"$f":"IF(Datanedslag>=J$20,IF(SUM(Hjælpefane!$Q$88:$Q$94)=\"\",\"*\",SUM(Hjælpefane!$Q$88:$Q$94)),\"\")","v":132},{"$f":"IF(Datanedslag>=K$20,IF(SUM(Hjælpefane!$Q$100:$Q$106)=\"\",\"*\",SUM(Hjælpefane!$Q$100:$Q$106)),\"\")","v":152},{"$f":"IF(Datanedslag>=L$20,IF(SUM(Hjælpefane!$Q$100:$Q$106)=\"\",\"*\",SUM(Hjælpefane!$Q$100:$Q$106)),\"\")","v":152},{"$f":"IF(Datanedslag>=M$20,IF(SUM(Hjælpefane!$Q$100:$Q$106)=\"\",\"*\",SUM(Hjælpefane!$Q$100:$Q$106)),\"\")","v":152}]
[null,{"$f":"B123&(\", N\")","v":"Landsgennemsnit, N"},null,{"$f":"IF(Datanedslag>=D$20,IF(INDEX(Data_land,MATCH(Skyggetabeller!D$10,Landaar,0),31)=\"\",\"*\",INDEX(Data_land,MATCH(Skyggetabeller!D$10,Landaar,0),31)),\"\")","v":7020},{"$f":"IF(Datanedslag>=E$20,IF(INDEX(Data_land,MATCH(Skyggetabeller!E$10,Landaar,0),31)=\"\",\"*\",INDEX(Data_land,MATCH(Skyggetabeller!E$10,Landaar,0),31)),\"\")","v":7130},{"$f":"IF(Datanedslag>=F$20,IF(INDEX(Data_land,MATCH(Skyggetabeller!F$10,Landaar,0),31)=\"\",\"*\",INDEX(Data_land,MATCH(Skyggetabeller!F$10,Landaar,0),31)),\"\")","v":7220},{"$f":"IF(Datanedslag>=G$20,IF(INDEX(Data_land,MATCH(Skyggetabeller!G$10,Landaar,0),31)=\"\",\"*\",INDEX(Data_land,MATCH(Skyggetabeller!G$10,Landaar,0),31)),\"\")","v":7210},{"$f":"IF(Datanedslag>=H$20,IF(INDEX(Data_land,MATCH(Skyggetabeller!H$10,Landaar,0),31)=\"\",\"*\",INDEX(Data_land,MATCH(Skyggetabeller!H$10,Landaar,0),31)),\"\")","v":7190},{"$f":"IF(Datanedslag>=I$20,IF(INDEX(Data_land,MATCH(Skyggetabeller!I$10,Landaar,0),31)=\"\",\"*\",INDEX(Data_land,MATCH(Skyggetabeller!I$10,Landaar,0),31)),\"\")","v":7200},{"$f":"IF(Datanedslag>=J$20,IF(INDEX(Data_land,MATCH(Skyggetabeller!J$10,Landaar,0),31)=\"\",\"*\",INDEX(Data_land,MATCH(Skyggetabeller!J$10,Landaar,0),31)),\"\")","v":7170},{"$f":"IF(Datanedslag>=K$20,IF(INDEX(Data_land,MATCH(Skyggetabeller!K$10,Landaar,0),31)=\"\",\"*\",INDEX(Data_land,MATCH(Skyggetabeller!K$10,Landaar,0),31)),\"\")","v":7190},{"$f":"IF(Datanedslag>=L$20,IF(INDEX(Data_land,MATCH(Skyggetabeller!L$10,Landaar,0),31)=\"\",\"*\",INDEX(Data_land,MATCH(Skyggetabeller!L$10,Landaar,0),31)),\"\")","v":7220},{"$f":"IF(Datanedslag>=M$20,IF(INDEX(Data_land,MATCH(Skyggetabeller!M$10,Landaar,0),31)=\"\",\"*\",INDEX(Data_land,MATCH(Skyggetabeller!M$10,Landaar,0),31)),\"\")","v":7220}]
[]
[]
[null,"Nøgletal 7.1: Flytninger fra længerevarende botilbud og lignende til midlertidigt botilbud"]
[]
[null,{"$f":"Kommune","v":"Herning"},{"$f":"Skyggetabeller!C$10","v":20181},{"$f":"Skyggetabeller!D$10","v":20182},{"$f":"Skyggetabeller!E$10","v":20191},{"$f":"Skyggetabeller!F$10","v":20192},{"$f":"Skyggetabeller!G$10","v":20201},{"$f":"Skyggetabeller!H$10","v":20202},{"$f":"Skyggetabeller!I$10","v":20211},{"$f":"Skyggetabeller!J$10","v":20212},{"$f":"Skyggetabeller!K$10","v":20221},{"$f":"Skyggetabeller!L$10","v":20222},{"$f":"Skyggetabeller!M$10","v":20231}]
[null,null,{"$f":"Skyggetabeller!C$11","v":"2018-01-01"},{"$f":"Skyggetabeller!D$11","v":"2018-07-01"},{"$f":"Skyggetabeller!E$11","v":"2019-01-01"},{"$f":"Skyggetabeller!F$11","v":"2019-07-01"},{"$f":"Skyggetabeller!G$11","v":"2020-01-01"},{"$f":"Skyggetabeller!H$11","v":"2020-07-01"},{"$f":"Skyggetabeller!I$11","v":"2021-01-01"},{"$f":"Skyggetabeller!J$11","v":"2021-07-01"},{"$f":"Skyggetabeller!K$11","v":"2022-01-01"},{"$f":"Skyggetabeller!L$11","v":"2022-07-01"},{"$f":"Skyggetabeller!M$11","v":"2023-01-01"}]
[null,"Antal flytninger",null,{"$f":"IFERROR(IF(INDEX(Data_kom2,MATCH(1,(komnavn2=Kommune)*(komaar2=D132),0),32)=\"\",\"*\",INDEX(Data_kom2,MATCH(1,(komnavn2=Kommune)*(komaar2=D132),0),32)),\"Ingen data\")","v":0},{"$f":"IFERROR(IF(INDEX(Data_kom2,MATCH(1,(komnavn2=Kommune)*(komaar2=E132),0),32)=\"\",\"*\",INDEX(Data_kom2,MATCH(1,(komnavn2=Kommune)*(komaar2=E132),0),32)),\"Ingen data\")","v":"*"},{"$f":"IFERROR(IF(INDEX(Data_kom2,MATCH(1,(komnavn2=Kommune)*(komaar2=F132),0),32)=\"\",\"*\",INDEX(Data_kom2,MATCH(1,(komnavn2=Kommune)*(komaar2=F132),0),32)),\"Ingen data\")","v":0},{"$f":"IFERROR(IF(INDEX(Data_kom2,MATCH(1,(komnavn2=Kommune)*(komaar2=G132),0),32)=\"\",\"*\",INDEX(Data_kom2,MATCH(1,(komnavn2=Kommune)*(komaar2=G132),0),32)),\"Ingen data\")","v":"*"},{"$f":"IFERROR(IF(INDEX(Data_kom2,MATCH(1,(komnavn2=Kommune)*(komaar2=H132),0),32)=\"\",\"*\",INDEX(Data_kom2,MATCH(1,(komnavn2=Kommune)*(komaar2=H132),0),32)),\"Ingen data\")","v":0},{"$f":"IFERROR(IF(INDEX(Data_kom2,MATCH(1,(komnavn2=Kommune)*(komaar2=I132),0),32)=\"\",\"*\",INDEX(Data_kom2,MATCH(1,(komnavn2=Kommune)*(komaar2=I132),0),32)),\"Ingen data\")","v":0},{"$f":"IFERROR(IF(INDEX(Data_kom2,MATCH(1,(komnavn2=Kommune)*(komaar2=J132),0),32)=\"\",\"*\",INDEX(Data_kom2,MATCH(1,(komnavn2=Kommune)*(komaar2=J132),0),32)),\"Ingen data\")","v":"*"},{"$f":"IFERROR(IF(INDEX(Data_kom2,MATCH(1,(komnavn2=Kommune)*(komaar2=K132),0),32)=\"\",\"*\",INDEX(Data_kom2,MATCH(1,(komnavn2=Kommune)*(komaar2=K132),0),32)),\"Ingen data\")","v":"*"},{"$f":"IFERROR(IF(INDEX(Data_kom2,MATCH(1,(komnavn2=Kommune)*(komaar2=L132),0),32)=\"\",\"*\",INDEX(Data_kom2,MATCH(1,(komnavn2=Kommune)*(komaar2=L132),0),32)),\"Ingen data\")","v":0},{"$f":"IFERROR(IF(INDEX(Data_kom2,MATCH(1,(komnavn2=Kommune)*(komaar2=M132),0),32)=\"\",\"*\",INDEX(Data_kom2,MATCH(1,(komnavn2=Kommune)*(komaar2=M132),0),32)),\"Ingen data\")","v":0},"Ved næste datanedslag trækkes formlen i den gule række én gang til højre. Trækkes kun i gule felter"]
[]
[null,null,{"$f":"Skyggetabeller!C$11","v":"2018-01-01"},{"$f":"Skyggetabeller!D$11","v":"2018-07-01"},{"$f":"Skyggetabeller!E$11","v":"2019-01-01"},{"$f":"Skyggetabeller!F$11","v":"2019-07-01"},{"$f":"Skyggetabeller!G$11","v":"2020-01-01"},{"$f":"Skyggetabeller!H$11","v":"2020-07-01"},{"$f":"Skyggetabeller!I$11","v":"2021-01-01"},{"$f":"Skyggetabeller!J$11","v":"2021-07-01"},{"$f":"Skyggetabeller!K$11","v":"2022-01-01"},{"$f":"Skyggetabeller!L$11","v":"2022-07-01"},{"$f":"Skyggetabeller!M$11","v":"2023-01-01"}]
[null,{"$f":"Kommune","v":"Herning"},null,{"$f":"IFERROR(IF(Datanedslag>=D$136,IF(INDEX(Data_kom2,MATCH(1,(komnavn2=$B137)*(komaar2=Skyggetabeller!D$10),0),32)=\"\",\"*\",INDEX(Data_kom2,MATCH(1,(komnavn2=$B137)*(komaar2=Skyggetabeller!D$10),0),32)/INDEX(Data_kom2,MATCH(1,(komnavn2=$B137)*(komaar2=Skyggetabeller!D$10),0),35)),\"\"),\"*\")","v":0},{"$f":"IFERROR(IF(Datanedslag>=E$136,IF(INDEX(Data_kom2,MATCH(1,(komnavn2=$B137)*(komaar2=Skyggetabeller!E$10),0),32)=\"\",\"*\",INDEX(Data_kom2,MATCH(1,(komnavn2=$B137)*(komaar2=Skyggetabeller!E$10),0),32)/INDEX(Data_kom2,MATCH(1,(komnavn2=$B137)*(komaar2=Skyggetabeller!E$10),0),35)),\"\"),\"*\")","v":"*"},{"$f":"IFERROR(IF(Datanedslag>=F$136,IF(INDEX(Data_kom2,MATCH(1,(komnavn2=$B137)*(komaar2=Skyggetabeller!F$10),0),32)=\"\",\"*\",INDEX(Data_kom2,MATCH(1,(komnavn2=$B137)*(komaar2=Skyggetabeller!F$10),0),32)/INDEX(Data_kom2,MATCH(1,(komnavn2=$B137)*(komaar2=Skyggetabeller!F$10),0),35)),\"\"),\"*\")","v":0},{"$f":"IFERROR(IF(Datanedslag>=G$136,IF(INDEX(Data_kom2,MATCH(1,(komnavn2=$B137)*(komaar2=Skyggetabeller!G$10),0),32)=\"\",\"*\",INDEX(Data_kom2,MATCH(1,(komnavn2=$B137)*(komaar2=Skyggetabeller!G$10),0),32)/INDEX(Data_kom2,MATCH(1,(komnavn2=$B137)*(komaar2=Skyggetabeller!G$10),0),35)),\"\"),\"*\")","v":"*"},{"$f":"IFERROR(IF(Datanedslag>=H$136,IF(INDEX(Data_kom2,MATCH(1,(komnavn2=$B137)*(komaar2=Skyggetabeller!H$10),0),32)=\"\",\"*\",INDEX(Data_kom2,MATCH(1,(komnavn2=$B137)*(komaar2=Skyggetabeller!H$10),0),32)/INDEX(Data_kom2,MATCH(1,(komnavn2=$B137)*(komaar2=Skyggetabeller!H$10),0),35)),\"\"),\"*\")","v":0},{"$f":"IFERROR(IF(Datanedslag>=I$136,IF(INDEX(Data_kom2,MATCH(1,(komnavn2=$B137)*(komaar2=Skyggetabeller!I$10),0),32)=\"\",\"*\",INDEX(Data_kom2,MATCH(1,(komnavn2=$B137)*(komaar2=Skyggetabeller!I$10),0),32)/INDEX(Data_kom2,MATCH(1,(komnavn2=$B137)*(komaar2=Skyggetabeller!I$10),0),35)),\"\"),\"*\")","v":0},{"$f":"IFERROR(IF(Datanedslag>=J$136,IF(INDEX(Data_kom2,MATCH(1,(komnavn2=$B137)*(komaar2=Skyggetabeller!J$10),0),32)=\"\",\"*\",INDEX(Data_kom2,MATCH(1,(komnavn2=$B137)*(komaar2=Skyggetabeller!J$10),0),32)/INDEX(Data_kom2,MATCH(1,(komnavn2=$B137)*(komaar2=Skyggetabeller!J$10),0),35)),\"\"),\"*\")","v":"*"},{"$f":"IFERROR(IF(Datanedslag>=K$136,IF(INDEX(Data_kom2,MATCH(1,(komnavn2=$B137)*(komaar2=Skyggetabeller!K$10),0),32)=\"\",\"*\",INDEX(Data_kom2,MATCH(1,(komnavn2=$B137)*(komaar2=Skyggetabeller!K$10),0),32)/INDEX(Data_kom2,MATCH(1,(komnavn2=$B137)*(komaar2=Skyggetabeller!K$10),0),35)),\"\"),\"*\")","v":"*"},{"$f":"IFERROR(IF(Datanedslag>=L$136,IF(INDEX(Data_kom2,MATCH(1,(komnavn2=$B137)*(komaar2=Skyggetabeller!L$10),0),32)=\"\",\"*\",INDEX(Data_kom2,MATCH(1,(komnavn2=$B137)*(komaar2=Skyggetabeller!L$10),0),32)/INDEX(Data_kom2,MATCH(1,(komnavn2=$B137)*(komaar2=Skyggetabeller!L$10),0),35)),\"\"),\"*\")","v":0},{"$f":"IFERROR(IF(Datanedslag>=M$136,IF(INDEX(Data_kom2,MATCH(1,(komnavn2=$B137)*(komaar2=Skyggetabeller!M$10),0),32)=\"\",\"*\",INDEX(Data_kom2,MATCH(1,(komnavn2=$B137)*(komaar2=Skyggetabeller!M$10),0),32)/INDEX(Data_kom2,MATCH(1,(komnavn2=$B137)*(komaar2=Skyggetabeller!M$10),0),35)),\"\"),\"*\")","v":0}]
[null,"Sammenligningskommuner",null,{"$f":"IFERROR(IF(Datanedslag>=D$20,IF(Hjælpefane!$C$4=\"\",\"*\",SUM(Hjælpefane!$R$16:$R$22))/SUM(Hjælpefane!$S$16:$S$22),\"\"),\"\")","v":0},{"$f":"IFERROR(IF(Datanedslag>=E$20,IF(Hjælpefane!$C$4=\"\",\"*\",SUM(Hjælpefane!$R$28:$R$34))/SUM(Hjælpefane!$S$28:$S$34),\"\"),\"\")","v":0},{"$f":"IFERROR(IF(Datanedslag>=F$20,IF(Hjælpefane!$C$4=\"\",\"*\",SUM(Hjælpefane!$R$40:$R$46))/SUM(Hjælpefane!$S$40:$S$46),\"\"),\"\")","v":0},{"$f":"IFERROR(IF(Datanedslag>=G$20,IF(Hjælpefane!$C$4=\"\",\"*\",SUM(Hjælpefane!$R$52:$R$58))/SUM(Hjælpefane!$S$52:$S$58),\"\"),\"\")","v":0},{"$f":"IFERROR(IF(Datanedslag>=H$20,IF(Hjælpefane!$C$4=\"\",\"*\",SUM(Hjælpefane!$R$64:$R$70))/SUM(Hjælpefane!$S$64:$S$70),\"\"),\"\")","v":0},{"$f":"IFERROR(IF(Datanedslag>=I$20,IF(Hjælpefane!$C$4=\"\",\"*\",SUM(Hjælpefane!$R$76:$R$82))/SUM(Hjælpefane!$S$76:$S$82),\"\"),\"\")","v":0},{"$f":"IFERROR(IF(Datanedslag>=J$20,IF(Hjælpefane!$C$4=\"\",\"*\",SUM(Hjælpefane!$R$88:$R$94))/SUM(Hjælpefane!$S$88:$S$94),\"\"),\"\")","v":0},{"$f":"IFERROR(IF(Datanedslag>=K$20,IF(Hjælpefane!$C$4=\"\",\"*\",SUM(Hjælpefane!$R$100:$R$106))/SUM(Hjælpefane!$S$100:$S$106),\"\"),\"\")","v":0},{"$f":"IFERROR(IF(Datanedslag>=L$20,IF(Hjælpefane!$C$4=\"\",\"*\",SUM(Hjælpefane!$R$100:$R$106))/SUM(Hjælpefane!$S$100:$S$106),\"\"),\"\")","v":0},{"$f":"IFERROR(IF(Datanedslag>=M$20,IF(Hjælpefane!$C$4=\"\",\"*\",SUM(Hjælpefane!$R$100:$R$106))/SUM(Hjælpefane!$S$100:$S$106),\"\"),\"\")","v":0}]
[null,"Landsgennemsnit",null,{"$f":"IF(Datanedslag>=D$20,IF(INDEX(Data_land,MATCH(D$19,Landaar,0),32)=\"\",\"*\",IF(INDEX(Data_land,MATCH(D$19,Landaar,0),35)=\"\",\"*\",IF(INDEX(Data_land,MATCH(D$19,Landaar,0),32)=\"\",\"*\",INDEX(Data_land,MATCH(D$19,Landaar,0),32)/INDEX(Data_land,MATCH(D$19,Landaar,0),35)))),\"\")","v":2.1691973969631237E-3},{"$f":"IF(Datanedslag>=E$20,IF(INDEX(Data_land,MATCH(E$19,Landaar,0),32)=\"\",\"*\",IF(INDEX(Data_land,MATCH(E$19,Landaar,0),35)=\"\",\"*\",IF(INDEX(Data_land,MATCH(E$19,Landaar,0),32)=\"\",\"*\",INDEX(Data_land,MATCH(E$19,Landaar,0),32)/INDEX(Data_land,MATCH(E$19,Landaar,0),35)))),\"\")","v":2.1413276231263384E-3},{"$f":"IF(Datanedslag>=F$20,IF(INDEX(Data_land,MATCH(F$19,Landaar,0),32)=\"\",\"*\",IF(INDEX(Data_land,MATCH(F$19,Landaar,0),35)=\"\",\"*\",IF(INDEX(Data_land,MATCH(F$19,Landaar,0),32)=\"\",\"*\",INDEX(Data_land,MATCH(F$19,Landaar,0),32)/INDEX(Data_land,MATCH(F$19,Landaar,0),35)))),\"\")","v":2.1459227467811159E-3},{"$f":"IF(Datanedslag>=G$20,IF(INDEX(Data_land,MATCH(G$19,Landaar,0),32)=\"\",\"*\",IF(INDEX(Data_land,MATCH(G$19,Landaar,0),35)=\"\",\"*\",IF(INDEX(Data_land,MATCH(G$19,Landaar,0),32)=\"\",\"*\",INDEX(Data_land,MATCH(G$19,Landaar,0),32)/INDEX(Data_land,MATCH(G$19,Landaar,0),35)))),\"\")","v":2.1691973969631237E-3},{"$f":"IF(Datanedslag>=H$20,IF(INDEX(Data_land,MATCH(H$19,Landaar,0),32)=\"\",\"*\",IF(INDEX(Data_land,MATCH(H$19,Landaar,0),35)=\"\",\"*\",IF(INDEX(Data_land,MATCH(H$19,Landaar,0),32)=\"\",\"*\",INDEX(Data_land,MATCH(H$19,Landaar,0),32)/INDEX(Data_land,MATCH(H$19,Landaar,0),35)))),\"\")","v":2.1739130434782609E-3},{"$f":"IF(Datanedslag>=I$20,IF(INDEX(Data_land,MATCH(I$19,Landaar,0),32)=\"\",\"*\",IF(INDEX(Data_land,MATCH(I$19,Landaar,0),35)=\"\",\"*\",IF(INDEX(Data_land,MATCH(I$19,Landaar,0),32)=\"\",\"*\",INDEX(Data_land,MATCH(I$19,Landaar,0),32)/INDEX(Data_land,MATCH(I$19,Landaar,0),35)))),\"\")","v":2.1786492374727671E-3},{"$f":"IF(Datanedslag>=J$20,IF(INDEX(Data_land,MATCH(J$19,Landaar,0),32)=\"\",\"*\",IF(INDEX(Data_land,MATCH(J$19,Landaar,0),35)=\"\",\"*\",IF(INDEX(Data_land,MATCH(J$19,Landaar,0),32)=\"\",\"*\",INDEX(Data_land,MATCH(J$19,Landaar,0),32)/INDEX(Data_land,MATCH(J$19,Landaar,0),35)))),\"\")","v":4.3859649122807015E-3},{"$f":"IF(Datanedslag>=K$20,IF(INDEX(Data_land,MATCH(K$19,Landaar,0),32)=\"\",\"*\",IF(INDEX(Data_land,MATCH(K$19,Landaar,0),35)=\"\",\"*\",IF(INDEX(Data_land,MATCH(K$19,Landaar,0),32)=\"\",\"*\",INDEX(Data_land,MATCH(K$19,Landaar,0),32)/INDEX(Data_land,MATCH(K$19,Landaar,0),35)))),\"\")","v":2.2026431718061676E-3},{"$f":"IF(Datanedslag>=L$20,IF(INDEX(Data_land,MATCH(L$19,Landaar,0),32)=\"\",\"*\",IF(INDEX(Data_land,MATCH(L$19,Landaar,0),35)=\"\",\"*\",IF(INDEX(Data_land,MATCH(L$19,Landaar,0),32)=\"\",\"*\",INDEX(Data_land,MATCH(L$19,Landaar,0),32)/INDEX(Data_land,MATCH(L$19,Landaar,0),35)))),\"\")","v":2.2123893805309734E-3},{"$f":"IF(Datanedslag>=M$20,IF(INDEX(Data_land,MATCH(M$19,Landaar,0),32)=\"\",\"*\",IF(INDEX(Data_land,MATCH(M$19,Landaar,0),35)=\"\",\"*\",IF(INDEX(Data_land,MATCH(M$19,Landaar,0),32)=\"\",\"*\",INDEX(Data_land,MATCH(M$19,Landaar,0),32)/INDEX(Data_land,MATCH(M$19,Landaar,0),35)))),\"\")","v":2.2222222222222222E-3}]
[]
[null,{"$f":"B137&(\", N\")","v":"Herning, N"},null,{"$f":"IF(Datanedslag>=D$20,IF(INDEX(Data_kom2,MATCH(1,(komnavn2=$B137)*(komaar2=Skyggetabeller!D$10),0),35)=\"\",\"*\",INDEX(Data_kom2,MATCH(1,(komnavn2=$B137)*(komaar2=Skyggetabeller!D$10),0),35)),\"\")","v":65},{"$f":"IF(Datanedslag>=E$20,IF(INDEX(Data_kom2,MATCH(1,(komnavn2=$B137)*(komaar2=Skyggetabeller!E$10),0),35)=\"\",\"*\",INDEX(Data_kom2,MATCH(1,(komnavn2=$B137)*(komaar2=Skyggetabeller!E$10),0),35)),\"\")","v":65},{"$f":"IF(Datanedslag>=F$20,IF(INDEX(Data_kom2,MATCH(1,(komnavn2=$B137)*(komaar2=Skyggetabeller!F$10),0),35)=\"\",\"*\",INDEX(Data_kom2,MATCH(1,(komnavn2=$B137)*(komaar2=Skyggetabeller!F$10),0),35)),\"\")","v":65},{"$f":"IF(Datanedslag>=G$20,IF(INDEX(Data_kom2,MATCH(1,(komnavn2=$B137)*(komaar2=Skyggetabeller!G$10),0),35)=\"\",\"*\",INDEX(Data_kom2,MATCH(1,(komnavn2=$B137)*(komaar2=Skyggetabeller!G$10),0),35)),\"\")","v":64},{"$f":"IF(Datanedslag>=H$20,IF(INDEX(Data_kom2,MATCH(1,(komnavn2=$B137)*(komaar2=Skyggetabeller!H$10),0),35)=\"\",\"*\",INDEX(Data_kom2,MATCH(1,(komnavn2=$B137)*(komaar2=Skyggetabeller!H$10),0),35)),\"\")","v":64},{"$f":"IF(Datanedslag>=I$20,IF(INDEX(Data_kom2,MATCH(1,(komnavn2=$B137)*(komaar2=Skyggetabeller!I$10),0),35)=\"\",\"*\",INDEX(Data_kom2,MATCH(1,(komnavn2=$B137)*(komaar2=Skyggetabeller!I$10),0),35)),\"\")","v":62},{"$f":"IF(Datanedslag>=J$20,IF(INDEX(Data_kom2,MATCH(1,(komnavn2=$B137)*(komaar2=Skyggetabeller!J$10),0),35)=\"\",\"*\",INDEX(Data_kom2,MATCH(1,(komnavn2=$B137)*(komaar2=Skyggetabeller!J$10),0),35)),\"\")","v":59},{"$f":"IF(Datanedslag>=K$20,IF(INDEX(Data_kom2,MATCH(1,(komnavn2=$B137)*(komaar2=Skyggetabeller!K$10),0),35)=\"\",\"*\",INDEX(Data_kom2,MATCH(1,(komnavn2=$B137)*(komaar2=Skyggetabeller!K$10),0),35)),\"\")","v":56},{"$f":"IF(Datanedslag>=L$20,IF(INDEX(Data_kom2,MATCH(1,(komnavn2=$B137)*(komaar2=Skyggetabeller!L$10),0),35)=\"\",\"*\",INDEX(Data_kom2,MATCH(1,(komnavn2=$B137)*(komaar2=Skyggetabeller!L$10),0),35)),\"\")","v":56},{"$f":"IF(Datanedslag>=M$20,IF(INDEX(Data_kom2,MATCH(1,(komnavn2=$B137)*(komaar2=Skyggetabeller!M$10),0),35)=\"\",\"*\",INDEX(Data_kom2,MATCH(1,(komnavn2=$B137)*(komaar2=Skyggetabeller!M$10),0),35)),\"\")","v":56}]
[null,{"$f":"B138&(\", N\")","v":"Sammenligningskommuner, N"},null,{"$f":"IF(Datanedslag>=D$20,IF(SUM(Hjælpefane!$S$16:$S$22)=\"\",\"\",SUM(Hjælpefane!$S$16:$S$22)),\"\")","v":88},{"$f":"IF(Datanedslag>=E$20,IF(SUM(Hjælpefane!$S$28:$S$34)=\"\",\"*\",SUM(Hjælpefane!$S$28:$S$34)),\"\")","v":89},{"$f":"IF(Datanedslag>=F$20,IF(SUM(Hjælpefane!$S$40:$S$46)=\"\",\"*\",SUM(Hjælpefane!$S$40:$S$46)),\"\")","v":85},{"$f":"IF(Datanedslag>=G$20,IF(SUM(Hjælpefane!$S$52:$S$58)=\"\",\"*\",SUM(Hjælpefane!$S$52:$S$58)),\"\")","v":67},{"$f":"IF(Datanedslag>=H$20,IF(SUM(Hjælpefane!$S$64:$S$70)=\"\",\"*\",SUM(Hjælpefane!$S$64:$S$70)),\"\")","v":68},{"$f":"IF(Datanedslag>=I$20,IF(SUM(Hjælpefane!$S$76:$S$82)=\"\",\"*\",SUM(Hjælpefane!$S$76:$S$82)),\"\")","v":70},{"$f":"IF(Datanedslag>=J$20,IF(SUM(Hjælpefane!$S$88:$S$94)=\"\",\"*\",SUM(Hjælpefane!$S$88:$S$94)),\"\")","v":84},{"$f":"IF(Datanedslag>=K$20,IF(SUM(Hjælpefane!$S$100:$S$106)=\"\",\"*\",SUM(Hjælpefane!$S$100:$S$106)),\"\")","v":83},{"$f":"IF(Datanedslag>=L$20,IF(SUM(Hjælpefane!$S$100:$S$106)=\"\",\"*\",SUM(Hjælpefane!$S$100:$S$106)),\"\")","v":83},{"$f":"IF(Datanedslag>=M$20,IF(SUM(Hjælpefane!$S$100:$S$106)=\"\",\"*\",SUM(Hjælpefane!$S$100:$S$106)),\"\")","v":83}]
[null,{"$f":"B139&(\", N\")","v":"Landsgennemsnit, N"},null,{"$f":"IF(Datanedslag>=D$20,IF(INDEX(Data_land,MATCH(Skyggetabeller!D$10,Landaar,0),35)=\"\",\"*\",INDEX(Data_land,MATCH(Skyggetabeller!D$10,Landaar,0),35)),\"\")","v":4610},{"$f":"IF(Datanedslag>=E$20,IF(INDEX(Data_land,MATCH(Skyggetabeller!E$10,Landaar,0),35)=\"\",\"*\",INDEX(Data_land,MATCH(Skyggetabeller!E$10,Landaar,0),35)),\"\")","v":4670},{"$f":"IF(Datanedslag>=F$20,IF(INDEX(Data_land,MATCH(Skyggetabeller!F$10,Landaar,0),35)=\"\",\"*\",INDEX(Data_land,MATCH(Skyggetabeller!F$10,Landaar,0),35)),\"\")","v":4660},{"$f":"IF(Datanedslag>=G$20,IF(INDEX(Data_land,MATCH(Skyggetabeller!G$10,Landaar,0),35)=\"\",\"*\",INDEX(Data_land,MATCH(Skyggetabeller!G$10,Landaar,0),35)),\"\")","v":4610},{"$f":"IF(Datanedslag>=H$20,IF(INDEX(Data_land,MATCH(Skyggetabeller!H$10,Landaar,0),35)=\"\",\"*\",INDEX(Data_land,MATCH(Skyggetabeller!H$10,Landaar,0),35)),\"\")","v":4600},{"$f":"IF(Datanedslag>=I$20,IF(INDEX(Data_land,MATCH(Skyggetabeller!I$10,Landaar,0),35)=\"\",\"*\",INDEX(Data_land,MATCH(Skyggetabeller!I$10,Landaar,0),35)),\"\")","v":4590},{"$f":"IF(Datanedslag>=J$20,IF(INDEX(Data_land,MATCH(Skyggetabeller!J$10,Landaar,0),35)=\"\",\"*\",INDEX(Data_land,MATCH(Skyggetabeller!J$10,Landaar,0),35)),\"\")","v":4560},{"$f":"IF(Datanedslag>=K$20,IF(INDEX(Data_land,MATCH(Skyggetabeller!K$10,Landaar,0),35)=\"\",\"*\",INDEX(Data_land,MATCH(Skyggetabeller!K$10,Landaar,0),35)),\"\")","v":4540},{"$f":"IF(Datanedslag>=L$20,IF(INDEX(Data_land,MATCH(Skyggetabeller!L$10,Landaar,0),35)=\"\",\"*\",INDEX(Data_land,MATCH(Skyggetabeller!L$10,Landaar,0),35)),\"\")","v":4520},{"$f":"IF(Datanedslag>=M$20,IF(INDEX(Data_land,MATCH(Skyggetabeller!M$10,Landaar,0),35)=\"\",\"*\",INDEX(Data_land,MATCH(Skyggetabeller!M$10,Landaar,0),35)),\"\")","v":4500}]
[]
[null,"Nøgletal 7.2: Flytninger fra længerevarende botilbud og lignende til egen bolig"]
[]
[null,{"$f":"Kommune","v":"Herning"},{"$f":"Skyggetabeller!C$10","v":20181},{"$f":"Skyggetabeller!D$10","v":20182},{"$f":"Skyggetabeller!E$10","v":20191},{"$f":"Skyggetabeller!F$10","v":20192},{"$f":"Skyggetabeller!G$10","v":20201},{"$f":"Skyggetabeller!H$10","v":20202},{"$f":"Skyggetabeller!I$10","v":20211},{"$f":"Skyggetabeller!J$10","v":20212},{"$f":"Skyggetabeller!K$10","v":20221},{"$f":"Skyggetabeller!L$10","v":20222},{"$f":"Skyggetabeller!M$10","v":20231}]
[null,null,{"$f":"Skyggetabeller!C$11","v":"2018-01-01"},{"$f":"Skyggetabeller!D$11","v":"2018-07-01"},{"$f":"Skyggetabeller!E$11","v":"2019-01-01"},{"$f":"Skyggetabeller!F$11","v":"2019-07-01"},{"$f":"Skyggetabeller!G$11","v":"2020-01-01"},{"$f":"Skyggetabeller!H$11","v":"2020-07-01"},{"$f":"Skyggetabeller!I$11","v":"2021-01-01"},{"$f":"Skyggetabeller!J$11","v":"2021-07-01"},{"$f":"Skyggetabeller!K$11","v":"2022-01-01"},{"$f":"Skyggetabeller!L$11","v":"2022-07-01"},{"$f":"Skyggetabeller!M$11","v":"2023-01-01"}]
[null,"Antal flytninger",null,{"$f":"IFERROR(IF(INDEX(Data_kom2,MATCH(1,(komnavn2=Kommune)*(komaar2=D147),0),36)=\"\",\"*\",INDEX(Data_kom2,MATCH(1,(komnavn2=Kommune)*(komaar2=D147),0),36)),\"Ingen data\")","v":5},{"$f":"IFERROR(IF(INDEX(Data_kom2,MATCH(1,(komnavn2=Kommune)*(komaar2=E147),0),36)=\"\",\"*\",INDEX(Data_kom2,MATCH(1,(komnavn2=Kommune)*(komaar2=E147),0),36)),\"Ingen data\")","v":"*"},{"$f":"IFERROR(IF(INDEX(Data_kom2,MATCH(1,(komnavn2=Kommune)*(komaar2=F147),0),36)=\"\",\"*\",INDEX(Data_kom2,MATCH(1,(komnavn2=Kommune)*(komaar2=F147),0),36)),\"Ingen data\")","v":3},{"$f":"IFERROR(IF(INDEX(Data_kom2,MATCH(1,(komnavn2=Kommune)*(komaar2=G147),0),36)=\"\",\"*\",INDEX(Data_kom2,MATCH(1,(komnavn2=Kommune)*(komaar2=G147),0),36)),\"Ingen data\")","v":"*"},{"$f":"IFERROR(IF(INDEX(Data_kom2,MATCH(1,(komnavn2=Kommune)*(komaar2=H147),0),36)=\"\",\"*\",INDEX(Data_kom2,MATCH(1,(komnavn2=Kommune)*(komaar2=H147),0),36)),\"Ingen data\")","v":3},{"$f":"IFERROR(IF(INDEX(Data_kom2,MATCH(1,(komnavn2=Kommune)*(komaar2=I147),0),36)=\"\",\"*\",INDEX(Data_kom2,MATCH(1,(komnavn2=Kommune)*(komaar2=I147),0),36)),\"Ingen data\")","v":4},{"$f":"IFERROR(IF(INDEX(Data_kom2,MATCH(1,(komnavn2=Kommune)*(komaar2=J147),0),36)=\"\",\"*\",INDEX(Data_kom2,MATCH(1,(komnavn2=Kommune)*(komaar2=J147),0),36)),\"Ingen data\")","v":"*"},{"$f":"IFERROR(IF(INDEX(Data_kom2,MATCH(1,(komnavn2=Kommune)*(komaar2=K147),0),36)=\"\",\"*\",INDEX(Data_kom2,MATCH(1,(komnavn2=Kommune)*(komaar2=K147),0),36)),\"Ingen data\")","v":"*"},{"$f":"IFERROR(IF(INDEX(Data_kom2,MATCH(1,(komnavn2=Kommune)*(komaar2=L147),0),36)=\"\",\"*\",INDEX(Data_kom2,MATCH(1,(komnavn2=Kommune)*(komaar2=L147),0),36)),\"Ingen data\")","v":3},{"$f":"IFERROR(IF(INDEX(Data_kom2,MATCH(1,(komnavn2=Kommune)*(komaar2=M147),0),36)=\"\",\"*\",INDEX(Data_kom2,MATCH(1,(komnavn2=Kommune)*(komaar2=M147),0),36)),\"Ingen data\")","v":4},"Ved næste datanedslag trækkes formlen i den gule række én gang til højre. Trækkes kun i gule felter"]
[]
[]
[null,null,{"$f":"Skyggetabeller!C$11","v":"2018-01-01"},{"$f":"Skyggetabeller!D$11","v":"2018-07-01"},{"$f":"Skyggetabeller!E$11","v":"2019-01-01"},{"$f":"Skyggetabeller!F$11","v":"2019-07-01"},{"$f":"Skyggetabeller!G$11","v":"2020-01-01"},{"$f":"Skyggetabeller!H$11","v":"2020-07-01"},{"$f":"Skyggetabeller!I$11","v":"2021-01-01"},{"$f":"Skyggetabeller!J$11","v":"2021-07-01"},{"$f":"Skyggetabeller!K$11","v":"2022-01-01"},{"$f":"Skyggetabeller!L$11","v":"2022-07-01"},{"$f":"Skyggetabeller!M$11","v":"2023-01-01"}]
[null,{"$f":"Kommune","v":"Herning"},null,{"$f":"IFERROR(IF(Datanedslag>=D$152,IF(INDEX(Data_kom2,MATCH(1,(komnavn2=$B153)*(komaar2=Skyggetabeller!D$10),0),36)=\"\",\"*\",INDEX(Data_kom2,MATCH(1,(komnavn2=$B153)*(komaar2=Skyggetabeller!D$10),0),36)/INDEX(Data_kom2,MATCH(1,(komnavn2=$B153)*(komaar2=Skyggetabeller!D$10),0),39)),\"\"),\"*\")","v":7.6923076923076927E-2},{"$f":"IFERROR(IF(Datanedslag>=E$152,IF(INDEX(Data_kom2,MATCH(1,(komnavn2=$B153)*(komaar2=Skyggetabeller!E$10),0),36)=\"\",\"*\",INDEX(Data_kom2,MATCH(1,(komnavn2=$B153)*(komaar2=Skyggetabeller!E$10),0),36)/INDEX(Data_kom2,MATCH(1,(komnavn2=$B153)*(komaar2=Skyggetabeller!E$10),0),39)),\"\"),\"*\")","v":"*"},{"$f":"IFERROR(IF(Datanedslag>=F$152,IF(INDEX(Data_kom2,MATCH(1,(komnavn2=$B153)*(komaar2=Skyggetabeller!F$10),0),36)=\"\",\"*\",INDEX(Data_kom2,MATCH(1,(komnavn2=$B153)*(komaar2=Skyggetabeller!F$10),0),36)/INDEX(Data_kom2,MATCH(1,(komnavn2=$B153)*(komaar2=Skyggetabeller!F$10),0),39)),\"\"),\"*\")","v":4.6153846153846156E-2},{"$f":"IFERROR(IF(Datanedslag>=G$152,IF(INDEX(Data_kom2,MATCH(1,(komnavn2=$B153)*(komaar2=Skyggetabeller!G$10),0),36)=\"\",\"*\",INDEX(Data_kom2,MATCH(1,(komnavn2=$B153)*(komaar2=Skyggetabeller!G$10),0),36)/INDEX(Data_kom2,MATCH(1,(komnavn2=$B153)*(komaar2=Skyggetabeller!G$10),0),39)),\"\"),\"*\")","v":"*"},{"$f":"IFERROR(IF(Datanedslag>=H$152,IF(INDEX(Data_kom2,MATCH(1,(komnavn2=$B153)*(komaar2=Skyggetabeller!H$10),0),36)=\"\",\"*\",INDEX(Data_kom2,MATCH(1,(komnavn2=$B153)*(komaar2=Skyggetabeller!H$10),0),36)/INDEX(Data_kom2,MATCH(1,(komnavn2=$B153)*(komaar2=Skyggetabeller!H$10),0),39)),\"\"),\"*\")","v":4.6875E-2},{"$f":"IFERROR(IF(Datanedslag>=I$152,IF(INDEX(Data_kom2,MATCH(1,(komnavn2=$B153)*(komaar2=Skyggetabeller!I$10),0),36)=\"\",\"*\",INDEX(Data_kom2,MATCH(1,(komnavn2=$B153)*(komaar2=Skyggetabeller!I$10),0),36)/INDEX(Data_kom2,MATCH(1,(komnavn2=$B153)*(komaar2=Skyggetabeller!I$10),0),39)),\"\"),\"*\")","v":6.4516129032258063E-2},{"$f":"IFERROR(IF(Datanedslag>=J$152,IF(INDEX(Data_kom2,MATCH(1,(komnavn2=$B153)*(komaar2=Skyggetabeller!J$10),0),36)=\"\",\"*\",INDEX(Data_kom2,MATCH(1,(komnavn2=$B153)*(komaar2=Skyggetabeller!J$10),0),36)/INDEX(Data_kom2,MATCH(1,(komnavn2=$B153)*(komaar2=Skyggetabeller!J$10),0),39)),\"\"),\"*\")","v":"*"},{"$f":"IFERROR(IF(Datanedslag>=K$152,IF(INDEX(Data_kom2,MATCH(1,(komnavn2=$B153)*(komaar2=Skyggetabeller!K$10),0),36)=\"\",\"*\",INDEX(Data_kom2,MATCH(1,(komnavn2=$B153)*(komaar2=Skyggetabeller!K$10),0),36)/INDEX(Data_kom2,MATCH(1,(komnavn2=$B153)*(komaar2=Skyggetabeller!K$10),0),39)),\"\"),\"*\")","v":"*"},{"$f":"IFERROR(IF(Datanedslag>=L$152,IF(INDEX(Data_kom2,MATCH(1,(komnavn2=$B153)*(komaar2=Skyggetabeller!L$10),0),36)=\"\",\"*\",INDEX(Data_kom2,MATCH(1,(komnavn2=$B153)*(komaar2=Skyggetabeller!L$10),0),36)/INDEX(Data_kom2,MATCH(1,(komnavn2=$B153)*(komaar2=Skyggetabeller!L$10),0),39)),\"\"),\"*\")","v":5.3571428571428568E-2},{"$f":"IFERROR(IF(Datanedslag>=M$152,IF(INDEX(Data_kom2,MATCH(1,(komnavn2=$B153)*(komaar2=Skyggetabeller!M$10),0),36)=\"\",\"*\",INDEX(Data_kom2,MATCH(1,(komnavn2=$B153)*(komaar2=Skyggetabeller!M$10),0),36)/INDEX(Data_kom2,MATCH(1,(komnavn2=$B153)*(komaar2=Skyggetabeller!M$10),0),39)),\"\"),\"*\")","v":7.1428571428571425E-2}]
[null,"Sammenligningskommuner",null,{"$f":"IFERROR(IF(Datanedslag>=D$20,IF(Hjælpefane!$C$4=\"\",\"*\",SUM(Hjælpefane!$T$16:$T$22))/SUM(Hjælpefane!$U$16:$U$22),\"\"),\"\")","v":0},{"$f":"IFERROR(IF(Datanedslag>=E$20,IF(Hjælpefane!$C$4=\"\",\"*\",SUM(Hjælpefane!$T$28:$T$34))/SUM(Hjælpefane!$U$28:$U$34),\"\"),\"\")","v":0},{"$f":"IFERROR(IF(Datanedslag>=F$20,IF(Hjælpefane!$C$4=\"\",\"*\",SUM(Hjælpefane!$T$40:$T$46))/SUM(Hjælpefane!$U$40:$U$46),\"\"),\"\")","v":0.10588235294117647},{"$f":"IFERROR(IF(Datanedslag>=G$20,IF(Hjælpefane!$C$4=\"\",\"*\",SUM(Hjælpefane!$T$52:$T$58))/SUM(Hjælpefane!$U$52:$U$58),\"\"),\"\")","v":0},{"$f":"IFERROR(IF(Datanedslag>=H$20,IF(Hjælpefane!$C$4=\"\",\"*\",SUM(Hjælpefane!$T$64:$T$70))/SUM(Hjælpefane!$U$64:$U$70),\"\"),\"\")","v":0},{"$f":"IFERROR(IF(Datanedslag>=I$20,IF(Hjælpefane!$C$4=\"\",\"*\",SUM(Hjælpefane!$T$76:$T$82))/SUM(Hjælpefane!$U$76:$U$82),\"\"),\"\")","v":0},{"$f":"IFERROR(IF(Datanedslag>=J$20,IF(Hjælpefane!$C$4=\"\",\"*\",SUM(Hjælpefane!$T$88:$T$94))/SUM(Hjælpefane!$U$88:$U$94),\"\"),\"\")","v":0},{"$f":"IFERROR(IF(Datanedslag>=K$20,IF(Hjælpefane!$C$4=\"\",\"*\",SUM(Hjælpefane!$T$100:$T$106))/SUM(Hjælpefane!$U$100:$U$106),\"\"),\"\")","v":0},{"$f":"IFERROR(IF(Datanedslag>=L$20,IF(Hjælpefane!$C$4=\"\",\"*\",SUM(Hjælpefane!$T$100:$T$106))/SUM(Hjælpefane!$U$100:$U$106),\"\"),\"\")","v":0},{"$f":"IFERROR(IF(Datanedslag>=M$20,IF(Hjælpefane!$C$4=\"\",\"*\",SUM(Hjælpefane!$T$100:$T$106))/SUM(Hjælpefane!$U$100:$U$106),\"\"),\"\")","v":0}]
[null,"Landsgennemsnit",null,{"$f":"IF(Datanedslag>=D$20,IF(INDEX(Data_land,MATCH(D$19,Landaar,0),36)=\"\",\"*\",IF(INDEX(Data_land,MATCH(D$19,Landaar,0),39)=\"\",\"*\",IF(INDEX(Data_land,MATCH(D$19,Landaar,0),36)=\"\",\"*\",INDEX(Data_land,MATCH(D$19,Landaar,0),36)/INDEX(Data_land,MATCH(D$19,Landaar,0),39)))),\"\")","v":4.1214750542299353E-2},{"$f":"IF(Datanedslag>=E$20,IF(INDEX(Data_land,MATCH(E$19,Landaar,0),36)=\"\",\"*\",IF(INDEX(Data_land,MATCH(E$19,Landaar,0),39)=\"\",\"*\",IF(INDEX(Data_land,MATCH(E$19,Landaar,0),36)=\"\",\"*\",INDEX(Data_land,MATCH(E$19,Landaar,0),36)/INDEX(Data_land,MATCH(E$19,Landaar,0),39)))),\"\")","v":5.1391862955032119E-2},{"$f":"IF(Datanedslag>=F$20,IF(INDEX(Data_land,MATCH(F$19,Landaar,0),36)=\"\",\"*\",IF(INDEX(Data_land,MATCH(F$19,Landaar,0),39)=\"\",\"*\",IF(INDEX(Data_land,MATCH(F$19,Landaar,0),36)=\"\",\"*\",INDEX(Data_land,MATCH(F$19,Landaar,0),36)/INDEX(Data_land,MATCH(F$19,Landaar,0),39)))),\"\")","v":5.1502145922746781E-2},{"$f":"IF(Datanedslag>=G$20,IF(INDEX(Data_land,MATCH(G$19,Landaar,0),36)=\"\",\"*\",IF(INDEX(Data_land,MATCH(G$19,Landaar,0),39)=\"\",\"*\",IF(INDEX(Data_land,MATCH(G$19,Landaar,0),36)=\"\",\"*\",INDEX(Data_land,MATCH(G$19,Landaar,0),36)/INDEX(Data_land,MATCH(G$19,Landaar,0),39)))),\"\")","v":5.4229934924078092E-2},{"$f":"IF(Datanedslag>=H$20,IF(INDEX(Data_land,MATCH(H$19,Landaar,0),36)=\"\",\"*\",IF(INDEX(Data_land,MATCH(H$19,Landaar,0),39)=\"\",\"*\",IF(INDEX(Data_land,MATCH(H$19,Landaar,0),36)=\"\",\"*\",INDEX(Data_land,MATCH(H$19,Landaar,0),36)/INDEX(Data_land,MATCH(H$19,Landaar,0),39)))),\"\")","v":4.3478260869565216E-2},{"$f":"IF(Datanedslag>=I$20,IF(INDEX(Data_land,MATCH(I$19,Landaar,0),36)=\"\",\"*\",IF(INDEX(Data_land,MATCH(I$19,Landaar,0),39)=\"\",\"*\",IF(INDEX(Data_land,MATCH(I$19,Landaar,0),36)=\"\",\"*\",INDEX(Data_land,MATCH(I$19,Landaar,0),36)/INDEX(Data_land,MATCH(I$19,Landaar,0),39)))),\"\")","v":4.5751633986928102E-2},{"$f":"IF(Datanedslag>=J$20,IF(INDEX(Data_land,MATCH(J$19,Landaar,0),36)=\"\",\"*\",IF(INDEX(Data_land,MATCH(J$19,Landaar,0),39)=\"\",\"*\",IF(INDEX(Data_land,MATCH(J$19,Landaar,0),36)=\"\",\"*\",INDEX(Data_land,MATCH(J$19,Landaar,0),36)/INDEX(Data_land,MATCH(J$19,Landaar,0),39)))),\"\")","v":4.6052631578947366E-2},{"$f":"IF(Datanedslag>=K$20,IF(INDEX(Data_land,MATCH(K$19,Landaar,0),36)=\"\",\"*\",IF(INDEX(Data_land,MATCH(K$19,Landaar,0),39)=\"\",\"*\",IF(INDEX(Data_land,MATCH(K$19,Landaar,0),36)=\"\",\"*\",INDEX(Data_land,MATCH(K$19,Landaar,0),36)/INDEX(Data_land,MATCH(K$19,Landaar,0),39)))),\"\")","v":5.2863436123348019E-2},{"$f":"IF(Datanedslag>=L$20,IF(INDEX(Data_land,MATCH(L$19,Landaar,0),36)=\"\",\"*\",IF(INDEX(Data_land,MATCH(L$19,Landaar,0),39)=\"\",\"*\",IF(INDEX(Data_land,MATCH(L$19,Landaar,0),36)=\"\",\"*\",INDEX(Data_land,MATCH(L$19,Landaar,0),36)/INDEX(Data_land,MATCH(L$19,Landaar,0),39)))),\"\")","v":5.0884955752212392E-2},{"$f":"IF(Datanedslag>=M$20,IF(INDEX(Data_land,MATCH(M$19,Landaar,0),36)=\"\",\"*\",IF(INDEX(Data_land,MATCH(M$19,Landaar,0),39)=\"\",\"*\",IF(INDEX(Data_land,MATCH(M$19,Landaar,0),36)=\"\",\"*\",INDEX(Data_land,MATCH(M$19,Landaar,0),36)/INDEX(Data_land,MATCH(M$19,Landaar,0),39)))),\"\")","v":4.4444444444444446E-2}]
[]
[null,{"$f":"B153&(\", N\")","v":"Herning, N"},null,{"$f":"IF(Datanedslag>=D$20,IF(INDEX(Data_kom2,MATCH(1,(komnavn2=$B153)*(komaar2=Skyggetabeller!D$10),0),39)=\"\",\"*\",INDEX(Data_kom2,MATCH(1,(komnavn2=$B153)*(komaar2=Skyggetabeller!D$10),0),39)),\"\")","v":65},{"$f":"IF(Datanedslag>=E$20,IF(INDEX(Data_kom2,MATCH(1,(komnavn2=$B153)*(komaar2=Skyggetabeller!E$10),0),39)=\"\",\"*\",INDEX(Data_kom2,MATCH(1,(komnavn2=$B153)*(komaar2=Skyggetabeller!E$10),0),39)),\"\")","v":65},{"$f":"IF(Datanedslag>=F$20,IF(INDEX(Data_kom2,MATCH(1,(komnavn2=$B153)*(komaar2=Skyggetabeller!F$10),0),39)=\"\",\"*\",INDEX(Data_kom2,MATCH(1,(komnavn2=$B153)*(komaar2=Skyggetabeller!F$10),0),39)),\"\")","v":65},{"$f":"IF(Datanedslag>=G$20,IF(INDEX(Data_kom2,MATCH(1,(komnavn2=$B153)*(komaar2=Skyggetabeller!G$10),0),39)=\"\",\"*\",INDEX(Data_kom2,MATCH(1,(komnavn2=$B153)*(komaar2=Skyggetabeller!G$10),0),39)),\"\")","v":64},{"$f":"IF(Datanedslag>=H$20,IF(INDEX(Data_kom2,MATCH(1,(komnavn2=$B153)*(komaar2=Skyggetabeller!H$10),0),39)=\"\",\"*\",INDEX(Data_kom2,MATCH(1,(komnavn2=$B153)*(komaar2=Skyggetabeller!H$10),0),39)),\"\")","v":64},{"$f":"IF(Datanedslag>=I$20,IF(INDEX(Data_kom2,MATCH(1,(komnavn2=$B153)*(komaar2=Skyggetabeller!I$10),0),39)=\"\",\"*\",INDEX(Data_kom2,MATCH(1,(komnavn2=$B153)*(komaar2=Skyggetabeller!I$10),0),39)),\"\")","v":62},{"$f":"IF(Datanedslag>=J$20,IF(INDEX(Data_kom2,MATCH(1,(komnavn2=$B153)*(komaar2=Skyggetabeller!J$10),0),39)=\"\",\"*\",INDEX(Data_kom2,MATCH(1,(komnavn2=$B153)*(komaar2=Skyggetabeller!J$10),0),39)),\"\")","v":59},{"$f":"IF(Datanedslag>=K$20,IF(INDEX(Data_kom2,MATCH(1,(komnavn2=$B153)*(komaar2=Skyggetabeller!K$10),0),39)=\"\",\"*\",INDEX(Data_kom2,MATCH(1,(komnavn2=$B153)*(komaar2=Skyggetabeller!K$10),0),39)),\"\")","v":56},{"$f":"IF(Datanedslag>=L$20,IF(INDEX(Data_kom2,MATCH(1,(komnavn2=$B153)*(komaar2=Skyggetabeller!L$10),0),39)=\"\",\"*\",INDEX(Data_kom2,MATCH(1,(komnavn2=$B153)*(komaar2=Skyggetabeller!L$10),0),39)),\"\")","v":56},{"$f":"IF(Datanedslag>=M$20,IF(INDEX(Data_kom2,MATCH(1,(komnavn2=$B153)*(komaar2=Skyggetabeller!M$10),0),39)=\"\",\"*\",INDEX(Data_kom2,MATCH(1,(komnavn2=$B153)*(komaar2=Skyggetabeller!M$10),0),39)),\"\")","v":56}]
[null,{"$f":"B154&(\", N\")","v":"Sammenligningskommuner, N"},null,{"$f":"IF(Datanedslag>=D$20,IF(SUM(Hjælpefane!$U$16:$U$22)=\"\",\"\",SUM(Hjælpefane!$U$16:$U$22)),\"\")","v":88},{"$f":"IF(Datanedslag>=E$20,IF(SUM(Hjælpefane!$U$28:$U$34)=\"\",\"*\",SUM(Hjælpefane!$U$28:$U$34)),\"\")","v":89},{"$f":"IF(Datanedslag>=F$20,IF(SUM(Hjælpefane!$U$40:$U$46)=\"\",\"*\",SUM(Hjælpefane!$U$40:$U$46)),\"\")","v":85},{"$f":"IF(Datanedslag>=G$20,IF(SUM(Hjælpefane!$U$52:$U$58)=\"\",\"*\",SUM(Hjælpefane!$U$52:$U$58)),\"\")","v":67},{"$f":"IF(Datanedslag>=H$20,IF(SUM(Hjælpefane!$U$64:$U$70)=\"\",\"*\",SUM(Hjælpefane!$U$64:$U$70)),\"\")","v":68},{"$f":"IF(Datanedslag>=I$20,IF(SUM(Hjælpefane!$U$76:$U$82)=\"\",\"*\",SUM(Hjælpefane!$U$76:$U$82)),\"\")","v":70},{"$f":"IF(Datanedslag>=J$20,IF(SUM(Hjælpefane!$U$88:$U$94)=\"\",\"*\",SUM(Hjælpefane!$U$88:$U$94)),\"\")","v":84},{"$f":"IF(Datanedslag>=K$20,IF(SUM(Hjælpefane!$U$100:$U$106)=\"\",\"*\",SUM(Hjælpefane!$U$100:$U$106)),\"\")","v":83},{"$f":"IF(Datanedslag>=L$20,IF(SUM(Hjælpefane!$U$100:$U$106)=\"\",\"*\",SUM(Hjælpefane!$U$100:$U$106)),\"\")","v":83},{"$f":"IF(Datanedslag>=M$20,IF(SUM(Hjælpefane!$U$100:$U$106)=\"\",\"*\",SUM(Hjælpefane!$U$100:$U$106)),\"\")","v":83}]
[null,{"$f":"B155&(\", N\")","v":"Landsgennemsnit, N"},null,{"$f":"IF(Datanedslag>=D$20,IF(INDEX(Data_land,MATCH(Skyggetabeller!D$10,Landaar,0),39)=\"\",\"*\",INDEX(Data_land,MATCH(Skyggetabeller!D$10,Landaar,0),39)),\"\")","v":4610},{"$f":"IF(Datanedslag>=E$20,IF(INDEX(Data_land,MATCH(Skyggetabeller!E$10,Landaar,0),39)=\"\",\"*\",INDEX(Data_land,MATCH(Skyggetabeller!E$10,Landaar,0),39)),\"\")","v":4670},{"$f":"IF(Datanedslag>=F$20,IF(INDEX(Data_land,MATCH(Skyggetabeller!F$10,Landaar,0),39)=\"\",\"*\",INDEX(Data_land,MATCH(Skyggetabeller!F$10,Landaar,0),39)),\"\")","v":4660},{"$f":"IF(Datanedslag>=G$20,IF(INDEX(Data_land,MATCH(Skyggetabeller!G$10,Landaar,0),39)=\"\",\"*\",INDEX(Data_land,MATCH(Skyggetabeller!G$10,Landaar,0),39)),\"\")","v":4610},{"$f":"IF(Datanedslag>=H$20,IF(INDEX(Data_land,MATCH(Skyggetabeller!H$10,Landaar,0),39)=\"\",\"*\",INDEX(Data_land,MATCH(Skyggetabeller!H$10,Landaar,0),39)),\"\")","v":4600},{"$f":"IF(Datanedslag>=I$20,IF(INDEX(Data_land,MATCH(Skyggetabeller!I$10,Landaar,0),39)=\"\",\"*\",INDEX(Data_land,MATCH(Skyggetabeller!I$10,Landaar,0),39)),\"\")","v":4590},{"$f":"IF(Datanedslag>=J$20,IF(INDEX(Data_land,MATCH(Skyggetabeller!J$10,Landaar,0),39)=\"\",\"*\",INDEX(Data_land,MATCH(Skyggetabeller!J$10,Landaar,0),39)),\"\")","v":4560},{"$f":"IF(Datanedslag>=K$20,IF(INDEX(Data_land,MATCH(Skyggetabeller!K$10,Landaar,0),39)=\"\",\"*\",INDEX(Data_land,MATCH(Skyggetabeller!K$10,Landaar,0),39)),\"\")","v":4540},{"$f":"IF(Datanedslag>=L$20,IF(INDEX(Data_land,MATCH(Skyggetabeller!L$10,Landaar,0),39)=\"\",\"*\",INDEX(Data_land,MATCH(Skyggetabeller!L$10,Landaar,0),39)),\"\")","v":4520},{"$f":"IF(Datanedslag>=M$20,IF(INDEX(Data_land,MATCH(Skyggetabeller!M$10,Landaar,0),39)=\"\",\"*\",INDEX(Data_land,MATCH(Skyggetabeller!M$10,Landaar,0),39)),\"\")","v":4500}]
[]
[null,"Nøgletal 7.3: Flytninger fra midlertidigt botilbud til egen bolig"]
[]
[null,{"$f":"Kommune","v":"Herning"},{"$f":"Skyggetabeller!C$10","v":20181},{"$f":"Skyggetabeller!D$10","v":20182},{"$f":"Skyggetabeller!E$10","v":20191},{"$f":"Skyggetabeller!F$10","v":20192},{"$f":"Skyggetabeller!G$10","v":20201},{"$f":"Skyggetabeller!H$10","v":20202},{"$f":"Skyggetabeller!I$10","v":20211},{"$f":"Skyggetabeller!J$10","v":20212},{"$f":"Skyggetabeller!K$10","v":20221},{"$f":"Skyggetabeller!L$10","v":20222},{"$f":"Skyggetabeller!M$10","v":20231}]
[null,null,{"$f":"Skyggetabeller!C$11","v":"2018-01-01"},{"$f":"Skyggetabeller!D$11","v":"2018-07-01"},{"$f":"Skyggetabeller!E$11","v":"2019-01-01"},{"$f":"Skyggetabeller!F$11","v":"2019-07-01"},{"$f":"Skyggetabeller!G$11","v":"2020-01-01"},{"$f":"Skyggetabeller!H$11","v":"2020-07-01"},{"$f":"Skyggetabeller!I$11","v":"2021-01-01"},{"$f":"Skyggetabeller!J$11","v":"2021-07-01"},{"$f":"Skyggetabeller!K$11","v":"2022-01-01"},{"$f":"Skyggetabeller!L$11","v":"2022-07-01"},{"$f":"Skyggetabeller!M$11","v":"2023-01-01"}]
[null,"Antal flytninger",null,{"$f":"IFERROR(IF(INDEX(Data_kom2,MATCH(1,(komnavn2=Kommune)*(komaar2=D163),0),40)=\"\",\"*\",INDEX(Data_kom2,MATCH(1,(komnavn2=Kommune)*(komaar2=D163),0),40)),\"Ingen data\")","v":4},{"$f":"IFERROR(IF(INDEX(Data_kom2,MATCH(1,(komnavn2=Kommune)*(komaar2=E163),0),40)=\"\",\"*\",INDEX(Data_kom2,MATCH(1,(komnavn2=Kommune)*(komaar2=E163),0),40)),\"Ingen data\")","v":"*"},{"$f":"IFERROR(IF(INDEX(Data_kom2,MATCH(1,(komnavn2=Kommune)*(komaar2=F163),0),40)=\"\",\"*\",INDEX(Data_kom2,MATCH(1,(komnavn2=Kommune)*(komaar2=F163),0),40)),\"Ingen data\")","v":5},{"$f":"IFERROR(IF(INDEX(Data_kom2,MATCH(1,(komnavn2=Kommune)*(komaar2=G163),0),40)=\"\",\"*\",INDEX(Data_kom2,MATCH(1,(komnavn2=Kommune)*(komaar2=G163),0),40)),\"Ingen data\")","v":"*"},{"$f":"IFERROR(IF(INDEX(Data_kom2,MATCH(1,(komnavn2=Kommune)*(komaar2=H163),0),40)=\"\",\"*\",INDEX(Data_kom2,MATCH(1,(komnavn2=Kommune)*(komaar2=H163),0),40)),\"Ingen data\")","v":7},{"$f":"IFERROR(IF(INDEX(Data_kom2,MATCH(1,(komnavn2=Kommune)*(komaar2=I163),0),40)=\"\",\"*\",INDEX(Data_kom2,MATCH(1,(komnavn2=Kommune)*(komaar2=I163),0),40)),\"Ingen data\")","v":4},{"$f":"IFERROR(IF(INDEX(Data_kom2,MATCH(1,(komnavn2=Kommune)*(komaar2=J163),0),40)=\"\",\"*\",INDEX(Data_kom2,MATCH(1,(komnavn2=Kommune)*(komaar2=J163),0),40)),\"Ingen data\")","v":"*"},{"$f":"IFERROR(IF(INDEX(Data_kom2,MATCH(1,(komnavn2=Kommune)*(komaar2=K163),0),40)=\"\",\"*\",INDEX(Data_kom2,MATCH(1,(komnavn2=Kommune)*(komaar2=K163),0),40)),\"Ingen data\")","v":"*"},{"$f":"IFERROR(IF(INDEX(Data_kom2,MATCH(1,(komnavn2=Kommune)*(komaar2=L163),0),40)=\"\",\"*\",INDEX(Data_kom2,MATCH(1,(komnavn2=Kommune)*(komaar2=L163),0),40)),\"Ingen data\")","v":4},{"$f":"IFERROR(IF(INDEX(Data_kom2,MATCH(1,(komnavn2=Kommune)*(komaar2=M163),0),40)=\"\",\"*\",INDEX(Data_kom2,MATCH(1,(komnavn2=Kommune)*(komaar2=M163),0),40)),\"Ingen data\")","v":3},"Ved næste datanedslag trækkes formlen i den gule række én gang til højre. Trækkes kun i gule felter"]
[]
[]
[null,null,{"$f":"Skyggetabeller!C$11","v":"2018-01-01"},{"$f":"Skyggetabeller!D$11","v":"2018-07-01"},{"$f":"Skyggetabeller!E$11","v":"2019-01-01"},{"$f":"Skyggetabeller!F$11","v":"2019-07-01"},{"$f":"Skyggetabeller!G$11","v":"2020-01-01"},{"$f":"Skyggetabeller!H$11","v":"2020-07-01"},{"$f":"Skyggetabeller!I$11","v":"2021-01-01"},{"$f":"Skyggetabeller!J$11","v":"2021-07-01"},{"$f":"Skyggetabeller!K$11","v":"2022-01-01"},{"$f":"Skyggetabeller!L$11","v":"2022-07-01"},{"$f":"Skyggetabeller!M$11","v":"2023-01-01"}]
[null,{"$f":"Kommune","v":"Herning"},null,{"$f":"IFERROR(IF(Datanedslag>=D$168,IF(INDEX(Data_kom2,MATCH(1,(komnavn2=$B169)*(komaar2=Skyggetabeller!D$10),0),40)=\"\",\"*\",INDEX(Data_kom2,MATCH(1,(komnavn2=$B169)*(komaar2=Skyggetabeller!D$10),0),40)/INDEX(Data_kom2,MATCH(1,(komnavn2=$B169)*(komaar2=Skyggetabeller!D$10),0),43)),\"\"),\"*\")","v":0.14285714285714285},{"$f":"IFERROR(IF(Datanedslag>=E$168,IF(INDEX(Data_kom2,MATCH(1,(komnavn2=$B169)*(komaar2=Skyggetabeller!E$10),0),40)=\"\",\"*\",INDEX(Data_kom2,MATCH(1,(komnavn2=$B169)*(komaar2=Skyggetabeller!E$10),0),40)/INDEX(Data_kom2,MATCH(1,(komnavn2=$B169)*(komaar2=Skyggetabeller!E$10),0),43)),\"\"),\"*\")","v":"*"},{"$f":"IFERROR(IF(Datanedslag>=F$168,IF(INDEX(Data_kom2,MATCH(1,(komnavn2=$B169)*(komaar2=Skyggetabeller!F$10),0),40)=\"\",\"*\",INDEX(Data_kom2,MATCH(1,(komnavn2=$B169)*(komaar2=Skyggetabeller!F$10),0),40)/INDEX(Data_kom2,MATCH(1,(komnavn2=$B169)*(komaar2=Skyggetabeller!F$10),0),43)),\"\"),\"*\")","v":0.17857142857142858},{"$f":"IFERROR(IF(Datanedslag>=G$168,IF(INDEX(Data_kom2,MATCH(1,(komnavn2=$B169)*(komaar2=Skyggetabeller!G$10),0),40)=\"\",\"*\",INDEX(Data_kom2,MATCH(1,(komnavn2=$B169)*(komaar2=Skyggetabeller!G$10),0),40)/INDEX(Data_kom2,MATCH(1,(komnavn2=$B169)*(komaar2=Skyggetabeller!G$10),0),43)),\"\"),\"*\")","v":"*"},{"$f":"IFERROR(IF(Datanedslag>=H$168,IF(INDEX(Data_kom2,MATCH(1,(komnavn2=$B169)*(komaar2=Skyggetabeller!H$10),0),40)=\"\",\"*\",INDEX(Data_kom2,MATCH(1,(komnavn2=$B169)*(komaar2=Skyggetabeller!H$10),0),40)/INDEX(Data_kom2,MATCH(1,(komnavn2=$B169)*(komaar2=Skyggetabeller!H$10),0),43)),\"\"),\"*\")","v":0.23333333333333334},{"$f":"IFERROR(IF(Datanedslag>=I$168,IF(INDEX(Data_kom2,MATCH(1,(komnavn2=$B169)*(komaar2=Skyggetabeller!I$10),0),40)=\"\",\"*\",INDEX(Data_kom2,MATCH(1,(komnavn2=$B169)*(komaar2=Skyggetabeller!I$10),0),40)/INDEX(Data_kom2,MATCH(1,(komnavn2=$B169)*(komaar2=Skyggetabeller!I$10),0),43)),\"\"),\"*\")","v":0.15384615384615385},{"$f":"IFERROR(IF(Datanedslag>=J$168,IF(INDEX(Data_kom2,MATCH(1,(komnavn2=$B169)*(komaar2=Skyggetabeller!J$10),0),40)=\"\",\"*\",INDEX(Data_kom2,MATCH(1,(komnavn2=$B169)*(komaar2=Skyggetabeller!J$10),0),40)/INDEX(Data_kom2,MATCH(1,(komnavn2=$B169)*(komaar2=Skyggetabeller!J$10),0),43)),\"\"),\"*\")","v":"*"},{"$f":"IFERROR(IF(Datanedslag>=K$168,IF(INDEX(Data_kom2,MATCH(1,(komnavn2=$B169)*(komaar2=Skyggetabeller!K$10),0),40)=\"\",\"*\",INDEX(Data_kom2,MATCH(1,(komnavn2=$B169)*(komaar2=Skyggetabeller!K$10),0),40)/INDEX(Data_kom2,MATCH(1,(komnavn2=$B169)*(komaar2=Skyggetabeller!K$10),0),43)),\"\"),\"*\")","v":"*"},{"$f":"IFERROR(IF(Datanedslag>=L$168,IF(INDEX(Data_kom2,MATCH(1,(komnavn2=$B169)*(komaar2=Skyggetabeller!L$10),0),40)=\"\",\"*\",INDEX(Data_kom2,MATCH(1,(komnavn2=$B169)*(komaar2=Skyggetabeller!L$10),0),40)/INDEX(Data_kom2,MATCH(1,(komnavn2=$B169)*(komaar2=Skyggetabeller!L$10),0),43)),\"\"),\"*\")","v":0.19047619047619047},{"$f":"IFERROR(IF(Datanedslag>=M$168,IF(INDEX(Data_kom2,MATCH(1,(komnavn2=$B169)*(komaar2=Skyggetabeller!M$10),0),40)=\"\",\"*\",INDEX(Data_kom2,MATCH(1,(komnavn2=$B169)*(komaar2=Skyggetabeller!M$10),0),40)/INDEX(Data_kom2,MATCH(1,(komnavn2=$B169)*(komaar2=Skyggetabeller!M$10),0),43)),\"\"),\"*\")","v":0.17647058823529413}]
[null,"Sammenligningskommuner",null,{"$f":"IFERROR(IF(Datanedslag>=D$20,IF(Hjælpefane!$C$4=\"\",\"*\",SUM(Hjælpefane!$V$16:$V$22))/SUM(Hjælpefane!$W$16:$W$22),\"\"),\"\")","v":0},{"$f":"IFERROR(IF(Datanedslag>=E$20,IF(Hjælpefane!$C$4=\"\",\"*\",SUM(Hjælpefane!$V$28:$V$34))/SUM(Hjælpefane!$W$28:$W$34),\"\"),\"\")","v":0},{"$f":"IFERROR(IF(Datanedslag>=F$20,IF(Hjælpefane!$C$4=\"\",\"*\",SUM(Hjælpefane!$V$40:$V$46))/SUM(Hjælpefane!$W$40:$W$46),\"\"),\"\")","v":6.5573770491803282E-2},{"$f":"IFERROR(IF(Datanedslag>=G$20,IF(Hjælpefane!$C$4=\"\",\"*\",SUM(Hjælpefane!$V$52:$V$58))/SUM(Hjælpefane!$W$52:$W$58),\"\"),\"\")","v":0},{"$f":"IFERROR(IF(Datanedslag>=H$20,IF(Hjælpefane!$C$4=\"\",\"*\",SUM(Hjælpefane!$V$64:$V$70))/SUM(Hjælpefane!$W$64:$W$70),\"\"),\"\")","v":0},{"$f":"IFERROR(IF(Datanedslag>=I$20,IF(Hjælpefane!$C$4=\"\",\"*\",SUM(Hjælpefane!$V$76:$V$82))/SUM(Hjælpefane!$W$76:$W$82),\"\"),\"\")","v":0},{"$f":"IFERROR(IF(Datanedslag>=J$20,IF(Hjælpefane!$C$4=\"\",\"*\",SUM(Hjælpefane!$V$88:$V$94))/SUM(Hjælpefane!$W$88:$W$94),\"\"),\"\")","v":0},{"$f":"IFERROR(IF(Datanedslag>=K$20,IF(Hjælpefane!$C$4=\"\",\"*\",SUM(Hjælpefane!$V$100:$V$106))/SUM(Hjælpefane!$W$100:$W$106),\"\"),\"\")","v":0},{"$f":"IFERROR(IF(Datanedslag>=L$20,IF(Hjælpefane!$C$4=\"\",\"*\",SUM(Hjælpefane!$V$100:$V$106))/SUM(Hjælpefane!$W$100:$W$106),\"\"),\"\")","v":0},{"$f":"IFERROR(IF(Datanedslag>=M$20,IF(Hjælpefane!$C$4=\"\",\"*\",SUM(Hjælpefane!$V$100:$V$106))/SUM(Hjælpefane!$W$100:$W$106),\"\"),\"\")","v":0}]
[null,"Landsgennemsnit",null,{"$f":"IF(Datanedslag>=D$20,IF(INDEX(Data_land,MATCH(D$19,Landaar,0),40)=\"\",\"*\",IF(INDEX(Data_land,MATCH(D$19,Landaar,0),43)=\"\",\"*\",IF(INDEX(Data_land,MATCH(D$19,Landaar,0),40)=\"\",\"*\",INDEX(Data_land,MATCH(D$19,Landaar,0),40)/INDEX(Data_land,MATCH(D$19,Landaar,0),43)))),\"\")","v":0.1},{"$f":"IF(Datanedslag>=E$20,IF(INDEX(Data_land,MATCH(E$19,Landaar,0),40)=\"\",\"*\",IF(INDEX(Data_land,MATCH(E$19,Landaar,0),43)=\"\",\"*\",IF(INDEX(Data_land,MATCH(E$19,Landaar,0),40)=\"\",\"*\",INDEX(Data_land,MATCH(E$19,Landaar,0),40)/INDEX(Data_land,MATCH(E$19,Landaar,0),43)))),\"\")","v":0.11382113821138211},{"$f":"IF(Datanedslag>=F$20,IF(INDEX(Data_land,MATCH(F$19,Landaar,0),40)=\"\",\"*\",IF(INDEX(Data_land,MATCH(F$19,Landaar,0),43)=\"\",\"*\",IF(INDEX(Data_land,MATCH(F$19,Landaar,0),40)=\"\",\"*\",INDEX(Data_land,MATCH(F$19,Landaar,0),40)/INDEX(Data_land,MATCH(F$19,Landaar,0),43)))),\"\")","v":0.12109375},{"$f":"IF(Datanedslag>=G$20,IF(INDEX(Data_land,MATCH(G$19,Landaar,0),40)=\"\",\"*\",IF(INDEX(Data_land,MATCH(G$19,Landaar,0),43)=\"\",\"*\",IF(INDEX(Data_land,MATCH(G$19,Landaar,0),40)=\"\",\"*\",INDEX(Data_land,MATCH(G$19,Landaar,0),40)/INDEX(Data_land,MATCH(G$19,Landaar,0),43)))),\"\")","v":0.13846153846153847},{"$f":"IF(Datanedslag>=H$20,IF(INDEX(Data_land,MATCH(H$19,Landaar,0),40)=\"\",\"*\",IF(INDEX(Data_land,MATCH(H$19,Landaar,0),43)=\"\",\"*\",IF(INDEX(Data_land,MATCH(H$19,Landaar,0),40)=\"\",\"*\",INDEX(Data_land,MATCH(H$19,Landaar,0),40)/INDEX(Data_land,MATCH(H$19,Landaar,0),43)))),\"\")","v":0.11969111969111969},{"$f":"IF(Datanedslag>=I$20,IF(INDEX(Data_land,MATCH(I$19,Landaar,0),40)=\"\",\"*\",IF(INDEX(Data_land,MATCH(I$19,Landaar,0),43)=\"\",\"*\",IF(INDEX(Data_land,MATCH(I$19,Landaar,0),40)=\"\",\"*\",INDEX(Data_land,MATCH(I$19,Landaar,0),40)/INDEX(Data_land,MATCH(I$19,Landaar,0),43)))),\"\")","v":0.12260536398467432},{"$f":"IF(Datanedslag>=J$20,IF(INDEX(Data_land,MATCH(J$19,Landaar,0),40)=\"\",\"*\",IF(INDEX(Data_land,MATCH(J$19,Landaar,0),43)=\"\",\"*\",IF(INDEX(Data_land,MATCH(J$19,Landaar,0),40)=\"\",\"*\",INDEX(Data_land,MATCH(J$19,Landaar,0),40)/INDEX(Data_land,MATCH(J$19,Landaar,0),43)))),\"\")","v":0.11153846153846154},{"$f":"IF(Datanedslag>=K$20,IF(INDEX(Data_land,MATCH(K$19,Landaar,0),40)=\"\",\"*\",IF(INDEX(Data_land,MATCH(K$19,Landaar,0),43)=\"\",\"*\",IF(INDEX(Data_land,MATCH(K$19,Landaar,0),40)=\"\",\"*\",INDEX(Data_land,MATCH(K$19,Landaar,0),40)/INDEX(Data_land,MATCH(K$19,Landaar,0),43)))),\"\")","v":0.1169811320754717},{"$f":"IF(Datanedslag>=L$20,IF(INDEX(Data_land,MATCH(L$19,Landaar,0),40)=\"\",\"*\",IF(INDEX(Data_land,MATCH(L$19,Landaar,0),43)=\"\",\"*\",IF(INDEX(Data_land,MATCH(L$19,Landaar,0),40)=\"\",\"*\",INDEX(Data_land,MATCH(L$19,Landaar,0),40)/INDEX(Data_land,MATCH(L$19,Landaar,0),43)))),\"\")","v":0.10740740740740741},{"$f":"IF(Datanedslag>=M$20,IF(INDEX(Data_land,MATCH(M$19,Landaar,0),40)=\"\",\"*\",IF(INDEX(Data_land,MATCH(M$19,Landaar,0),43)=\"\",\"*\",IF(INDEX(Data_land,MATCH(M$19,Landaar,0),40)=\"\",\"*\",INDEX(Data_land,MATCH(M$19,Landaar,0),40)/INDEX(Data_land,MATCH(M$19,Landaar,0),43)))),\"\")","v":0.10661764705882353}]
[]
[null,{"$f":"B169&(\", N\")","v":"Herning, N"},null,{"$f":"IF(Datanedslag>=D$20,IF(INDEX(Data_kom2,MATCH(1,(komnavn2=$B169)*(komaar2=Skyggetabeller!D$10),0),43)=\"\",\"*\",INDEX(Data_kom2,MATCH(1,(komnavn2=$B169)*(komaar2=Skyggetabeller!D$10),0),43)),\"\")","v":28},{"$f":"IF(Datanedslag>=E$20,IF(INDEX(Data_kom2,MATCH(1,(komnavn2=$B169)*(komaar2=Skyggetabeller!E$10),0),43)=\"\",\"*\",INDEX(Data_kom2,MATCH(1,(komnavn2=$B169)*(komaar2=Skyggetabeller!E$10),0),43)),\"\")","v":26},{"$f":"IF(Datanedslag>=F$20,IF(INDEX(Data_kom2,MATCH(1,(komnavn2=$B169)*(komaar2=Skyggetabeller!F$10),0),43)=\"\",\"*\",INDEX(Data_kom2,MATCH(1,(komnavn2=$B169)*(komaar2=Skyggetabeller!F$10),0),43)),\"\")","v":28},{"$f":"IF(Datanedslag>=G$20,IF(INDEX(Data_kom2,MATCH(1,(komnavn2=$B169)*(komaar2=Skyggetabeller!G$10),0),43)=\"\",\"*\",INDEX(Data_kom2,MATCH(1,(komnavn2=$B169)*(komaar2=Skyggetabeller!G$10),0),43)),\"\")","v":30},{"$f":"IF(Datanedslag>=H$20,IF(INDEX(Data_kom2,MATCH(1,(komnavn2=$B169)*(komaar2=Skyggetabeller!H$10),0),43)=\"\",\"*\",INDEX(Data_kom2,MATCH(1,(komnavn2=$B169)*(komaar2=Skyggetabeller!H$10),0),43)),\"\")","v":30},{"$f":"IF(Datanedslag>=I$20,IF(INDEX(Data_kom2,MATCH(1,(komnavn2=$B169)*(komaar2=Skyggetabeller!I$10),0),43)=\"\",\"*\",INDEX(Data_kom2,MATCH(1,(komnavn2=$B169)*(komaar2=Skyggetabeller!I$10),0),43)),\"\")","v":26},{"$f":"IF(Datanedslag>=J$20,IF(INDEX(Data_kom2,MATCH(1,(komnavn2=$B169)*(komaar2=Skyggetabeller!J$10),0),43)=\"\",\"*\",INDEX(Data_kom2,MATCH(1,(komnavn2=$B169)*(komaar2=Skyggetabeller!J$10),0),43)),\"\")","v":24},{"$f":"IF(Datanedslag>=K$20,IF(INDEX(Data_kom2,MATCH(1,(komnavn2=$B169)*(komaar2=Skyggetabeller!K$10),0),43)=\"\",\"*\",INDEX(Data_kom2,MATCH(1,(komnavn2=$B169)*(komaar2=Skyggetabeller!K$10),0),43)),\"\")","v":23},{"$f":"IF(Datanedslag>=L$20,IF(INDEX(Data_kom2,MATCH(1,(komnavn2=$B169)*(komaar2=Skyggetabeller!L$10),0),43)=\"\",\"*\",INDEX(Data_kom2,MATCH(1,(komnavn2=$B169)*(komaar2=Skyggetabeller!L$10),0),43)),\"\")","v":21},{"$f":"IF(Datanedslag>=M$20,IF(INDEX(Data_kom2,MATCH(1,(komnavn2=$B169)*(komaar2=Skyggetabeller!M$10),0),43)=\"\",\"*\",INDEX(Data_kom2,MATCH(1,(komnavn2=$B169)*(komaar2=Skyggetabeller!M$10),0),43)),\"\")","v":17}]
[null,{"$f":"B170&(\", N\")","v":"Sammenligningskommuner, N"},null,{"$f":"IF(Datanedslag>=D$20,IF(SUM(Hjælpefane!$W$16:$W$22)=\"\",\"\",SUM(Hjælpefane!$W$16:$W$22)),\"\")","v":61},{"$f":"IF(Datanedslag>=E$20,IF(SUM(Hjælpefane!$W$28:$W$34)=\"\",\"*\",SUM(Hjælpefane!$W$28:$W$34)),\"\")","v":59},{"$f":"IF(Datanedslag>=F$20,IF(SUM(Hjælpefane!$W$40:$W$46)=\"\",\"*\",SUM(Hjælpefane!$W$40:$W$46)),\"\")","v":61},{"$f":"IF(Datanedslag>=G$20,IF(SUM(Hjælpefane!$W$52:$W$58)=\"\",\"*\",SUM(Hjælpefane!$W$52:$W$58)),\"\")","v":59},{"$f":"IF(Datanedslag>=H$20,IF(SUM(Hjælpefane!$W$64:$W$70)=\"\",\"*\",SUM(Hjælpefane!$W$64:$W$70)),\"\")","v":58},{"$f":"IF(Datanedslag>=I$20,IF(SUM(Hjælpefane!$W$76:$W$82)=\"\",\"*\",SUM(Hjælpefane!$W$76:$W$82)),\"\")","v":64},{"$f":"IF(Datanedslag>=J$20,IF(SUM(Hjælpefane!$W$88:$W$94)=\"\",\"*\",SUM(Hjælpefane!$W$88:$W$94)),\"\")","v":61},{"$f":"IF(Datanedslag>=K$20,IF(SUM(Hjælpefane!$W$100:$W$106)=\"\",\"*\",SUM(Hjælpefane!$W$100:$W$106)),\"\")","v":69},{"$f":"IF(Datanedslag>=L$20,IF(SUM(Hjælpefane!$W$100:$W$106)=\"\",\"*\",SUM(Hjælpefane!$W$100:$W$106)),\"\")","v":69},{"$f":"IF(Datanedslag>=M$20,IF(SUM(Hjælpefane!$W$100:$W$106)=\"\",\"*\",SUM(Hjælpefane!$W$100:$W$106)),\"\")","v":69}]
[null,{"$f":"B171&(\", N\")","v":"Landsgennemsnit, N"},null,{"$f":"IF(Datanedslag>=D$20,IF(INDEX(Data_land,MATCH(Skyggetabeller!D$10,Landaar,0),43)=\"\",\"*\",INDEX(Data_land,MATCH(Skyggetabeller!D$10,Landaar,0),43)),\"\")","v":2400},{"$f":"IF(Datanedslag>=E$20,IF(INDEX(Data_land,MATCH(Skyggetabeller!E$10,Landaar,0),43)=\"\",\"*\",INDEX(Data_land,MATCH(Skyggetabeller!E$10,Landaar,0),43)),\"\")","v":2460},{"$f":"IF(Datanedslag>=F$20,IF(INDEX(Data_land,MATCH(Skyggetabeller!F$10,Landaar,0),43)=\"\",\"*\",INDEX(Data_land,MATCH(Skyggetabeller!F$10,Landaar,0),43)),\"\")","v":2560},{"$f":"IF(Datanedslag>=G$20,IF(INDEX(Data_land,MATCH(Skyggetabeller!G$10,Landaar,0),43)=\"\",\"*\",INDEX(Data_land,MATCH(Skyggetabeller!G$10,Landaar,0),43)),\"\")","v":2600},{"$f":"IF(Datanedslag>=H$20,IF(INDEX(Data_land,MATCH(Skyggetabeller!H$10,Landaar,0),43)=\"\",\"*\",INDEX(Data_land,MATCH(Skyggetabeller!H$10,Landaar,0),43)),\"\")","v":2590},{"$f":"IF(Datanedslag>=I$20,IF(INDEX(Data_land,MATCH(Skyggetabeller!I$10,Landaar,0),43)=\"\",\"*\",INDEX(Data_land,MATCH(Skyggetabeller!I$10,Landaar,0),43)),\"\")","v":2610},{"$f":"IF(Datanedslag>=J$20,IF(INDEX(Data_land,MATCH(Skyggetabeller!J$10,Landaar,0),43)=\"\",\"*\",INDEX(Data_land,MATCH(Skyggetabeller!J$10,Landaar,0),43)),\"\")","v":2600},{"$f":"IF(Datanedslag>=K$20,IF(INDEX(Data_land,MATCH(Skyggetabeller!K$10,Landaar,0),43)=\"\",\"*\",INDEX(Data_land,MATCH(Skyggetabeller!K$10,Landaar,0),43)),\"\")","v":2650},{"$f":"IF(Datanedslag>=L$20,IF(INDEX(Data_land,MATCH(Skyggetabeller!L$10,Landaar,0),43)=\"\",\"*\",INDEX(Data_land,MATCH(Skyggetabeller!L$10,Landaar,0),43)),\"\")","v":2700},{"$f":"IF(Datanedslag>=M$20,IF(INDEX(Data_land,MATCH(Skyggetabeller!M$10,Landaar,0),43)=\"\",\"*\",INDEX(Data_land,MATCH(Skyggetabeller!M$10,Landaar,0),43)),\"\")","v":2720}]
[]
[]
[null,"Nøgletal 8 - Fra socialpædagogisk støtte og ned ad trappen"]
[]
[null,{"$f":"Kommune","v":"Herning"},{"$f":"Skyggetabeller!C$10","v":20181},{"$f":"Skyggetabeller!D$10","v":20182},{"$f":"Skyggetabeller!E$10","v":20191},{"$f":"Skyggetabeller!F$10","v":20192},{"$f":"Skyggetabeller!G$10","v":20201},{"$f":"Skyggetabeller!H$10","v":20202},{"$f":"Skyggetabeller!I$10","v":20211},{"$f":"Skyggetabeller!J$10","v":20212},{"$f":"Skyggetabeller!K$10","v":20221},{"$f":"Skyggetabeller!L$10","v":20222},{"$f":"Skyggetabeller!M$10","v":20231}]
[null,null,{"$f":"Skyggetabeller!C$11","v":"2018-01-01"},{"$f":"Skyggetabeller!D$11","v":"2018-07-01"},{"$f":"Skyggetabeller!E$11","v":"2019-01-01"},{"$f":"Skyggetabeller!F$11","v":"2019-07-01"},{"$f":"Skyggetabeller!G$11","v":"2020-01-01"},{"$f":"Skyggetabeller!H$11","v":"2020-07-01"},{"$f":"Skyggetabeller!I$11","v":"2021-01-01"},{"$f":"Skyggetabeller!J$11","v":"2021-07-01"},{"$f":"Skyggetabeller!K$11","v":"2022-01-01"},{"$f":"Skyggetabeller!L$11","v":"2022-07-01"},{"$f":"Skyggetabeller!M$11","v":"2023-01-01"}]
[null,"Antal modtagere",null,{"$f":"IFERROR(IF(INDEX(Data_kom2,MATCH(1,(komnavn2=Kommune)*(komaar2=D180),0),44)=\"\",\"*\",INDEX(Data_kom2,MATCH(1,(komnavn2=Kommune)*(komaar2=D180),0),44)),\"Ingen data\")","v":33},{"$f":"IFERROR(IF(INDEX(Data_kom2,MATCH(1,(komnavn2=Kommune)*(komaar2=E180),0),44)=\"\",\"*\",INDEX(Data_kom2,MATCH(1,(komnavn2=Kommune)*(komaar2=E180),0),44)),\"Ingen data\")","v":56},{"$f":"IFERROR(IF(INDEX(Data_kom2,MATCH(1,(komnavn2=Kommune)*(komaar2=F180),0),44)=\"\",\"*\",INDEX(Data_kom2,MATCH(1,(komnavn2=Kommune)*(komaar2=F180),0),44)),\"Ingen data\")","v":47},{"$f":"IFERROR(IF(INDEX(Data_kom2,MATCH(1,(komnavn2=Kommune)*(komaar2=G180),0),44)=\"\",\"*\",INDEX(Data_kom2,MATCH(1,(komnavn2=Kommune)*(komaar2=G180),0),44)),\"Ingen data\")","v":46},{"$f":"IFERROR(IF(INDEX(Data_kom2,MATCH(1,(komnavn2=Kommune)*(komaar2=H180),0),44)=\"\",\"*\",INDEX(Data_kom2,MATCH(1,(komnavn2=Kommune)*(komaar2=H180),0),44)),\"Ingen data\")","v":33},{"$f":"IFERROR(IF(INDEX(Data_kom2,MATCH(1,(komnavn2=Kommune)*(komaar2=I180),0),44)=\"\",\"*\",INDEX(Data_kom2,MATCH(1,(komnavn2=Kommune)*(komaar2=I180),0),44)),\"Ingen data\")","v":28},{"$f":"IFERROR(IF(INDEX(Data_kom2,MATCH(1,(komnavn2=Kommune)*(komaar2=J180),0),44)=\"\",\"*\",INDEX(Data_kom2,MATCH(1,(komnavn2=Kommune)*(komaar2=J180),0),44)),\"Ingen data\")","v":33},{"$f":"IFERROR(IF(INDEX(Data_kom2,MATCH(1,(komnavn2=Kommune)*(komaar2=K180),0),44)=\"\",\"*\",INDEX(Data_kom2,MATCH(1,(komnavn2=Kommune)*(komaar2=K180),0),44)),\"Ingen data\")","v":27},{"$f":"IFERROR(IF(INDEX(Data_kom2,MATCH(1,(komnavn2=Kommune)*(komaar2=L180),0),44)=\"\",\"*\",INDEX(Data_kom2,MATCH(1,(komnavn2=Kommune)*(komaar2=L180),0),44)),\"Ingen data\")","v":48},{"$f":"IFERROR(IF(INDEX(Data_kom2,MATCH(1,(komnavn2=Kommune)*(komaar2=M180),0),44)=\"\",\"*\",INDEX(Data_kom2,MATCH(1,(komnavn2=Kommune)*(komaar2=M180),0),44)),\"Ingen data\")","v":27},"Ved næste datanedslag trækkes formlen i den gule række én gang til højre. Trækkes kun i gule felter"]
[]
[null,null,{"$f":"Skyggetabeller!C$11","v":"2018-01-01"},{"$f":"Skyggetabeller!D$11","v":"2018-07-01"},{"$f":"Skyggetabeller!E$11","v":"2019-01-01"},{"$f":"Skyggetabeller!F$11","v":"2019-07-01"},{"$f":"Skyggetabeller!G$11","v":"2020-01-01"},{"$f":"Skyggetabeller!H$11","v":"2020-07-01"},{"$f":"Skyggetabeller!I$11","v":"2021-01-01"},{"$f":"Skyggetabeller!J$11","v":"2021-07-01"},{"$f":"Skyggetabeller!K$11","v":"2022-01-01"},{"$f":"Skyggetabeller!L$11","v":"2022-07-01"},{"$f":"Skyggetabeller!M$11","v":"2023-01-01"}]
[null,{"$f":"Kommune","v":"Herning"},null,{"$f":"IFERROR(IF(Datanedslag>=D$20,IF(INDEX(Data_kom2,MATCH(1,(komnavn2=$B185)*(komaar2=Skyggetabeller!D$10),0),44)=\"\",\"*\",INDEX(Data_kom2,MATCH(1,(komnavn2=$B185)*(komaar2=Skyggetabeller!D$10),0),44)/INDEX(Data_kom2,MATCH(1,(komnavn2=$B185)*(komaar2=Skyggetabeller!D$10),0),47)),\"\"),\"*\")","v":0.1134020618556701},{"$f":"IFERROR(IF(Datanedslag>=E$20,IF(INDEX(Data_kom2,MATCH(1,(komnavn2=$B185)*(komaar2=Skyggetabeller!E$10),0),44)=\"\",\"*\",INDEX(Data_kom2,MATCH(1,(komnavn2=$B185)*(komaar2=Skyggetabeller!E$10),0),44)/INDEX(Data_kom2,MATCH(1,(komnavn2=$B185)*(komaar2=Skyggetabeller!E$10),0),47)),\"\"),\"*\")","v":0.18983050847457628},{"$f":"IFERROR(IF(Datanedslag>=F$20,IF(INDEX(Data_kom2,MATCH(1,(komnavn2=$B185)*(komaar2=Skyggetabeller!F$10),0),44)=\"\",\"*\",INDEX(Data_kom2,MATCH(1,(komnavn2=$B185)*(komaar2=Skyggetabeller!F$10),0),44)/INDEX(Data_kom2,MATCH(1,(komnavn2=$B185)*(komaar2=Skyggetabeller!F$10),0),47)),\"\"),\"*\")","v":0.17028985507246377},{"$f":"IFERROR(IF(Datanedslag>=G$20,IF(INDEX(Data_kom2,MATCH(1,(komnavn2=$B185)*(komaar2=Skyggetabeller!G$10),0),44)=\"\",\"*\",INDEX(Data_kom2,MATCH(1,(komnavn2=$B185)*(komaar2=Skyggetabeller!G$10),0),44)/INDEX(Data_kom2,MATCH(1,(komnavn2=$B185)*(komaar2=Skyggetabeller!G$10),0),47)),\"\"),\"*\")","v":0.17829457364341086},{"$f":"IFERROR(IF(Datanedslag>=H$20,IF(INDEX(Data_kom2,MATCH(1,(komnavn2=$B185)*(komaar2=Skyggetabeller!H$10),0),44)=\"\",\"*\",INDEX(Data_kom2,MATCH(1,(komnavn2=$B185)*(komaar2=Skyggetabeller!H$10),0),44)/INDEX(Data_kom2,MATCH(1,(komnavn2=$B185)*(komaar2=Skyggetabeller!H$10),0),47)),\"\"),\"*\")","v":0.13253012048192772},{"$f":"IFERROR(IF(Datanedslag>=I$20,IF(INDEX(Data_kom2,MATCH(1,(komnavn2=$B185)*(komaar2=Skyggetabeller!I$10),0),44)=\"\",\"*\",INDEX(Data_kom2,MATCH(1,(komnavn2=$B185)*(komaar2=Skyggetabeller!I$10),0),44)/INDEX(Data_kom2,MATCH(1,(komnavn2=$B185)*(komaar2=Skyggetabeller!I$10),0),47)),\"\"),\"*\")","v":0.10687022900763359},{"$f":"IFERROR(IF(Datanedslag>=J$20,IF(INDEX(Data_kom2,MATCH(1,(komnavn2=$B185)*(komaar2=Skyggetabeller!J$10),0),44)=\"\",\"*\",INDEX(Data_kom2,MATCH(1,(komnavn2=$B185)*(komaar2=Skyggetabeller!J$10),0),44)/INDEX(Data_kom2,MATCH(1,(komnavn2=$B185)*(komaar2=Skyggetabeller!J$10),0),47)),\"\"),\"*\")","v":0.12359550561797752},{"$f":"IFERROR(IF(Datanedslag>=K$20,IF(INDEX(Data_kom2,MATCH(1,(komnavn2=$B185)*(komaar2=Skyggetabeller!K$10),0),44)=\"\",\"*\",INDEX(Data_kom2,MATCH(1,(komnavn2=$B185)*(komaar2=Skyggetabeller!K$10),0),44)/INDEX(Data_kom2,MATCH(1,(komnavn2=$B185)*(komaar2=Skyggetabeller!K$10),0),47)),\"\"),\"*\")","v":9.6428571428571433E-2},{"$f":"IFERROR(IF(Datanedslag>=L$20,IF(INDEX(Data_kom2,MATCH(1,(komnavn2=$B185)*(komaar2=Skyggetabeller!L$10),0),44)=\"\",\"*\",INDEX(Data_kom2,MATCH(1,(komnavn2=$B185)*(komaar2=Skyggetabeller!L$10),0),44)/INDEX(Data_kom2,MATCH(1,(komnavn2=$B185)*(komaar2=Skyggetabeller!L$10),0),47)),\"\"),\"*\")","v":0.17454545454545456},{"$f":"IFERROR(IF(Datanedslag>=M$20,IF(INDEX(Data_kom2,MATCH(1,(komnavn2=$B185)*(komaar2=Skyggetabeller!M$10),0),44)=\"\",\"*\",INDEX(Data_kom2,MATCH(1,(komnavn2=$B185)*(komaar2=Skyggetabeller!M$10),0),44)/INDEX(Data_kom2,MATCH(1,(komnavn2=$B185)*(komaar2=Skyggetabeller!M$10),0),47)),\"\"),\"*\")","v":0.10843373493975904}]
[null,"Sammenligningskommuner",null,{"$f":"IFERROR(IF(Datanedslag>=D$20,IF(Hjælpefane!$C$4=\"\",\"*\",SUM(Hjælpefane!$X$16:$X$22))/SUM(Hjælpefane!$Y$16:$Y$22),\"\"),\"\")","v":0.14074074074074075},{"$f":"IFERROR(IF(Datanedslag>=E$20,IF(Hjælpefane!$C$4=\"\",\"*\",SUM(Hjælpefane!$X$28:$X$34))/SUM(Hjælpefane!$Y$28:$Y$34),\"\"),\"\")","v":9.8765432098765427E-2},{"$f":"IFERROR(IF(Datanedslag>=F$20,IF(Hjælpefane!$C$4=\"\",\"*\",SUM(Hjælpefane!$X$40:$X$46))/SUM(Hjælpefane!$Y$40:$Y$46),\"\"),\"\")","v":0.14503816793893129},{"$f":"IFERROR(IF(Datanedslag>=G$20,IF(Hjælpefane!$C$4=\"\",\"*\",SUM(Hjælpefane!$X$52:$X$58))/SUM(Hjælpefane!$Y$52:$Y$58),\"\"),\"\")","v":0.11355311355311355},{"$f":"IFERROR(IF(Datanedslag>=H$20,IF(Hjælpefane!$C$4=\"\",\"*\",SUM(Hjælpefane!$X$64:$X$70))/SUM(Hjælpefane!$Y$64:$Y$70),\"\"),\"\")","v":0.10661764705882353},{"$f":"IFERROR(IF(Datanedslag>=I$20,IF(Hjælpefane!$C$4=\"\",\"*\",SUM(Hjælpefane!$X$76:$X$82))/SUM(Hjælpefane!$Y$76:$Y$82),\"\"),\"\")","v":8.1272084805653705E-2},{"$f":"IFERROR(IF(Datanedslag>=J$20,IF(Hjælpefane!$C$4=\"\",\"*\",SUM(Hjælpefane!$X$88:$X$94))/SUM(Hjælpefane!$Y$88:$Y$94),\"\"),\"\")","v":0.12152777777777778},{"$f":"IFERROR(IF(Datanedslag>=K$20,IF(Hjælpefane!$C$4=\"\",\"*\",SUM(Hjælpefane!$X$100:$X$106))/SUM(Hjælpefane!$Y$100:$Y$106),\"\"),\"\")","v":0.11475409836065574},{"$f":"IFERROR(IF(Datanedslag>=L$20,IF(Hjælpefane!$C$4=\"\",\"*\",SUM(Hjælpefane!$X$100:$X$106))/SUM(Hjælpefane!$Y$100:$Y$106),\"\"),\"\")","v":0.11475409836065574},{"$f":"IFERROR(IF(Datanedslag>=M$20,IF(Hjælpefane!$C$4=\"\",\"*\",SUM(Hjælpefane!$X$100:$X$106))/SUM(Hjælpefane!$Y$100:$Y$106),\"\"),\"\")","v":0.11475409836065574}]
[null,"Landsgennemsnit",null,{"$f":"IF(Datanedslag>=D$20,IF(INDEX(Data_land,MATCH(D$19,Landaar,0),44)=\"\",\"*\",IF(INDEX(Data_land,MATCH(D$19,Landaar,0),47)=\"\",\"*\",IF(INDEX(Data_land,MATCH(D$19,Landaar,0),44)=\"\",\"*\",INDEX(Data_land,MATCH(D$19,Landaar,0),44)/INDEX(Data_land,MATCH(D$19,Landaar,0),47)))),\"\")","v":0.12464101091326824},{"$f":"IF(Datanedslag>=E$20,IF(INDEX(Data_land,MATCH(E$19,Landaar,0),44)=\"\",\"*\",IF(INDEX(Data_land,MATCH(E$19,Landaar,0),47)=\"\",\"*\",IF(INDEX(Data_land,MATCH(E$19,Landaar,0),44)=\"\",\"*\",INDEX(Data_land,MATCH(E$19,Landaar,0),44)/INDEX(Data_land,MATCH(E$19,Landaar,0),47)))),\"\")","v":0.13150371640937678},{"$f":"IF(Datanedslag>=F$20,IF(INDEX(Data_land,MATCH(F$19,Landaar,0),44)=\"\",\"*\",IF(INDEX(Data_land,MATCH(F$19,Landaar,0),47)=\"\",\"*\",IF(INDEX(Data_land,MATCH(F$19,Landaar,0),44)=\"\",\"*\",INDEX(Data_land,MATCH(F$19,Landaar,0),44)/INDEX(Data_land,MATCH(F$19,Landaar,0),47)))),\"\")","v":0.13568129330254042},{"$f":"IF(Datanedslag>=G$20,IF(INDEX(Data_land,MATCH(G$19,Landaar,0),44)=\"\",\"*\",IF(INDEX(Data_land,MATCH(G$19,Landaar,0),47)=\"\",\"*\",IF(INDEX(Data_land,MATCH(G$19,Landaar,0),44)=\"\",\"*\",INDEX(Data_land,MATCH(G$19,Landaar,0),44)/INDEX(Data_land,MATCH(G$19,Landaar,0),47)))),\"\")","v":0.136337039204213},{"$f":"IF(Datanedslag>=H$20,IF(INDEX(Data_land,MATCH(H$19,Landaar,0),44)=\"\",\"*\",IF(INDEX(Data_land,MATCH(H$19,Landaar,0),47)=\"\",\"*\",IF(INDEX(Data_land,MATCH(H$19,Landaar,0),44)=\"\",\"*\",INDEX(Data_land,MATCH(H$19,Landaar,0),44)/INDEX(Data_land,MATCH(H$19,Landaar,0),47)))),\"\")","v":0.12396694214876033},{"$f":"IF(Datanedslag>=I$20,IF(INDEX(Data_land,MATCH(I$19,Landaar,0),44)=\"\",\"*\",IF(INDEX(Data_land,MATCH(I$19,Landaar,0),47)=\"\",\"*\",IF(INDEX(Data_land,MATCH(I$19,Landaar,0),44)=\"\",\"*\",INDEX(Data_land,MATCH(I$19,Landaar,0),44)/INDEX(Data_land,MATCH(I$19,Landaar,0),47)))),\"\")","v":0.1233611442193087},{"$f":"IF(Datanedslag>=J$20,IF(INDEX(Data_land,MATCH(J$19,Landaar,0),44)=\"\",\"*\",IF(INDEX(Data_land,MATCH(J$19,Landaar,0),47)=\"\",\"*\",IF(INDEX(Data_land,MATCH(J$19,Landaar,0),44)=\"\",\"*\",INDEX(Data_land,MATCH(J$19,Landaar,0),44)/INDEX(Data_land,MATCH(J$19,Landaar,0),47)))),\"\")","v":0.12166172106824925},{"$f":"IF(Datanedslag>=K$20,IF(INDEX(Data_land,MATCH(K$19,Landaar,0),44)=\"\",\"*\",IF(INDEX(Data_land,MATCH(K$19,Landaar,0),47)=\"\",\"*\",IF(INDEX(Data_land,MATCH(K$19,Landaar,0),44)=\"\",\"*\",INDEX(Data_land,MATCH(K$19,Landaar,0),44)/INDEX(Data_land,MATCH(K$19,Landaar,0),47)))),\"\")","v":0.12368728121353559},{"$f":"IF(Datanedslag>=L$20,IF(INDEX(Data_land,MATCH(L$19,Landaar,0),44)=\"\",\"*\",IF(INDEX(Data_land,MATCH(L$19,Landaar,0),47)=\"\",\"*\",IF(INDEX(Data_land,MATCH(L$19,Landaar,0),44)=\"\",\"*\",INDEX(Data_land,MATCH(L$19,Landaar,0),44)/INDEX(Data_land,MATCH(L$19,Landaar,0),47)))),\"\")","v":0.12801377726750862},{"$f":"IF(Datanedslag>=M$20,IF(INDEX(Data_land,MATCH(M$19,Landaar,0),44)=\"\",\"*\",IF(INDEX(Data_land,MATCH(M$19,Landaar,0),47)=\"\",\"*\",IF(INDEX(Data_land,MATCH(M$19,Landaar,0),44)=\"\",\"*\",INDEX(Data_land,MATCH(M$19,Landaar,0),44)/INDEX(Data_land,MATCH(M$19,Landaar,0),47)))),\"\")","v":0.12485811577752554}]
[]
[null,{"$f":"B185&(\", N\")","v":"Herning, N"},null,{"$f":"IF(Datanedslag>=D$20,IF(INDEX(Data_kom2,MATCH(1,(komnavn2=$B185)*(komaar2=Skyggetabeller!D$10),0),47)=\"\",\"*\",INDEX(Data_kom2,MATCH(1,(komnavn2=$B185)*(komaar2=Skyggetabeller!D$10),0),47)),\"\")","v":291},{"$f":"IF(Datanedslag>=E$20,IF(INDEX(Data_kom2,MATCH(1,(komnavn2=$B185)*(komaar2=Skyggetabeller!E$10),0),47)=\"\",\"*\",INDEX(Data_kom2,MATCH(1,(komnavn2=$B185)*(komaar2=Skyggetabeller!E$10),0),47)),\"\")","v":295},{"$f":"IF(Datanedslag>=F$20,IF(INDEX(Data_kom2,MATCH(1,(komnavn2=$B185)*(komaar2=Skyggetabeller!F$10),0),47)=\"\",\"*\",INDEX(Data_kom2,MATCH(1,(komnavn2=$B185)*(komaar2=Skyggetabeller!F$10),0),47)),\"\")","v":276},{"$f":"IF(Datanedslag>=G$20,IF(INDEX(Data_kom2,MATCH(1,(komnavn2=$B185)*(komaar2=Skyggetabeller!G$10),0),47)=\"\",\"*\",INDEX(Data_kom2,MATCH(1,(komnavn2=$B185)*(komaar2=Skyggetabeller!G$10),0),47)),\"\")","v":258},{"$f":"IF(Datanedslag>=H$20,IF(INDEX(Data_kom2,MATCH(1,(komnavn2=$B185)*(komaar2=Skyggetabeller!H$10),0),47)=\"\",\"*\",INDEX(Data_kom2,MATCH(1,(komnavn2=$B185)*(komaar2=Skyggetabeller!H$10),0),47)),\"\")","v":249},{"$f":"IF(Datanedslag>=I$20,IF(INDEX(Data_kom2,MATCH(1,(komnavn2=$B185)*(komaar2=Skyggetabeller!I$10),0),47)=\"\",\"*\",INDEX(Data_kom2,MATCH(1,(komnavn2=$B185)*(komaar2=Skyggetabeller!I$10),0),47)),\"\")","v":262},{"$f":"IF(Datanedslag>=J$20,IF(INDEX(Data_kom2,MATCH(1,(komnavn2=$B185)*(komaar2=Skyggetabeller!J$10),0),47)=\"\",\"*\",INDEX(Data_kom2,MATCH(1,(komnavn2=$B185)*(komaar2=Skyggetabeller!J$10),0),47)),\"\")","v":267},{"$f":"IF(Datanedslag>=K$20,IF(INDEX(Data_kom2,MATCH(1,(komnavn2=$B185)*(komaar2=Skyggetabeller!K$10),0),47)=\"\",\"*\",INDEX(Data_kom2,MATCH(1,(komnavn2=$B185)*(komaar2=Skyggetabeller!K$10),0),47)),\"\")","v":280},{"$f":"IF(Datanedslag>=L$20,IF(INDEX(Data_kom2,MATCH(1,(komnavn2=$B185)*(komaar2=Skyggetabeller!L$10),0),47)=\"\",\"*\",INDEX(Data_kom2,MATCH(1,(komnavn2=$B185)*(komaar2=Skyggetabeller!L$10),0),47)),\"\")","v":275},{"$f":"IF(Datanedslag>=M$20,IF(INDEX(Data_kom2,MATCH(1,(komnavn2=$B185)*(komaar2=Skyggetabeller!M$10),0),47)=\"\",\"*\",INDEX(Data_kom2,MATCH(1,(komnavn2=$B185)*(komaar2=Skyggetabeller!M$10),0),47)),\"\")","v":249}]
[null,{"$f":"B186&(\", N\")","v":"Sammenligningskommuner, N"},null,{"$f":"IF(Datanedslag>=D$20,IF(SUM(Hjælpefane!$Y$16:$Y$22)=\"\",\"\",SUM(Hjælpefane!$Y$16:$Y$22)),\"\")","v":270},{"$f":"IF(Datanedslag>=E$20,IF(SUM(Hjælpefane!$Y$28:$Y$34)=\"\",\"*\",SUM(Hjælpefane!$Y$28:$Y$34)),\"\")","v":243},{"$f":"IF(Datanedslag>=F$20,IF(SUM(Hjælpefane!$Y$40:$Y$46)=\"\",\"*\",SUM(Hjælpefane!$Y$40:$Y$46)),\"\")","v":262},{"$f":"IF(Datanedslag>=G$20,IF(SUM(Hjælpefane!$Y$52:$Y$58)=\"\",\"*\",SUM(Hjælpefane!$Y$52:$Y$58)),\"\")","v":273},{"$f":"IF(Datanedslag>=H$20,IF(SUM(Hjælpefane!$Y$64:$Y$70)=\"\",\"*\",SUM(Hjælpefane!$Y$64:$Y$70)),\"\")","v":272},{"$f":"IF(Datanedslag>=I$20,IF(SUM(Hjælpefane!$Y$76:$Y$82)=\"\",\"*\",SUM(Hjælpefane!$Y$76:$Y$82)),\"\")","v":283},{"$f":"IF(Datanedslag>=J$20,IF(SUM(Hjælpefane!$Y$88:$Y$94)=\"\",\"*\",SUM(Hjælpefane!$Y$88:$Y$94)),\"\")","v":288},{"$f":"IF(Datanedslag>=K$20,IF(SUM(Hjælpefane!$Y$100:$Y$106)=\"\",\"*\",SUM(Hjælpefane!$Y$100:$Y$106)),\"\")","v":305},{"$f":"IF(Datanedslag>=L$20,IF(SUM(Hjælpefane!$Y$100:$Y$106)=\"\",\"*\",SUM(Hjælpefane!$Y$100:$Y$106)),\"\")","v":305},{"$f":"IF(Datanedslag>=M$20,IF(SUM(Hjælpefane!$Y$100:$Y$106)=\"\",\"*\",SUM(Hjælpefane!$Y$100:$Y$106)),\"\")","v":305}]
[null,{"$f":"B187&(\", N\")","v":"Landsgennemsnit, N"},null,{"$f":"IF(Datanedslag>=D$20,IF(INDEX(Data_land,MATCH(Skyggetabeller!D$10,Landaar,0),47)=\"\",\"*\",INDEX(Data_land,MATCH(Skyggetabeller!D$10,Landaar,0),47)),\"\")","v":17410},{"$f":"IF(Datanedslag>=E$20,IF(INDEX(Data_land,MATCH(Skyggetabeller!E$10,Landaar,0),47)=\"\",\"*\",INDEX(Data_land,MATCH(Skyggetabeller!E$10,Landaar,0),47)),\"\")","v":17490},{"$f":"IF(Datanedslag>=F$20,IF(INDEX(Data_land,MATCH(Skyggetabeller!F$10,Landaar,0),47)=\"\",\"*\",INDEX(Data_land,MATCH(Skyggetabeller!F$10,Landaar,0),47)),\"\")","v":17320},{"$f":"IF(Datanedslag>=G$20,IF(INDEX(Data_land,MATCH(Skyggetabeller!G$10,Landaar,0),47)=\"\",\"*\",INDEX(Data_land,MATCH(Skyggetabeller!G$10,Landaar,0),47)),\"\")","v":17090},{"$f":"IF(Datanedslag>=H$20,IF(INDEX(Data_land,MATCH(Skyggetabeller!H$10,Landaar,0),47)=\"\",\"*\",INDEX(Data_land,MATCH(Skyggetabeller!H$10,Landaar,0),47)),\"\")","v":16940},{"$f":"IF(Datanedslag>=I$20,IF(INDEX(Data_land,MATCH(Skyggetabeller!I$10,Landaar,0),47)=\"\",\"*\",INDEX(Data_land,MATCH(Skyggetabeller!I$10,Landaar,0),47)),\"\")","v":16780},{"$f":"IF(Datanedslag>=J$20,IF(INDEX(Data_land,MATCH(Skyggetabeller!J$10,Landaar,0),47)=\"\",\"*\",INDEX(Data_land,MATCH(Skyggetabeller!J$10,Landaar,0),47)),\"\")","v":16850},{"$f":"IF(Datanedslag>=K$20,IF(INDEX(Data_land,MATCH(Skyggetabeller!K$10,Landaar,0),47)=\"\",\"*\",INDEX(Data_land,MATCH(Skyggetabeller!K$10,Landaar,0),47)),\"\")","v":17140},{"$f":"IF(Datanedslag>=L$20,IF(INDEX(Data_land,MATCH(Skyggetabeller!L$10,Landaar,0),47)=\"\",\"*\",INDEX(Data_land,MATCH(Skyggetabeller!L$10,Landaar,0),47)),\"\")","v":17420},{"$f":"IF(Datanedslag>=M$20,IF(INDEX(Data_land,MATCH(Skyggetabeller!M$10,Landaar,0),47)=\"\",\"*\",INDEX(Data_land,MATCH(Skyggetabeller!M$10,Landaar,0),47)),\"\")","v":17620}]
[]
[]
[null,"Nøgletal 9 - Fra forebyggelse og ned ad trappen"]
[]
[null,{"$f":"Kommune","v":"Herning"},{"$f":"Skyggetabeller!C$10","v":20181},{"$f":"Skyggetabeller!D$10","v":20182},{"$f":"Skyggetabeller!E$10","v":20191},{"$f":"Skyggetabeller!F$10","v":20192},{"$f":"Skyggetabeller!G$10","v":20201},{"$f":"Skyggetabeller!H$10","v":20202},{"$f":"Skyggetabeller!I$10","v":20211},{"$f":"Skyggetabeller!J$10","v":20212},{"$f":"Skyggetabeller!K$10","v":20221},{"$f":"Skyggetabeller!L$10","v":20222},{"$f":"Skyggetabeller!M$10","v":20231}]
[null,null,{"$f":"Skyggetabeller!C$11","v":"2018-01-01"},{"$f":"Skyggetabeller!D$11","v":"2018-07-01"},{"$f":"Skyggetabeller!E$11","v":"2019-01-01"},{"$f":"Skyggetabeller!F$11","v":"2019-07-01"},{"$f":"Skyggetabeller!G$11","v":"2020-01-01"},{"$f":"Skyggetabeller!H$11","v":"2020-07-01"},{"$f":"Skyggetabeller!I$11","v":"2021-01-01"},{"$f":"Skyggetabeller!J$11","v":"2021-07-01"},{"$f":"Skyggetabeller!K$11","v":"2022-01-01"},{"$f":"Skyggetabeller!L$11","v":"2022-07-01"},{"$f":"Skyggetabeller!M$11","v":"2023-01-01"}]
[null,"Antal modtagere",null,{"$f":"IFERROR(IF(INDEX(Data_kom2,MATCH(1,(komnavn2=Kommune)*(komaar2=D196),0),48)=\"\",\"*\",INDEX(Data_kom2,MATCH(1,(komnavn2=Kommune)*(komaar2=D196),0),48)),\"Ingen data\")","v":0},{"$f":"IFERROR(IF(INDEX(Data_kom2,MATCH(1,(komnavn2=Kommune)*(komaar2=E196),0),48)=\"\",\"*\",INDEX(Data_kom2,MATCH(1,(komnavn2=Kommune)*(komaar2=E196),0),48)),\"Ingen data\")","v":0},{"$f":"IFERROR(IF(INDEX(Data_kom2,MATCH(1,(komnavn2=Kommune)*(komaar2=F196),0),48)=\"\",\"*\",INDEX(Data_kom2,MATCH(1,(komnavn2=Kommune)*(komaar2=F196),0),48)),\"Ingen data\")","v":0},{"$f":"IFERROR(IF(INDEX(Data_kom2,MATCH(1,(komnavn2=Kommune)*(komaar2=G196),0),48)=\"\",\"*\",INDEX(Data_kom2,MATCH(1,(komnavn2=Kommune)*(komaar2=G196),0),48)),\"Ingen data\")","v":0},{"$f":"IFERROR(IF(INDEX(Data_kom2,MATCH(1,(komnavn2=Kommune)*(komaar2=H196),0),48)=\"\",\"*\",INDEX(Data_kom2,MATCH(1,(komnavn2=Kommune)*(komaar2=H196),0),48)),\"Ingen data\")","v":0},{"$f":"IFERROR(IF(INDEX(Data_kom2,MATCH(1,(komnavn2=Kommune)*(komaar2=I196),0),48)=\"\",\"*\",INDEX(Data_kom2,MATCH(1,(komnavn2=Kommune)*(komaar2=I196),0),48)),\"Ingen data\")","v":8},{"$f":"IFERROR(IF(INDEX(Data_kom2,MATCH(1,(komnavn2=Kommune)*(komaar2=J196),0),48)=\"\",\"*\",INDEX(Data_kom2,MATCH(1,(komnavn2=Kommune)*(komaar2=J196),0),48)),\"Ingen data\")","v":12},{"$f":"IFERROR(IF(INDEX(Data_kom2,MATCH(1,(komnavn2=Kommune)*(komaar2=K196),0),48)=\"\",\"*\",INDEX(Data_kom2,MATCH(1,(komnavn2=Kommune)*(komaar2=K196),0),48)),\"Ingen data\")","v":10},{"$f":"IFERROR(IF(INDEX(Data_kom2,MATCH(1,(komnavn2=Kommune)*(komaar2=L196),0),48)=\"\",\"*\",INDEX(Data_kom2,MATCH(1,(komnavn2=Kommune)*(komaar2=L196),0),48)),\"Ingen data\")","v":14},{"$f":"IFERROR(IF(INDEX(Data_kom2,MATCH(1,(komnavn2=Kommune)*(komaar2=M196),0),48)=\"\",\"*\",INDEX(Data_kom2,MATCH(1,(komnavn2=Kommune)*(komaar2=M196),0),48)),\"Ingen data\")","v":8},"Ved næste datanedslag trækkes formlen i den gule række én gang til højre. Trækkes kun i gule felter"]
[]
[null,null,{"$f":"Skyggetabeller!C$11","v":"2018-01-01"},{"$f":"Skyggetabeller!D$11","v":"2018-07-01"},{"$f":"Skyggetabeller!E$11","v":"2019-01-01"},{"$f":"Skyggetabeller!F$11","v":"2019-07-01"},{"$f":"Skyggetabeller!G$11","v":"2020-01-01"},{"$f":"Skyggetabeller!H$11","v":"2020-07-01"},{"$f":"Skyggetabeller!I$11","v":"2021-01-01"},{"$f":"Skyggetabeller!J$11","v":"2021-07-01"},{"$f":"Skyggetabeller!K$11","v":"2022-01-01"},{"$f":"Skyggetabeller!L$11","v":"2022-07-01"},{"$f":"Skyggetabeller!M$11","v":"2023-01-01"}]
[null,{"$f":"Kommune","v":"Herning"},null,{"$f":"IFERROR(IF(Datanedslag>=D$200,IF(INDEX(Data_kom2,MATCH(1,(komnavn2=$B201)*(komaar2=Skyggetabeller!D$10),0),48)=\"\",\"*\",INDEX(Data_kom2,MATCH(1,(komnavn2=$B201)*(komaar2=Skyggetabeller!D$10),0),48)/INDEX(Data_kom2,MATCH(1,(komnavn2=$B201)*(komaar2=Skyggetabeller!D$10),0),51)),\"\"),\"*\")","v":"*"},{"$f":"IFERROR(IF(Datanedslag>=E$200,IF(INDEX(Data_kom2,MATCH(1,(komnavn2=$B201)*(komaar2=Skyggetabeller!E$10),0),48)=\"\",\"*\",INDEX(Data_kom2,MATCH(1,(komnavn2=$B201)*(komaar2=Skyggetabeller!E$10),0),48)/INDEX(Data_kom2,MATCH(1,(komnavn2=$B201)*(komaar2=Skyggetabeller!E$10),0),51)),\"\"),\"*\")","v":"*"},{"$f":"IFERROR(IF(Datanedslag>=F$200,IF(INDEX(Data_kom2,MATCH(1,(komnavn2=$B201)*(komaar2=Skyggetabeller!F$10),0),48)=\"\",\"*\",INDEX(Data_kom2,MATCH(1,(komnavn2=$B201)*(komaar2=Skyggetabeller!F$10),0),48)/INDEX(Data_kom2,MATCH(1,(komnavn2=$B201)*(komaar2=Skyggetabeller!F$10),0),51)),\"\"),\"*\")","v":"*"},{"$f":"IFERROR(IF(Datanedslag>=G$200,IF(INDEX(Data_kom2,MATCH(1,(komnavn2=$B201)*(komaar2=Skyggetabeller!G$10),0),48)=\"\",\"*\",INDEX(Data_kom2,MATCH(1,(komnavn2=$B201)*(komaar2=Skyggetabeller!G$10),0),48)/INDEX(Data_kom2,MATCH(1,(komnavn2=$B201)*(komaar2=Skyggetabeller!G$10),0),51)),\"\"),\"*\")","v":"*"},{"$f":"IFERROR(IF(Datanedslag>=H$200,IF(INDEX(Data_kom2,MATCH(1,(komnavn2=$B201)*(komaar2=Skyggetabeller!H$10),0),48)=\"\",\"*\",INDEX(Data_kom2,MATCH(1,(komnavn2=$B201)*(komaar2=Skyggetabeller!H$10),0),48)/INDEX(Data_kom2,MATCH(1,(komnavn2=$B201)*(komaar2=Skyggetabeller!H$10),0),51)),\"\"),\"*\")","v":"*"},{"$f":"IFERROR(IF(Datanedslag>=I$200,IF(INDEX(Data_kom2,MATCH(1,(komnavn2=$B201)*(komaar2=Skyggetabeller!I$10),0),48)=\"\",\"*\",INDEX(Data_kom2,MATCH(1,(komnavn2=$B201)*(komaar2=Skyggetabeller!I$10),0),48)/INDEX(Data_kom2,MATCH(1,(komnavn2=$B201)*(komaar2=Skyggetabeller!I$10),0),51)),\"\"),\"*\")","v":0.61538461538461542},{"$f":"IFERROR(IF(Datanedslag>=J$200,IF(INDEX(Data_kom2,MATCH(1,(komnavn2=$B201)*(komaar2=Skyggetabeller!J$10),0),48)=\"\",\"*\",INDEX(Data_kom2,MATCH(1,(komnavn2=$B201)*(komaar2=Skyggetabeller!J$10),0),48)/INDEX(Data_kom2,MATCH(1,(komnavn2=$B201)*(komaar2=Skyggetabeller!J$10),0),51)),\"\"),\"*\")","v":0.70588235294117652},{"$f":"IFERROR(IF(Datanedslag>=K$200,IF(INDEX(Data_kom2,MATCH(1,(komnavn2=$B201)*(komaar2=Skyggetabeller!K$10),0),48)=\"\",\"*\",INDEX(Data_kom2,MATCH(1,(komnavn2=$B201)*(komaar2=Skyggetabeller!K$10),0),48)/INDEX(Data_kom2,MATCH(1,(komnavn2=$B201)*(komaar2=Skyggetabeller!K$10),0),51)),\"\"),\"*\")","v":0.625},{"$f":"IFERROR(IF(Datanedslag>=L$200,IF(INDEX(Data_kom2,MATCH(1,(komnavn2=$B201)*(komaar2=Skyggetabeller!L$10),0),48)=\"\",\"*\",INDEX(Data_kom2,MATCH(1,(komnavn2=$B201)*(komaar2=Skyggetabeller!L$10),0),48)/INDEX(Data_kom2,MATCH(1,(komnavn2=$B201)*(komaar2=Skyggetabeller!L$10),0),51)),\"\"),\"*\")","v":0.73684210526315785},{"$f":"IFERROR(IF(Datanedslag>=M$200,IF(INDEX(Data_kom2,MATCH(1,(komnavn2=$B201)*(komaar2=Skyggetabeller!M$10),0),48)=\"\",\"*\",INDEX(Data_kom2,MATCH(1,(komnavn2=$B201)*(komaar2=Skyggetabeller!M$10),0),48)/INDEX(Data_kom2,MATCH(1,(komnavn2=$B201)*(komaar2=Skyggetabeller!M$10),0),51)),\"\"),\"*\")","v":0.2857142857142857}]
[null,"Sammenligningskommuner",null,{"$f":"IFERROR(IF(Datanedslag>=D$20,IF(Hjælpefane!$C$4=\"\",\"*\",SUM(Hjælpefane!$Z$16:$Z$22))/SUM(Hjælpefane!$AA$16:$AA$22),\"\"),\"\")","v":""},{"$f":"IFERROR(IF(Datanedslag>=E$20,IF(Hjælpefane!$C$4=\"\",\"*\",SUM(Hjælpefane!$Z$28:$Z$32))/SUM(Hjælpefane!$AA$28:$AA$32),\"\"),\"\")","v":""},{"$f":"IFERROR(IF(Datanedslag>=F$20,IF(Hjælpefane!$C$4=\"\",\"*\",SUM(Hjælpefane!$Z$40:$Z$46))/SUM(Hjælpefane!$AA$40:$AA$46),\"\"),\"\")","v":""},{"$f":"IFERROR(IF(Datanedslag>=G$20,IF(Hjælpefane!$C$4=\"\",\"*\",SUM(Hjælpefane!$Z$52:$Z$58))/SUM(Hjælpefane!$AA$52:$AA$58),\"\"),\"\")","v":""},{"$f":"IFERROR(IF(Datanedslag>=H$20,IF(Hjælpefane!$C$4=\"\",\"*\",SUM(Hjælpefane!$Z$64:$Z$70))/SUM(Hjælpefane!$AA$64:$AA$70),\"\"),\"\")","v":""},{"$f":"IFERROR(IF(Datanedslag>=I$20,IF(Hjælpefane!$C$4=\"\",\"*\",SUM(Hjælpefane!$Z$76:$Z$82))/SUM(Hjælpefane!$AA$76:$AA$82),\"\"),\"\")","v":""},{"$f":"IFERROR(IF(Datanedslag>=J$20,IF(Hjælpefane!$C$4=\"\",\"*\",SUM(Hjælpefane!$Z$88:$Z$94))/SUM(Hjælpefane!$AA$88:$AA$94),\"\"),\"\")","v":""},{"$f":"IFERROR(IF(Datanedslag>=K$20,IF(Hjælpefane!$C$4=\"\",\"*\",SUM(Hjælpefane!$Z$100:$Z$106))/SUM(Hjælpefane!$AA$100:$AA$106),\"\"),\"\")","v":""},{"$f":"IFERROR(IF(Datanedslag>=L$20,IF(Hjælpefane!$C$4=\"\",\"*\",SUM(Hjælpefane!$Z$100:$Z$106))/SUM(Hjælpefane!$AA$100:$AA$106),\"\"),\"\")","v":""},{"$f":"IFERROR(IF(Datanedslag>=M$20,IF(Hjælpefane!$C$4=\"\",\"*\",SUM(Hjælpefane!$Z$100:$Z$106))/SUM(Hjælpefane!$AA$100:$AA$106),\"\"),\"\")","v":""}]
[null,"Landsgennemsnit",null,{"$f":"IFERROR(IF(Datanedslag>=D$20,IF(INDEX(Data_land,MATCH(D$19,Landaar,0),48)=\"\",\"*\",INDEX(Data_land,MATCH(D$19,Landaar,0),48)/INDEX(Data_land,MATCH(D$19,Landaar,0),51)),\"\"),0)","v":0},0.77777777777777779,0.66666666666666663,0.62790697674418605,0.54098360655737709,0.58241758241758246,0.61206896551724133,0.52777777777777779,0.58260869565217388,0.50406504065040647]
[]
[null,{"$f":"B201&(\", N\")","v":"Herning, N"},null,{"$f":"IF(Datanedslag>=D$20,IF(INDEX(Data_kom2,MATCH(1,(komnavn2=$B201)*(komaar2=Skyggetabeller!D$10),0),51)=\"\",\"*\",INDEX(Data_kom2,MATCH(1,(komnavn2=$B201)*(komaar2=Skyggetabeller!D$10),0),51)),\"\")","v":0},{"$f":"IF(Datanedslag>=E$20,IF(INDEX(Data_kom2,MATCH(1,(komnavn2=$B201)*(komaar2=Skyggetabeller!E$10),0),51)=\"\",\"*\",INDEX(Data_kom2,MATCH(1,(komnavn2=$B201)*(komaar2=Skyggetabeller!E$10),0),51)),\"\")","v":0},{"$f":"IF(Datanedslag>=F$20,IF(INDEX(Data_kom2,MATCH(1,(komnavn2=$B201)*(komaar2=Skyggetabeller!F$10),0),51)=\"\",\"*\",INDEX(Data_kom2,MATCH(1,(komnavn2=$B201)*(komaar2=Skyggetabeller!F$10),0),51)),\"\")","v":0},{"$f":"IF(Datanedslag>=G$20,IF(INDEX(Data_kom2,MATCH(1,(komnavn2=$B201)*(komaar2=Skyggetabeller!G$10),0),51)=\"\",\"*\",INDEX(Data_kom2,MATCH(1,(komnavn2=$B201)*(komaar2=Skyggetabeller!G$10),0),51)),\"\")","v":0},{"$f":"IF(Datanedslag>=H$20,IF(INDEX(Data_kom2,MATCH(1,(komnavn2=$B201)*(komaar2=Skyggetabeller!H$10),0),51)=\"\",\"*\",INDEX(Data_kom2,MATCH(1,(komnavn2=$B201)*(komaar2=Skyggetabeller!H$10),0),51)),\"\")","v":"*"},{"$f":"IF(Datanedslag>=I$20,IF(INDEX(Data_kom2,MATCH(1,(komnavn2=$B201)*(komaar2=Skyggetabeller!I$10),0),51)=\"\",\"*\",INDEX(Data_kom2,MATCH(1,(komnavn2=$B201)*(komaar2=Skyggetabeller!I$10),0),51)),\"\")","v":13},{"$f":"IF(Datanedslag>=J$20,IF(INDEX(Data_kom2,MATCH(1,(komnavn2=$B201)*(komaar2=Skyggetabeller!J$10),0),51)=\"\",\"*\",INDEX(Data_kom2,MATCH(1,(komnavn2=$B201)*(komaar2=Skyggetabeller!J$10),0),51)),\"\")","v":17},{"$f":"IF(Datanedslag>=K$20,IF(INDEX(Data_kom2,MATCH(1,(komnavn2=$B201)*(komaar2=Skyggetabeller!K$10),0),51)=\"\",\"*\",INDEX(Data_kom2,MATCH(1,(komnavn2=$B201)*(komaar2=Skyggetabeller!K$10),0),51)),\"\")","v":16},{"$f":"IF(Datanedslag>=L$20,IF(INDEX(Data_kom2,MATCH(1,(komnavn2=$B201)*(komaar2=Skyggetabeller!L$10),0),51)=\"\",\"*\",INDEX(Data_kom2,MATCH(1,(komnavn2=$B201)*(komaar2=Skyggetabeller!L$10),0),51)),\"\")","v":19},{"$f":"IF(Datanedslag>=M$20,IF(INDEX(Data_kom2,MATCH(1,(komnavn2=$B201)*(komaar2=Skyggetabeller!M$10),0),51)=\"\",\"*\",INDEX(Data_kom2,MATCH(1,(komnavn2=$B201)*(komaar2=Skyggetabeller!M$10),0),51)),\"\")","v":28}]
[null,{"$f":"B202&(\", N\")","v":"Sammenligningskommuner, N"},null,{"$f":"IF(Datanedslag>=D$20,IF(SUM(Hjælpefane!$AA$16:$AA$22)=\"\",\"\",SUM(Hjælpefane!$AA$16:$AA$22)),\"\")","v":0},{"$f":"IF(Datanedslag>=E$20,IF(SUM(Hjælpefane!$AA$28:$AA$34)=\"\",\"*\",SUM(Hjælpefane!$AA$28:$AA$34)),\"\")","v":0},{"$f":"IF(Datanedslag>=F$20,IF(SUM(Hjælpefane!$AA$40:$AA$46)=\"\",\"*\",SUM(Hjælpefane!$AA$40:$AA$46)),\"\")","v":0},{"$f":"IF(Datanedslag>=G$20,IF(SUM(Hjælpefane!$AA$52:$AA$58)=\"\",\"*\",SUM(Hjælpefane!$AA$52:$AA$58)),\"\")","v":0},{"$f":"IF(Datanedslag>=H$20,IF(SUM(Hjælpefane!$AA$64:$AA$70)=\"\",\"*\",SUM(Hjælpefane!$AA$64:$AA$70)),\"\")","v":0},{"$f":"IF(Datanedslag>=I$20,IF(SUM(Hjælpefane!$AA$76:$AA$82)=\"\",\"*\",SUM(Hjælpefane!$AA$76:$AA$82)),\"\")","v":0},{"$f":"IF(Datanedslag>=J$20,IF(SUM(Hjælpefane!$AA$88:$AA$94)=\"\",\"*\",SUM(Hjælpefane!$AA$88:$AA$94)),\"\")","v":0},{"$f":"IF(Datanedslag>=K$20,IF(SUM(Hjælpefane!$AA$100:$AA$106)=\"\",\"*\",SUM(Hjælpefane!$AA$100:$AA$106)),\"\")","v":0},{"$f":"IF(Datanedslag>=L$20,IF(SUM(Hjælpefane!$AA$100:$AA$106)=\"\",\"*\",SUM(Hjælpefane!$AA$100:$AA$106)),\"\")","v":0},{"$f":"IF(Datanedslag>=M$20,IF(SUM(Hjælpefane!$AA$100:$AA$106)=\"\",\"*\",SUM(Hjælpefane!$AA$100:$AA$106)),\"\")","v":0}]
[null,{"$f":"B203&(\", N\")","v":"Landsgennemsnit, N"},null,{"$f":"IF(Datanedslag>=D$20,IF(INDEX(Data_land,MATCH(Skyggetabeller!D$10,Landaar,0),51)=\"\",\"*\",INDEX(Data_land,MATCH(Skyggetabeller!D$10,Landaar,0),51)),\"\")","v":0},{"$f":"IF(Datanedslag>=E$20,IF(INDEX(Data_land,MATCH(Skyggetabeller!E$10,Landaar,0),51)=\"\",\"*\",INDEX(Data_land,MATCH(Skyggetabeller!E$10,Landaar,0),51)),\"\")","v":90},{"$f":"IF(Datanedslag>=F$20,IF(INDEX(Data_land,MATCH(Skyggetabeller!F$10,Landaar,0),51)=\"\",\"*\",INDEX(Data_land,MATCH(Skyggetabeller!F$10,Landaar,0),51)),\"\")","v":240},{"$f":"IF(Datanedslag>=G$20,IF(INDEX(Data_land,MATCH(Skyggetabeller!G$10,Landaar,0),51)=\"\",\"*\",INDEX(Data_land,MATCH(Skyggetabeller!G$10,Landaar,0),51)),\"\")","v":430},{"$f":"IF(Datanedslag>=H$20,IF(INDEX(Data_land,MATCH(Skyggetabeller!H$10,Landaar,0),51)=\"\",\"*\",INDEX(Data_land,MATCH(Skyggetabeller!H$10,Landaar,0),51)),\"\")","v":610},{"$f":"IF(Datanedslag>=I$20,IF(INDEX(Data_land,MATCH(Skyggetabeller!I$10,Landaar,0),51)=\"\",\"*\",INDEX(Data_land,MATCH(Skyggetabeller!I$10,Landaar,0),51)),\"\")","v":910},{"$f":"IF(Datanedslag>=J$20,IF(INDEX(Data_land,MATCH(Skyggetabeller!J$10,Landaar,0),51)=\"\",\"*\",INDEX(Data_land,MATCH(Skyggetabeller!J$10,Landaar,0),51)),\"\")","v":1160},{"$f":"IF(Datanedslag>=K$20,IF(INDEX(Data_land,MATCH(Skyggetabeller!K$10,Landaar,0),51)=\"\",\"*\",INDEX(Data_land,MATCH(Skyggetabeller!K$10,Landaar,0),51)),\"\")","v":1080},{"$f":"IF(Datanedslag>=L$20,IF(INDEX(Data_land,MATCH(Skyggetabeller!L$10,Landaar,0),51)=\"\",\"*\",INDEX(Data_land,MATCH(Skyggetabeller!L$10,Landaar,0),51)),\"\")","v":1150},{"$f":"IF(Datanedslag>=M$20,IF(INDEX(Data_land,MATCH(Skyggetabeller!M$10,Landaar,0),51)=\"\",\"*\",INDEX(Data_land,MATCH(Skyggetabeller!M$10,Landaar,0),51)),\"\")","v":1230}]
[]
[]
[null,"Nøgletal 10 - Fra forebyggelse og op ad trappen"]
[]
[null,{"$f":"Kommune","v":"Herning"},{"$f":"Skyggetabeller!C$10","v":20181},{"$f":"Skyggetabeller!D$10","v":20182},{"$f":"Skyggetabeller!E$10","v":20191},{"$f":"Skyggetabeller!F$10","v":20192},{"$f":"Skyggetabeller!G$10","v":20201},{"$f":"Skyggetabeller!H$10","v":20202},{"$f":"Skyggetabeller!I$10","v":20211},{"$f":"Skyggetabeller!J$10","v":20212},{"$f":"Skyggetabeller!K$10","v":20221},{"$f":"Skyggetabeller!L$10","v":20222},{"$f":"Skyggetabeller!M$10","v":20231}]
[null,null,{"$f":"Skyggetabeller!C$11","v":"2018-01-01"},{"$f":"Skyggetabeller!D$11","v":"2018-07-01"},{"$f":"Skyggetabeller!E$11","v":"2019-01-01"},{"$f":"Skyggetabeller!F$11","v":"2019-07-01"},{"$f":"Skyggetabeller!G$11","v":"2020-01-01"},{"$f":"Skyggetabeller!H$11","v":"2020-07-01"},{"$f":"Skyggetabeller!I$11","v":"2021-01-01"},{"$f":"Skyggetabeller!J$11","v":"2021-07-01"},{"$f":"Skyggetabeller!K$11","v":"2022-01-01"},{"$f":"Skyggetabeller!L$11","v":"2022-07-01"},{"$f":"Skyggetabeller!M$11","v":"2023-01-01"}]
[null,"Antal modtagere",null,{"$f":"IFERROR(IF(INDEX(Data_kom2,MATCH(1,(komnavn2=Kommune)*(komaar2=D212),0),52)=\"\",\"*\",INDEX(Data_kom2,MATCH(1,(komnavn2=Kommune)*(komaar2=D212),0),52)),\"Ingen data\")","v":0},{"$f":"IFERROR(IF(INDEX(Data_kom2,MATCH(1,(komnavn2=Kommune)*(komaar2=E212),0),52)=\"\",\"*\",INDEX(Data_kom2,MATCH(1,(komnavn2=Kommune)*(komaar2=E212),0),52)),\"Ingen data\")","v":0},{"$f":"IFERROR(IF(INDEX(Data_kom2,MATCH(1,(komnavn2=Kommune)*(komaar2=F212),0),52)=\"\",\"*\",INDEX(Data_kom2,MATCH(1,(komnavn2=Kommune)*(komaar2=F212),0),52)),\"Ingen data\")","v":0},{"$f":"IFERROR(IF(INDEX(Data_kom2,MATCH(1,(komnavn2=Kommune)*(komaar2=G212),0),52)=\"\",\"*\",INDEX(Data_kom2,MATCH(1,(komnavn2=Kommune)*(komaar2=G212),0),52)),\"Ingen data\")","v":0},{"$f":"IFERROR(IF(INDEX(Data_kom2,MATCH(1,(komnavn2=Kommune)*(komaar2=H212),0),52)=\"\",\"*\",INDEX(Data_kom2,MATCH(1,(komnavn2=Kommune)*(komaar2=H212),0),52)),\"Ingen data\")","v":0},{"$f":"IFERROR(IF(INDEX(Data_kom2,MATCH(1,(komnavn2=Kommune)*(komaar2=I212),0),52)=\"\",\"*\",INDEX(Data_kom2,MATCH(1,(komnavn2=Kommune)*(komaar2=I212),0),52)),\"Ingen data\")","v":"*"},{"$f":"IFERROR(IF(INDEX(Data_kom2,MATCH(1,(komnavn2=Kommune)*(komaar2=J212),0),52)=\"\",\"*\",INDEX(Data_kom2,MATCH(1,(komnavn2=Kommune)*(komaar2=J212),0),52)),\"Ingen data\")","v":"*"},{"$f":"IFERROR(IF(INDEX(Data_kom2,MATCH(1,(komnavn2=Kommune)*(komaar2=K212),0),52)=\"\",\"*\",INDEX(Data_kom2,MATCH(1,(komnavn2=Kommune)*(komaar2=K212),0),52)),\"Ingen data\")","v":"*"},{"$f":"IFERROR(IF(INDEX(Data_kom2,MATCH(1,(komnavn2=Kommune)*(komaar2=L212),0),52)=\"\",\"*\",INDEX(Data_kom2,MATCH(1,(komnavn2=Kommune)*(komaar2=L212),0),52)),\"Ingen data\")","v":"*"},{"$f":"IFERROR(IF(INDEX(Data_kom2,MATCH(1,(komnavn2=Kommune)*(komaar2=M212),0),52)=\"\",\"*\",INDEX(Data_kom2,MATCH(1,(komnavn2=Kommune)*(komaar2=M212),0),52)),\"Ingen data\")","v":6},"Ved næste datanedslag trækkes formlen i den gule række én gang til højre. Trækkes kun i gule felter"]
[]
[null,null,{"$f":"Skyggetabeller!C$11","v":"2018-01-01"},{"$f":"Skyggetabeller!D$11","v":"2018-07-01"},{"$f":"Skyggetabeller!E$11","v":"2019-01-01"},{"$f":"Skyggetabeller!F$11","v":"2019-07-01"},{"$f":"Skyggetabeller!G$11","v":"2020-01-01"},{"$f":"Skyggetabeller!H$11","v":"2020-07-01"},{"$f":"Skyggetabeller!I$11","v":"2021-01-01"},{"$f":"Skyggetabeller!J$11","v":"2021-07-01"},{"$f":"Skyggetabeller!K$11","v":"2022-01-01"},{"$f":"Skyggetabeller!L$11","v":"2022-07-01"},{"$f":"Skyggetabeller!M$11","v":"2023-01-01"}]
[null,{"$f":"Kommune","v":"Herning"},null,{"$f":"IFERROR(IF(Datanedslag>=D$200,IF(INDEX(Data_kom2,MATCH(1,(komnavn2=$B217)*(komaar2=Skyggetabeller!D$10),0),52)=\"\",\"*\",INDEX(Data_kom2,MATCH(1,(komnavn2=$B217)*(komaar2=Skyggetabeller!D$10),0),52)/INDEX(Data_kom2,MATCH(1,(komnavn2=$B217)*(komaar2=Skyggetabeller!D$10),0),55)),\"\"),\"*\")","v":"*"},{"$f":"IFERROR(IF(Datanedslag>=E$200,IF(INDEX(Data_kom2,MATCH(1,(komnavn2=$B217)*(komaar2=Skyggetabeller!E$10),0),52)=\"\",\"*\",INDEX(Data_kom2,MATCH(1,(komnavn2=$B217)*(komaar2=Skyggetabeller!E$10),0),52)/INDEX(Data_kom2,MATCH(1,(komnavn2=$B217)*(komaar2=Skyggetabeller!E$10),0),55)),\"\"),\"*\")","v":"*"},{"$f":"IFERROR(IF(Datanedslag>=F$200,IF(INDEX(Data_kom2,MATCH(1,(komnavn2=$B217)*(komaar2=Skyggetabeller!F$10),0),52)=\"\",\"*\",INDEX(Data_kom2,MATCH(1,(komnavn2=$B217)*(komaar2=Skyggetabeller!F$10),0),52)/INDEX(Data_kom2,MATCH(1,(komnavn2=$B217)*(komaar2=Skyggetabeller!F$10),0),55)),\"\"),\"*\")","v":"*"},{"$f":"IFERROR(IF(Datanedslag>=G$200,IF(INDEX(Data_kom2,MATCH(1,(komnavn2=$B217)*(komaar2=Skyggetabeller!G$10),0),52)=\"\",\"*\",INDEX(Data_kom2,MATCH(1,(komnavn2=$B217)*(komaar2=Skyggetabeller!G$10),0),52)/INDEX(Data_kom2,MATCH(1,(komnavn2=$B217)*(komaar2=Skyggetabeller!G$10),0),55)),\"\"),\"*\")","v":"*"},{"$f":"IFERROR(IF(Datanedslag>=H$200,IF(INDEX(Data_kom2,MATCH(1,(komnavn2=$B217)*(komaar2=Skyggetabeller!H$10),0),52)=\"\",\"*\",INDEX(Data_kom2,MATCH(1,(komnavn2=$B217)*(komaar2=Skyggetabeller!H$10),0),52)/INDEX(Data_kom2,MATCH(1,(komnavn2=$B217)*(komaar2=Skyggetabeller!H$10),0),55)),\"\"),\"*\")","v":"*"},{"$f":"IFERROR(IF(Datanedslag>=I$200,IF(INDEX(Data_kom2,MATCH(1,(komnavn2=$B217)*(komaar2=Skyggetabeller!I$10),0),52)=\"\",\"*\",INDEX(Data_kom2,MATCH(1,(komnavn2=$B217)*(komaar2=Skyggetabeller!I$10),0),52)/INDEX(Data_kom2,MATCH(1,(komnavn2=$B217)*(komaar2=Skyggetabeller!I$10),0),55)),\"\"),\"*\")","v":"*"},{"$f":"IFERROR(IF(Datanedslag>=J$200,IF(INDEX(Data_kom2,MATCH(1,(komnavn2=$B217)*(komaar2=Skyggetabeller!J$10),0),52)=\"\",\"*\",INDEX(Data_kom2,MATCH(1,(komnavn2=$B217)*(komaar2=Skyggetabeller!J$10),0),52)/INDEX(Data_kom2,MATCH(1,(komnavn2=$B217)*(komaar2=Skyggetabeller!J$10),0),55)),\"\"),\"*\")","v":"*"},{"$f":"IFERROR(IF(Datanedslag>=K$200,IF(INDEX(Data_kom2,MATCH(1,(komnavn2=$B217)*(komaar2=Skyggetabeller!K$10),0),52)=\"\",\"*\",INDEX(Data_kom2,MATCH(1,(komnavn2=$B217)*(komaar2=Skyggetabeller!K$10),0),52)/INDEX(Data_kom2,MATCH(1,(komnavn2=$B217)*(komaar2=Skyggetabeller!K$10),0),55)),\"\"),\"*\")","v":"*"},{"$f":"IFERROR(IF(Datanedslag>=L$200,IF(INDEX(Data_kom2,MATCH(1,(komnavn2=$B217)*(komaar2=Skyggetabeller!L$10),0),52)=\"\",\"*\",INDEX(Data_kom2,MATCH(1,(komnavn2=$B217)*(komaar2=Skyggetabeller!L$10),0),52)/INDEX(Data_kom2,MATCH(1,(komnavn2=$B217)*(komaar2=Skyggetabeller!L$10),0),55)),\"\"),\"*\")","v":"*"},{"$f":"IFERROR(IF(Datanedslag>=M$200,IF(INDEX(Data_kom2,MATCH(1,(komnavn2=$B217)*(komaar2=Skyggetabeller!M$10),0),52)=\"\",\"*\",INDEX(Data_kom2,MATCH(1,(komnavn2=$B217)*(komaar2=Skyggetabeller!M$10),0),52)/INDEX(Data_kom2,MATCH(1,(komnavn2=$B217)*(komaar2=Skyggetabeller!M$10),0),55)),\"\"),\"*\")","v":0.21428571428571427}]
[null,"Sammenligningskommuner",null,{"$f":"IFERROR(IF(Datanedslag>=D$20,IF(Hjælpefane!$C$4=\"\",\"*\",SUM(Hjælpefane!$AB$16:$AB$22))/SUM(Hjælpefane!$AC$16:$AC$22),\"\"),\"\")","v":""},{"$f":"IFERROR(IF(Datanedslag>=E$20,IF(Hjælpefane!$C$4=\"\",\"*\",SUM(Hjælpefane!$AB$28:$AB$34))/SUM(Hjælpefane!$AC$28:$AC$34),\"\"),\"\")","v":""},{"$f":"IFERROR(IF(Datanedslag>=F$20,IF(Hjælpefane!$C$4=\"\",\"*\",SUM(Hjælpefane!$AB$40:$AB$46))/SUM(Hjælpefane!$AC$40:$AC$46),\"\"),\"\")","v":""},{"$f":"IFERROR(IF(Datanedslag>=G$20,IF(Hjælpefane!$C$4=\"\",\"*\",SUM(Hjælpefane!$AB$52:$AB$58))/SUM(Hjælpefane!$AC$52:$AC$58),\"\"),\"\")","v":""},{"$f":"IFERROR(IF(Datanedslag>=H$20,IF(Hjælpefane!$C$4=\"\",\"*\",SUM(Hjælpefane!$AB$64:$AB$70))/SUM(Hjælpefane!$AC$64:$AC$70),\"\"),\"\")","v":""},{"$f":"IFERROR(IF(Datanedslag>=I$20,IF(Hjælpefane!$C$4=\"\",\"*\",SUM(Hjælpefane!$AB$76:$AB$82))/SUM(Hjælpefane!$AC$76:$AC$82),\"\"),\"\")","v":""},{"$f":"IFERROR(IF(Datanedslag>=J$20,IF(Hjælpefane!$C$4=\"\",\"*\",SUM(Hjælpefane!$AB$88:$AB$94))/SUM(Hjælpefane!$AC$88:$AC$94),\"\"),\"\")","v":""},{"$f":"IFERROR(IF(Datanedslag>=K$20,IF(Hjælpefane!$C$4=\"\",\"*\",SUM(Hjælpefane!$AB$100:$AB$106))/SUM(Hjælpefane!$AC$100:$AC$106),\"\"),\"\")","v":""},{"$f":"IFERROR(IF(Datanedslag>=L$20,IF(Hjælpefane!$C$4=\"\",\"*\",SUM(Hjælpefane!$AB$100:$AB$106))/SUM(Hjælpefane!$AC$100:$AC$106),\"\"),\"\")","v":""},{"$f":"IFERROR(IF(Datanedslag>=M$20,IF(Hjælpefane!$C$4=\"\",\"*\",SUM(Hjælpefane!$AB$100:$AB$106))/SUM(Hjælpefane!$AC$100:$AC$106),\"\"),\"\")","v":""}]
[null,"Landsgennemsnit",null,{"$f":"IFERROR(IF(Datanedslag>=D$20,IF(INDEX(Data_land,MATCH(D$19,Landaar,0),52)=\"\",\"*\",INDEX(Data_land,MATCH(D$19,Landaar,0),52)/INDEX(Data_land,MATCH(D$19,Landaar,0),55)),\"\"),0)","v":0},{"$f":"IFERROR(IF(Datanedslag>=E$20,IF(INDEX(Data_land,MATCH(E$19,Landaar,0),52)=\"\",\"*\",INDEX(Data_land,MATCH(E$19,Landaar,0),52)/INDEX(Data_land,MATCH(E$19,Landaar,0),55)),\"\"),0)","v":0},{"$f":"IFERROR(IF(Datanedslag>=F$20,IF(INDEX(Data_land,MATCH(F$19,Landaar,0),52)=\"\",\"*\",INDEX(Data_land,MATCH(F$19,Landaar,0),52)/INDEX(Data_land,MATCH(F$19,Landaar,0),55)),\"\"),0)","v":8.3333333333333329E-2},{"$f":"IFERROR(IF(Datanedslag>=G$20,IF(INDEX(Data_land,MATCH(G$19,Landaar,0),52)=\"\",\"*\",INDEX(Data_land,MATCH(G$19,Landaar,0),52)/INDEX(Data_land,MATCH(G$19,Landaar,0),55)),\"\"),0)","v":0.11627906976744186},{"$f":"IFERROR(IF(Datanedslag>=H$20,IF(INDEX(Data_land,MATCH(H$19,Landaar,0),52)=\"\",\"*\",INDEX(Data_land,MATCH(H$19,Landaar,0),52)/INDEX(Data_land,MATCH(H$19,Landaar,0),55)),\"\"),0)","v":9.8360655737704916E-2},{"$f":"IFERROR(IF(Datanedslag>=I$20,IF(INDEX(Data_land,MATCH(I$19,Landaar,0),52)=\"\",\"*\",INDEX(Data_land,MATCH(I$19,Landaar,0),52)/INDEX(Data_land,MATCH(I$19,Landaar,0),55)),\"\"),0)","v":0.10989010989010989},{"$f":"IFERROR(IF(Datanedslag>=J$20,IF(INDEX(Data_land,MATCH(J$19,Landaar,0),52)=\"\",\"*\",INDEX(Data_land,MATCH(J$19,Landaar,0),52)/INDEX(Data_land,MATCH(J$19,Landaar,0),55)),\"\"),0)","v":0.1206896551724138},{"$f":"IFERROR(IF(Datanedslag>=K$20,IF(INDEX(Data_land,MATCH(K$19,Landaar,0),52)=\"\",\"*\",INDEX(Data_land,MATCH(K$19,Landaar,0),52)/INDEX(Data_land,MATCH(K$19,Landaar,0),55)),\"\"),0)","v":0.17592592592592593},{"$f":"IFERROR(IF(Datanedslag>=L$20,IF(INDEX(Data_land,MATCH(L$19,Landaar,0),52)=\"\",\"*\",INDEX(Data_land,MATCH(L$19,Landaar,0),52)/INDEX(Data_land,MATCH(L$19,Landaar,0),55)),\"\"),0)","v":0.14782608695652175},{"$f":"IFERROR(IF(Datanedslag>=M$20,IF(INDEX(Data_land,MATCH(M$19,Landaar,0),52)=\"\",\"*\",INDEX(Data_land,MATCH(M$19,Landaar,0),52)/INDEX(Data_land,MATCH(M$19,Landaar,0),55)),\"\"),0)","v":0.14634146341463414}]
[]
[null,{"$f":"B217&(\", N\")","v":"Herning, N"},null,{"$f":"IF(Datanedslag>=D$20,IF(INDEX(Data_kom2,MATCH(1,(komnavn2=$B217)*(komaar2=Skyggetabeller!D$10),0),55)=\"\",\"*\",INDEX(Data_kom2,MATCH(1,(komnavn2=$B217)*(komaar2=Skyggetabeller!D$10),0),55)),\"\")","v":0},{"$f":"IF(Datanedslag>=E$20,IF(INDEX(Data_kom2,MATCH(1,(komnavn2=$B217)*(komaar2=Skyggetabeller!E$10),0),55)=\"\",\"*\",INDEX(Data_kom2,MATCH(1,(komnavn2=$B217)*(komaar2=Skyggetabeller!E$10),0),55)),\"\")","v":0},{"$f":"IF(Datanedslag>=F$20,IF(INDEX(Data_kom2,MATCH(1,(komnavn2=$B217)*(komaar2=Skyggetabeller!F$10),0),55)=\"\",\"*\",INDEX(Data_kom2,MATCH(1,(komnavn2=$B217)*(komaar2=Skyggetabeller!F$10),0),55)),\"\")","v":0},{"$f":"IF(Datanedslag>=G$20,IF(INDEX(Data_kom2,MATCH(1,(komnavn2=$B217)*(komaar2=Skyggetabeller!G$10),0),55)=\"\",\"*\",INDEX(Data_kom2,MATCH(1,(komnavn2=$B217)*(komaar2=Skyggetabeller!G$10),0),55)),\"\")","v":0},{"$f":"IF(Datanedslag>=H$20,IF(INDEX(Data_kom2,MATCH(1,(komnavn2=$B217)*(komaar2=Skyggetabeller!H$10),0),55)=\"\",\"*\",INDEX(Data_kom2,MATCH(1,(komnavn2=$B217)*(komaar2=Skyggetabeller!H$10),0),55)),\"\")","v":"*"},{"$f":"IF(Datanedslag>=I$20,IF(INDEX(Data_kom2,MATCH(1,(komnavn2=$B217)*(komaar2=Skyggetabeller!I$10),0),55)=\"\",\"*\",INDEX(Data_kom2,MATCH(1,(komnavn2=$B217)*(komaar2=Skyggetabeller!I$10),0),55)),\"\")","v":13},{"$f":"IF(Datanedslag>=J$20,IF(INDEX(Data_kom2,MATCH(1,(komnavn2=$B217)*(komaar2=Skyggetabeller!J$10),0),55)=\"\",\"*\",INDEX(Data_kom2,MATCH(1,(komnavn2=$B217)*(komaar2=Skyggetabeller!J$10),0),55)),\"\")","v":17},{"$f":"IF(Datanedslag>=K$20,IF(INDEX(Data_kom2,MATCH(1,(komnavn2=$B217)*(komaar2=Skyggetabeller!K$10),0),55)=\"\",\"*\",INDEX(Data_kom2,MATCH(1,(komnavn2=$B217)*(komaar2=Skyggetabeller!K$10),0),55)),\"\")","v":16},{"$f":"IF(Datanedslag>=L$20,IF(INDEX(Data_kom2,MATCH(1,(komnavn2=$B217)*(komaar2=Skyggetabeller!L$10),0),55)=\"\",\"*\",INDEX(Data_kom2,MATCH(1,(komnavn2=$B217)*(komaar2=Skyggetabeller!L$10),0),55)),\"\")","v":19},{"$f":"IF(Datanedslag>=M$20,IF(INDEX(Data_kom2,MATCH(1,(komnavn2=$B217)*(komaar2=Skyggetabeller!M$10),0),55)=\"\",\"*\",INDEX(Data_kom2,MATCH(1,(komnavn2=$B217)*(komaar2=Skyggetabeller!M$10),0),55)),\"\")","v":28}]
[null,{"$f":"B218&(\", N\")","v":"Sammenligningskommuner, N"},null,{"$f":"IF(Datanedslag>=D$20,IF(SUM(Hjælpefane!$AC$16:$AC$22)=\"\",\"\",SUM(Hjælpefane!$AC$16:$AC$22)),\"\")","v":0},{"$f":"IF(Datanedslag>=E$20,IF(SUM(Hjælpefane!$AC$28:$AC$34)=\"\",\"*\",SUM(Hjælpefane!$AC$28:$AC$34)),\"\")","v":0},{"$f":"IF(Datanedslag>=F$20,IF(SUM(Hjælpefane!$AC$40:$AC$46)=\"\",\"*\",SUM(Hjælpefane!$AC$40:$AC$46)),\"\")","v":0},{"$f":"IF(Datanedslag>=G$20,IF(SUM(Hjælpefane!$AC$52:$AC$58)=\"\",\"*\",SUM(Hjælpefane!$AC$52:$AC$58)),\"\")","v":0},{"$f":"IF(Datanedslag>=H$20,IF(SUM(Hjælpefane!$AC$64:$AC$70)=\"\",\"*\",SUM(Hjælpefane!$AC$64:$AC$70)),\"\")","v":0},{"$f":"IF(Datanedslag>=I$20,IF(SUM(Hjælpefane!$AC$76:$AC$82)=\"\",\"*\",SUM(Hjælpefane!$AC$76:$AC$82)),\"\")","v":0},{"$f":"IF(Datanedslag>=J$20,IF(SUM(Hjælpefane!$AC$88:$AC$94)=\"\",\"*\",SUM(Hjælpefane!$AC$88:$AC$94)),\"\")","v":0},{"$f":"IF(Datanedslag>=K$20,IF(SUM(Hjælpefane!$AC$100:$AC$106)=\"\",\"*\",SUM(Hjælpefane!$AC$100:$AC$106)),\"\")","v":0},{"$f":"IF(Datanedslag>=L$20,IF(SUM(Hjælpefane!$AC$100:$AC$106)=\"\",\"*\",SUM(Hjælpefane!$AC$100:$AC$106)),\"\")","v":0},{"$f":"IF(Datanedslag>=M$20,IF(SUM(Hjælpefane!$AC$100:$AC$106)=\"\",\"*\",SUM(Hjælpefane!$AC$100:$AC$106)),\"\")","v":0}]
[null,{"$f":"B219&(\", N\")","v":"Landsgennemsnit, N"},null,{"$f":"IF(Datanedslag>=D$20,IF(INDEX(Data_land,MATCH(Skyggetabeller!D$10,Landaar,0),55)=\"\",\"*\",INDEX(Data_land,MATCH(Skyggetabeller!D$10,Landaar,0),55)),\"\")","v":0},{"$f":"IF(Datanedslag>=E$20,IF(INDEX(Data_land,MATCH(Skyggetabeller!E$10,Landaar,0),55)=\"\",\"*\",INDEX(Data_land,MATCH(Skyggetabeller!E$10,Landaar,0),55)),\"\")","v":90},{"$f":"IF(Datanedslag>=F$20,IF(INDEX(Data_land,MATCH(Skyggetabeller!F$10,Landaar,0),55)=\"\",\"*\",INDEX(Data_land,MATCH(Skyggetabeller!F$10,Landaar,0),55)),\"\")","v":240},{"$f":"IF(Datanedslag>=G$20,IF(INDEX(Data_land,MATCH(Skyggetabeller!G$10,Landaar,0),55)=\"\",\"*\",INDEX(Data_land,MATCH(Skyggetabeller!G$10,Landaar,0),55)),\"\")","v":430},{"$f":"IF(Datanedslag>=H$20,IF(INDEX(Data_land,MATCH(Skyggetabeller!H$10,Landaar,0),55)=\"\",\"*\",INDEX(Data_land,MATCH(Skyggetabeller!H$10,Landaar,0),55)),\"\")","v":610},{"$f":"IF(Datanedslag>=I$20,IF(INDEX(Data_land,MATCH(Skyggetabeller!I$10,Landaar,0),55)=\"\",\"*\",INDEX(Data_land,MATCH(Skyggetabeller!I$10,Landaar,0),55)),\"\")","v":910},{"$f":"IF(Datanedslag>=J$20,IF(INDEX(Data_land,MATCH(Skyggetabeller!J$10,Landaar,0),55)=\"\",\"*\",INDEX(Data_land,MATCH(Skyggetabeller!J$10,Landaar,0),55)),\"\")","v":1160},{"$f":"IF(Datanedslag>=K$20,IF(INDEX(Data_land,MATCH(Skyggetabeller!K$10,Landaar,0),55)=\"\",\"*\",INDEX(Data_land,MATCH(Skyggetabeller!K$10,Landaar,0),55)),\"\")","v":1080},{"$f":"IF(Datanedslag>=L$20,IF(INDEX(Data_land,MATCH(Skyggetabeller!L$10,Landaar,0),55)=\"\",\"*\",INDEX(Data_land,MATCH(Skyggetabeller!L$10,Landaar,0),55)),\"\")","v":1150},{"$f":"IF(Datanedslag>=M$20,IF(INDEX(Data_land,MATCH(Skyggetabeller!M$10,Landaar,0),55)=\"\",\"*\",INDEX(Data_land,MATCH(Skyggetabeller!M$10,Landaar,0),55)),\"\")","v":1230}]
[]
[]
[null,"Nøgletal 11 - Uddannelsesgrad"]
[]
[null,{"$f":"Kommune","v":"Herning"},{"$f":"Skyggetabeller!C$10","v":20181},{"$f":"Skyggetabeller!D$10","v":20182},{"$f":"Skyggetabeller!E$10","v":20191},{"$f":"Skyggetabeller!F$10","v":20192},{"$f":"Skyggetabeller!G$10","v":20201},{"$f":"Skyggetabeller!H$10","v":20202},{"$f":"Skyggetabeller!I$10","v":20211},{"$f":"Skyggetabeller!J$10","v":20212},{"$f":"Skyggetabeller!K$10","v":20221},{"$f":"Skyggetabeller!L$10","v":20222},{"$f":"Skyggetabeller!M$10","v":20231}]
[null,null,{"$f":"Skyggetabeller!C$11","v":"2018-01-01"},{"$f":"Skyggetabeller!D$11","v":"2018-07-01"},{"$f":"Skyggetabeller!E$11","v":"2019-01-01"},{"$f":"Skyggetabeller!F$11","v":"2019-07-01"},{"$f":"Skyggetabeller!G$11","v":"2020-01-01"},{"$f":"Skyggetabeller!H$11","v":"2020-07-01"},{"$f":"Skyggetabeller!I$11","v":"2021-01-01"},{"$f":"Skyggetabeller!J$11","v":"2021-07-01"},{"$f":"Skyggetabeller!K$11","v":"2022-01-01"},{"$f":"Skyggetabeller!L$11","v":"2022-07-01"},{"$f":"Skyggetabeller!M$11","v":"2023-01-01"}]
[null,"Uddannelsesgrad",{"$f":"IFERROR(IF(INDEX(Data_kom2,MATCH(1,(komnavn2=Kommune)*(komaar2=C228),0),56)=\"\",\"*\",INDEX(Data_kom2,MATCH(1,(komnavn2=Kommune)*(komaar2=C228),0),56)),\"Ingen data\")","v":1.1680911680911701E-2},{"$f":"IFERROR(IF(INDEX(Data_kom2,MATCH(1,(komnavn2=Kommune)*(komaar2=D228),0),56)=\"\",\"*\",INDEX(Data_kom2,MATCH(1,(komnavn2=Kommune)*(komaar2=D228),0),56)),\"Ingen data\")","v":1.2710262710262699E-2},{"$f":"IFERROR(IF(INDEX(Data_kom2,MATCH(1,(komnavn2=Kommune)*(komaar2=E228),0),56)=\"\",\"*\",INDEX(Data_kom2,MATCH(1,(komnavn2=Kommune)*(komaar2=E228),0),56)),\"Ingen data\")","v":1.39546351084813E-2},{"$f":"IFERROR(IF(INDEX(Data_kom2,MATCH(1,(komnavn2=Kommune)*(komaar2=F228),0),56)=\"\",\"*\",INDEX(Data_kom2,MATCH(1,(komnavn2=Kommune)*(komaar2=F228),0),56)),\"Ingen data\")","v":1.4705882352941201E-2},{"$f":"IFERROR(IF(INDEX(Data_kom2,MATCH(1,(komnavn2=Kommune)*(komaar2=G228),0),56)=\"\",\"*\",INDEX(Data_kom2,MATCH(1,(komnavn2=Kommune)*(komaar2=G228),0),56)),\"Ingen data\")","v":1.6952744225471501E-2},{"$f":"IFERROR(IF(INDEX(Data_kom2,MATCH(1,(komnavn2=Kommune)*(komaar2=H228),0),56)=\"\",\"*\",INDEX(Data_kom2,MATCH(1,(komnavn2=Kommune)*(komaar2=H228),0),56)),\"Ingen data\")","v":1.3155252058646301E-2},{"$f":"IFERROR(IF(INDEX(Data_kom2,MATCH(1,(komnavn2=Kommune)*(komaar2=I228),0),56)=\"\",\"*\",INDEX(Data_kom2,MATCH(1,(komnavn2=Kommune)*(komaar2=I228),0),56)),\"Ingen data\")","v":9.5157433240334807E-3},{"$f":"IFERROR(IF(INDEX(Data_kom2,MATCH(1,(komnavn2=Kommune)*(komaar2=J228),0),56)=\"\",\"*\",INDEX(Data_kom2,MATCH(1,(komnavn2=Kommune)*(komaar2=J228),0),56)),\"Ingen data\")","v":1.7755262640173099E-2},{"$f":"IFERROR(IF(INDEX(Data_kom2,MATCH(1,(komnavn2=Kommune)*(komaar2=K228),0),56)=\"\",\"*\",INDEX(Data_kom2,MATCH(1,(komnavn2=Kommune)*(komaar2=K228),0),56)),\"Ingen data\")","v":2.4854388431411901E-2},{"$f":"IFERROR(IF(INDEX(Data_kom2,MATCH(1,(komnavn2=Kommune)*(komaar2=L228),0),56)=\"\",\"*\",INDEX(Data_kom2,MATCH(1,(komnavn2=Kommune)*(komaar2=L228),0),56)),\"Ingen data\")","v":1.71232876712329E-2},{"$f":"IFERROR(IF(INDEX(Data_kom2,MATCH(1,(komnavn2=Kommune)*(komaar2=M228),0),56)=\"\",\"*\",INDEX(Data_kom2,MATCH(1,(komnavn2=Kommune)*(komaar2=M228),0),56)),\"Ingen data\")","v":1.55448717948718E-2},"Ved næste datanedslag trækkes formlen i den gule række én gang til højre. Trækkes kun i gule felter"]
[]
[null,null,{"$f":"Skyggetabeller!C$11","v":"2018-01-01"},{"$f":"Skyggetabeller!D$11","v":"2018-07-01"},{"$f":"Skyggetabeller!E$11","v":"2019-01-01"},{"$f":"Skyggetabeller!F$11","v":"2019-07-01"},{"$f":"Skyggetabeller!G$11","v":"2020-01-01"},{"$f":"Skyggetabeller!H$11","v":"2020-07-01"},{"$f":"Skyggetabeller!I$11","v":"2021-01-01"},{"$f":"Skyggetabeller!J$11","v":"2021-07-01"},{"$f":"Skyggetabeller!K$11","v":"2022-01-01"},{"$f":"Skyggetabeller!L$11","v":"2022-07-01"},{"$f":"Skyggetabeller!M$11","v":"2023-01-01"}]
[null,{"$f":"Kommune","v":"Herning"},{"$f":"IF(Datanedslag>=C$20,IF(INDEX(Data_kom2,MATCH(1,(komnavn2=$B233)*(komaar2=Skyggetabeller!C$10),0),56)=\"\",\"*\",INDEX(Data_kom2,MATCH(1,(komnavn2=$B233)*(komaar2=Skyggetabeller!C$10),0),56)),\"\")","v":1.1680911680911701E-2},{"$f":"IF(Datanedslag>=D$20,IF(INDEX(Data_kom2,MATCH(1,(komnavn2=$B233)*(komaar2=Skyggetabeller!D$10),0),56)=\"\",\"*\",INDEX(Data_kom2,MATCH(1,(komnavn2=$B233)*(komaar2=Skyggetabeller!D$10),0),56)),\"\")","v":1.2710262710262699E-2},{"$f":"IF(Datanedslag>=E$20,IF(INDEX(Data_kom2,MATCH(1,(komnavn2=$B233)*(komaar2=Skyggetabeller!E$10),0),56)=\"\",\"*\",INDEX(Data_kom2,MATCH(1,(komnavn2=$B233)*(komaar2=Skyggetabeller!E$10),0),56)),\"\")","v":1.39546351084813E-2},{"$f":"IF(Datanedslag>=F$20,IF(INDEX(Data_kom2,MATCH(1,(komnavn2=$B233)*(komaar2=Skyggetabeller!F$10),0),56)=\"\",\"*\",INDEX(Data_kom2,MATCH(1,(komnavn2=$B233)*(komaar2=Skyggetabeller!F$10),0),56)),\"\")","v":1.4705882352941201E-2},{"$f":"IF(Datanedslag>=G$20,IF(INDEX(Data_kom2,MATCH(1,(komnavn2=$B233)*(komaar2=Skyggetabeller!G$10),0),56)=\"\",\"*\",INDEX(Data_kom2,MATCH(1,(komnavn2=$B233)*(komaar2=Skyggetabeller!G$10),0),56)),\"\")","v":1.6952744225471501E-2},{"$f":"IF(Datanedslag>=H$20,IF(INDEX(Data_kom2,MATCH(1,(komnavn2=$B233)*(komaar2=Skyggetabeller!H$10),0),56)=\"\",\"*\",INDEX(Data_kom2,MATCH(1,(komnavn2=$B233)*(komaar2=Skyggetabeller!H$10),0),56)),\"\")","v":1.3155252058646301E-2},{"$f":"IF(Datanedslag>=I$20,IF(INDEX(Data_kom2,MATCH(1,(komnavn2=$B233)*(komaar2=Skyggetabeller!I$10),0),56)=\"\",\"*\",INDEX(Data_kom2,MATCH(1,(komnavn2=$B233)*(komaar2=Skyggetabeller!I$10),0),56)),\"\")","v":9.5157433240334807E-3},{"$f":"IF(Datanedslag>=J$20,IF(INDEX(Data_kom2,MATCH(1,(komnavn2=$B233)*(komaar2=Skyggetabeller!J$10),0),56)=\"\",\"*\",INDEX(Data_kom2,MATCH(1,(komnavn2=$B233)*(komaar2=Skyggetabeller!J$10),0),56)),\"\")","v":1.7755262640173099E-2},{"$f":"IF(Datanedslag>=K$20,IF(INDEX(Data_kom2,MATCH(1,(komnavn2=$B233)*(komaar2=Skyggetabeller!K$10),0),56)=\"\",\"*\",INDEX(Data_kom2,MATCH(1,(komnavn2=$B233)*(komaar2=Skyggetabeller!K$10),0),56)),\"\")","v":2.4854388431411901E-2},{"$f":"IF(Datanedslag>=L$20,IF(INDEX(Data_kom2,MATCH(1,(komnavn2=$B233)*(komaar2=Skyggetabeller!L$10),0),56)=\"\",\"*\",INDEX(Data_kom2,MATCH(1,(komnavn2=$B233)*(komaar2=Skyggetabeller!L$10),0),56)),\"\")","v":1.71232876712329E-2},{"$f":"IF(Datanedslag>=M$20,IF(INDEX(Data_kom2,MATCH(1,(komnavn2=$B233)*(komaar2=Skyggetabeller!M$10),0),56)=\"\",\"*\",INDEX(Data_kom2,MATCH(1,(komnavn2=$B233)*(komaar2=Skyggetabeller!M$10),0),56)),\"\")","v":1.55448717948718E-2}]
[null,"Sammenligningskommuner",{"$f":"IFERROR(IF(Datanedslag>=C$232,IF(Hjælpefane!$C$4=\"\",\"*\",AVERAGE(Hjælpefane!$AD$4:$AD$10)),\"\"),\"\")","v":1.7433853422280165E-2},{"$f":"IFERROR(IF(Datanedslag>=D$20,IF(Hjælpefane!$C$4=\"\",\"*\",AVERAGE(Hjælpefane!$AD$16:$AD$22)),\"\"),\"\")","v":9.654131135322366E-3},{"$f":"IFERROR(IF(Datanedslag>=E$20,IF(Hjælpefane!$C$4=\"\",\"*\",AVERAGE(Hjælpefane!$AD$28:$AD$34)),\"\"),\"\")","v":1.6848963002809168E-2},{"$f":"IFERROR(IF(Datanedslag>=F$20,IF(Hjælpefane!$C$4=\"\",\"*\",AVERAGE(Hjælpefane!$AD$40:$AD$46)),\"\"),\"\")","v":1.2994290712840813E-2},{"$f":"IFERROR(IF(Datanedslag>=G$20,IF(Hjælpefane!$C$4=\"\",\"*\",AVERAGE(Hjælpefane!$AD$52:$AD$58)),\"\"),\"\")","v":1.1503610768316635E-2},{"$f":"IFERROR(IF(Datanedslag>=H$20,IF(Hjælpefane!$C$4=\"\",\"*\",AVERAGE(Hjælpefane!$AD$64:$AD$70)),\"\"),\"\")","v":1.1386894003381465E-2},{"$f":"IFERROR(IF(Datanedslag>=I$20,IF(Hjælpefane!$C$4=\"\",\"*\",AVERAGE(Hjælpefane!$AD$76:$AD$82)),\"\"),\"\")","v":1.5064132741375934E-2},{"$f":"IFERROR(IF(Datanedslag>=J$20,IF(Hjælpefane!$C$4=\"\",\"*\",AVERAGE(Hjælpefane!$AD$88:$AD$94)),\"\"),\"\")","v":2.0067261241174274E-2},{"$f":"IFERROR(IF(Datanedslag>=K$20,IF(Hjælpefane!$C$4=\"\",\"*\",AVERAGE(Hjælpefane!$AD$100:$AD$106)),\"\"),\"\")","v":2.3860414567422911E-2},{"$f":"IFERROR(IF(Datanedslag>=L$20,IF(Hjælpefane!$C$4=\"\",\"*\",AVERAGE(Hjælpefane!$AD$100:$AD$106)),\"\"),\"\")","v":2.3860414567422911E-2},{"$f":"IFERROR(IF(Datanedslag>=M$20,IF(Hjælpefane!$C$4=\"\",\"*\",AVERAGE(Hjælpefane!$AD$100:$AD$106)),\"\"),\"\")","v":2.3860414567422911E-2}]
[null,"Landsgennemsnit",{"$f":"IF(Datanedslag>=C$232,IF(INDEX(Data_land,MATCH(C$19,Landaar,0),56)=\"\",\"*\",INDEX(Data_land,MATCH(C$19,Landaar,0),56)),\"\")","v":1.7313059519783899E-2},{"$f":"IF(Datanedslag>=D$232,IF(INDEX(Data_land,MATCH(D$19,Landaar,0),56)=\"\",\"*\",INDEX(Data_land,MATCH(D$19,Landaar,0),56)),\"\")","v":1.6986515435763998E-2},{"$f":"IF(Datanedslag>=E$232,IF(INDEX(Data_land,MATCH(E$19,Landaar,0),56)=\"\",\"*\",INDEX(Data_land,MATCH(E$19,Landaar,0),56)),\"\")","v":1.8052228559398899E-2},{"$f":"IF(Datanedslag>=F$232,IF(INDEX(Data_land,MATCH(F$19,Landaar,0),56)=\"\",\"*\",INDEX(Data_land,MATCH(F$19,Landaar,0),56)),\"\")","v":1.75650846785145E-2},{"$f":"IF(Datanedslag>=G$232,IF(INDEX(Data_land,MATCH(G$19,Landaar,0),56)=\"\",\"*\",INDEX(Data_land,MATCH(G$19,Landaar,0),56)),\"\")","v":1.7759326891353001E-2},{"$f":"IF(Datanedslag>=H$232,IF(INDEX(Data_land,MATCH(H$19,Landaar,0),56)=\"\",\"*\",INDEX(Data_land,MATCH(H$19,Landaar,0),56)),\"\")","v":1.7881152363236799E-2},{"$f":"IF(Datanedslag>=I$232,IF(INDEX(Data_land,MATCH(I$19,Landaar,0),56)=\"\",\"*\",INDEX(Data_land,MATCH(I$19,Landaar,0),56)),\"\")","v":1.7148238082597699E-2},{"$f":"IF(Datanedslag>=J$232,IF(INDEX(Data_land,MATCH(J$19,Landaar,0),56)=\"\",\"*\",INDEX(Data_land,MATCH(J$19,Landaar,0),56)),\"\")","v":1.7882283315321799E-2},{"$f":"IF(Datanedslag>=K$232,IF(INDEX(Data_land,MATCH(K$19,Landaar,0),56)=\"\",\"*\",INDEX(Data_land,MATCH(K$19,Landaar,0),56)),\"\")","v":1.89442897857077E-2},{"$f":"IF(Datanedslag>=L$232,IF(INDEX(Data_land,MATCH(L$19,Landaar,0),56)=\"\",\"*\",INDEX(Data_land,MATCH(L$19,Landaar,0),56)),\"\")","v":1.8351049410289099E-2},{"$f":"IF(Datanedslag>=M$232,IF(INDEX(Data_land,MATCH(M$19,Landaar,0),56)=\"\",\"*\",INDEX(Data_land,MATCH(M$19,Landaar,0),56)),\"\")","v":1.7409567400365599E-2}]
[]
[null,{"$f":"B233&(\", N\")","v":"Herning, N"},{"$f":"IF(Datanedslag>=C$20,IF(INDEX(Data_kom2,MATCH(1,(komnavn2=$B233)*(komaar2=Skyggetabeller!C$10),0),59)=\"\",\"*\",INDEX(Data_kom2,MATCH(1,(komnavn2=$B233)*(komaar2=Skyggetabeller!C$10),0),59)),\"\")","v":405},{"$f":"IF(Datanedslag>=D$20,IF(INDEX(Data_kom2,MATCH(1,(komnavn2=$B233)*(komaar2=Skyggetabeller!D$10),0),59)=\"\",\"*\",INDEX(Data_kom2,MATCH(1,(komnavn2=$B233)*(komaar2=Skyggetabeller!D$10),0),59)),\"\")","v":407},{"$f":"IF(Datanedslag>=E$20,IF(INDEX(Data_kom2,MATCH(1,(komnavn2=$B233)*(komaar2=Skyggetabeller!E$10),0),59)=\"\",\"*\",INDEX(Data_kom2,MATCH(1,(komnavn2=$B233)*(komaar2=Skyggetabeller!E$10),0),59)),\"\")","v":390},{"$f":"IF(Datanedslag>=F$20,IF(INDEX(Data_kom2,MATCH(1,(komnavn2=$B233)*(komaar2=Skyggetabeller!F$10),0),59)=\"\",\"*\",INDEX(Data_kom2,MATCH(1,(komnavn2=$B233)*(komaar2=Skyggetabeller!F$10),0),59)),\"\")","v":374},{"$f":"IF(Datanedslag>=G$20,IF(INDEX(Data_kom2,MATCH(1,(komnavn2=$B233)*(komaar2=Skyggetabeller!G$10),0),59)=\"\",\"*\",INDEX(Data_kom2,MATCH(1,(komnavn2=$B233)*(komaar2=Skyggetabeller!G$10),0),59)),\"\")","v":363},{"$f":"IF(Datanedslag>=H$20,IF(INDEX(Data_kom2,MATCH(1,(komnavn2=$B233)*(komaar2=Skyggetabeller!H$10),0),59)=\"\",\"*\",INDEX(Data_kom2,MATCH(1,(komnavn2=$B233)*(komaar2=Skyggetabeller!H$10),0),59)),\"\")","v":383},{"$f":"IF(Datanedslag>=I$20,IF(INDEX(Data_kom2,MATCH(1,(komnavn2=$B233)*(komaar2=Skyggetabeller!I$10),0),59)=\"\",\"*\",INDEX(Data_kom2,MATCH(1,(komnavn2=$B233)*(komaar2=Skyggetabeller!I$10),0),59)),\"\")","v":386},{"$f":"IF(Datanedslag>=J$20,IF(INDEX(Data_kom2,MATCH(1,(komnavn2=$B233)*(komaar2=Skyggetabeller!J$10),0),59)=\"\",\"*\",INDEX(Data_kom2,MATCH(1,(komnavn2=$B233)*(komaar2=Skyggetabeller!J$10),0),59)),\"\")","v":391},{"$f":"IF(Datanedslag>=K$20,IF(INDEX(Data_kom2,MATCH(1,(komnavn2=$B233)*(komaar2=Skyggetabeller!K$10),0),59)=\"\",\"*\",INDEX(Data_kom2,MATCH(1,(komnavn2=$B233)*(komaar2=Skyggetabeller!K$10),0),59)),\"\")","v":383},{"$f":"IF(Datanedslag>=L$20,IF(INDEX(Data_kom2,MATCH(1,(komnavn2=$B233)*(komaar2=Skyggetabeller!L$10),0),59)=\"\",\"*\",INDEX(Data_kom2,MATCH(1,(komnavn2=$B233)*(komaar2=Skyggetabeller!L$10),0),59)),\"\")","v":365},{"$f":"IF(Datanedslag>=M$20,IF(INDEX(Data_kom2,MATCH(1,(komnavn2=$B233)*(komaar2=Skyggetabeller!M$10),0),59)=\"\",\"*\",INDEX(Data_kom2,MATCH(1,(komnavn2=$B233)*(komaar2=Skyggetabeller!M$10),0),59)),\"\")","v":360}]
[null,{"$f":"B234&(\", N\")","v":"Sammenligningskommuner, N"},{"$f":"IF(Datanedslag>=C$20,IF(SUM(Hjælpefane!$AE$4:$AE$10)=\"\",\"\",SUM(Hjælpefane!$AE$4:$AE$10)),\"\")","v":495},{"$f":"IF(Datanedslag>=D$20,IF(SUM(Hjælpefane!$AE$16:$AE$22)=\"\",\"\",SUM(Hjælpefane!$AE$16:$AE$22)),\"\")","v":471},{"$f":"IF(Datanedslag>=E$20,IF(SUM(Hjælpefane!$AE$28:$AE$34)=\"\",\"*\",SUM(Hjælpefane!$AE$28:$AE$34)),\"\")","v":484},{"$f":"IF(Datanedslag>=F$20,IF(SUM(Hjælpefane!$AE$40:$AE$46)=\"\",\"*\",SUM(Hjælpefane!$AE$40:$AE$46)),\"\")","v":490},{"$f":"IF(Datanedslag>=G$20,IF(SUM(Hjælpefane!$AE$52:$AE$58)=\"\",\"*\",SUM(Hjælpefane!$AE$52:$AE$58)),\"\")","v":487},{"$f":"IF(Datanedslag>=H$20,IF(SUM(Hjælpefane!$AE$64:$AE$70)=\"\",\"*\",SUM(Hjælpefane!$AE$64:$AE$70)),\"\")","v":492},{"$f":"IF(Datanedslag>=I$20,IF(SUM(Hjælpefane!$AE$76:$AE$82)=\"\",\"*\",SUM(Hjælpefane!$AE$76:$AE$82)),\"\")","v":496},{"$f":"IF(Datanedslag>=J$20,IF(SUM(Hjælpefane!$AE$88:$AE$94)=\"\",\"*\",SUM(Hjælpefane!$AE$88:$AE$94)),\"\")","v":516},{"$f":"IF(Datanedslag>=K$20,IF(SUM(Hjælpefane!$AE$100:$AE$106)=\"\",\"*\",SUM(Hjælpefane!$AE$100:$AE$106)),\"\")","v":518},{"$f":"IF(Datanedslag>=L$20,IF(SUM(Hjælpefane!$AE$100:$AE$106)=\"\",\"*\",SUM(Hjælpefane!$AE$100:$AE$106)),\"\")","v":518},{"$f":"IF(Datanedslag>=M$20,IF(SUM(Hjælpefane!$AE$100:$AE$106)=\"\",\"*\",SUM(Hjælpefane!$AE$100:$AE$106)),\"\")","v":518}]
[null,{"$f":"B235&(\", N\")","v":"Landsgennemsnit, N"},{"$f":"IF(Datanedslag>=C$20,IF(INDEX(Data_land,MATCH(Skyggetabeller!C$10,Landaar,0),59)=\"\",\"*\",INDEX(Data_land,MATCH(Skyggetabeller!C$10,Landaar,0),59)),\"\")","v":26410},{"$f":"IF(Datanedslag>=D$20,IF(INDEX(Data_land,MATCH(Skyggetabeller!D$10,Landaar,0),59)=\"\",\"*\",INDEX(Data_land,MATCH(Skyggetabeller!D$10,Landaar,0),59)),\"\")","v":26640},{"$f":"IF(Datanedslag>=E$20,IF(INDEX(Data_land,MATCH(Skyggetabeller!E$10,Landaar,0),59)=\"\",\"*\",INDEX(Data_land,MATCH(Skyggetabeller!E$10,Landaar,0),59)),\"\")","v":26710},{"$f":"IF(Datanedslag>=F$20,IF(INDEX(Data_land,MATCH(Skyggetabeller!F$10,Landaar,0),59)=\"\",\"*\",INDEX(Data_land,MATCH(Skyggetabeller!F$10,Landaar,0),59)),\"\")","v":26630},{"$f":"IF(Datanedslag>=G$20,IF(INDEX(Data_land,MATCH(Skyggetabeller!G$10,Landaar,0),59)=\"\",\"*\",INDEX(Data_land,MATCH(Skyggetabeller!G$10,Landaar,0),59)),\"\")","v":26660},{"$f":"IF(Datanedslag>=H$20,IF(INDEX(Data_land,MATCH(Skyggetabeller!H$10,Landaar,0),59)=\"\",\"*\",INDEX(Data_land,MATCH(Skyggetabeller!H$10,Landaar,0),59)),\"\")","v":26750},{"$f":"IF(Datanedslag>=I$20,IF(INDEX(Data_land,MATCH(Skyggetabeller!I$10,Landaar,0),59)=\"\",\"*\",INDEX(Data_land,MATCH(Skyggetabeller!I$10,Landaar,0),59)),\"\")","v":27070},{"$f":"IF(Datanedslag>=J$20,IF(INDEX(Data_land,MATCH(Skyggetabeller!J$10,Landaar,0),59)=\"\",\"*\",INDEX(Data_land,MATCH(Skyggetabeller!J$10,Landaar,0),59)),\"\")","v":27290},{"$f":"IF(Datanedslag>=K$20,IF(INDEX(Data_land,MATCH(Skyggetabeller!K$10,Landaar,0),59)=\"\",\"*\",INDEX(Data_land,MATCH(Skyggetabeller!K$10,Landaar,0),59)),\"\")","v":27640},{"$f":"IF(Datanedslag>=L$20,IF(INDEX(Data_land,MATCH(Skyggetabeller!L$10,Landaar,0),59)=\"\",\"*\",INDEX(Data_land,MATCH(Skyggetabeller!L$10,Landaar,0),59)),\"\")","v":27940},{"$f":"IF(Datanedslag>=M$20,IF(INDEX(Data_land,MATCH(Skyggetabeller!M$10,Landaar,0),59)=\"\",\"*\",INDEX(Data_land,MATCH(Skyggetabeller!M$10,Landaar,0),59)),\"\")","v":28090}]
[]
[]
[null,"Nøgletal 12 - Beskæftigelsesgrad"]
[]
[null,{"$f":"Kommune","v":"Herning"},{"$f":"Skyggetabeller!C$10","v":20181},{"$f":"Skyggetabeller!D$10","v":20182},{"$f":"Skyggetabeller!E$10","v":20191},{"$f":"Skyggetabeller!F$10","v":20192},{"$f":"Skyggetabeller!G$10","v":20201},{"$f":"Skyggetabeller!H$10","v":20202},{"$f":"Skyggetabeller!I$10","v":20211},{"$f":"Skyggetabeller!J$10","v":20212},{"$f":"Skyggetabeller!K$10","v":20221},{"$f":"Skyggetabeller!L$10","v":20222},{"$f":"Skyggetabeller!M$10","v":20231}]
[null,null,{"$f":"Skyggetabeller!C$11","v":"2018-01-01"},{"$f":"Skyggetabeller!D$11","v":"2018-07-01"},{"$f":"Skyggetabeller!E$11","v":"2019-01-01"},{"$f":"Skyggetabeller!F$11","v":"2019-07-01"},{"$f":"Skyggetabeller!G$11","v":"2020-01-01"},{"$f":"Skyggetabeller!H$11","v":"2020-07-01"},{"$f":"Skyggetabeller!I$11","v":"2021-01-01"},{"$f":"Skyggetabeller!J$11","v":"2021-07-01"},{"$f":"Skyggetabeller!K$11","v":"2022-01-01"},{"$f":"Skyggetabeller!L$11","v":"2022-07-01"},{"$f":"Skyggetabeller!M$11","v":"2023-01-01"}]
[null,"Beskæftigelsesgrad",{"$f":"IFERROR(IF(INDEX(Data_kom2,MATCH(1,(komnavn2=Kommune)*(komaar2=C244),0),60)=\"\",\"*\",INDEX(Data_kom2,MATCH(1,(komnavn2=Kommune)*(komaar2=C244),0),60)),\"Ingen data\")","v":8.8651471984805302E-2},{"$f":"IFERROR(IF(INDEX(Data_kom2,MATCH(1,(komnavn2=Kommune)*(komaar2=D244),0),60)=\"\",\"*\",INDEX(Data_kom2,MATCH(1,(komnavn2=Kommune)*(komaar2=D244),0),60)),\"Ingen data\")","v":8.8499338499338498E-2},{"$f":"IFERROR(IF(INDEX(Data_kom2,MATCH(1,(komnavn2=Kommune)*(komaar2=E244),0),60)=\"\",\"*\",INDEX(Data_kom2,MATCH(1,(komnavn2=Kommune)*(komaar2=E244),0),60)),\"Ingen data\")","v":6.5581854043392507E-2},{"$f":"IFERROR(IF(INDEX(Data_kom2,MATCH(1,(komnavn2=Kommune)*(komaar2=F244),0),60)=\"\",\"*\",INDEX(Data_kom2,MATCH(1,(komnavn2=Kommune)*(komaar2=F244),0),60)),\"Ingen data\")","v":5.8772110242698503E-2},{"$f":"IFERROR(IF(INDEX(Data_kom2,MATCH(1,(komnavn2=Kommune)*(komaar2=G244),0),60)=\"\",\"*\",INDEX(Data_kom2,MATCH(1,(komnavn2=Kommune)*(komaar2=G244),0),60)),\"Ingen data\")","v":5.0540368722186903E-2},{"$f":"IFERROR(IF(INDEX(Data_kom2,MATCH(1,(komnavn2=Kommune)*(komaar2=H244),0),60)=\"\",\"*\",INDEX(Data_kom2,MATCH(1,(komnavn2=Kommune)*(komaar2=H244),0),60)),\"Ingen data\")","v":5.02108857200241E-2},{"$f":"IFERROR(IF(INDEX(Data_kom2,MATCH(1,(komnavn2=Kommune)*(komaar2=I244),0),60)=\"\",\"*\",INDEX(Data_kom2,MATCH(1,(komnavn2=Kommune)*(komaar2=I244),0),60)),\"Ingen data\")","v":5.3656835392586699E-2},{"$f":"IFERROR(IF(INDEX(Data_kom2,MATCH(1,(komnavn2=Kommune)*(komaar2=J244),0),60)=\"\",\"*\",INDEX(Data_kom2,MATCH(1,(komnavn2=Kommune)*(komaar2=J244),0),60)),\"Ingen data\")","v":6.3200865630533204E-2},{"$f":"IFERROR(IF(INDEX(Data_kom2,MATCH(1,(komnavn2=Kommune)*(komaar2=K244),0),60)=\"\",\"*\",INDEX(Data_kom2,MATCH(1,(komnavn2=Kommune)*(komaar2=K244),0),60)),\"Ingen data\")","v":5.8395260092387997E-2},{"$f":"IFERROR(IF(INDEX(Data_kom2,MATCH(1,(komnavn2=Kommune)*(komaar2=L244),0),60)=\"\",\"*\",INDEX(Data_kom2,MATCH(1,(komnavn2=Kommune)*(komaar2=L244),0),60)),\"Ingen data\")","v":6.9178082191780801E-2},{"$f":"IFERROR(IF(INDEX(Data_kom2,MATCH(1,(komnavn2=Kommune)*(komaar2=M244),0),60)=\"\",\"*\",INDEX(Data_kom2,MATCH(1,(komnavn2=Kommune)*(komaar2=M244),0),60)),\"Ingen data\")","v":8.8087606837606899E-2},"Ved næste datanedslag trækkes formlen i den gule række én gang til højre. Trækkes kun i gule felter"]
[]
[null,null,{"$f":"Skyggetabeller!C$11","v":"2018-01-01"},{"$f":"Skyggetabeller!D$11","v":"2018-07-01"},{"$f":"Skyggetabeller!E$11","v":"2019-01-01"},{"$f":"Skyggetabeller!F$11","v":"2019-07-01"},{"$f":"Skyggetabeller!G$11","v":"2020-01-01"},{"$f":"Skyggetabeller!H$11","v":"2020-07-01"},{"$f":"Skyggetabeller!I$11","v":"2021-01-01"},{"$f":"Skyggetabeller!J$11","v":"2021-07-01"},{"$f":"Skyggetabeller!K$11","v":"2022-01-01"},{"$f":"Skyggetabeller!L$11","v":"2022-07-01"},{"$f":"Skyggetabeller!M$11","v":"2023-01-01"}]
[null,{"$f":"Kommune","v":"Herning"},{"$f":"IF(Datanedslag>=C$20,IF(INDEX(Data_kom2,MATCH(1,(komnavn2=$B249)*(komaar2=Skyggetabeller!C$10),0),60)=\"\",\"*\",INDEX(Data_kom2,MATCH(1,(komnavn2=$B249)*(komaar2=Skyggetabeller!C$10),0),60)),\"\")","v":8.8651471984805302E-2},{"$f":"IF(Datanedslag>=D$20,IF(INDEX(Data_kom2,MATCH(1,(komnavn2=$B249)*(komaar2=Skyggetabeller!D$10),0),60)=\"\",\"*\",INDEX(Data_kom2,MATCH(1,(komnavn2=$B249)*(komaar2=Skyggetabeller!D$10),0),60)),\"\")","v":8.8499338499338498E-2},{"$f":"IF(Datanedslag>=E$20,IF(INDEX(Data_kom2,MATCH(1,(komnavn2=$B249)*(komaar2=Skyggetabeller!E$10),0),60)=\"\",\"*\",INDEX(Data_kom2,MATCH(1,(komnavn2=$B249)*(komaar2=Skyggetabeller!E$10),0),60)),\"\")","v":6.5581854043392507E-2},{"$f":"IF(Datanedslag>=F$20,IF(INDEX(Data_kom2,MATCH(1,(komnavn2=$B249)*(komaar2=Skyggetabeller!F$10),0),60)=\"\",\"*\",INDEX(Data_kom2,MATCH(1,(komnavn2=$B249)*(komaar2=Skyggetabeller!F$10),0),60)),\"\")","v":5.8772110242698503E-2},{"$f":"IF(Datanedslag>=G$20,IF(INDEX(Data_kom2,MATCH(1,(komnavn2=$B249)*(komaar2=Skyggetabeller!G$10),0),60)=\"\",\"*\",INDEX(Data_kom2,MATCH(1,(komnavn2=$B249)*(komaar2=Skyggetabeller!G$10),0),60)),\"\")","v":5.0540368722186903E-2},{"$f":"IF(Datanedslag>=H$20,IF(INDEX(Data_kom2,MATCH(1,(komnavn2=$B249)*(komaar2=Skyggetabeller!H$10),0),60)=\"\",\"*\",INDEX(Data_kom2,MATCH(1,(komnavn2=$B249)*(komaar2=Skyggetabeller!H$10),0),60)),\"\")","v":5.02108857200241E-2},{"$f":"IF(Datanedslag>=I$20,IF(INDEX(Data_kom2,MATCH(1,(komnavn2=$B249)*(komaar2=Skyggetabeller!I$10),0),60)=\"\",\"*\",INDEX(Data_kom2,MATCH(1,(komnavn2=$B249)*(komaar2=Skyggetabeller!I$10),0),60)),\"\")","v":5.3656835392586699E-2},{"$f":"IF(Datanedslag>=J$20,IF(INDEX(Data_kom2,MATCH(1,(komnavn2=$B249)*(komaar2=Skyggetabeller!J$10),0),60)=\"\",\"*\",INDEX(Data_kom2,MATCH(1,(komnavn2=$B249)*(komaar2=Skyggetabeller!J$10),0),60)),\"\")","v":6.3200865630533204E-2},{"$f":"IF(Datanedslag>=K$20,IF(INDEX(Data_kom2,MATCH(1,(komnavn2=$B249)*(komaar2=Skyggetabeller!K$10),0),60)=\"\",\"*\",INDEX(Data_kom2,MATCH(1,(komnavn2=$B249)*(komaar2=Skyggetabeller!K$10),0),60)),\"\")","v":5.8395260092387997E-2},{"$f":"IF(Datanedslag>=L$20,IF(INDEX(Data_kom2,MATCH(1,(komnavn2=$B249)*(komaar2=Skyggetabeller!L$10),0),60)=\"\",\"*\",INDEX(Data_kom2,MATCH(1,(komnavn2=$B249)*(komaar2=Skyggetabeller!L$10),0),60)),\"\")","v":6.9178082191780801E-2},{"$f":"IF(Datanedslag>=M$20,IF(INDEX(Data_kom2,MATCH(1,(komnavn2=$B249)*(komaar2=Skyggetabeller!M$10),0),60)=\"\",\"*\",INDEX(Data_kom2,MATCH(1,(komnavn2=$B249)*(komaar2=Skyggetabeller!M$10),0),60)),\"\")","v":8.8087606837606899E-2}]
[null,"Sammenligningskommuner",{"$f":"IFERROR(IF(Datanedslag>=C$20,IF(Hjælpefane!$C$4=\"\",\"*\",AVERAGE(Hjælpefane!$AF$4:$AF$10)),\"\"),\"\")","v":5.6686929698568367E-2},{"$f":"IFERROR(IF(Datanedslag>=D$20,IF(Hjælpefane!$C$4=\"\",\"*\",AVERAGE(Hjælpefane!$AF$16:$AF$22)),\"\"),\"\")","v":3.5700369379836464E-2},{"$f":"IFERROR(IF(Datanedslag>=E$20,IF(Hjælpefane!$C$4=\"\",\"*\",AVERAGE(Hjælpefane!$AF$28:$AF$34)),\"\"),\"\")","v":5.2651515151515171E-2},{"$f":"IFERROR(IF(Datanedslag>=F$20,IF(Hjælpefane!$C$4=\"\",\"*\",AVERAGE(Hjælpefane!$AF$40:$AF$46)),\"\"),\"\")","v":7.1903719537801877E-2},{"$f":"IFERROR(IF(Datanedslag>=G$20,IF(Hjælpefane!$C$4=\"\",\"*\",AVERAGE(Hjælpefane!$AF$52:$AF$58)),\"\"),\"\")","v":8.3302904114924692E-2},{"$f":"IFERROR(IF(Datanedslag>=H$20,IF(Hjælpefane!$C$4=\"\",\"*\",AVERAGE(Hjælpefane!$AF$64:$AF$70)),\"\"),\"\")","v":7.8831654912524127E-2},{"$f":"IFERROR(IF(Datanedslag>=I$20,IF(Hjælpefane!$C$4=\"\",\"*\",AVERAGE(Hjælpefane!$AF$76:$AF$82)),\"\"),\"\")","v":7.2110032587194894E-2},{"$f":"IFERROR(IF(Datanedslag>=J$20,IF(Hjælpefane!$C$4=\"\",\"*\",AVERAGE(Hjælpefane!$AF$88:$AF$94)),\"\"),\"\")","v":6.2357921466617096E-2},{"$f":"IFERROR(IF(Datanedslag>=K$20,IF(Hjælpefane!$C$4=\"\",\"*\",AVERAGE(Hjælpefane!$AF$100:$AF$106)),\"\"),\"\")","v":5.9333685421984299E-2},{"$f":"IFERROR(IF(Datanedslag>=L$20,IF(Hjælpefane!$C$4=\"\",\"*\",AVERAGE(Hjælpefane!$AF$100:$AF$106)),\"\"),\"\")","v":5.9333685421984299E-2},{"$f":"IFERROR(IF(Datanedslag>=M$20,IF(Hjælpefane!$C$4=\"\",\"*\",AVERAGE(Hjælpefane!$AF$100:$AF$106)),\"\"),\"\")","v":5.9333685421984299E-2}]
[null,"Landsgennemsnit",{"$f":"IF(Datanedslag>=C$20,IF(INDEX(Data_land,MATCH(C$19,Landaar,0),60)=\"\",\"*\",INDEX(Data_land,MATCH(C$19,Landaar,0),60)),\"\")","v":5.01587238692792E-2},{"$f":"IF(Datanedslag>=D$20,IF(INDEX(Data_land,MATCH(D$19,Landaar,0),60)=\"\",\"*\",INDEX(Data_land,MATCH(D$19,Landaar,0),60)),\"\")","v":5.1822712818020998E-2},{"$f":"IF(Datanedslag>=E$20,IF(INDEX(Data_land,MATCH(E$19,Landaar,0),60)=\"\",\"*\",INDEX(Data_land,MATCH(E$19,Landaar,0),60)),\"\")","v":5.25409849604207E-2},{"$f":"IF(Datanedslag>=F$20,IF(INDEX(Data_land,MATCH(F$19,Landaar,0),60)=\"\",\"*\",INDEX(Data_land,MATCH(F$19,Landaar,0),60)),\"\")","v":5.4053878156906397E-2},{"$f":"IF(Datanedslag>=G$20,IF(INDEX(Data_land,MATCH(G$19,Landaar,0),60)=\"\",\"*\",INDEX(Data_land,MATCH(G$19,Landaar,0),60)),\"\")","v":5.5326167854654697E-2},{"$f":"IF(Datanedslag>=H$20,IF(INDEX(Data_land,MATCH(H$19,Landaar,0),60)=\"\",\"*\",INDEX(Data_land,MATCH(H$19,Landaar,0),60)),\"\")","v":5.6471543611260798E-2},{"$f":"IF(Datanedslag>=I$20,IF(INDEX(Data_land,MATCH(I$19,Landaar,0),60)=\"\",\"*\",INDEX(Data_land,MATCH(I$19,Landaar,0),60)),\"\")","v":5.71087201829725E-2},{"$f":"IF(Datanedslag>=J$20,IF(INDEX(Data_land,MATCH(J$19,Landaar,0),60)=\"\",\"*\",INDEX(Data_land,MATCH(J$19,Landaar,0),60)),\"\")","v":5.8363550720793599E-2},{"$f":"IF(Datanedslag>=K$20,IF(INDEX(Data_land,MATCH(K$19,Landaar,0),60)=\"\",\"*\",INDEX(Data_land,MATCH(K$19,Landaar,0),60)),\"\")","v":6.3460416909620898E-2},{"$f":"IF(Datanedslag>=L$20,IF(INDEX(Data_land,MATCH(L$19,Landaar,0),60)=\"\",\"*\",INDEX(Data_land,MATCH(L$19,Landaar,0),60)),\"\")","v":6.8978936247113098E-2},{"$f":"IF(Datanedslag>=M$20,IF(INDEX(Data_land,MATCH(M$19,Landaar,0),60)=\"\",\"*\",INDEX(Data_land,MATCH(M$19,Landaar,0),60)),\"\")","v":7.1174536042857006E-2}]
[]
[null,{"$f":"B249&(\", N\")","v":"Herning, N"},{"$f":"IF(Datanedslag>=C$20,IF(INDEX(Data_kom2,MATCH(1,(komnavn2=$B249)*(komaar2=Skyggetabeller!C$10),0),63)=\"\",\"*\",INDEX(Data_kom2,MATCH(1,(komnavn2=$B249)*(komaar2=Skyggetabeller!C$10),0),63)),\"\")","v":405},{"$f":"IF(Datanedslag>=D$20,IF(INDEX(Data_kom2,MATCH(1,(komnavn2=$B249)*(komaar2=Skyggetabeller!D$10),0),63)=\"\",\"*\",INDEX(Data_kom2,MATCH(1,(komnavn2=$B249)*(komaar2=Skyggetabeller!D$10),0),63)),\"\")","v":407},{"$f":"IF(Datanedslag>=E$20,IF(INDEX(Data_kom2,MATCH(1,(komnavn2=$B249)*(komaar2=Skyggetabeller!E$10),0),63)=\"\",\"*\",INDEX(Data_kom2,MATCH(1,(komnavn2=$B249)*(komaar2=Skyggetabeller!E$10),0),63)),\"\")","v":390},{"$f":"IF(Datanedslag>=F$20,IF(INDEX(Data_kom2,MATCH(1,(komnavn2=$B249)*(komaar2=Skyggetabeller!F$10),0),63)=\"\",\"*\",INDEX(Data_kom2,MATCH(1,(komnavn2=$B249)*(komaar2=Skyggetabeller!F$10),0),63)),\"\")","v":374},{"$f":"IF(Datanedslag>=G$20,IF(INDEX(Data_kom2,MATCH(1,(komnavn2=$B249)*(komaar2=Skyggetabeller!G$10),0),63)=\"\",\"*\",INDEX(Data_kom2,MATCH(1,(komnavn2=$B249)*(komaar2=Skyggetabeller!G$10),0),63)),\"\")","v":363},{"$f":"IF(Datanedslag>=H$20,IF(INDEX(Data_kom2,MATCH(1,(komnavn2=$B249)*(komaar2=Skyggetabeller!H$10),0),63)=\"\",\"*\",INDEX(Data_kom2,MATCH(1,(komnavn2=$B249)*(komaar2=Skyggetabeller!H$10),0),63)),\"\")","v":383},{"$f":"IF(Datanedslag>=I$20,IF(INDEX(Data_kom2,MATCH(1,(komnavn2=$B249)*(komaar2=Skyggetabeller!I$10),0),63)=\"\",\"*\",INDEX(Data_kom2,MATCH(1,(komnavn2=$B249)*(komaar2=Skyggetabeller!I$10),0),63)),\"\")","v":386},{"$f":"IF(Datanedslag>=J$20,IF(INDEX(Data_kom2,MATCH(1,(komnavn2=$B249)*(komaar2=Skyggetabeller!J$10),0),63)=\"\",\"*\",INDEX(Data_kom2,MATCH(1,(komnavn2=$B249)*(komaar2=Skyggetabeller!J$10),0),63)),\"\")","v":391},{"$f":"IF(Datanedslag>=K$20,IF(INDEX(Data_kom2,MATCH(1,(komnavn2=$B249)*(komaar2=Skyggetabeller!K$10),0),63)=\"\",\"*\",INDEX(Data_kom2,MATCH(1,(komnavn2=$B249)*(komaar2=Skyggetabeller!K$10),0),63)),\"\")","v":383},{"$f":"IF(Datanedslag>=L$20,IF(INDEX(Data_kom2,MATCH(1,(komnavn2=$B249)*(komaar2=Skyggetabeller!L$10),0),63)=\"\",\"*\",INDEX(Data_kom2,MATCH(1,(komnavn2=$B249)*(komaar2=Skyggetabeller!L$10),0),63)),\"\")","v":365},{"$f":"IF(Datanedslag>=M$20,IF(INDEX(Data_kom2,MATCH(1,(komnavn2=$B249)*(komaar2=Skyggetabeller!M$10),0),63)=\"\",\"*\",INDEX(Data_kom2,MATCH(1,(komnavn2=$B249)*(komaar2=Skyggetabeller!M$10),0),63)),\"\")","v":360}]
[null,{"$f":"B250&(\", N\")","v":"Sammenligningskommuner, N"},{"$f":"IF(Datanedslag>=C$20,IF(SUM(Hjælpefane!$AG$4:$AG$10)=\"\",\"\",SUM(Hjælpefane!$AG$4:$AG$10)),\"\")","v":495},{"$f":"IF(Datanedslag>=D$20,IF(SUM(Hjælpefane!$AG$16:$AG$22)=\"\",\"\",SUM(Hjælpefane!$AG$16:$AG$22)),\"\")","v":471},{"$f":"IF(Datanedslag>=E$20,IF(SUM(Hjælpefane!$AG$28:$AG$34)=\"\",\"*\",SUM(Hjælpefane!$AG$28:$AG$34)),\"\")","v":484},{"$f":"IF(Datanedslag>=F$20,IF(SUM(Hjælpefane!$AG$40:$AG$46)=\"\",\"*\",SUM(Hjælpefane!$AG$40:$AG$46)),\"\")","v":490},{"$f":"IF(Datanedslag>=G$20,IF(SUM(Hjælpefane!$AG$52:$AG$58)=\"\",\"*\",SUM(Hjælpefane!$AG$52:$AG$58)),\"\")","v":487},{"$f":"IF(Datanedslag>=H$20,IF(SUM(Hjælpefane!$AG$64:$AG$70)=\"\",\"*\",SUM(Hjælpefane!$AG$64:$AG$70)),\"\")","v":492},{"$f":"IF(Datanedslag>=I$20,IF(SUM(Hjælpefane!$AG$76:$AG$82)=\"\",\"*\",SUM(Hjælpefane!$AG$76:$AG$82)),\"\")","v":496},{"$f":"IF(Datanedslag>=J$20,IF(SUM(Hjælpefane!$AG$88:$AG$94)=\"\",\"*\",SUM(Hjælpefane!$AG$88:$AG$94)),\"\")","v":516},{"$f":"IF(Datanedslag>=K$20,IF(SUM(Hjælpefane!$AG$100:$AG$106)=\"\",\"*\",SUM(Hjælpefane!$AG$100:$AG$106)),\"\")","v":518},{"$f":"IF(Datanedslag>=L$20,IF(SUM(Hjælpefane!$AG$100:$AG$106)=\"\",\"*\",SUM(Hjælpefane!$AG$100:$AG$106)),\"\")","v":518},{"$f":"IF(Datanedslag>=M$20,IF(SUM(Hjælpefane!$AG$100:$AG$106)=\"\",\"*\",SUM(Hjælpefane!$AG$100:$AG$106)),\"\")","v":518}]
[null,{"$f":"B251&(\", N\")","v":"Landsgennemsnit, N"},{"$f":"IF(Datanedslag>=C$20,IF(INDEX(Data_land,MATCH(Skyggetabeller!C$10,Landaar,0),63)=\"\",\"*\",INDEX(Data_land,MATCH(Skyggetabeller!C$10,Landaar,0),63)),\"\")","v":26410},{"$f":"IF(Datanedslag>=D$20,IF(INDEX(Data_land,MATCH(Skyggetabeller!D$10,Landaar,0),63)=\"\",\"*\",INDEX(Data_land,MATCH(Skyggetabeller!D$10,Landaar,0),63)),\"\")","v":26640},{"$f":"IF(Datanedslag>=E$20,IF(INDEX(Data_land,MATCH(Skyggetabeller!E$10,Landaar,0),63)=\"\",\"*\",INDEX(Data_land,MATCH(Skyggetabeller!E$10,Landaar,0),63)),\"\")","v":26710},{"$f":"IF(Datanedslag>=F$20,IF(INDEX(Data_land,MATCH(Skyggetabeller!F$10,Landaar,0),63)=\"\",\"*\",INDEX(Data_land,MATCH(Skyggetabeller!F$10,Landaar,0),63)),\"\")","v":26630},{"$f":"IF(Datanedslag>=G$20,IF(INDEX(Data_land,MATCH(Skyggetabeller!G$10,Landaar,0),63)=\"\",\"*\",INDEX(Data_land,MATCH(Skyggetabeller!G$10,Landaar,0),63)),\"\")","v":26660},{"$f":"IF(Datanedslag>=H$20,IF(INDEX(Data_land,MATCH(Skyggetabeller!H$10,Landaar,0),63)=\"\",\"*\",INDEX(Data_land,MATCH(Skyggetabeller!H$10,Landaar,0),63)),\"\")","v":26750},{"$f":"IF(Datanedslag>=I$20,IF(INDEX(Data_land,MATCH(Skyggetabeller!I$10,Landaar,0),63)=\"\",\"*\",INDEX(Data_land,MATCH(Skyggetabeller!I$10,Landaar,0),63)),\"\")","v":27070},{"$f":"IF(Datanedslag>=J$20,IF(INDEX(Data_land,MATCH(Skyggetabeller!J$10,Landaar,0),63)=\"\",\"*\",INDEX(Data_land,MATCH(Skyggetabeller!J$10,Landaar,0),63)),\"\")","v":27290},{"$f":"IF(Datanedslag>=K$20,IF(INDEX(Data_land,MATCH(Skyggetabeller!K$10,Landaar,0),63)=\"\",\"*\",INDEX(Data_land,MATCH(Skyggetabeller!K$10,Landaar,0),63)),\"\")","v":27640},{"$f":"IF(Datanedslag>=L$20,IF(INDEX(Data_land,MATCH(Skyggetabeller!L$10,Landaar,0),63)=\"\",\"*\",INDEX(Data_land,MATCH(Skyggetabeller!L$10,Landaar,0),63)),\"\")","v":27940},{"$f":"IF(Datanedslag>=M$20,IF(INDEX(Data_land,MATCH(Skyggetabeller!M$10,Landaar,0),63)=\"\",\"*\",INDEX(Data_land,MATCH(Skyggetabeller!M$10,Landaar,0),63)),\"\")","v":28090}]
[]
[null,"Nøgletal 12.1: Beskæftigelsesgrad for modtagere af forebyggende indsatser"]
[]
[null,{"$f":"Kommune","v":"Herning"},{"$f":"Skyggetabeller!C$10","v":20181},{"$f":"Skyggetabeller!D$10","v":20182},{"$f":"Skyggetabeller!E$10","v":20191},{"$f":"Skyggetabeller!F$10","v":20192},{"$f":"Skyggetabeller!G$10","v":20201},{"$f":"Skyggetabeller!H$10","v":20202},{"$f":"Skyggetabeller!I$10","v":20211},{"$f":"Skyggetabeller!J$10","v":20212},{"$f":"Skyggetabeller!K$10","v":20221},{"$f":"Skyggetabeller!L$10","v":20222},{"$f":"Skyggetabeller!M$10","v":20231}]
[null,null,{"$f":"Skyggetabeller!C$11","v":"2018-01-01"},{"$f":"Skyggetabeller!D$11","v":"2018-07-01"},{"$f":"Skyggetabeller!E$11","v":"2019-01-01"},{"$f":"Skyggetabeller!F$11","v":"2019-07-01"},{"$f":"Skyggetabeller!G$11","v":"2020-01-01"},{"$f":"Skyggetabeller!H$11","v":"2020-07-01"},{"$f":"Skyggetabeller!I$11","v":"2021-01-01"},{"$f":"Skyggetabeller!J$11","v":"2021-07-01"},{"$f":"Skyggetabeller!K$11","v":"2022-01-01"},{"$f":"Skyggetabeller!L$11","v":"2022-07-01"},{"$f":"Skyggetabeller!M$11","v":"2023-01-01"}]
[null,"Beskæftigelsesgrad",{"$f":"IF(C268=0,0,IF(Datanedslag>=C260,(IF(INDEX(Data_kom2,MATCH(1,(komnavn2=Kommune)*(komaar2=C259),0),64)=\"\",\"*\",INDEX(Data_kom2,MATCH(1,(komnavn2=Kommune)*(komaar2=C259),0),64)))))","v":0},{"$f":"IF(D268=0,0,IF(Datanedslag>=D260,(IF(INDEX(Data_kom2,MATCH(1,(komnavn2=Kommune)*(komaar2=D259),0),64)=\"\",\"*\",INDEX(Data_kom2,MATCH(1,(komnavn2=Kommune)*(komaar2=D259),0),64)))))","v":0},{"$f":"IF(E268=0,0,IF(Datanedslag>=E260,(IF(INDEX(Data_kom2,MATCH(1,(komnavn2=Kommune)*(komaar2=E259),0),64)=\"\",\"*\",INDEX(Data_kom2,MATCH(1,(komnavn2=Kommune)*(komaar2=E259),0),64)))))","v":0},{"$f":"IF(F268=0,0,IF(Datanedslag>=F260,(IF(INDEX(Data_kom2,MATCH(1,(komnavn2=Kommune)*(komaar2=F259),0),64)=\"\",\"*\",INDEX(Data_kom2,MATCH(1,(komnavn2=Kommune)*(komaar2=F259),0),64)))))","v":0},{"$f":"IF(G268=0,0,IF(Datanedslag>=G260,(IF(INDEX(Data_kom2,MATCH(1,(komnavn2=Kommune)*(komaar2=G259),0),64)=\"\",\"*\",INDEX(Data_kom2,MATCH(1,(komnavn2=Kommune)*(komaar2=G259),0),64)))))","v":"*"},{"$f":"IF(H268=0,0,IF(Datanedslag>=H260,(IF(INDEX(Data_kom2,MATCH(1,(komnavn2=Kommune)*(komaar2=H259),0),64)=\"\",\"*\",INDEX(Data_kom2,MATCH(1,(komnavn2=Kommune)*(komaar2=H259),0),64)))))","v":1.18343195266272E-2},{"$f":"IF(I268=0,0,IF(Datanedslag>=I260,(IF(INDEX(Data_kom2,MATCH(1,(komnavn2=Kommune)*(komaar2=I259),0),64)=\"\",\"*\",INDEX(Data_kom2,MATCH(1,(komnavn2=Kommune)*(komaar2=I259),0),64)))))","v":5.3167420814479602E-2},{"$f":"IF(J268=0,0,IF(Datanedslag>=J260,(IF(INDEX(Data_kom2,MATCH(1,(komnavn2=Kommune)*(komaar2=J259),0),64)=\"\",\"*\",INDEX(Data_kom2,MATCH(1,(komnavn2=Kommune)*(komaar2=J259),0),64)))))","v":0.23317307692307701},{"$f":"IF(K268=0,0,IF(Datanedslag>=K260,(IF(INDEX(Data_kom2,MATCH(1,(komnavn2=Kommune)*(komaar2=K259),0),64)=\"\",\"*\",INDEX(Data_kom2,MATCH(1,(komnavn2=Kommune)*(komaar2=K259),0),64)))))","v":0.157894736842105},{"$f":"IF(L268=0,0,IF(Datanedslag>=L260,(IF(INDEX(Data_kom2,MATCH(1,(komnavn2=Kommune)*(komaar2=L259),0),64)=\"\",\"*\",INDEX(Data_kom2,MATCH(1,(komnavn2=Kommune)*(komaar2=L259),0),64)))))","v":0.23420329670329701},{"$f":"IF(M268=0,0,IF(Datanedslag>=M260,(IF(INDEX(Data_kom2,MATCH(1,(komnavn2=Kommune)*(komaar2=M259),0),64)=\"\",\"*\",INDEX(Data_kom2,MATCH(1,(komnavn2=Kommune)*(komaar2=M259),0),64)))))","v":0.20719602977667501},"Ved næste datanedslag trækkes formlen i den gule række én gang til højre. Trækkes kun i gule felter"]
[]
[null,null,{"$f":"Skyggetabeller!C$11","v":"2018-01-01"},{"$f":"Skyggetabeller!D$11","v":"2018-07-01"},{"$f":"Skyggetabeller!E$11","v":"2019-01-01"},{"$f":"Skyggetabeller!F$11","v":"2019-07-01"},{"$f":"Skyggetabeller!G$11","v":"2020-01-01"},{"$f":"Skyggetabeller!H$11","v":"2020-07-01"},{"$f":"Skyggetabeller!I$11","v":"2021-01-01"},{"$f":"Skyggetabeller!J$11","v":"2021-07-01"},{"$f":"Skyggetabeller!K$11","v":"2022-01-01"},{"$f":"Skyggetabeller!L$11","v":"2022-07-01"},{"$f":"Skyggetabeller!M$11","v":"2023-01-01"}]
[null,{"$f":"Kommune","v":"Herning"},{"$f":"IF(C268=0,0,IF(Datanedslag>=C$20,IF(INDEX(Data_kom2,MATCH(1,(komnavn2=$B264)*(komaar2=Skyggetabeller!C$10),0),64)=\"\",\"*\",INDEX(Data_kom2,MATCH(1,(komnavn2=$B264)*(komaar2=Skyggetabeller!C$10),0),64)),\"\"))","v":0},{"$f":"IF(D268=0,0,IF(Datanedslag>=D$20,IF(INDEX(Data_kom2,MATCH(1,(komnavn2=$B264)*(komaar2=Skyggetabeller!D$10),0),64)=\"\",\"*\",INDEX(Data_kom2,MATCH(1,(komnavn2=$B264)*(komaar2=Skyggetabeller!D$10),0),64)),\"\"))","v":0},{"$f":"IF(E268=0,0,IF(Datanedslag>=E$20,IF(INDEX(Data_kom2,MATCH(1,(komnavn2=$B264)*(komaar2=Skyggetabeller!E$10),0),64)=\"\",\"*\",INDEX(Data_kom2,MATCH(1,(komnavn2=$B264)*(komaar2=Skyggetabeller!E$10),0),64)),\"\"))","v":0},{"$f":"IF(F268=0,0,IF(Datanedslag>=F$20,IF(INDEX(Data_kom2,MATCH(1,(komnavn2=$B264)*(komaar2=Skyggetabeller!F$10),0),64)=\"\",\"*\",INDEX(Data_kom2,MATCH(1,(komnavn2=$B264)*(komaar2=Skyggetabeller!F$10),0),64)),\"\"))","v":0},{"$f":"IF(G268=0,0,IF(Datanedslag>=G$20,IF(INDEX(Data_kom2,MATCH(1,(komnavn2=$B264)*(komaar2=Skyggetabeller!G$10),0),64)=\"\",\"*\",INDEX(Data_kom2,MATCH(1,(komnavn2=$B264)*(komaar2=Skyggetabeller!G$10),0),64)),\"\"))","v":"*"},{"$f":"IF(H268=0,0,IF(Datanedslag>=H$20,IF(INDEX(Data_kom2,MATCH(1,(komnavn2=$B264)*(komaar2=Skyggetabeller!H$10),0),64)=\"\",\"*\",INDEX(Data_kom2,MATCH(1,(komnavn2=$B264)*(komaar2=Skyggetabeller!H$10),0),64)),\"\"))","v":1.18343195266272E-2},{"$f":"IF(I268=0,0,IF(Datanedslag>=I$20,IF(INDEX(Data_kom2,MATCH(1,(komnavn2=$B264)*(komaar2=Skyggetabeller!I$10),0),64)=\"\",\"*\",INDEX(Data_kom2,MATCH(1,(komnavn2=$B264)*(komaar2=Skyggetabeller!I$10),0),64)),\"\"))","v":5.3167420814479602E-2},{"$f":"IF(J268=0,0,IF(Datanedslag>=J$20,IF(INDEX(Data_kom2,MATCH(1,(komnavn2=$B264)*(komaar2=Skyggetabeller!J$10),0),64)=\"\",\"*\",INDEX(Data_kom2,MATCH(1,(komnavn2=$B264)*(komaar2=Skyggetabeller!J$10),0),64)),\"\"))","v":0.23317307692307701},{"$f":"IF(K268=0,0,IF(Datanedslag>=K$20,IF(INDEX(Data_kom2,MATCH(1,(komnavn2=$B264)*(komaar2=Skyggetabeller!K$10),0),64)=\"\",\"*\",INDEX(Data_kom2,MATCH(1,(komnavn2=$B264)*(komaar2=Skyggetabeller!K$10),0),64)),\"\"))","v":0.157894736842105},{"$f":"IF(L268=0,0,IF(Datanedslag>=L$20,IF(INDEX(Data_kom2,MATCH(1,(komnavn2=$B264)*(komaar2=Skyggetabeller!L$10),0),64)=\"\",\"*\",INDEX(Data_kom2,MATCH(1,(komnavn2=$B264)*(komaar2=Skyggetabeller!L$10),0),64)),\"\"))","v":0.23420329670329701},{"$f":"IF(M268=0,0,IF(Datanedslag>=M$20,IF(INDEX(Data_kom2,MATCH(1,(komnavn2=$B264)*(komaar2=Skyggetabeller!M$10),0),64)=\"\",\"*\",INDEX(Data_kom2,MATCH(1,(komnavn2=$B264)*(komaar2=Skyggetabeller!M$10),0),64)),\"\"))","v":0.20719602977667501}]
[null,"Sammenligningskommuner",{"$f":"IF(C269=0,0,IF(Datanedslag>=C$20,IF(Hjælpefane!$C$4=\"\",\"*\",AVERAGE(Hjælpefane!$AH$4:$AH$10)),\"\"))","v":0},{"$f":"IF(D269=0,0,IF(Datanedslag>=D$20,IF(Hjælpefane!$C$4=\"\",\"*\",AVERAGE(Hjælpefane!$AH$4:$AH$10)),\"\"))","v":0},{"$f":"IF(E269=0,0,IF(Datanedslag>=E$20,IF(Hjælpefane!$C$4=\"\",\"*\",AVERAGE(Hjælpefane!$AH$4:$AH$10)),\"\"))","v":0},{"$f":"IF(F269=0,0,IF(Datanedslag>=F$20,IF(Hjælpefane!$C$4=\"\",\"*\",AVERAGE(Hjælpefane!$AH$4:$AH$10)),\"\"))","v":0},{"$f":"IF(G269=0,0,IF(Datanedslag>=G$20,IF(Hjælpefane!$C$4=\"\",\"*\",AVERAGE(Hjælpefane!$AH$4:$AH$10)),\"\"))","v":0},{"$f":"IF(H269=0,0,IF(Datanedslag>=H$20,IF(Hjælpefane!$C$4=\"\",\"*\",AVERAGE(Hjælpefane!$AH$4:$AH$10)),\"\"))","v":0},{"$f":"IF(I269=0,0,IF(Datanedslag>=I$20,IF(Hjælpefane!$C$4=\"\",\"*\",AVERAGE(Hjælpefane!$AH$4:$AH$10)),\"\"))","v":0},{"$f":"IF(J269=0,0,IF(Datanedslag>=J$20,IF(Hjælpefane!$C$4=\"\",\"*\",AVERAGE(Hjælpefane!$AH$4:$AH$10)),\"\"))","v":0},{"$f":"IF(K269=0,0,IF(Datanedslag>=K$20,IF(Hjælpefane!$C$4=\"\",\"*\",AVERAGE(Hjælpefane!$AH$4:$AH$10)),\"\"))","v":0},{"$f":"IF(L269=0,0,IF(Datanedslag>=L$20,IF(Hjælpefane!$C$4=\"\",\"*\",AVERAGE(Hjælpefane!$AH$4:$AH$10)),\"\"))","v":0},{"$f":"IF(M269=0,0,IF(Datanedslag>=M$20,IF(Hjælpefane!$C$4=\"\",\"*\",AVERAGE(Hjælpefane!$AH$4:$AH$10)),\"\"))","v":0}]
[null,"Landsgennemsnit",{"$f":"IF(C270=0,0,IF(Datanedslag>=C$20,IF(INDEX(Data_land,MATCH(C$19,Landaar,0),64)=\"\",\"*\",INDEX(Data_land,MATCH(C$19,Landaar,0),64)),\"\"))","v":0},{"$f":"IF(D270=0,0,IF(Datanedslag>=D$20,IF(INDEX(Data_land,MATCH(D$19,Landaar,0),64)=\"\",\"*\",INDEX(Data_land,MATCH(D$19,Landaar,0),64)),\"\"))","v":1.6024157169990502E-2},{"$f":"IF(E270=0,0,IF(Datanedslag>=E$20,IF(INDEX(Data_land,MATCH(E$19,Landaar,0),64)=\"\",\"*\",INDEX(Data_land,MATCH(E$19,Landaar,0),64)),\"\"))","v":1.9813721928804501E-2},{"$f":"IF(F270=0,0,IF(Datanedslag>=F$20,IF(INDEX(Data_land,MATCH(F$19,Landaar,0),64)=\"\",\"*\",INDEX(Data_land,MATCH(F$19,Landaar,0),64)),\"\"))","v":3.9380587655505402E-2},{"$f":"IF(G270=0,0,IF(Datanedslag>=G$20,IF(INDEX(Data_land,MATCH(G$19,Landaar,0),64)=\"\",\"*\",INDEX(Data_land,MATCH(G$19,Landaar,0),64)),\"\"))","v":3.6932357248885099E-2},{"$f":"IF(H270=0,0,IF(Datanedslag>=H$20,IF(INDEX(Data_land,MATCH(H$19,Landaar,0),64)=\"\",\"*\",INDEX(Data_land,MATCH(H$19,Landaar,0),64)),\"\"))","v":5.0559876512058198E-2},{"$f":"IF(I270=0,0,IF(Datanedslag>=I$20,IF(INDEX(Data_land,MATCH(I$19,Landaar,0),64)=\"\",\"*\",INDEX(Data_land,MATCH(I$19,Landaar,0),64)),\"\"))","v":6.0245521027026301E-2},{"$f":"IF(J270=0,0,IF(Datanedslag>=J$20,IF(INDEX(Data_land,MATCH(J$19,Landaar,0),64)=\"\",\"*\",INDEX(Data_land,MATCH(J$19,Landaar,0),64)),\"\"))","v":7.2641668790166702E-2},{"$f":"IF(K270=0,0,IF(Datanedslag>=K$20,IF(INDEX(Data_land,MATCH(K$19,Landaar,0),64)=\"\",\"*\",INDEX(Data_land,MATCH(K$19,Landaar,0),64)),\"\"))","v":8.5268582712813804E-2},{"$f":"IF(L270=0,0,IF(Datanedslag>=L$20,IF(INDEX(Data_land,MATCH(L$19,Landaar,0),64)=\"\",\"*\",INDEX(Data_land,MATCH(L$19,Landaar,0),64)),\"\"))","v":8.0488658977647801E-2},{"$f":"IF(M270=0,0,IF(Datanedslag>=M$20,IF(INDEX(Data_land,MATCH(M$19,Landaar,0),64)=\"\",\"*\",INDEX(Data_land,MATCH(M$19,Landaar,0),64)),\"\"))","v":8.7473808153770996E-2}]
[]
[null,{"$f":"B264&(\", N\")","v":"Herning, N"},{"$f":"IF(Datanedslag>=C$20,IF(INDEX(Data_kom2,MATCH(1,(komnavn2=$B264)*(komaar2=Skyggetabeller!C$10),0),67)=\"\",\"*\",INDEX(Data_kom2,MATCH(1,(komnavn2=$B264)*(komaar2=Skyggetabeller!C$10),0),67)),\"\")","v":0},{"$f":"IF(Datanedslag>=D$20,IF(INDEX(Data_kom2,MATCH(1,(komnavn2=$B264)*(komaar2=Skyggetabeller!D$10),0),67)=\"\",\"*\",INDEX(Data_kom2,MATCH(1,(komnavn2=$B264)*(komaar2=Skyggetabeller!D$10),0),67)),\"\")","v":0},{"$f":"IF(Datanedslag>=E$20,IF(INDEX(Data_kom2,MATCH(1,(komnavn2=$B264)*(komaar2=Skyggetabeller!E$10),0),67)=\"\",\"*\",INDEX(Data_kom2,MATCH(1,(komnavn2=$B264)*(komaar2=Skyggetabeller!E$10),0),67)),\"\")","v":0},{"$f":"IF(Datanedslag>=F$20,IF(INDEX(Data_kom2,MATCH(1,(komnavn2=$B264)*(komaar2=Skyggetabeller!F$10),0),67)=\"\",\"*\",INDEX(Data_kom2,MATCH(1,(komnavn2=$B264)*(komaar2=Skyggetabeller!F$10),0),67)),\"\")","v":0},{"$f":"IF(Datanedslag>=G$20,IF(INDEX(Data_kom2,MATCH(1,(komnavn2=$B264)*(komaar2=Skyggetabeller!G$10),0),67)=\"\",\"*\",INDEX(Data_kom2,MATCH(1,(komnavn2=$B264)*(komaar2=Skyggetabeller!G$10),0),67)),\"\")","v":"*"},{"$f":"IF(Datanedslag>=H$20,IF(INDEX(Data_kom2,MATCH(1,(komnavn2=$B264)*(komaar2=Skyggetabeller!H$10),0),67)=\"\",\"*\",INDEX(Data_kom2,MATCH(1,(komnavn2=$B264)*(komaar2=Skyggetabeller!H$10),0),67)),\"\")","v":13},{"$f":"IF(Datanedslag>=I$20,IF(INDEX(Data_kom2,MATCH(1,(komnavn2=$B264)*(komaar2=Skyggetabeller!I$10),0),67)=\"\",\"*\",INDEX(Data_kom2,MATCH(1,(komnavn2=$B264)*(komaar2=Skyggetabeller!I$10),0),67)),\"\")","v":17},{"$f":"IF(Datanedslag>=J$20,IF(INDEX(Data_kom2,MATCH(1,(komnavn2=$B264)*(komaar2=Skyggetabeller!J$10),0),67)=\"\",\"*\",INDEX(Data_kom2,MATCH(1,(komnavn2=$B264)*(komaar2=Skyggetabeller!J$10),0),67)),\"\")","v":16},{"$f":"IF(Datanedslag>=K$20,IF(INDEX(Data_kom2,MATCH(1,(komnavn2=$B264)*(komaar2=Skyggetabeller!K$10),0),67)=\"\",\"*\",INDEX(Data_kom2,MATCH(1,(komnavn2=$B264)*(komaar2=Skyggetabeller!K$10),0),67)),\"\")","v":19},{"$f":"IF(Datanedslag>=L$20,IF(INDEX(Data_kom2,MATCH(1,(komnavn2=$B264)*(komaar2=Skyggetabeller!L$10),0),67)=\"\",\"*\",INDEX(Data_kom2,MATCH(1,(komnavn2=$B264)*(komaar2=Skyggetabeller!L$10),0),67)),\"\")","v":28},{"$f":"IF(Datanedslag>=M$20,IF(INDEX(Data_kom2,MATCH(1,(komnavn2=$B264)*(komaar2=Skyggetabeller!M$10),0),67)=\"\",\"*\",INDEX(Data_kom2,MATCH(1,(komnavn2=$B264)*(komaar2=Skyggetabeller!M$10),0),67)),\"\")","v":31}]
[null,{"$f":"B265&(\", N\")","v":"Sammenligningskommuner, N"},{"$f":"IF(Datanedslag>=C$20,IF(SUM(Hjælpefane!$AI$4:$AI$10)=\"\",\"\",SUM(Hjælpefane!$AI$4:$AI$10)),\"\")","v":0},{"$f":"IF(Datanedslag>=D$20,IF(SUM(Hjælpefane!$AI$16:$AI$22)=\"\",\"\",SUM(Hjælpefane!$AI$16:$AI$22)),\"\")","v":0},{"$f":"IF(Datanedslag>=E$20,IF(SUM(Hjælpefane!$AI$28:$AI$34)=\"\",\"*\",SUM(Hjælpefane!$AI$28:$AI$34)),\"\")","v":0},{"$f":"IF(Datanedslag>=F$20,IF(SUM(Hjælpefane!$AI$40:$AI$46)=\"\",\"*\",SUM(Hjælpefane!$AI$40:$AI$46)),\"\")","v":0},{"$f":"IF(Datanedslag>=G$20,IF(SUM(Hjælpefane!$AI$52:$AI$58)=\"\",\"*\",SUM(Hjælpefane!$AI$52:$AI$58)),\"\")","v":0},{"$f":"IF(Datanedslag>=H$20,IF(SUM(Hjælpefane!$AI$64:$AI$70)=\"\",\"*\",SUM(Hjælpefane!$AI$64:$AI$70)),\"\")","v":0},{"$f":"IF(Datanedslag>=I$20,IF(SUM(Hjælpefane!$AI$76:$AI$82)=\"\",\"*\",SUM(Hjælpefane!$AI$76:$AI$82)),\"\")","v":0},{"$f":"IF(Datanedslag>=J$20,IF(SUM(Hjælpefane!$AI$88:$AI$94)=\"\",\"*\",SUM(Hjælpefane!$AI$88:$AI$94)),\"\")","v":0},{"$f":"IF(Datanedslag>=K$20,IF(SUM(Hjælpefane!$AI$100:$AI$106)=\"\",\"*\",SUM(Hjælpefane!$AI$100:$AI$106)),\"\")","v":0},{"$f":"IF(Datanedslag>=L$20,IF(SUM(Hjælpefane!$AI$100:$AI$106)=\"\",\"*\",SUM(Hjælpefane!$AI$100:$AI$106)),\"\")","v":0},{"$f":"IF(Datanedslag>=M$20,IF(SUM(Hjælpefane!$AI$100:$AI$106)=\"\",\"*\",SUM(Hjælpefane!$AI$100:$AI$106)),\"\")","v":0}]
[null,{"$f":"B266&(\", N\")","v":"Landsgennemsnit, N"},{"$f":"IF(Datanedslag>=C$20,IF(INDEX(Data_land,MATCH(Skyggetabeller!C$10,Landaar,0),67)=\"\",\"*\",INDEX(Data_land,MATCH(Skyggetabeller!C$10,Landaar,0),67)),\"\")","v":0},{"$f":"IF(Datanedslag>=D$20,IF(INDEX(Data_land,MATCH(Skyggetabeller!D$10,Landaar,0),67)=\"\",\"*\",INDEX(Data_land,MATCH(Skyggetabeller!D$10,Landaar,0),67)),\"\")","v":90},{"$f":"IF(Datanedslag>=E$20,IF(INDEX(Data_land,MATCH(Skyggetabeller!E$10,Landaar,0),67)=\"\",\"*\",INDEX(Data_land,MATCH(Skyggetabeller!E$10,Landaar,0),67)),\"\")","v":240},{"$f":"IF(Datanedslag>=F$20,IF(INDEX(Data_land,MATCH(Skyggetabeller!F$10,Landaar,0),67)=\"\",\"*\",INDEX(Data_land,MATCH(Skyggetabeller!F$10,Landaar,0),67)),\"\")","v":430},{"$f":"IF(Datanedslag>=G$20,IF(INDEX(Data_land,MATCH(Skyggetabeller!G$10,Landaar,0),67)=\"\",\"*\",INDEX(Data_land,MATCH(Skyggetabeller!G$10,Landaar,0),67)),\"\")","v":610},{"$f":"IF(Datanedslag>=H$20,IF(INDEX(Data_land,MATCH(Skyggetabeller!H$10,Landaar,0),67)=\"\",\"*\",INDEX(Data_land,MATCH(Skyggetabeller!H$10,Landaar,0),67)),\"\")","v":910},{"$f":"IF(Datanedslag>=I$20,IF(INDEX(Data_land,MATCH(Skyggetabeller!I$10,Landaar,0),67)=\"\",\"*\",INDEX(Data_land,MATCH(Skyggetabeller!I$10,Landaar,0),67)),\"\")","v":1160},{"$f":"IF(Datanedslag>=J$20,IF(INDEX(Data_land,MATCH(Skyggetabeller!J$10,Landaar,0),67)=\"\",\"*\",INDEX(Data_land,MATCH(Skyggetabeller!J$10,Landaar,0),67)),\"\")","v":1080},{"$f":"IF(Datanedslag>=K$20,IF(INDEX(Data_land,MATCH(Skyggetabeller!K$10,Landaar,0),67)=\"\",\"*\",INDEX(Data_land,MATCH(Skyggetabeller!K$10,Landaar,0),67)),\"\")","v":1150},{"$f":"IF(Datanedslag>=L$20,IF(INDEX(Data_land,MATCH(Skyggetabeller!L$10,Landaar,0),67)=\"\",\"*\",INDEX(Data_land,MATCH(Skyggetabeller!L$10,Landaar,0),67)),\"\")","v":1230},{"$f":"IF(Datanedslag>=M$20,IF(INDEX(Data_land,MATCH(Skyggetabeller!M$10,Landaar,0),67)=\"\",\"*\",INDEX(Data_land,MATCH(Skyggetabeller!M$10,Landaar,0),67)),\"\")","v":1310}]
[]
[null,"Nøgletal 12.2: Beskæftigelsesgrad for den øvrige målgruppe"]
[]
[null,{"$f":"Kommune","v":"Herning"},{"$f":"Skyggetabeller!C$10","v":20181},{"$f":"Skyggetabeller!D$10","v":20182},{"$f":"Skyggetabeller!E$10","v":20191},{"$f":"Skyggetabeller!F$10","v":20192},{"$f":"Skyggetabeller!G$10","v":20201},{"$f":"Skyggetabeller!H$10","v":20202},{"$f":"Skyggetabeller!I$10","v":20211},{"$f":"Skyggetabeller!J$10","v":20212},{"$f":"Skyggetabeller!K$10","v":20221},{"$f":"Skyggetabeller!L$10","v":20222},{"$f":"Skyggetabeller!M$10","v":20231}]
[null,null,{"$f":"Skyggetabeller!C$11","v":"2018-01-01"},{"$f":"Skyggetabeller!D$11","v":"2018-07-01"},{"$f":"Skyggetabeller!E$11","v":"2019-01-01"},{"$f":"Skyggetabeller!F$11","v":"2019-07-01"},{"$f":"Skyggetabeller!G$11","v":"2020-01-01"},{"$f":"Skyggetabeller!H$11","v":"2020-07-01"},{"$f":"Skyggetabeller!I$11","v":"2021-01-01"},{"$f":"Skyggetabeller!J$11","v":"2021-07-01"},{"$f":"Skyggetabeller!K$11","v":"2022-01-01"},{"$f":"Skyggetabeller!L$11","v":"2022-07-01"},{"$f":"Skyggetabeller!M$11","v":"2023-01-01"}]
[null,"Beskæftigelsesgrad",{"$f":"IFERROR(IF(INDEX(Data_kom2,MATCH(1,(komnavn2=Kommune)*(komaar2=C274),0),68)=\"\",\"*\",INDEX(Data_kom2,MATCH(1,(komnavn2=Kommune)*(komaar2=C274),0),68)),\"Ingen data\")","v":8.8651471984805302E-2},{"$f":"IFERROR(IF(INDEX(Data_kom2,MATCH(1,(komnavn2=Kommune)*(komaar2=D274),0),68)=\"\",\"*\",INDEX(Data_kom2,MATCH(1,(komnavn2=Kommune)*(komaar2=D274),0),68)),\"Ingen data\")","v":8.8499338499338498E-2},{"$f":"IFERROR(IF(INDEX(Data_kom2,MATCH(1,(komnavn2=Kommune)*(komaar2=E274),0),68)=\"\",\"*\",INDEX(Data_kom2,MATCH(1,(komnavn2=Kommune)*(komaar2=E274),0),68)),\"Ingen data\")","v":6.5581854043392507E-2},{"$f":"IFERROR(IF(INDEX(Data_kom2,MATCH(1,(komnavn2=Kommune)*(komaar2=F274),0),68)=\"\",\"*\",INDEX(Data_kom2,MATCH(1,(komnavn2=Kommune)*(komaar2=F274),0),68)),\"Ingen data\")","v":5.8772110242698503E-2},{"$f":"IFERROR(IF(INDEX(Data_kom2,MATCH(1,(komnavn2=Kommune)*(komaar2=G274),0),68)=\"\",\"*\",INDEX(Data_kom2,MATCH(1,(komnavn2=Kommune)*(komaar2=G274),0),68)),\"Ingen data\")","v":5.0679983000424998E-2},{"$f":"IFERROR(IF(INDEX(Data_kom2,MATCH(1,(komnavn2=Kommune)*(komaar2=H274),0),68)=\"\",\"*\",INDEX(Data_kom2,MATCH(1,(komnavn2=Kommune)*(komaar2=H274),0),68)),\"Ingen data\")","v":5.1559251559251597E-2},{"$f":"IFERROR(IF(INDEX(Data_kom2,MATCH(1,(komnavn2=Kommune)*(komaar2=I274),0),68)=\"\",\"*\",INDEX(Data_kom2,MATCH(1,(komnavn2=Kommune)*(komaar2=I274),0),68)),\"Ingen data\")","v":5.3679382947675602E-2},{"$f":"IFERROR(IF(INDEX(Data_kom2,MATCH(1,(komnavn2=Kommune)*(komaar2=J274),0),68)=\"\",\"*\",INDEX(Data_kom2,MATCH(1,(komnavn2=Kommune)*(komaar2=J274),0),68)),\"Ingen data\")","v":5.5948717948717898E-2},{"$f":"IFERROR(IF(INDEX(Data_kom2,MATCH(1,(komnavn2=Kommune)*(komaar2=K274),0),68)=\"\",\"*\",INDEX(Data_kom2,MATCH(1,(komnavn2=Kommune)*(komaar2=K274),0),68)),\"Ingen data\")","v":5.3201606086221501E-2},{"$f":"IFERROR(IF(INDEX(Data_kom2,MATCH(1,(komnavn2=Kommune)*(komaar2=L274),0),68)=\"\",\"*\",INDEX(Data_kom2,MATCH(1,(komnavn2=Kommune)*(komaar2=L274),0),68)),\"Ingen data\")","v":5.5466788404473902E-2},{"$f":"IFERROR(IF(INDEX(Data_kom2,MATCH(1,(komnavn2=Kommune)*(komaar2=M274),0),68)=\"\",\"*\",INDEX(Data_kom2,MATCH(1,(komnavn2=Kommune)*(komaar2=M274),0),68)),\"Ingen data\")","v":7.6864624736965204E-2},"Ved næste datanedslag trækkes formlen i den gule række én gang til højre. Trækkes kun i gule felter"]
[]
[null,null,{"$f":"Skyggetabeller!C$11","v":"2018-01-01"},{"$f":"Skyggetabeller!D$11","v":"2018-07-01"},{"$f":"Skyggetabeller!E$11","v":"2019-01-01"},{"$f":"Skyggetabeller!F$11","v":"2019-07-01"},{"$f":"Skyggetabeller!G$11","v":"2020-01-01"},{"$f":"Skyggetabeller!H$11","v":"2020-07-01"},{"$f":"Skyggetabeller!I$11","v":"2021-01-01"},{"$f":"Skyggetabeller!J$11","v":"2021-07-01"},{"$f":"Skyggetabeller!K$11","v":"2022-01-01"},{"$f":"Skyggetabeller!L$11","v":"2022-07-01"},{"$f":"Skyggetabeller!M$11","v":"2023-01-01"}]
[null,{"$f":"Kommune","v":"Herning"},{"$f":"IF(Datanedslag>=C$20,IF(INDEX(Data_kom2,MATCH(1,(komnavn2=$B279)*(komaar2=Skyggetabeller!C$10),0),68)=\"\",\"*\",INDEX(Data_kom2,MATCH(1,(komnavn2=$B279)*(komaar2=Skyggetabeller!C$10),0),68)),\"\")","v":8.8651471984805302E-2},{"$f":"IF(Datanedslag>=D$20,IF(INDEX(Data_kom2,MATCH(1,(komnavn2=$B279)*(komaar2=Skyggetabeller!D$10),0),68)=\"\",\"*\",INDEX(Data_kom2,MATCH(1,(komnavn2=$B279)*(komaar2=Skyggetabeller!D$10),0),68)),\"\")","v":8.8499338499338498E-2},{"$f":"IF(Datanedslag>=E$20,IF(INDEX(Data_kom2,MATCH(1,(komnavn2=$B279)*(komaar2=Skyggetabeller!E$10),0),68)=\"\",\"*\",INDEX(Data_kom2,MATCH(1,(komnavn2=$B279)*(komaar2=Skyggetabeller!E$10),0),68)),\"\")","v":6.5581854043392507E-2},{"$f":"IF(Datanedslag>=F$20,IF(INDEX(Data_kom2,MATCH(1,(komnavn2=$B279)*(komaar2=Skyggetabeller!F$10),0),68)=\"\",\"*\",INDEX(Data_kom2,MATCH(1,(komnavn2=$B279)*(komaar2=Skyggetabeller!F$10),0),68)),\"\")","v":5.8772110242698503E-2},{"$f":"IF(Datanedslag>=G$20,IF(INDEX(Data_kom2,MATCH(1,(komnavn2=$B279)*(komaar2=Skyggetabeller!G$10),0),68)=\"\",\"*\",INDEX(Data_kom2,MATCH(1,(komnavn2=$B279)*(komaar2=Skyggetabeller!G$10),0),68)),\"\")","v":5.0679983000424998E-2},{"$f":"IF(Datanedslag>=H$20,IF(INDEX(Data_kom2,MATCH(1,(komnavn2=$B279)*(komaar2=Skyggetabeller!H$10),0),68)=\"\",\"*\",INDEX(Data_kom2,MATCH(1,(komnavn2=$B279)*(komaar2=Skyggetabeller!H$10),0),68)),\"\")","v":5.1559251559251597E-2},{"$f":"IF(Datanedslag>=I$20,IF(INDEX(Data_kom2,MATCH(1,(komnavn2=$B279)*(komaar2=Skyggetabeller!I$10),0),68)=\"\",\"*\",INDEX(Data_kom2,MATCH(1,(komnavn2=$B279)*(komaar2=Skyggetabeller!I$10),0),68)),\"\")","v":5.3679382947675602E-2},{"$f":"IF(Datanedslag>=J$20,IF(INDEX(Data_kom2,MATCH(1,(komnavn2=$B279)*(komaar2=Skyggetabeller!J$10),0),68)=\"\",\"*\",INDEX(Data_kom2,MATCH(1,(komnavn2=$B279)*(komaar2=Skyggetabeller!J$10),0),68)),\"\")","v":5.5948717948717898E-2},{"$f":"IF(Datanedslag>=K$20,IF(INDEX(Data_kom2,MATCH(1,(komnavn2=$B279)*(komaar2=Skyggetabeller!K$10),0),68)=\"\",\"*\",INDEX(Data_kom2,MATCH(1,(komnavn2=$B279)*(komaar2=Skyggetabeller!K$10),0),68)),\"\")","v":5.3201606086221501E-2},{"$f":"IF(Datanedslag>=L$20,IF(INDEX(Data_kom2,MATCH(1,(komnavn2=$B279)*(komaar2=Skyggetabeller!L$10),0),68)=\"\",\"*\",INDEX(Data_kom2,MATCH(1,(komnavn2=$B279)*(komaar2=Skyggetabeller!L$10),0),68)),\"\")","v":5.5466788404473902E-2},{"$f":"IF(Datanedslag>=M$20,IF(INDEX(Data_kom2,MATCH(1,(komnavn2=$B279)*(komaar2=Skyggetabeller!M$10),0),68)=\"\",\"*\",INDEX(Data_kom2,MATCH(1,(komnavn2=$B279)*(komaar2=Skyggetabeller!M$10),0),68)),\"\")","v":7.6864624736965204E-2}]
[null,"Sammenligningskommuner",{"$f":"IFERROR(IF(Datanedslag>=C$20,IF(Hjælpefane!$C$4=\"\",\"*\",AVERAGE(Hjælpefane!$AJ$4:$AJ$10)),\"\"),\"\")","v":5.6686929698568367E-2},{"$f":"IFERROR(IF(Datanedslag>=D$20,IF(Hjælpefane!$C$4=\"\",\"*\",AVERAGE(Hjælpefane!$AJ$16:$AJ$22)),\"\"),\"\")","v":3.5700369379836464E-2},{"$f":"IFERROR(IF(Datanedslag>=E$20,IF(Hjælpefane!$C$4=\"\",\"*\",AVERAGE(Hjælpefane!$AJ$28:$AJ$34)),\"\"),\"\")","v":5.2651515151515171E-2},{"$f":"IFERROR(IF(Datanedslag>=F$20,IF(Hjælpefane!$C$4=\"\",\"*\",AVERAGE(Hjælpefane!$AJ$40:$AJ$46)),\"\"),\"\")","v":7.1903719537801877E-2},{"$f":"IFERROR(IF(Datanedslag>=G$20,IF(Hjælpefane!$C$4=\"\",\"*\",AVERAGE(Hjælpefane!$AJ$52:$AJ$58)),\"\"),\"\")","v":8.3302904114924692E-2},{"$f":"IFERROR(IF(Datanedslag>=H$20,IF(Hjælpefane!$C$4=\"\",\"*\",AVERAGE(Hjælpefane!$AJ$64:$AJ$70)),\"\"),\"\")","v":7.8831654912524127E-2},{"$f":"IFERROR(IF(Datanedslag>=I$20,IF(Hjælpefane!$C$4=\"\",\"*\",AVERAGE(Hjælpefane!$AJ$76:$AJ$82)),\"\"),\"\")","v":7.2110032587194894E-2},{"$f":"IFERROR(IF(Datanedslag>=J$20,IF(Hjælpefane!$C$4=\"\",\"*\",AVERAGE(Hjælpefane!$AJ$88:$AJ$94)),\"\"),\"\")","v":6.2357921466617096E-2},{"$f":"IFERROR(IF(Datanedslag>=K$20,IF(Hjælpefane!$C$4=\"\",\"*\",AVERAGE(Hjælpefane!$AJ$100:$AJ$106)),\"\"),\"\")","v":5.9333685421984299E-2},{"$f":"IFERROR(IF(Datanedslag>=L$20,IF(Hjælpefane!$C$4=\"\",\"*\",AVERAGE(Hjælpefane!$AJ$100:$AJ$106)),\"\"),\"\")","v":5.9333685421984299E-2},{"$f":"IFERROR(IF(Datanedslag>=M$20,IF(Hjælpefane!$C$4=\"\",\"*\",AVERAGE(Hjælpefane!$AJ$100:$AJ$106)),\"\"),\"\")","v":5.9333685421984299E-2}]
[null,"Landsgennemsnit",{"$f":"IF(Datanedslag>=C$20,IF(INDEX(Data_land,MATCH(C$19,Landaar,0),68)=\"\",\"*\",INDEX(Data_land,MATCH(C$19,Landaar,0),68)),\"\")","v":5.0162313110772697E-2},{"$f":"IF(Datanedslag>=D$20,IF(INDEX(Data_land,MATCH(D$19,Landaar,0),68)=\"\",\"*\",INDEX(Data_land,MATCH(D$19,Landaar,0),68)),\"\")","v":5.1588394620299002E-2},{"$f":"IF(Datanedslag>=E$20,IF(INDEX(Data_land,MATCH(E$19,Landaar,0),68)=\"\",\"*\",INDEX(Data_land,MATCH(E$19,Landaar,0),68)),\"\")","v":5.1967008273060299E-2},{"$f":"IF(Datanedslag>=F$20,IF(INDEX(Data_land,MATCH(F$19,Landaar,0),68)=\"\",\"*\",INDEX(Data_land,MATCH(F$19,Landaar,0),68)),\"\")","v":5.3193253260846299E-2},{"$f":"IF(Datanedslag>=G$20,IF(INDEX(Data_land,MATCH(G$19,Landaar,0),68)=\"\",\"*\",INDEX(Data_land,MATCH(G$19,Landaar,0),68)),\"\")","v":5.4497582416008397E-2},{"$f":"IF(Datanedslag>=H$20,IF(INDEX(Data_land,MATCH(H$19,Landaar,0),68)=\"\",\"*\",INDEX(Data_land,MATCH(H$19,Landaar,0),68)),\"\")","v":5.52763985669446E-2},{"$f":"IF(Datanedslag>=I$20,IF(INDEX(Data_land,MATCH(I$19,Landaar,0),68)=\"\",\"*\",INDEX(Data_land,MATCH(I$19,Landaar,0),68)),\"\")","v":5.57487642643298E-2},{"$f":"IF(Datanedslag>=J$20,IF(INDEX(Data_land,MATCH(J$19,Landaar,0),68)=\"\",\"*\",INDEX(Data_land,MATCH(J$19,Landaar,0),68)),\"\")","v":5.65929151026714E-2},{"$f":"IF(Datanedslag>=K$20,IF(INDEX(Data_land,MATCH(K$19,Landaar,0),68)=\"\",\"*\",INDEX(Data_land,MATCH(K$19,Landaar,0),68)),\"\")","v":6.0945511488541E-2},{"$f":"IF(Datanedslag>=L$20,IF(INDEX(Data_land,MATCH(L$19,Landaar,0),68)=\"\",\"*\",INDEX(Data_land,MATCH(L$19,Landaar,0),68)),\"\")","v":6.6240384756591594E-2},{"$f":"IF(Datanedslag>=M$20,IF(INDEX(Data_land,MATCH(M$19,Landaar,0),68)=\"\",\"*\",INDEX(Data_land,MATCH(M$19,Landaar,0),68)),\"\")","v":6.7833442491279303E-2}]
[]
[null,{"$f":"B279&(\", N\")","v":"Herning, N"},{"$f":"IF(Datanedslag>=C$20,IF(INDEX(Data_kom2,MATCH(1,(komnavn2=$B279)*(komaar2=Skyggetabeller!C$10),0),71)=\"\",\"*\",INDEX(Data_kom2,MATCH(1,(komnavn2=$B279)*(komaar2=Skyggetabeller!C$10),0),71)),\"\")","v":405},{"$f":"IF(Datanedslag>=D$20,IF(INDEX(Data_kom2,MATCH(1,(komnavn2=$B279)*(komaar2=Skyggetabeller!D$10),0),71)=\"\",\"*\",INDEX(Data_kom2,MATCH(1,(komnavn2=$B279)*(komaar2=Skyggetabeller!D$10),0),71)),\"\")","v":407},{"$f":"IF(Datanedslag>=E$20,IF(INDEX(Data_kom2,MATCH(1,(komnavn2=$B279)*(komaar2=Skyggetabeller!E$10),0),71)=\"\",\"*\",INDEX(Data_kom2,MATCH(1,(komnavn2=$B279)*(komaar2=Skyggetabeller!E$10),0),71)),\"\")","v":390},{"$f":"IF(Datanedslag>=F$20,IF(INDEX(Data_kom2,MATCH(1,(komnavn2=$B279)*(komaar2=Skyggetabeller!F$10),0),71)=\"\",\"*\",INDEX(Data_kom2,MATCH(1,(komnavn2=$B279)*(komaar2=Skyggetabeller!F$10),0),71)),\"\")","v":374},{"$f":"IF(Datanedslag>=G$20,IF(INDEX(Data_kom2,MATCH(1,(komnavn2=$B279)*(komaar2=Skyggetabeller!G$10),0),71)=\"\",\"*\",INDEX(Data_kom2,MATCH(1,(komnavn2=$B279)*(komaar2=Skyggetabeller!G$10),0),71)),\"\")","v":"*"},{"$f":"IF(Datanedslag>=H$20,IF(INDEX(Data_kom2,MATCH(1,(komnavn2=$B279)*(komaar2=Skyggetabeller!H$10),0),71)=\"\",\"*\",INDEX(Data_kom2,MATCH(1,(komnavn2=$B279)*(komaar2=Skyggetabeller!H$10),0),71)),\"\")","v":370},{"$f":"IF(Datanedslag>=I$20,IF(INDEX(Data_kom2,MATCH(1,(komnavn2=$B279)*(komaar2=Skyggetabeller!I$10),0),71)=\"\",\"*\",INDEX(Data_kom2,MATCH(1,(komnavn2=$B279)*(komaar2=Skyggetabeller!I$10),0),71)),\"\")","v":369},{"$f":"IF(Datanedslag>=J$20,IF(INDEX(Data_kom2,MATCH(1,(komnavn2=$B279)*(komaar2=Skyggetabeller!J$10),0),71)=\"\",\"*\",INDEX(Data_kom2,MATCH(1,(komnavn2=$B279)*(komaar2=Skyggetabeller!J$10),0),71)),\"\")","v":375},{"$f":"IF(Datanedslag>=K$20,IF(INDEX(Data_kom2,MATCH(1,(komnavn2=$B279)*(komaar2=Skyggetabeller!K$10),0),71)=\"\",\"*\",INDEX(Data_kom2,MATCH(1,(komnavn2=$B279)*(komaar2=Skyggetabeller!K$10),0),71)),\"\")","v":364},{"$f":"IF(Datanedslag>=L$20,IF(INDEX(Data_kom2,MATCH(1,(komnavn2=$B279)*(komaar2=Skyggetabeller!L$10),0),71)=\"\",\"*\",INDEX(Data_kom2,MATCH(1,(komnavn2=$B279)*(komaar2=Skyggetabeller!L$10),0),71)),\"\")","v":337},{"$f":"IF(Datanedslag>=M$20,IF(INDEX(Data_kom2,MATCH(1,(komnavn2=$B279)*(komaar2=Skyggetabeller!M$10),0),71)=\"\",\"*\",INDEX(Data_kom2,MATCH(1,(komnavn2=$B279)*(komaar2=Skyggetabeller!M$10),0),71)),\"\")","v":329}]
[null,{"$f":"B280&(\", N\")","v":"Sammenligningskommuner, N"},{"$f":"IF(Datanedslag>=C$20,IF(SUM(Hjælpefane!$AK$4:$AK$10)=\"\",\"\",SUM(Hjælpefane!$AK$4:$AK$10)),\"\")","v":495},{"$f":"IF(Datanedslag>=D$20,IF(SUM(Hjælpefane!$AK$16:$AK$22)=\"\",\"\",SUM(Hjælpefane!$AK$16:$AK$22)),\"\")","v":471},{"$f":"IF(Datanedslag>=E$20,IF(SUM(Hjælpefane!$AK$28:$AK$34)=\"\",\"*\",SUM(Hjælpefane!$AK$28:$AK$34)),\"\")","v":484},{"$f":"IF(Datanedslag>=F$20,IF(SUM(Hjælpefane!$AK$40:$AK$46)=\"\",\"*\",SUM(Hjælpefane!$AK$40:$AK$46)),\"\")","v":464},{"$f":"IF(Datanedslag>=G$20,IF(SUM(Hjælpefane!$AK$52:$AK$58)=\"\",\"*\",SUM(Hjælpefane!$AK$52:$AK$58)),\"\")","v":457},{"$f":"IF(Datanedslag>=H$20,IF(SUM(Hjælpefane!$AK$64:$AK$70)=\"\",\"*\",SUM(Hjælpefane!$AK$64:$AK$70)),\"\")","v":460},{"$f":"IF(Datanedslag>=I$20,IF(SUM(Hjælpefane!$AK$76:$AK$82)=\"\",\"*\",SUM(Hjælpefane!$AK$76:$AK$82)),\"\")","v":462},{"$f":"IF(Datanedslag>=J$20,IF(SUM(Hjælpefane!$AK$88:$AK$94)=\"\",\"*\",SUM(Hjælpefane!$AK$88:$AK$94)),\"\")","v":516},{"$f":"IF(Datanedslag>=K$20,IF(SUM(Hjælpefane!$AK$100:$AK$106)=\"\",\"*\",SUM(Hjælpefane!$AK$100:$AK$106)),\"\")","v":518},{"$f":"IF(Datanedslag>=L$20,IF(SUM(Hjælpefane!$AK$100:$AK$106)=\"\",\"*\",SUM(Hjælpefane!$AK$100:$AK$106)),\"\")","v":518},{"$f":"IF(Datanedslag>=M$20,IF(SUM(Hjælpefane!$AK$100:$AK$106)=\"\",\"*\",SUM(Hjælpefane!$AK$100:$AK$106)),\"\")","v":518}]
[null,{"$f":"B281&(\", N\")","v":"Landsgennemsnit, N"},{"$f":"IF(Datanedslag>=C$20,IF(INDEX(Data_land,MATCH(Skyggetabeller!C$10,Landaar,0),71)=\"\",\"*\",INDEX(Data_land,MATCH(Skyggetabeller!C$10,Landaar,0),71)),\"\")","v":26410},{"$f":"IF(Datanedslag>=D$20,IF(INDEX(Data_land,MATCH(Skyggetabeller!D$10,Landaar,0),71)=\"\",\"*\",INDEX(Data_land,MATCH(Skyggetabeller!D$10,Landaar,0),71)),\"\")","v":26560},{"$f":"IF(Datanedslag>=E$20,IF(INDEX(Data_land,MATCH(Skyggetabeller!E$10,Landaar,0),71)=\"\",\"*\",INDEX(Data_land,MATCH(Skyggetabeller!E$10,Landaar,0),71)),\"\")","v":26470},{"$f":"IF(Datanedslag>=F$20,IF(INDEX(Data_land,MATCH(Skyggetabeller!F$10,Landaar,0),71)=\"\",\"*\",INDEX(Data_land,MATCH(Skyggetabeller!F$10,Landaar,0),71)),\"\")","v":26200},{"$f":"IF(Datanedslag>=G$20,IF(INDEX(Data_land,MATCH(Skyggetabeller!G$10,Landaar,0),71)=\"\",\"*\",INDEX(Data_land,MATCH(Skyggetabeller!G$10,Landaar,0),71)),\"\")","v":26060},{"$f":"IF(Datanedslag>=H$20,IF(INDEX(Data_land,MATCH(Skyggetabeller!H$10,Landaar,0),71)=\"\",\"*\",INDEX(Data_land,MATCH(Skyggetabeller!H$10,Landaar,0),71)),\"\")","v":25840},{"$f":"IF(Datanedslag>=I$20,IF(INDEX(Data_land,MATCH(Skyggetabeller!I$10,Landaar,0),71)=\"\",\"*\",INDEX(Data_land,MATCH(Skyggetabeller!I$10,Landaar,0),71)),\"\")","v":25900},{"$f":"IF(Datanedslag>=J$20,IF(INDEX(Data_land,MATCH(Skyggetabeller!J$10,Landaar,0),71)=\"\",\"*\",INDEX(Data_land,MATCH(Skyggetabeller!J$10,Landaar,0),71)),\"\")","v":26210},{"$f":"IF(Datanedslag>=K$20,IF(INDEX(Data_land,MATCH(Skyggetabeller!K$10,Landaar,0),71)=\"\",\"*\",INDEX(Data_land,MATCH(Skyggetabeller!K$10,Landaar,0),71)),\"\")","v":26490},{"$f":"IF(Datanedslag>=L$20,IF(INDEX(Data_land,MATCH(Skyggetabeller!L$10,Landaar,0),71)=\"\",\"*\",INDEX(Data_land,MATCH(Skyggetabeller!L$10,Landaar,0),71)),\"\")","v":26710},{"$f":"IF(Datanedslag>=M$20,IF(INDEX(Data_land,MATCH(Skyggetabeller!M$10,Landaar,0),71)=\"\",\"*\",INDEX(Data_land,MATCH(Skyggetabeller!M$10,Landaar,0),71)),\"\")","v":26780}]
[]
[]
[null,"Nøgletal 13 - Trivsel"]
[]
[13,null,{"$f":"C$13","v":"2023-07-01"},{"$f":"D$13","v":"2024-01-01"},{"$f":"E$13","v":"2024-07-01"},{"$f":"F$13","v":"2025-01-01"}]
[null,{"$f":"Kommune","v":"Herning"},{"$f":"IF(Datanedslag_valideredeinstr>=C$290,IF(Indtastningsark!E23=\"\",\"*\",Indtastningsark!E23),\"\")","v":"*"},{"$f":"IF(Datanedslag_valideredeinstr>=D$290,IF(Indtastningsark!F23=\"\",\"*\",Indtastningsark!F23),\"\")","v":"*"},{"$f":"IF(Datanedslag_valideredeinstr>=E$290,IF(Indtastningsark!G23=\"\",\"*\",Indtastningsark!G23),\"\")","v":"*"},{"$f":"IF(Datanedslag_valideredeinstr>=F$290,IF(Indtastningsark!H23=\"\",\"*\",Indtastningsark!H23),\"\")","v":"*"},"Træk formlen fra første datanedslag ved nyt nedslag"]
[]
["13a",{"$f":"B291&(\", N\")","v":"Herning, N"},{"$f":"IF(Datanedslag_valideredeinstr>=C$319,IF(Indtastningsark!E24=\"\",\"*\",Indtastningsark!E24),\"\")","v":"*"},{"$f":"IF(Datanedslag_valideredeinstr>=D$319,IF(Indtastningsark!F24=\"\",\"*\",Indtastningsark!F24),\"\")","v":"*"},{"$f":"IF(Datanedslag_valideredeinstr>=E$319,IF(Indtastningsark!G24=\"\",\"*\",Indtastningsark!G24),\"\")","v":"*"},{"$f":"IF(Datanedslag_valideredeinstr>=F$319,IF(Indtastningsark!H24=\"\",\"*\",Indtastningsark!H24),\"\")","v":"*"},"Træk formlen fra første datanedslag ved nyt nedslag"]
[]
[]
["13.1",null,{"$f":"C$13","v":"2023-07-01"},{"$f":"D$13","v":"2024-01-01"},{"$f":"E$13","v":"2024-07-01"},{"$f":"F$13","v":"2025-01-01"}]
[null,{"$f":"Kommune","v":"Herning"},{"$f":"IF(Datanedslag_valideredeinstr>=C$319,IF(Indtastningsark!E25=\"\",\"*\",Indtastningsark!E25),\"\")","v":"*"},{"$f":"IF(Datanedslag_valideredeinstr>=D$319,IF(Indtastningsark!F25=\"\",\"*\",Indtastningsark!F25),\"\")","v":"*"},{"$f":"IF(Datanedslag_valideredeinstr>=E$319,IF(Indtastningsark!G25=\"\",\"*\",Indtastningsark!G25),\"\")","v":"*"},{"$f":"IF(Datanedslag_valideredeinstr>=F$319,IF(Indtastningsark!H25=\"\",\"*\",Indtastningsark!H25),\"\")","v":"*"},"Træk formlen fra første datanedslag ved nyt nedslag"]
[]
["13.1a",{"$f":"B297&(\", N\")","v":"Herning, N"},{"$f":"IF(Datanedslag_valideredeinstr>=C$319,IF(Indtastningsark!E26=\"\",\"*\",Indtastningsark!E26),\"\")","v":"*"},{"$f":"IF(Datanedslag_valideredeinstr>=D$319,IF(Indtastningsark!F26=\"\",\"*\",Indtastningsark!F26),\"\")","v":"*"},{"$f":"IF(Datanedslag_valideredeinstr>=E$319,IF(Indtastningsark!G26=\"\",\"*\",Indtastningsark!G26),\"\")","v":"*"},{"$f":"IF(Datanedslag_valideredeinstr>=F$319,IF(Indtastningsark!H26=\"\",\"*\",Indtastningsark!H26),\"\")","v":"*"},"Træk formlen fra første datanedslag ved nyt nedslag"]
[]
["13.2",null,{"$f":"C$13","v":"2023-07-01"},{"$f":"D$13","v":"2024-01-01"},{"$f":"E$13","v":"2024-07-01"},{"$f":"F$13","v":"2025-01-01"}]
[null,{"$f":"Kommune","v":"Herning"},{"$f":"IF(Datanedslag_valideredeinstr>=C$319,IF(Indtastningsark!E27=\"\",\"*\",Indtastningsark!E27),\"\")","v":"*"},{"$f":"IF(Datanedslag_valideredeinstr>=D$319,IF(Indtastningsark!F27=\"\",\"*\",Indtastningsark!F27),\"\")","v":"*"},{"$f":"IF(Datanedslag_valideredeinstr>=E$319,IF(Indtastningsark!G27=\"\",\"*\",Indtastningsark!G27),\"\")","v":"*"},{"$f":"IF(Datanedslag_valideredeinstr>=F$319,IF(Indtastningsark!H27=\"\",\"*\",Indtastningsark!H27),\"\")","v":"*"},"Træk formlen fra første datanedslag ved nyt nedslag"]
[]
["13.2a",{"$f":"B302&(\", N\")","v":"Herning, N"},{"$f":"IF(Datanedslag_valideredeinstr>=C$319,IF(Indtastningsark!E28=\"\",\"*\",Indtastningsark!E28),\"\")","v":"*"},{"$f":"IF(Datanedslag_valideredeinstr>=D$319,IF(Indtastningsark!F28=\"\",\"*\",Indtastningsark!F28),\"\")","v":"*"},{"$f":"IF(Datanedslag_valideredeinstr>=E$319,IF(Indtastningsark!G28=\"\",\"*\",Indtastningsark!G28),\"\")","v":"*"},{"$f":"IF(Datanedslag_valideredeinstr>=F$319,IF(Indtastningsark!H28=\"\",\"*\",Indtastningsark!H28),\"\")","v":"*"},"Træk formlen fra første datanedslag ved nyt nedslag"]
[]
[]
[]
[null,"Nøgletal 14 - Personlig Recovery"]
[]
[14,null,{"$f":"C$13","v":"2023-07-01"},{"$f":"D$13","v":"2024-01-01"},{"$f":"E$13","v":"2024-07-01"},{"$f":"F$13","v":"2025-01-01"}]
[null,{"$f":"Kommune","v":"Herning"},{"$f":"IF(Datanedslag_valideredeinstr>=C$319,IF(Indtastningsark!E29=\"\",\"*\",Indtastningsark!E29),\"\")","v":"*"},{"$f":"IF(Datanedslag_valideredeinstr>=D$319,IF(Indtastningsark!F29=\"\",\"*\",Indtastningsark!F29),\"\")","v":"*"},{"$f":"IF(Datanedslag_valideredeinstr>=E$319,IF(Indtastningsark!G29=\"\",\"*\",Indtastningsark!G29),\"\")","v":"*"},{"$f":"IF(Datanedslag_valideredeinstr>=F$319,IF(Indtastningsark!H29=\"\",\"*\",Indtastningsark!H29),\"\")","v":"*"},"Træk formlen fra første datanedslag ved nyt nedslag"]
[null,"Gens. for normalbefolkningen",71.099999999999994,71.099999999999994,71.099999999999994,71.099999999999994,"Fast sats baseret på forksningsartikel: https://www.tandfonline.com/doi/full/10.1080/08039488.2023.2202637"]
["14a",{"$f":"B311&(\", N\")","v":"Herning, N"},{"$f":"IF(Datanedslag_valideredeinstr>=C$319,IF(Indtastningsark!E30=\"\",\"*\",Indtastningsark!E30),\"\")","v":"*"},{"$f":"IF(Datanedslag_valideredeinstr>=D$319,IF(Indtastningsark!F30=\"\",\"*\",Indtastningsark!F30),\"\")","v":"*"},{"$f":"IF(Datanedslag_valideredeinstr>=E$319,IF(Indtastningsark!G30=\"\",\"*\",Indtastningsark!G30),\"\")","v":"*"},{"$f":"IF(Datanedslag_valideredeinstr>=F$319,IF(Indtastningsark!H30=\"\",\"*\",Indtastningsark!H30),\"\")","v":"*"},"Træk formlen fra første datanedslag ved nyt nedslag"]
[]
[]
[null,"Nøgletal 15 - Mental sundhed"]
[]
[]
[{"$f":"Kommune","v":"Herning"},null,{"$f":"C$13","v":"2023-07-01"},{"$f":"D$13","v":"2024-01-01"},{"$f":"E$13","v":"2024-07-01"},{"$f":"F$13","v":"2025-01-01"}]
["15.1","Mental sundhed – Ikke umiddelbar risiko for stress og depression ",{"$f":"IF(Datanedslag_valideredeinstr>=C$319,IF(Indtastningsark!E31=\"\",\"*\",Indtastningsark!E31),\"\")","v":"Beregnes"},{"$f":"IF(Datanedslag_valideredeinstr>=D$319,IF(Indtastningsark!F31=\"\",\"*\",Indtastningsark!F31),\"\")","v":"Beregnes"},{"$f":"IF(Datanedslag_valideredeinstr>=E$319,IF(Indtastningsark!G31=\"\",\"*\",Indtastningsark!G31),\"\")","v":"Beregnes"},{"$f":"IF(Datanedslag_valideredeinstr>=F$319,IF(Indtastningsark!H31=\"\",\"*\",Indtastningsark!H31),\"\")","v":"Beregnes"},"Træk formlen fra første datanedslag ved nyt nedslag"]
["15.2","Mental sundhed – Risiko for stress og depression",{"$f":"IF(Datanedslag_valideredeinstr>=C$319,IF(Indtastningsark!E34=\"\",\"*\",Indtastningsark!E34),\"\")","v":"Beregnes"},{"$f":"IF(Datanedslag_valideredeinstr>=D$319,IF(Indtastningsark!F34=\"\",\"*\",Indtastningsark!F34),\"\")","v":"Beregnes"},{"$f":"IF(Datanedslag_valideredeinstr>=E$319,IF(Indtastningsark!G34=\"\",\"*\",Indtastningsark!G34),\"\")","v":"Beregnes"},{"$f":"IF(Datanedslag_valideredeinstr>=F$319,IF(Indtastningsark!H34=\"\",\"*\",Indtastningsark!H34),\"\")","v":"Beregnes"},"Træk formlen fra første datanedslag ved nyt nedslag"]
["15.3","Mental sundhed – Stor risiko for stress og depression",{"$f":"IF(Datanedslag_valideredeinstr>=C$319,IF(Indtastningsark!E37=\"\",\"*\",Indtastningsark!E37),\"\")","v":"Beregnes"},{"$f":"IF(Datanedslag_valideredeinstr>=D$319,IF(Indtastningsark!F37=\"\",\"*\",Indtastningsark!F37),\"\")","v":"Beregnes"},{"$f":"IF(Datanedslag_valideredeinstr>=E$319,IF(Indtastningsark!G37=\"\",\"*\",Indtastningsark!G37),\"\")","v":"Beregnes"},{"$f":"IF(Datanedslag_valideredeinstr>=F$319,IF(Indtastningsark!H37=\"\",\"*\",Indtastningsark!H37),\"\")","v":"Beregnes"},"Træk formlen fra første datanedslag ved nyt nedslag"]
["15.3b",null,{"$f":"IF(Datanedslag_valideredeinstr>=C$319,IF(Indtastningsark!E39=\"\",\"*\",Indtastningsark!E39),\"\")","v":"*"},{"$f":"IF(Datanedslag_valideredeinstr>=D$319,IF(Indtastningsark!F39=\"\",\"*\",Indtastningsark!F39),\"\")","v":"*"},{"$f":"IF(Datanedslag_valideredeinstr>=E$319,IF(Indtastningsark!G39=\"\",\"*\",Indtastningsark!G39),\"\")","v":"*"},{"$f":"IF(Datanedslag_valideredeinstr>=F$319,IF(Indtastningsark!H39=\"\",\"*\",Indtastningsark!H39),\"\")","v":"*"},"Træk formlen fra første datanedslag ved nyt nedslag"]
[]
[]
[null,"Tabel 2.a: Ikke umiddelbar risiko for stress eller depression",null,null,null,null,null,"Tabel 2.b: Risiko for stress eller depression",null,null,null,null,null,"Tabel 2.c: Stor risiko for stress eller depression"]
["15.3b",{"$f":"Indtastningsark!B31","v":"15.1"},{"$f":"C$13","v":"2023-07-01"},{"$f":"D$13","v":"2024-01-01"},{"$f":"E$13","v":"2024-07-01"},{"$f":"F$13","v":"2025-01-01"},null,{"$f":"Indtastningsark!B34","v":"15.2"},{"$f":"C$13","v":"2023-07-01"},{"$f":"D$13","v":"2024-01-01"},{"$f":"E$13","v":"2024-07-01"},{"$f":"F$13","v":"2025-01-01"},null,{"$f":"Indtastningsark!B37","v":"15.3"},{"$f":"C$13","v":"2023-07-01"},{"$f":"D$13","v":"2024-01-01"},{"$f":"E$13","v":"2024-07-01"},{"$f":"F$13","v":"2025-01-01"}]
[null,{"$f":"Kommune","v":"Herning"},{"$f":"IF(Datanedslag_valideredeinstr>=C$319,IF(Indtastningsark!E31=\"\",\"*\",Indtastningsark!E31),\"\")","v":"Beregnes"},{"$f":"IF(Datanedslag_valideredeinstr>=D$319,IF(Indtastningsark!F31=\"\",\"*\",Indtastningsark!F31),\"\")","v":"Beregnes"},{"$f":"IF(Datanedslag_valideredeinstr>=E$319,IF(Indtastningsark!G31=\"\",\"*\",Indtastningsark!G31),\"\")","v":"Beregnes"},{"$f":"IF(Datanedslag_valideredeinstr>=F$319,IF(Indtastningsark!H31=\"\",\"*\",Indtastningsark!H31),\"\")","v":"Beregnes"},"Træk formlen fra første datanedslag ved nyt nedslag",{"$f":"Kommune","v":"Herning"},{"$f":"IF(Datanedslag_valideredeinstr>=C$319,IF(Indtastningsark!E34=\"\",\"*\",Indtastningsark!E34),\"\")","v":"Beregnes"},{"$f":"IF(Datanedslag_valideredeinstr>=D$319,IF(Indtastningsark!F34=\"\",\"*\",Indtastningsark!F34),\"\")","v":"Beregnes"},{"$f":"IF(Datanedslag_valideredeinstr>=E$319,IF(Indtastningsark!G34=\"\",\"*\",Indtastningsark!G34),\"\")","v":"Beregnes"},{"$f":"IF(Datanedslag_valideredeinstr>=F$319,IF(Indtastningsark!H34=\"\",\"*\",Indtastningsark!H34),\"\")","v":"Beregnes"},"Træk formlen fra første datanedslag ved nyt nedslag",{"$f":"Kommune","v":"Herning"},{"$f":"IF(Datanedslag_valideredeinstr>=O$327,IF(Indtastningsark!E37=\"\",\"*\",Indtastningsark!E37),\"\")","v":"Beregnes"},{"$f":"IF(Datanedslag_valideredeinstr>=P$327,IF(Indtastningsark!F37=\"\",\"*\",Indtastningsark!F37),\"\")","v":"Beregnes"},{"$f":"IF(Datanedslag_valideredeinstr>=Q$327,IF(Indtastningsark!G37=\"\",\"*\",Indtastningsark!G37),\"\")","v":"Beregnes"},{"$f":"IF(Datanedslag_valideredeinstr>=R$327,IF(Indtastningsark!H37=\"\",\"*\",Indtastningsark!H37),\"\")","v":"Beregnes"},"Træk formlen fra første datanedslag ved nyt nedslag"]
[null,"N",{"$f":"IF(Datanedslag_valideredeinstr>=C$319,IF(Indtastningsark!E33=\"\",\"*\",Indtastningsark!E33),\"\")","v":"*"},{"$f":"IF(Datanedslag_valideredeinstr>=D$319,IF(Indtastningsark!F33=\"\",\"*\",Indtastningsark!F33),\"\")","v":"*"},{"$f":"IF(Datanedslag_valideredeinstr>=E$319,IF(Indtastningsark!G33=\"\",\"*\",Indtastningsark!G33),\"\")","v":"*"},{"$f":"IF(Datanedslag_valideredeinstr>=F$319,IF(Indtastningsark!H33=\"\",\"*\",Indtastningsark!H33),\"\")","v":"*"},"Træk formlen fra første datanedslag ved nyt nedslag","N",{"$f":"IF(Datanedslag_valideredeinstr>=C$319,IF(Indtastningsark!E36=\"\",\"*\",Indtastningsark!E36),\"\")","v":"*"},{"$f":"IF(Datanedslag_valideredeinstr>=D$319,IF(Indtastningsark!F36=\"\",\"*\",Indtastningsark!F36),\"\")","v":"*"},{"$f":"IF(Datanedslag_valideredeinstr>=E$319,IF(Indtastningsark!G36=\"\",\"*\",Indtastningsark!G36),\"\")","v":"*"},{"$f":"IF(Datanedslag_valideredeinstr>=F$319,IF(Indtastningsark!H36=\"\",\"*\",Indtastningsark!H36),\"\")","v":"*"},"Træk formlen fra første datanedslag ved nyt nedslag","N",{"$f":"IF(Datanedslag_valideredeinstr>=C$319,IF(Indtastningsark!E39=\"\",\"*\",Indtastningsark!E39),\"\")","v":"*"},{"$f":"IF(Datanedslag_valideredeinstr>=D$319,IF(Indtastningsark!F39=\"\",\"*\",Indtastningsark!F39),\"\")","v":"*"},{"$f":"IF(Datanedslag_valideredeinstr>=E$319,IF(Indtastningsark!G39=\"\",\"*\",Indtastningsark!G39),\"\")","v":"*"},{"$f":"IF(Datanedslag_valideredeinstr>=F$319,IF(Indtastningsark!H39=\"\",\"*\",Indtastningsark!H39),\"\")","v":"*"},"Træk formlen fra første datanedslag ved nyt nedslag"]
[]
[]
[null,"Nøgletal 16 - Forbedret mental sundhed"]
[]
[{"$f":"Indtastningsark!B40","v":16},null,{"$f":"C$13","v":"2023-07-01"},{"$f":"D$13","v":"2024-01-01"},{"$f":"E$13","v":"2024-07-01"},{"$f":"F$13","v":"2025-01-01"}]
[null,{"$f":"Kommune","v":"Herning"},null,{"$f":"IF(Datanedslag_valideredeinstr>=D$334,IF(Indtastningsark!F40=\"\",\"*\",Indtastningsark!F40),\"\")","v":"Beregnes"},{"$f":"IF(Datanedslag_valideredeinstr>=E$334,IF(Indtastningsark!G40=\"\",\"*\",Indtastningsark!G40),\"\")","v":"Beregnes"},{"$f":"IF(Datanedslag_valideredeinstr>=F$334,IF(Indtastningsark!H40=\"\",\"*\",Indtastningsark!H40),\"\")","v":"Beregnes"}]
[]
["16a",{"$f":"B335&(\", N\")","v":"Herning, N"},null,{"$f":"IF(Datanedslag_valideredeinstr>=D$334,IF(Indtastningsark!F42=\"\",\"*\",Indtastningsark!F42),\"\")","v":"*"},{"$f":"IF(Datanedslag_valideredeinstr>=E$334,IF(Indtastningsark!G42=\"\",\"*\",Indtastningsark!G42),\"\")","v":"*"},{"$f":"IF(Datanedslag_valideredeinstr>=F$334,IF(Indtastningsark!H42=\"\",\"*\",Indtastningsark!H42),\"\")","v":"*"}]
[]
[]
[]
[null,"Nøgletal 17 - Forværring af mental sundhed"]
[]
[{"$f":"Indtastningsark!B43","v":17},null,{"$f":"C$13","v":"2023-07-01"},{"$f":"D$13","v":"2024-01-01"},{"$f":"E$13","v":"2024-07-01"},{"$f":"F$13","v":"2025-01-01"}]
[null,{"$f":"Kommune","v":"Herning"},null,{"$f":"IF(Datanedslag_valideredeinstr>=D$334,IF(Indtastningsark!F43=\"\",\"*\",Indtastningsark!F43),\"\")","v":"Beregnes"},{"$f":"IF(Datanedslag_valideredeinstr>=E$334,IF(Indtastningsark!G43=\"\",\"*\",Indtastningsark!G43),\"\")","v":"Beregnes"},{"$f":"IF(Datanedslag_valideredeinstr>=F$334,IF(Indtastningsark!H43=\"\",\"*\",Indtastningsark!H43),\"\")","v":"Beregnes"}]
[]
["17a",{"$f":"Kommune","v":"Herning"},null,{"$f":"IF(Datanedslag_valideredeinstr>=D$334,IF(Indtastningsark!F45=\"\",\"*\",Indtastningsark!F45),\"\")","v":"*"},{"$f":"IF(Datanedslag_valideredeinstr>=E$334,IF(Indtastningsark!G45=\"\",\"*\",Indtastningsark!G45),\"\")","v":"*"},{"$f":"IF(Datanedslag_valideredeinstr>=F$334,IF(Indtastningsark!H45=\"\",\"*\",Indtastningsark!H45),\"\")","v":"*"}]
[]
[]
[]
[null,"Nøgletal 18 - Genindlæggelser"]
[]
[null,{"$f":"Kommune","v":"Herning"},{"$f":"Skyggetabeller!C$10","v":20181},{"$f":"Skyggetabeller!D$10","v":20182},{"$f":"Skyggetabeller!E$10","v":20191},{"$f":"Skyggetabeller!F$10","v":20192},{"$f":"Skyggetabeller!G$10","v":20201},{"$f":"Skyggetabeller!H$10","v":20202},{"$f":"Skyggetabeller!I$10","v":20211},{"$f":"Skyggetabeller!J$10","v":20212},{"$f":"Skyggetabeller!K$10","v":20221},{"$f":"Skyggetabeller!L$10","v":20222},{"$f":"Skyggetabeller!M$10","v":20231}]
[null,null,{"$f":"Skyggetabeller!C$11","v":"2018-01-01"},{"$f":"Skyggetabeller!D$11","v":"2018-07-01"},{"$f":"Skyggetabeller!E$11","v":"2019-01-01"},{"$f":"Skyggetabeller!F$11","v":"2019-07-01"},{"$f":"Skyggetabeller!G$11","v":"2020-01-01"},{"$f":"Skyggetabeller!H$11","v":"2020-07-01"},{"$f":"Skyggetabeller!I$11","v":"2021-01-01"},{"$f":"Skyggetabeller!J$11","v":"2021-07-01"},{"$f":"Skyggetabeller!K$11","v":"2022-01-01"},{"$f":"Skyggetabeller!L$11","v":"2022-07-01"},{"$f":"Skyggetabeller!M$11","v":"2023-01-01"}]
[null,"Andel af genindlæggelser",null,{"$f":"IF(LPR_datanedslag>=D$20,IFERROR(IF(INDEX(Data_kom2,MATCH(1,(komnavn2=Kommune)*(komaar2=D352),0),72)=\"\",\"*\",INDEX(Data_kom2,MATCH(1,(komnavn2=Kommune)*(komaar2=D352),0),72)),\"Ingen data\"),\"\")","v":0.37662337662337703},{"$f":"IF(LPR_datanedslag>=E$20,IFERROR(IF(INDEX(Data_kom2,MATCH(1,(komnavn2=Kommune)*(komaar2=E352),0),72)=\"\",\"*\",INDEX(Data_kom2,MATCH(1,(komnavn2=Kommune)*(komaar2=E352),0),72)),\"Ingen data\"),\"\")","v":0.38823529411764701},{"$f":"IF(LPR_datanedslag>=F$20,IFERROR(IF(INDEX(Data_kom2,MATCH(1,(komnavn2=Kommune)*(komaar2=F352),0),72)=\"\",\"*\",INDEX(Data_kom2,MATCH(1,(komnavn2=Kommune)*(komaar2=F352),0),72)),\"Ingen data\"),\"\")","v":0.5},{"$f":"IF(LPR_datanedslag>=G$20,IFERROR(IF(INDEX(Data_kom2,MATCH(1,(komnavn2=Kommune)*(komaar2=G352),0),72)=\"\",\"*\",INDEX(Data_kom2,MATCH(1,(komnavn2=Kommune)*(komaar2=G352),0),72)),\"Ingen data\"),\"\")","v":0.45600000000000002},{"$f":"IF(LPR_datanedslag>=H$20,IFERROR(IF(INDEX(Data_kom2,MATCH(1,(komnavn2=Kommune)*(komaar2=H352),0),72)=\"\",\"*\",INDEX(Data_kom2,MATCH(1,(komnavn2=Kommune)*(komaar2=H352),0),72)),\"Ingen data\"),\"\")","v":0.33620689655172398},{"$f":"IF(LPR_datanedslag>=I$20,IFERROR(IF(INDEX(Data_kom2,MATCH(1,(komnavn2=Kommune)*(komaar2=I352),0),72)=\"\",\"*\",INDEX(Data_kom2,MATCH(1,(komnavn2=Kommune)*(komaar2=I352),0),72)),\"Ingen data\"),\"\")","v":0.48666666666666702},{"$f":"IF(LPR_datanedslag>=J$20,IFERROR(IF(INDEX(Data_kom2,MATCH(1,(komnavn2=Kommune)*(komaar2=J352),0),72)=\"\",\"*\",INDEX(Data_kom2,MATCH(1,(komnavn2=Kommune)*(komaar2=J352),0),72)),\"Ingen data\"),\"\")","v":0.61111111111111105},{"$f":"IF(LPR_datanedslag>=K$20,IFERROR(IF(INDEX(Data_kom2,MATCH(1,(komnavn2=Kommune)*(komaar2=K352),0),72)=\"\",\"*\",INDEX(Data_kom2,MATCH(1,(komnavn2=Kommune)*(komaar2=K352),0),72)),\"Ingen data\"),\"\")","v":0.52027027027026995},{"$f":"IF(LPR_datanedslag>=L$20,IFERROR(IF(INDEX(Data_kom2,MATCH(1,(komnavn2=Kommune)*(komaar2=L352),0),72)=\"\",\"*\",INDEX(Data_kom2,MATCH(1,(komnavn2=Kommune)*(komaar2=L352),0),72)),\"Ingen data\"),\"\")","v":0.42446043165467601},{"$f":"IF(LPR_datanedslag>=M$20,IFERROR(IF(INDEX(Data_kom2,MATCH(1,(komnavn2=Kommune)*(komaar2=M352),0),72)=\"\",\"*\",INDEX(Data_kom2,MATCH(1,(komnavn2=Kommune)*(komaar2=M352),0),72)),\"Ingen data\"),\"\")","v":0.45283018867924502}]
[]
[null,null,{"$f":"Skyggetabeller!C$11","v":"2018-01-01"},{"$f":"Skyggetabeller!D$11","v":"2018-07-01"},{"$f":"Skyggetabeller!E$11","v":"2019-01-01"},{"$f":"Skyggetabeller!F$11","v":"2019-07-01"},{"$f":"Skyggetabeller!G$11","v":"2020-01-01"},{"$f":"Skyggetabeller!H$11","v":"2020-07-01"},{"$f":"Skyggetabeller!I$11","v":"2021-01-01"},{"$f":"Skyggetabeller!J$11","v":"2021-07-01"},{"$f":"Skyggetabeller!K$11","v":"2022-01-01"},{"$f":"Skyggetabeller!L$11","v":"2022-07-01"},{"$f":"Skyggetabeller!M$11","v":"2023-01-01"}]
[null,{"$f":"Kommune","v":"Herning"},null,{"$f":"IF(LPR_datanedslag>=D$20,IF(INDEX(Data_kom2,MATCH(1,(komnavn2=$B357)*(komaar2=Skyggetabeller!D$10),0),72)=\"\",\"*\",INDEX(Data_kom2,MATCH(1,(komnavn2=$B357)*(komaar2=Skyggetabeller!D$10),0),72)),\"\")","v":0.37662337662337703},{"$f":"IF(LPR_datanedslag>=E$20,IF(INDEX(Data_kom2,MATCH(1,(komnavn2=$B357)*(komaar2=Skyggetabeller!E$10),0),72)=\"\",\"*\",INDEX(Data_kom2,MATCH(1,(komnavn2=$B357)*(komaar2=Skyggetabeller!E$10),0),72)),\"\")","v":0.38823529411764701},{"$f":"IF(LPR_datanedslag>=F$20,IF(INDEX(Data_kom2,MATCH(1,(komnavn2=$B357)*(komaar2=Skyggetabeller!F$10),0),72)=\"\",\"*\",INDEX(Data_kom2,MATCH(1,(komnavn2=$B357)*(komaar2=Skyggetabeller!F$10),0),72)),\"\")","v":0.5},{"$f":"IF(LPR_datanedslag>=G$20,IF(INDEX(Data_kom2,MATCH(1,(komnavn2=$B357)*(komaar2=Skyggetabeller!G$10),0),72)=\"\",\"*\",INDEX(Data_kom2,MATCH(1,(komnavn2=$B357)*(komaar2=Skyggetabeller!G$10),0),72)),\"\")","v":0.45600000000000002},{"$f":"IF(LPR_datanedslag>=H$20,IF(INDEX(Data_kom2,MATCH(1,(komnavn2=$B357)*(komaar2=Skyggetabeller!H$10),0),72)=\"\",\"*\",INDEX(Data_kom2,MATCH(1,(komnavn2=$B357)*(komaar2=Skyggetabeller!H$10),0),72)),\"\")","v":0.33620689655172398},{"$f":"IF(LPR_datanedslag>=I$20,IF(INDEX(Data_kom2,MATCH(1,(komnavn2=$B357)*(komaar2=Skyggetabeller!I$10),0),72)=\"\",\"*\",INDEX(Data_kom2,MATCH(1,(komnavn2=$B357)*(komaar2=Skyggetabeller!I$10),0),72)),\"\")","v":0.48666666666666702},{"$f":"IF(LPR_datanedslag>=J$20,IF(INDEX(Data_kom2,MATCH(1,(komnavn2=$B357)*(komaar2=Skyggetabeller!J$10),0),72)=\"\",\"*\",INDEX(Data_kom2,MATCH(1,(komnavn2=$B357)*(komaar2=Skyggetabeller!J$10),0),72)),\"\")","v":0.61111111111111105},{"$f":"+K354","v":0.52027027027026995},{"$f":"IF(LPR_datanedslag>=L$20,IF(INDEX(Data_kom2,MATCH(1,(komnavn2=$B357)*(komaar2=Skyggetabeller!L$10),0),72)=\"\",\"*\",INDEX(Data_kom2,MATCH(1,(komnavn2=$B357)*(komaar2=Skyggetabeller!L$10),0),72)),\"\")","v":0.42446043165467601},{"$f":"IF(LPR_datanedslag>=M$20,IF(INDEX(Data_kom2,MATCH(1,(komnavn2=$B357)*(komaar2=Skyggetabeller!M$10),0),72)=\"\",\"*\",INDEX(Data_kom2,MATCH(1,(komnavn2=$B357)*(komaar2=Skyggetabeller!M$10),0),72)),\"\")","v":0.45283018867924502}]
[null,"Sammenligningskommuner",null,{"$f":"IF(LPR_datanedslag>=D$20,IF(Hjælpefane!$C$4=\"\",\"*\",AVERAGE(Hjælpefane!$AL$16:$AL$22)),\"\")","v":0.51595279720279741},{"$f":"IF(LPR_datanedslag>=E$20,IF(Hjælpefane!$C$4=\"\",\"*\",AVERAGE(Hjælpefane!$AL$28:$AL$34)),\"\")","v":0.5387590334236676},{"$f":"IF(LPR_datanedslag>=F$20,IF(Hjælpefane!$C$4=\"\",\"*\",AVERAGE(Hjælpefane!$AL$40:$AL$46)),\"\")","v":0.62106027596223701},{"$f":"IF(LPR_datanedslag>=G$20,IF(Hjælpefane!$C$4=\"\",\"*\",AVERAGE(Hjælpefane!$AL$52:$AL$58)),\"\")","v":0.55710170712076901},{"$f":"IF(LPR_datanedslag>=H$20,IF(Hjælpefane!$C$4=\"\",\"*\",AVERAGE(Hjælpefane!$AL$52:$AL$58)),\"\")","v":0.55710170712076901},{"$f":"IF(LPR_datanedslag>=I$20,IF(Hjælpefane!$C$4=\"\",\"*\",AVERAGE(Hjælpefane!$AL$76:$AL$82)),\"\")","v":0.330979284369115},{"$f":"IF(LPR_datanedslag>=J$20,IF(Hjælpefane!$C$4=\"\",\"*\",AVERAGE(Hjælpefane!$AL$88:$AL$94)),\"\")","v":0.48512336719883903},{"$f":"IF(Hjælpefane!$C$4=\"\",\"*\",AVERAGE(Hjælpefane!AL100:AL102))","v":0.57007575757575768},{"$f":"IF(LPR_datanedslag>=L$20,IF(Hjælpefane!$C$4=\"\",\"*\",AVERAGE(Hjælpefane!$AL$16:$AL$22)),\"\")","v":0.51595279720279741},{"$f":"IF(LPR_datanedslag>=M$20,IF(Hjælpefane!$C$4=\"\",\"*\",AVERAGE(Hjælpefane!$AL$28:$AL$34)),\"\")","v":0.5387590334236676}]
[null,"Landsgennemsnit",null,{"$f":"IF(LPR_datanedslag>=D$20,IF(INDEX(Data_land,MATCH(D$19,Landaar,0),72)=\"\",\"*\",INDEX(Data_land,MATCH(D$19,Landaar,0),72)),\"\")","v":0.47793796417649598},0.49547920433996401,0.49721883055216398,0.461561881564926,0.47684042398722198,0.47670145524033503,0.47938820101966501,0.48539195834538601,0.48610529255690499,0.509436766235696]
[]
[null,{"$f":"B357&(\", N\")","v":"Herning, N"},null,{"$f":"IF(LPR_datanedslag>=D$20,IF(INDEX(Data_kom2,MATCH(1,(komnavn2=$B357)*(komaar2=Skyggetabeller!D$10),0),75)=\"\",\"*\",INDEX(Data_kom2,MATCH(1,(komnavn2=$B357)*(komaar2=Skyggetabeller!D$10),0),75)),\"\")","v":407},{"$f":"IF(LPR_datanedslag>=E$20,IF(INDEX(Data_kom2,MATCH(1,(komnavn2=$B357)*(komaar2=Skyggetabeller!E$10),0),75)=\"\",\"*\",INDEX(Data_kom2,MATCH(1,(komnavn2=$B357)*(komaar2=Skyggetabeller!E$10),0),75)),\"\")","v":390},{"$f":"IF(LPR_datanedslag>=F$20,IF(INDEX(Data_kom2,MATCH(1,(komnavn2=$B357)*(komaar2=Skyggetabeller!F$10),0),75)=\"\",\"*\",INDEX(Data_kom2,MATCH(1,(komnavn2=$B357)*(komaar2=Skyggetabeller!F$10),0),75)),\"\")","v":374},{"$f":"IF(LPR_datanedslag>=G$20,IF(INDEX(Data_kom2,MATCH(1,(komnavn2=$B357)*(komaar2=Skyggetabeller!G$10),0),75)=\"\",\"*\",INDEX(Data_kom2,MATCH(1,(komnavn2=$B357)*(komaar2=Skyggetabeller!G$10),0),75)),\"\")","v":363},{"$f":"IF(LPR_datanedslag>=H$20,IF(INDEX(Data_kom2,MATCH(1,(komnavn2=$B357)*(komaar2=Skyggetabeller!H$10),0),75)=\"\",\"*\",INDEX(Data_kom2,MATCH(1,(komnavn2=$B357)*(komaar2=Skyggetabeller!H$10),0),75)),\"\")","v":383},{"$f":"IF(LPR_datanedslag>=I$20,IF(INDEX(Data_kom2,MATCH(1,(komnavn2=$B357)*(komaar2=Skyggetabeller!I$10),0),75)=\"\",\"*\",INDEX(Data_kom2,MATCH(1,(komnavn2=$B357)*(komaar2=Skyggetabeller!I$10),0),75)),\"\")","v":386},{"$f":"IF(LPR_datanedslag>=J$20,IF(INDEX(Data_kom2,MATCH(1,(komnavn2=$B357)*(komaar2=Skyggetabeller!J$10),0),75)=\"\",\"*\",INDEX(Data_kom2,MATCH(1,(komnavn2=$B357)*(komaar2=Skyggetabeller!J$10),0),75)),\"\")","v":391},{"$f":"IF(INDEX(Data_kom2,MATCH(1,(komnavn2=$B357)*(komaar2=Skyggetabeller!K$10),0),75)=\"\",\"*\",INDEX(Data_kom2,MATCH(1,(komnavn2=$B357)*(komaar2=Skyggetabeller!K$10),0),75))","v":383},{"$f":"IF(LPR_datanedslag>=L$20,IF(INDEX(Data_kom2,MATCH(1,(komnavn2=$B357)*(komaar2=Skyggetabeller!L$10),0),75)=\"\",\"*\",INDEX(Data_kom2,MATCH(1,(komnavn2=$B357)*(komaar2=Skyggetabeller!L$10),0),75)),\"\")","v":365},{"$f":"IF(LPR_datanedslag>=M$20,IF(INDEX(Data_kom2,MATCH(1,(komnavn2=$B357)*(komaar2=Skyggetabeller!M$10),0),75)=\"\",\"*\",INDEX(Data_kom2,MATCH(1,(komnavn2=$B357)*(komaar2=Skyggetabeller!M$10),0),75)),\"\")","v":360}]
[null,{"$f":"B358&(\", N\")","v":"Sammenligningskommuner, N"},null,{"$f":"IF(LPR_datanedslag>=D$20,IF(SUM(Hjælpefane!$AM$16:$AM$22)=\"\",\"\",SUM(Hjælpefane!$AM$16:$AM$22)),\"\")","v":471},{"$f":"IF(LPR_datanedslag>=E$20,IF(SUM(Hjælpefane!$AM$28:$AM$34)=\"\",\"*\",SUM(Hjælpefane!$AM$28:$AM$34)),\"\")","v":484},{"$f":"IF(LPR_datanedslag>=F$20,IF(SUM(Hjælpefane!$AM$40:$AM$46)=\"\",\"*\",SUM(Hjælpefane!$AM$40:$AM$46)),\"\")","v":490},{"$f":"IF(LPR_datanedslag>=G$20,IF(SUM(Hjælpefane!$AM$52:$AM$58)=\"\",\"*\",SUM(Hjælpefane!$AM$52:$AM$58)),\"\")","v":487},{"$f":"IF(LPR_datanedslag>=H$20,IF(SUM(Hjælpefane!$AM$64:$AM$70)=\"\",\"*\",SUM(Hjælpefane!$AM$64:$AM$70)),\"\")","v":492},{"$f":"IF(LPR_datanedslag>=I$20,IF(SUM(Hjælpefane!$AM$76:$AM$82)=\"\",\"*\",SUM(Hjælpefane!$AM$76:$AM$82)),\"\")","v":496},{"$f":"IF(LPR_datanedslag>=J$20,IF(SUM(Hjælpefane!$AM$88:$AM$94)=\"\",\"*\",SUM(Hjælpefane!$AM$88:$AM$94)),\"\")","v":516},{"$f":"IF(SUM(Hjælpefane!$AM$88:$AM$94)=\"\",\"*\",SUM(Hjælpefane!$AM$88:$AM$94))","v":516},{"$f":"IF(LPR_datanedslag>=L$20,IF(SUM(Hjælpefane!$AM$16:$AM$22)=\"\",\"\",SUM(Hjælpefane!$AM$16:$AM$22)),\"\")","v":471},{"$f":"IF(LPR_datanedslag>=M$20,IF(SUM(Hjælpefane!$AM$28:$AM$34)=\"\",\"*\",SUM(Hjælpefane!$AM$28:$AM$34)),\"\")","v":484}]
[null,{"$f":"Tab1_slut&(\", N\")","v":"Landsgennemsnit, N"},null,{"$f":"IF(LPR_datanedslag>=D$20,IF(INDEX(Data_land,MATCH(Skyggetabeller!D$10,Landaar,0),75)=\"\",\"*\",INDEX(Data_land,MATCH(Skyggetabeller!D$10,Landaar,0),75)),\"\")","v":26640},{"$f":"IF(LPR_datanedslag>=E$20,IF(INDEX(Data_land,MATCH(Skyggetabeller!E$10,Landaar,0),75)=\"\",\"*\",INDEX(Data_land,MATCH(Skyggetabeller!E$10,Landaar,0),75)),\"\")","v":26710},{"$f":"IF(LPR_datanedslag>=F$20,IF(INDEX(Data_land,MATCH(Skyggetabeller!F$10,Landaar,0),75)=\"\",\"*\",INDEX(Data_land,MATCH(Skyggetabeller!F$10,Landaar,0),75)),\"\")","v":26630},{"$f":"IF(LPR_datanedslag>=G$20,IF(INDEX(Data_land,MATCH(Skyggetabeller!G$10,Landaar,0),75)=\"\",\"*\",INDEX(Data_land,MATCH(Skyggetabeller!G$10,Landaar,0),75)),\"\")","v":26660},{"$f":"IF(LPR_datanedslag>=H$20,IF(INDEX(Data_land,MATCH(Skyggetabeller!H$10,Landaar,0),75)=\"\",\"*\",INDEX(Data_land,MATCH(Skyggetabeller!H$10,Landaar,0),75)),\"\")","v":26750},{"$f":"IF(LPR_datanedslag>=I$20,IF(INDEX(Data_land,MATCH(Skyggetabeller!I$10,Landaar,0),75)=\"\",\"*\",INDEX(Data_land,MATCH(Skyggetabeller!I$10,Landaar,0),75)),\"\")","v":27070},{"$f":"IF(LPR_datanedslag>=J$20,IF(INDEX(Data_land,MATCH(Skyggetabeller!J$10,Landaar,0),75)=\"\",\"*\",INDEX(Data_land,MATCH(Skyggetabeller!J$10,Landaar,0),75)),\"\")","v":27290},{"$f":"IF(INDEX(Data_land,MATCH(Skyggetabeller!K$10,Landaar,0),75)=\"\",\"*\",INDEX(Data_land,MATCH(Skyggetabeller!K$10,Landaar,0),75))","v":27640},{"$f":"IF(LPR_datanedslag>=L$20,IF(INDEX(Data_land,MATCH(Skyggetabeller!L$10,Landaar,0),75)=\"\",\"*\",INDEX(Data_land,MATCH(Skyggetabeller!L$10,Landaar,0),75)),\"\")","v":27940},{"$f":"IF(LPR_datanedslag>=M$20,IF(INDEX(Data_land,MATCH(Skyggetabeller!M$10,Landaar,0),75)=\"\",\"*\",INDEX(Data_land,MATCH(Skyggetabeller!M$10,Landaar,0),75)),\"\")","v":28090}]
[]
[]
[null,"Nøgletal 19 - Udgifter til forebyggende indsatser ift. udgifter til støttende indsatser"]
[]
[null,{"$f":"Kommune","v":"Herning"},{"$f":"C$14","v":2018},2019,2020,2021,2022,2023]
[null,"Andele",{"$f":"IFERROR(INDEX(Data_komoek,MATCH(1,(komnavn=Kommune)*(komaar=C368),0),3),\"Ingen data\")","v":0},{"$f":"IFERROR(INDEX(Data_komoek,MATCH(1,(komnavn=Kommune)*(komaar=D368),0),3),\"Ingen data\")","v":0},{"$f":"IFERROR(INDEX(Data_komoek,MATCH(1,(komnavn=Kommune)*(komaar=E368),0),3),\"Ingen data\")","v":0},{"$f":"IFERROR(INDEX(Data_komoek,MATCH(1,(komnavn=Kommune)*(komaar=F368),0),3),\"Ingen data\")","v":1.8315575849822401E-2},{"$f":"IFERROR(INDEX(Data_komoek,MATCH(1,(komnavn=Kommune)*(komaar=G368),0),3),\"Ingen data\")","v":4.7985651681020598E-2},{"$f":"IFERROR(INDEX(Data_komoek,MATCH(1,(komnavn=Kommune)*(komaar=H368),0),3),\"Ingen data\")","v":"Ingen data"},"Træk formlen når der kommer data for et nyt år"]
[]
[null,null,{"$f":"C$14","v":2018},2019,2020,2021,2022,2023]
[null,{"$f":"Kommune","v":"Herning"},{"$f":"IF(ok_datanedslag>=C$368,INDEX(Data_komoek,MATCH(1,(komnavn=$B372)*(komaar=C$14),0),3),\"\")","v":0},{"$f":"IF(ok_datanedslag>=D$368,INDEX(Data_komoek,MATCH(1,(komnavn=$B372)*(komaar=D$14),0),3),\"\")","v":0},{"$f":"IF(ok_datanedslag>=E$368,INDEX(Data_komoek,MATCH(1,(komnavn=$B372)*(komaar=E$14),0),3),\"\")","v":0},{"$f":"IF(ok_datanedslag>=F$368,INDEX(Data_komoek,MATCH(1,(komnavn=$B372)*(komaar=F$14),0),3),\"\")","v":1.8315575849822401E-2},{"$f":"IF(ok_datanedslag>=G$368,INDEX(Data_komoek,MATCH(1,(komnavn=$B372)*(komaar=G$14),0),3),\"\")","v":4.7985651681020598E-2},{"$f":"IF(ok_datanedslag>=H$368,INDEX(Data_komoek,MATCH(1,(komnavn=$B372)*(komaar=H$14),0),3),\"\")","v":""},"Træk formlen når der kommer data for et nyt år"]
[null,"Sammenligningskommuner",{"$f":"IFERROR(IF(ok_datanedslag>=C$368,SUM(Hjælpefane!$AN$16:$AN$22)/COUNT(Hjælpefane!$AN$16:$AN$22),\"\"),\"\")","v":1.8625058043264798E-2},{"$f":"IFERROR(IF(ok_datanedslag>=D$368,SUM(Hjælpefane!$AN$40:$AN$46)/COUNT(Hjælpefane!$AN$40:$AN$46),\"\"),\"\")","v":9.6148649996311997E-3},{"$f":"IFERROR(IF(ok_datanedslag>=E$368,SUM(Hjælpefane!$AN$64:$AN$70)/COUNT(Hjælpefane!$AN$64:$AN$70),\"\"),\"\")","v":8.1363229241807333E-3},{"$f":"IFERROR(IF(ok_datanedslag>=F$368,SUM(Hjælpefane!$AN$88:$AN$94)/COUNT(Hjælpefane!$AN$88:$AN$94),\"\"),\"\")","v":1.1686884949111534E-2},{"$f":"IFERROR(IF(ok_datanedslag>=G$368,SUM(Hjælpefane!$AN$100:$AN$106)/COUNT(Hjælpefane!$AN$100:$AN$106),\"\"),\"\")","v":9.0639216693111993E-3},{"$f":"IFERROR(IF(ok_datanedslag>=H$368,SUM(Hjælpefane!$AN$100:$AN$106)/COUNT(Hjælpefane!$AN$100:$AN$106),\"\"),\"\")","v":""},"manuel opdatering"]
[null,"Landsgennemsnit",{"$f":"IF(ok_datanedslag>=C$371,INDEX(Data_landoek,MATCH(C$371,Landaar2,0),3),\"\")","v":7.219936968902492E-2},{"$f":"IF(ok_datanedslag>=D$371,INDEX(Data_landoek,MATCH(D$371,Landaar2,0),3),\"\")","v":5.4772078154910801E-2},{"$f":"IF(ok_datanedslag>=E$371,INDEX(Data_landoek,MATCH(E$371,Landaar2,0),3),\"\")","v":-6.3346504494451922E-2},{"$f":"IF(ok_datanedslag>=F$371,INDEX(Data_landoek,MATCH(F$371,Landaar2,0),3),\"\")","v":-9.5977704201101223E-3},{"$f":"IF(ok_datanedslag>=G$371,INDEX(Data_landoek,MATCH(G$371,Landaar2,0),3),\"\")","v":-5.6212950379680403E-2},{"$f":"IF(ok_datanedslag>=H$371,INDEX(Data_landoek,MATCH(H$371,Landaar2,0),3),\"\")","v":""},"Træk formlen når der kommer data for et nyt år"]
[]
[]
[]
[]
[]
[]
[]
[null,"Nøgletal 20 - Udgiftsandele"]
[]
[null,{"$f":"RegNøgletal!B229","v":"20:1: Længerevarende botilbud"}]
[null,{"$f":"Kommune","v":"Herning"},{"$f":"C$14","v":2018},2019,2020,2021,2022,2023]
[null,"Andele",{"$f":"IFERROR(INDEX(Data_komoek,MATCH(1,(komnavn=Kommune)*(komaar=C385),0),6),\"Ingen data\")","v":0.175613626388467},{"$f":"IFERROR(INDEX(Data_komoek,MATCH(1,(komnavn=Kommune)*(komaar=D385),0),6),\"Ingen data\")","v":0.18853526280223501},{"$f":"IFERROR(INDEX(Data_komoek,MATCH(1,(komnavn=Kommune)*(komaar=E385),0),6),\"Ingen data\")","v":0.193999533815058},{"$f":"IFERROR(INDEX(Data_komoek,MATCH(1,(komnavn=Kommune)*(komaar=F385),0),6),\"Ingen data\")","v":0.19426037566638399},{"$f":"IFERROR(INDEX(Data_komoek,MATCH(1,(komnavn=Kommune)*(komaar=G385),0),6),\"Ingen data\")","v":0.20666160776272699},{"$f":"IFERROR(INDEX(Data_komoek,MATCH(1,(komnavn=Kommune)*(komaar=H385),0),6),\"Ingen data\")","v":"Ingen data"},"Træk formlen når der kommer data for et nyt år"]
[]
[]
[null,{"$f":"RegNøgletal!B230","v":"20:2: Botilbudslignende tilbud"}]
[null,{"$f":"Kommune","v":"Herning"},{"$f":"C$14","v":2018},2019,2020,2021,2022,2023]
[null,"Andele",{"$f":"IFERROR(INDEX(Data_komoek,MATCH(1,(komnavn=Kommune)*(komaar=C390),0),9),\"Ingen data\")","v":0.28795705459333498},{"$f":"IFERROR(INDEX(Data_komoek,MATCH(1,(komnavn=Kommune)*(komaar=D390),0),9),\"Ingen data\")","v":0.303199116575742},{"$f":"IFERROR(INDEX(Data_komoek,MATCH(1,(komnavn=Kommune)*(komaar=E390),0),9),\"Ingen data\")","v":0.279278079318038},{"$f":"IFERROR(INDEX(Data_komoek,MATCH(1,(komnavn=Kommune)*(komaar=F390),0),9),\"Ingen data\")","v":0.29551757926029298},{"$f":"IFERROR(INDEX(Data_komoek,MATCH(1,(komnavn=Kommune)*(komaar=G390),0),9),\"Ingen data\")","v":0.27127565106479201},{"$f":"IFERROR(INDEX(Data_komoek,MATCH(1,(komnavn=Kommune)*(komaar=H390),0),9),\"Ingen data\")","v":"Ingen data"},"Træk formlen når der kommer data for et nyt år"]
[]
[]
[null,{"$f":"RegNøgletal!B231","v":"20.3: Midlertidige botilbud"}]
[null,{"$f":"Kommune","v":"Herning"},{"$f":"C$14","v":2018},2019,2020,2021,2022,2023]
[null,"Andele",{"$f":"IFERROR(INDEX(Data_komoek,MATCH(1,(komnavn=Kommune)*(komaar=C395),0),12),\"Ingen data\")","v":0.23616597454336699},{"$f":"IFERROR(INDEX(Data_komoek,MATCH(1,(komnavn=Kommune)*(komaar=D395),0),12),\"Ingen data\")","v":0.29347485702042098},{"$f":"IFERROR(INDEX(Data_komoek,MATCH(1,(komnavn=Kommune)*(komaar=E395),0),12),\"Ingen data\")","v":0.28731976957144301},{"$f":"IFERROR(INDEX(Data_komoek,MATCH(1,(komnavn=Kommune)*(komaar=F395),0),12),\"Ingen data\")","v":0.27729892215966601},{"$f":"IFERROR(INDEX(Data_komoek,MATCH(1,(komnavn=Kommune)*(komaar=G395),0),12),\"Ingen data\")","v":0.21292603774803401},{"$f":"IFERROR(INDEX(Data_komoek,MATCH(1,(komnavn=Kommune)*(komaar=H395),0),12),\"Ingen data\")","v":"Ingen data"},"Træk formlen når der kommer data for et nyt år"]
[]
[]
[null,{"$f":"RegNøgletal!B232","v":"20.4:Socialpædagogisk støtte"}]
[null,{"$f":"Kommune","v":"Herning"},{"$f":"C$14","v":2018},2019,2020,2021,2022,2023]
[null,"Andele",{"$f":"IFERROR(INDEX(Data_komoek,MATCH(1,(komnavn=Kommune)*(komaar=C400),0),15),\"Ingen data\")","v":0.243239137040413},{"$f":"IFERROR(INDEX(Data_komoek,MATCH(1,(komnavn=Kommune)*(komaar=D400),0),15),\"Ingen data\")","v":0.15812634944703599},{"$f":"IFERROR(INDEX(Data_komoek,MATCH(1,(komnavn=Kommune)*(komaar=E400),0),15),\"Ingen data\")","v":0.17292131464153701},{"$f":"IFERROR(INDEX(Data_komoek,MATCH(1,(komnavn=Kommune)*(komaar=F400),0),15),\"Ingen data\")","v":0.15757394582565201},{"$f":"IFERROR(INDEX(Data_komoek,MATCH(1,(komnavn=Kommune)*(komaar=G400),0),15),\"Ingen data\")","v":0.216720215703053},{"$f":"IFERROR(INDEX(Data_komoek,MATCH(1,(komnavn=Kommune)*(komaar=H400),0),15),\"Ingen data\")","v":"Ingen data"},"Træk formlen når der kommer data for et nyt år"]
[]
[]
[null,{"$f":"RegNøgletal!B233","v":"20.5: Beskyttet beskæftigelse og aktivitets- og samværstilbud"}]
[null,{"$f":"Kommune","v":"Herning"},{"$f":"C$14","v":2018},2019,2020,2021,2022,2023]
[null,"Andele",{"$f":"IFERROR(INDEX(Data_komoek,MATCH(1,(komnavn=Kommune)*(komaar=C405),0),18),\"Ingen data\")","v":5.70242074344171E-2},{"$f":"IFERROR(INDEX(Data_komoek,MATCH(1,(komnavn=Kommune)*(komaar=D405),0),18),\"Ingen data\")","v":5.66644141545663E-2},{"$f":"IFERROR(INDEX(Data_komoek,MATCH(1,(komnavn=Kommune)*(komaar=E405),0),18),\"Ingen data\")","v":6.6481302653924296E-2},{"$f":"IFERROR(INDEX(Data_komoek,MATCH(1,(komnavn=Kommune)*(komaar=F405),0),18),\"Ingen data\")","v":5.7363027917559303E-2},{"$f":"IFERROR(INDEX(Data_komoek,MATCH(1,(komnavn=Kommune)*(komaar=G405),0),18),\"Ingen data\")","v":4.6628025251465199E-2},{"$f":"IFERROR(INDEX(Data_komoek,MATCH(1,(komnavn=Kommune)*(komaar=H405),0),18),\"Ingen data\")","v":"Ingen data"},"Træk formlen når der kommer data for et nyt år"]
[]
[]
[null,{"$f":"RegNøgletal!B234","v":"20.6: Forebyggende indsatser"}]
[null,{"$f":"Kommune","v":"Herning"},{"$f":"C$14","v":2018},2019,2020,2021,2022,2023]
[null,"Andel",{"$f":"IFERROR(INDEX(Data_komoek,MATCH(1,(komnavn=Kommune)*(komaar=C410),0),21),\"Ingen data\")","v":0},{"$f":"IFERROR(INDEX(Data_komoek,MATCH(1,(komnavn=Kommune)*(komaar=D410),0),21),\"Ingen data\")","v":0},{"$f":"IFERROR(INDEX(Data_komoek,MATCH(1,(komnavn=Kommune)*(komaar=E410),0),21),\"Ingen data\")","v":0},{"$f":"IFERROR(INDEX(Data_komoek,MATCH(1,(komnavn=Kommune)*(komaar=F410),0),21),\"Ingen data\")","v":1.7986149170444901E-2},{"$f":"IFERROR(INDEX(Data_komoek,MATCH(1,(komnavn=Kommune)*(komaar=G410),0),21),\"Ingen data\")","v":4.5788462469929098E-2},{"$f":"IFERROR(INDEX(Data_komoek,MATCH(1,(komnavn=Kommune)*(komaar=H410),0),21),\"Ingen data\")","v":"Ingen data"},"Træk formlen når der kommer data for et nyt år"]
[]
[]
[null,"Nøgletal 20: \nUdgiftsandele"]
[null,{"$f":"Kommune","v":"Herning"}]
[null,null,{"$f":"C$14","v":2018},2019,2020,2021,2022,2023]
[null,"Længerevarende botilbud",{"$f":"IF(ok_datanedslag>=C$416,INDEX(Data_komoek,MATCH(1,(komnavn=$B$415)*(komaar=C$416),0),6),\"\")","v":0.175613626388467},{"$f":"IF(ok_datanedslag>=D$416,INDEX(Data_komoek,MATCH(1,(komnavn=$B$415)*(komaar=D$416),0),6),\"\")","v":0.18853526280223501},{"$f":"IF(ok_datanedslag>=E$416,INDEX(Data_komoek,MATCH(1,(komnavn=$B$415)*(komaar=E$416),0),6),\"\")","v":0.193999533815058},{"$f":"IF(ok_datanedslag>=F$416,INDEX(Data_komoek,MATCH(1,(komnavn=$B$415)*(komaar=F$416),0),6),\"\")","v":0.19426037566638399},{"$f":"IF(ok_datanedslag>=G$416,INDEX(Data_komoek,MATCH(1,(komnavn=$B$415)*(komaar=G$416),0),6),\"\")","v":0.20666160776272699},{"$f":"IF(ok_datanedslag>=H$416,INDEX(Data_komoek,MATCH(1,(komnavn=$B$415)*(komaar=H$416),0),6),\"\")","v":""},"Formlen trækkes til højre ved nyt datanedslag"]
[null,"Botilbudslignende tilbud",{"$f":"IF(ok_datanedslag>=C$416,INDEX(Data_komoek,MATCH(1,(komnavn=$B$415)*(komaar=C$416),0),9),\"\")","v":0.28795705459333498},{"$f":"IF(ok_datanedslag>=D$416,INDEX(Data_komoek,MATCH(1,(komnavn=$B$415)*(komaar=D$416),0),9),\"\")","v":0.303199116575742},{"$f":"IF(ok_datanedslag>=E$416,INDEX(Data_komoek,MATCH(1,(komnavn=$B$415)*(komaar=E$416),0),9),\"\")","v":0.279278079318038},{"$f":"IF(ok_datanedslag>=F$416,INDEX(Data_komoek,MATCH(1,(komnavn=$B$415)*(komaar=F$416),0),9),\"\")","v":0.29551757926029298},{"$f":"IF(ok_datanedslag>=G$416,INDEX(Data_komoek,MATCH(1,(komnavn=$B$415)*(komaar=G$416),0),9),\"\")","v":0.27127565106479201},{"$f":"IF(ok_datanedslag>=H$416,INDEX(Data_komoek,MATCH(1,(komnavn=$B$415)*(komaar=H$416),0),9),\"\")","v":""},"Formlen trækkes til højre ved nyt datanedslag"]
[null,"Midlertidige botilbud",{"$f":"IF(ok_datanedslag>=C$416,INDEX(Data_komoek,MATCH(1,(komnavn=$B$415)*(komaar=C$416),0),12),\"\")","v":0.23616597454336699},{"$f":"IF(ok_datanedslag>=D$416,INDEX(Data_komoek,MATCH(1,(komnavn=$B$415)*(komaar=D$416),0),12),\"\")","v":0.29347485702042098},{"$f":"IF(ok_datanedslag>=E$416,INDEX(Data_komoek,MATCH(1,(komnavn=$B$415)*(komaar=E$416),0),12),\"\")","v":0.28731976957144301},{"$f":"IF(ok_datanedslag>=F$416,INDEX(Data_komoek,MATCH(1,(komnavn=$B$415)*(komaar=F$416),0),12),\"\")","v":0.27729892215966601},{"$f":"IF(ok_datanedslag>=G$416,INDEX(Data_komoek,MATCH(1,(komnavn=$B$415)*(komaar=G$416),0),12),\"\")","v":0.21292603774803401},{"$f":"IF(ok_datanedslag>=H$416,INDEX(Data_komoek,MATCH(1,(komnavn=$B$415)*(komaar=H$416),0),12),\"\")","v":""},"Formlen trækkes til højre ved nyt datanedslag"]
[null,"Socialpædagogisk støtte",{"$f":"IF(ok_datanedslag>=C$416,INDEX(Data_komoek,MATCH(1,(komnavn=$B$415)*(komaar=C$416),0),15),\"\")","v":0.243239137040413},{"$f":"IF(ok_datanedslag>=D$416,INDEX(Data_komoek,MATCH(1,(komnavn=$B$415)*(komaar=D$416),0),15),\"\")","v":0.15812634944703599},{"$f":"IF(ok_datanedslag>=E$416,INDEX(Data_komoek,MATCH(1,(komnavn=$B$415)*(komaar=E$416),0),15),\"\")","v":0.17292131464153701},{"$f":"IF(ok_datanedslag>=F$416,INDEX(Data_komoek,MATCH(1,(komnavn=$B$415)*(komaar=F$416),0),15),\"\")","v":0.15757394582565201},{"$f":"IF(ok_datanedslag>=G$416,INDEX(Data_komoek,MATCH(1,(komnavn=$B$415)*(komaar=G$416),0),15),\"\")","v":0.216720215703053},{"$f":"IF(ok_datanedslag>=H$416,INDEX(Data_komoek,MATCH(1,(komnavn=$B$415)*(komaar=H$416),0),15),\"\")","v":""},"Formlen trækkes til højre ved nyt datanedslag"]
[null,"Beskyttet beskæftigelse og aktivitets- og samværstilbud",{"$f":"IF(ok_datanedslag>=C$416,INDEX(Data_komoek,MATCH(1,(komnavn=$B$415)*(komaar=C$416),0),18),\"\")","v":5.70242074344171E-2},{"$f":"IF(ok_datanedslag>=D$416,INDEX(Data_komoek,MATCH(1,(komnavn=$B$415)*(komaar=D$416),0),18),\"\")","v":5.66644141545663E-2},{"$f":"IF(ok_datanedslag>=E$416,INDEX(Data_komoek,MATCH(1,(komnavn=$B$415)*(komaar=E$416),0),18),\"\")","v":6.6481302653924296E-2},{"$f":"IF(ok_datanedslag>=F$416,INDEX(Data_komoek,MATCH(1,(komnavn=$B$415)*(komaar=F$416),0),18),\"\")","v":5.7363027917559303E-2},{"$f":"IF(ok_datanedslag>=G$416,INDEX(Data_komoek,MATCH(1,(komnavn=$B$415)*(komaar=G$416),0),18),\"\")","v":4.6628025251465199E-2},{"$f":"IF(ok_datanedslag>=H$416,INDEX(Data_komoek,MATCH(1,(komnavn=$B$415)*(komaar=H$416),0),18),\"\")","v":""},"Formlen trækkes til højre ved nyt datanedslag"]
[null,"Forebyggende indsatser",{"$f":"IF(ok_datanedslag>=C$416,INDEX(Data_komoek,MATCH(1,(komnavn=$B$415)*(komaar=C$416),0),21),\"\")","v":0},{"$f":"IF(ok_datanedslag>=D$416,INDEX(Data_komoek,MATCH(1,(komnavn=$B$415)*(komaar=D$416),0),21),\"\")","v":0},{"$f":"IF(ok_datanedslag>=E$416,INDEX(Data_komoek,MATCH(1,(komnavn=$B$415)*(komaar=E$416),0),21),\"\")","v":0},{"$f":"IF(ok_datanedslag>=F$416,INDEX(Data_komoek,MATCH(1,(komnavn=$B$415)*(komaar=F$416),0),21),\"\")","v":1.7986149170444901E-2},{"$f":"IF(ok_datanedslag>=G$416,INDEX(Data_komoek,MATCH(1,(komnavn=$B$415)*(komaar=G$416),0),21),\"\")","v":4.5788462469929098E-2},{"$f":"IF(ok_datanedslag>=H$416,INDEX(Data_komoek,MATCH(1,(komnavn=$B$415)*(komaar=H$416),0),21),\"\")","v":""},"Formlen trækkes til højre ved nyt datanedslag"]
[]
[]
[null,"Sammenligningskommuner"]
[null,null,{"$f":"C$14","v":2018},2019,2020,2021,2022,2023]
[null,"Længerevarende botilbud",{"$f":"IFERROR(IF(ok_datanedslag>=C$426,SUM(Hjælpefane!$AO$16:$AO$22)/COUNT(Hjælpefane!$AO$16:$AO$22),\"\"),\"\")","v":0.43535238593165343},{"$f":"IFERROR(IF(ok_datanedslag>=D$426,SUM(Hjælpefane!$AO$40:$AO$46)/COUNT(Hjælpefane!$AO$40:$AO$46),\"\"),\"\")","v":0.44359391346936466},{"$f":"IFERROR(IF(ok_datanedslag>=E$426,SUM(Hjælpefane!$AO$64:$AO$70)/COUNT(Hjælpefane!$AO$64:$AO$70),\"\"),\"\")","v":0.46407997448095434},{"$f":"IFERROR(IF(ok_datanedslag>=F$426,SUM(Hjælpefane!$AO$88:$AO$94)/COUNT(Hjælpefane!$AO$88:$AO$94),\"\"),\"\")","v":0.43763694598203262},{"$f":"IFERROR(IF(ok_datanedslag>=G$426,SUM(Hjælpefane!$AO$100:$AO$106)/COUNT(Hjælpefane!$AO$100:$AO$106),\"\"),\"\")","v":0.357693859471029},{"$f":"IFERROR(IF(ok_datanedslag>=H$426,SUM(Hjælpefane!$AO$100:$AO$106)/COUNT(Hjælpefane!$AO$100:$AO$106),\"\"),\"\")","v":""},"Formlen trækkes til højre ved nyt datanedslag"]
[null,"Botilbudslignende tilbud",{"$f":"IFERROR(IF(ok_datanedslag>=C$426,SUM(Hjælpefane!$AP$16:$AP$22)/COUNT(Hjælpefane!$AP$16:$AP$22),\"\"),\"\")","v":0.15191661079604893},{"$f":"IFERROR(IF(ok_datanedslag>=D$426,SUM(Hjælpefane!$AP$40:$AP$46)/COUNT(Hjælpefane!$AP$40:$AP$46),\"\"),\"\")","v":0.14224568596288995},{"$f":"IFERROR(IF(ok_datanedslag>=E$426,SUM(Hjælpefane!$AP$64:$AP$70)/COUNT(Hjælpefane!$AP$64:$AP$70),\"\"),\"\")","v":0.15957007689718483},{"$f":"IFERROR(IF(ok_datanedslag>=F$426,SUM(Hjælpefane!$AP$88:$AP$94)/COUNT(Hjælpefane!$AP$88:$AP$94),\"\"),\"\")","v":0.19134858033046634},{"$f":"IFERROR(IF(ok_datanedslag>=G$426,SUM(Hjælpefane!$AP$100:$AP$106)/COUNT(Hjælpefane!$AP$100:$AP$106),\"\"),\"\")","v":0.15077129855359547},{"$f":"IFERROR(IF(ok_datanedslag>=H$426,SUM(Hjælpefane!$AP$100:$AP$106)/COUNT(Hjælpefane!$AP$100:$AP$106),\"\"),\"\")","v":""},"Formlen trækkes til højre ved nyt datanedslag"]
[null,"Midlertidige botilbud",{"$f":"IFERROR(IF(ok_datanedslag>=C$426,SUM(Hjælpefane!$AQ$16:$AQ$22)/COUNT(Hjælpefane!$AQ$16:$AQ$22),\"\"),\"\")","v":0.27563855365160234},{"$f":"IFERROR(IF(ok_datanedslag>=D$426,SUM(Hjælpefane!$AQ$40:$AQ$46)/COUNT(Hjælpefane!$AQ$40:$AQ$46),\"\"),\"\")","v":0.28876401783963901},{"$f":"IFERROR(IF(ok_datanedslag>=E$426,SUM(Hjælpefane!$AQ$64:$AQ$70)/COUNT(Hjælpefane!$AQ$64:$AQ$70),\"\"),\"\")","v":0.24863152098707467},{"$f":"IFERROR(IF(ok_datanedslag>=F$426,SUM(Hjælpefane!$AQ$88:$AQ$94)/COUNT(Hjælpefane!$AQ$88:$AQ$94),\"\"),\"\")","v":0.23867588210268198},{"$f":"IFERROR(IF(ok_datanedslag>=G$426,SUM(Hjælpefane!$AQ$100:$AQ$106)/COUNT(Hjælpefane!$AQ$100:$AQ$106),\"\"),\"\")","v":0.35358201168132131},{"$f":"IFERROR(IF(ok_datanedslag>=H$426,SUM(Hjælpefane!$AQ$100:$AQ$106)/COUNT(Hjælpefane!$AQ$100:$AQ$106),\"\"),\"\")","v":""},"Formlen trækkes til højre ved nyt datanedslag"]
[null,"Socialpædagogisk støtte",{"$f":"IFERROR(IF(ok_datanedslag>=C$426,SUM(Hjælpefane!$AR$16:$AR$22)/COUNT(Hjælpefane!$AR$16:$AR$22),\"\"),\"\")","v":6.4382101506204867E-2},{"$f":"IFERROR(IF(ok_datanedslag>=D$426,SUM(Hjælpefane!$AR$40:$AR$46)/COUNT(Hjælpefane!$AR$40:$AR$46),\"\"),\"\")","v":6.9239487386155263E-2},{"$f":"IFERROR(IF(ok_datanedslag>=E$426,SUM(Hjælpefane!$AR$64:$AR$70)/COUNT(Hjælpefane!$AR$64:$AR$70),\"\"),\"\")","v":7.6845871767031032E-2},{"$f":"IFERROR(IF(ok_datanedslag>=F$426,SUM(Hjælpefane!$AR$88:$AR$94)/COUNT(Hjælpefane!$AR$88:$AR$94),\"\"),\"\")","v":8.8895515702204539E-2},{"$f":"IFERROR(IF(ok_datanedslag>=G$426,SUM(Hjælpefane!$AR$100:$AR$106)/COUNT(Hjælpefane!$AR$100:$AR$106),\"\"),\"\")","v":8.6824801916049577E-2},{"$f":"IFERROR(IF(ok_datanedslag>=H$426,SUM(Hjælpefane!$AR$100:$AR$106)/COUNT(Hjælpefane!$AR$100:$AR$106),\"\"),\"\")","v":""},"Formlen trækkes til højre ved nyt datanedslag"]
[null,"Beskyttet beskæftigelse og aktivitets- og samværstilbud",{"$f":"IFERROR(IF(ok_datanedslag>=C$426,SUM(Hjælpefane!$AS$16:$AS$22)/COUNT(Hjælpefane!$AS$16:$AS$22),\"\"),\"\")","v":5.4683475434775732E-2},{"$f":"IFERROR(IF(ok_datanedslag>=D$426,SUM(Hjælpefane!$AS$40:$AS$46)/COUNT(Hjælpefane!$AS$40:$AS$46),\"\"),\"\")","v":4.6685067160456478E-2},{"$f":"IFERROR(IF(ok_datanedslag>=E$426,SUM(Hjælpefane!$AS$64:$AS$70)/COUNT(Hjælpefane!$AS$64:$AS$70),\"\"),\"\")","v":4.2835834444819289E-2},{"$f":"IFERROR(IF(ok_datanedslag>=F$426,SUM(Hjælpefane!$AS$88:$AS$94)/COUNT(Hjælpefane!$AS$88:$AS$94),\"\"),\"\")","v":3.1967841586628368E-2},{"$f":"IFERROR(IF(ok_datanedslag>=G$426,SUM(Hjælpefane!$AS$100:$AS$106)/COUNT(Hjælpefane!$AS$100:$AS$106),\"\"),\"\")","v":4.2186138164961168E-2},{"$f":"IFERROR(IF(ok_datanedslag>=H$426,SUM(Hjælpefane!$AS$100:$AS$106)/COUNT(Hjælpefane!$AS$100:$AS$106),\"\"),\"\")","v":""},"Formlen trækkes til højre ved nyt datanedslag"]
[null,"Forebyggende indsatser",{"$f":"IFERROR(IF(ok_datanedslag>=C$426,SUM(Hjælpefane!$AT$16:$AT$22)/COUNT(Hjælpefane!$AT$16:$AT$22),\"\"),\"\")","v":1.8026872679714832E-2},{"$f":"IFERROR(IF(ok_datanedslag>=D$426,SUM(Hjælpefane!$AT$40:$AT$46)/COUNT(Hjælpefane!$AT$40:$AT$46),\"\"),\"\")","v":9.4718281814949994E-3},{"$f":"IFERROR(IF(ok_datanedslag>=E$426,SUM(Hjælpefane!$AT$64:$AT$70)/COUNT(Hjælpefane!$AT$64:$AT$70),\"\"),\"\")","v":8.0367214229359659E-3},{"$f":"IFERROR(IF(ok_datanedslag>=F$426,SUM(Hjælpefane!$AT$88:$AT$94)/COUNT(Hjælpefane!$AT$88:$AT$94),\"\"),\"\")","v":1.1475234295985966E-2},{"$f":"IFERROR(IF(ok_datanedslag>=G$426,SUM(Hjælpefane!$AT$100:$AT$106)/COUNT(Hjælpefane!$AT$100:$AT$106),\"\"),\"\")","v":8.9418902130432333E-3},{"$f":"IFERROR(IF(ok_datanedslag>=H$426,SUM(Hjælpefane!$AT$100:$AT$106)/COUNT(Hjælpefane!$AT$100:$AT$106),\"\"),\"\")","v":""},"Formlen trækkes til højre ved nyt datanedslag"]
[]
[]
[null,"Landsgennemsnit"]
[null,null,{"$f":"C$14","v":2018},2019,2020,2021,2022,2023]
[null,"Længerevarende botilbud",{"$f":"IF(ok_datanedslag>=C$436,INDEX(Data_landoek,MATCH(C$436,Landaar2,0),6),\"\")","v":0.35299410641337936},0.23642629045053903,0.24736815768078368,0.24254715674032393,0.23168277951977057,"","Formlen trækkes til højre ved nyt datanedslag"]
[null,"Botilbudslignende tilbud",{"$f":"IF(ok_datanedslag>=C$436,INDEX(Data_landoek,MATCH(C$436,Landaar2,0),9),\"\")","v":8.381965504809967E-2},0.16183454826209678,0.16882949490156443,0.16147416846816995,0.16625128654179755,"","Formlen trækkes til højre ved nyt datanedslag"]
[null,"Midlertidige botilbud",{"$f":"IF(ok_datanedslag>=C$436,INDEX(Data_landoek,MATCH(C$436,Landaar2,0),12),\"\")","v":0.31634799239931166},0.29867712814760772,0.36829237367295942,0.32144658678994209,0.31904312605714552,"","Formlen trækkes til højre ved nyt datanedslag"]
[null,"Socialpædagogisk støtte",{"$f":"IF(ok_datanedslag>=C$436,INDEX(Data_landoek,MATCH(C$436,Landaar2,0),15),\"\")","v":0.12487125823550109},0.19123367573659728,8.9230948165208795E-2,0.15291302905281223,0.16283081268882027,"","Formlen trækkes til højre ved nyt datanedslag"]
[null,"Beskyttet beskæftigelse og aktivitets- og samværstilbud",{"$f":"IF(ok_datanedslag>=C$436,INDEX(Data_landoek,MATCH(C$436,Landaar2,0),18),\"\")","v":3.1962217878479339E-2},5.5145906946497701E-2,6.6686539756351026E-2,5.9895469683220973E-2,5.9876940086058865E-2,"","Formlen trækkes til højre ved nyt datanedslag"]
[null,"Forebyggende indsatser",{"$f":"IF(ok_datanedslag>=C$436,INDEX(Data_landoek,MATCH(C$436,Landaar2,0),21),\"\")","v":9.000477002522872E-2},5.6682450456661475E-2,5.9592485823132736E-2,6.1723589265531051E-2,6.0315055106407132E-2,"","Formlen trækkes til højre ved nyt datanedslag"]

{"sheet":"Hjælpefane","index":9,"n_rows":130,"n_cols":46,"rows_kept":130,"cut":false,"hidden":false,"merged":[]}
[null,null,null,20181]
[null,{"$f":"COUNTIF(R4:R10,\"*\")","v":4},null,"Nøgletal 1: Modtagere af længerevarende botilbud",null,"Nøgletal 2: Modtagere af botilbudslignende tilbud",null,"Nøgletal 3: Modtagere af midlertidigt botilbud",null,"Nøgletal 4: Modtagere af socialpædagogisk støtte",null,"Nøgletal 5: Modtagere af beskyttet beskæftigelse og aktivitets- og samværstilbud",null,"Nøgletal 6: Modtagere af forebyggende indsatser",null,"Nøgletal 7: Flytninger fra botilbud",null,"Nøgletal 7.1: Flytninger fra længerevarende botilbud og lignende til midlertidigt botilbud",null,"Antal institutionsanbragte 0-17 årige pr. forrige kvartal",null,"0-17 årige, der ved sidste opgørelse var institutionsanbragt, men nu er anbragt i anden form",null,"Nøgletal 8: Fra socialpædagogisk støtte og ned af trappen",null,"Nøgletal 9: Fra forebyggende indsatser og ned af trappen",null,"Nøgletal 10: Fra forebyggende indsatser og op af trappen",null,"Nøgletal 11: Uddannelsesgrad",null,"Nøgletal 12: Beskæftigelsesgrad",null,"Nøgletal 12.1: Beskæftigelsesgrad for modtagere af forebyggende indsatser",null,"Nøgletal 12.2: Beskæftigelsesgrad for den øvrige målgruppe",null,"Nøgletal 18: Genindlæggelser",null,"Nøgletal 19: Udgifter til forebyggende indsatser ift. udgifter til støttende indsatser","Udgiftsandel til længerevarende botilbud","Udgiftsandel til botilbudslignende tilbud","Udgiftsandel til midlertidige botilbud","Udgiftsandel til socialpædagogisk støtte","Udgiftsandel til beskyttet beskæftigelse og aktivitets- og samværstilbud","Udgiftsandel til forebyggende indsatser"]
[null,null,"Kommuner:",1,null,2,null,3,null,4,null,5,null,6,null,7,null,"7.1",null,"7.2",null,"7.3",null,8,null,9,null,10,null,11,null,12,null,"12.1",null,"12.2",null,18,null,19,"20.1","20.2","20.3","20.4","20.5","20.6"]
[null,null,{"$f":"'Dine valg'!K8","v":"Allerød"},{"$f":"IF(C4=0,\"\",INDEX(Data_kom2,MATCH(1,(komnavn2=C4)*(komaar2=D$1),0),4))","v":8},{"$f":"IF($C4=0,\"\",INDEX(Data_kom2,MATCH(1,(komnavn2=C4)*(komaar2=D$1),0),7))","v":31},{"$f":"IF(C4=0,\"\",INDEX(Data_kom2,MATCH(1,(komnavn2=C4)*(komaar2=D$1),0),8))","v":3},{"$f":"IF($C4=0,\"\",INDEX(Data_kom2,MATCH(1,(komnavn2=$C4)*(komaar2=D$1),0),11))","v":31},{"$f":"IF(C4=0,\"\",INDEX(Data_kom2,MATCH(1,(komnavn2=C4)*(komaar2=D$1),0),12))","v":4},{"$f":"IF($C4=0,\"\",INDEX(Data_kom2,MATCH(1,(komnavn2=$C4)*(komaar2=D$1),0),15))","v":31},{"$f":"IF(C4=0,\"\",INDEX(Data_kom2,MATCH(1,(komnavn2=C4)*(komaar2=D$1),0),16))","v":16},{"$f":"IF($C4=0,\"\",INDEX(Data_kom2,MATCH(1,(komnavn2=$C4)*(komaar2=D$1),0),19))","v":31},{"$f":"IF(C4=0,\"\",INDEX(Data_kom2,MATCH(1,(komnavn2=C4)*(komaar2=D$1),0),20))","v":0},{"$f":"IF($C4=0,\"\",INDEX(Data_kom2,MATCH(1,(komnavn2=$C4)*(komaar2=D$1),0),23))","v":31},{"$f":"IF(C4=0,\"\",INDEX(Data_kom2,MATCH(1,(komnavn2=C4)*(komaar2=D$1),0),24))","v":0},{"$f":"IF($C4=0,\"\",INDEX(Data_kom2,MATCH(1,(komnavn2=$C4)*(komaar2=D$1),0),27))","v":31},{"$f":"IF(C4=0,\"\",INDEX(Data_kom2,MATCH(1,(komnavn2=C4)*(komaar2=D$1),0),28))","v":0},{"$f":"IF($C4=0,\"\",INDEX(Data_kom2,MATCH(1,(komnavn2=$C4)*(komaar2=D$1),0),31))","v":0},{"$f":"IF(C4=0,\"\",INDEX(Data_kom2,MATCH(1,(komnavn2=C4)*(komaar2=D$1),0),32))","v":0},{"$f":"IF($C4=0,\"\",INDEX(Data_kom2,MATCH(1,(komnavn2=$C4)*(komaar2=D$1),0),35))","v":0},{"$f":"IF(C4=0,\"\",INDEX(Data_kom2,MATCH(1,(komnavn2=C4)*(komaar2=D$1),0),36))","v":0},{"$f":"IF($C4=0,\"\",INDEX(Data_kom2,MATCH(1,(komnavn2=$C4)*(komaar2=D$1),0),39))","v":0},{"$f":"IF(C4=0,\"\",INDEX(Data_kom2,MATCH(1,(komnavn2=C4)*(komaar2=D$1),0),40))","v":0},{"$f":"IF($C4=0,\"\",INDEX(Data_kom2,MATCH(1,(komnavn2=$C4)*(komaar2=D$1),0),43))","v":0},{"$f":"IF($C4=0,\"\",INDEX(Data_kom2,MATCH(1,(komnavn2=$C4)*(komaar2=$D$1),0),44))","v":0},{"$f":"IF($C4=0,\"\",INDEX(Data_kom2,MATCH(1,(komnavn2=$C4)*(komaar2=D$1),0),47))","v":0},{"$f":"IF($C4=0,\"\",INDEX(Data_kom2,MATCH(1,(komnavn2=$C4)*(komaar2=$D$1),0),48))","v":0},{"$f":"IF($C4=0,\"\",INDEX(Data_kom2,MATCH(1,(komnavn2=$C4)*(komaar2=D$1),0),51))","v":0},{"$f":"IF($C4=0,\"\",INDEX(Data_kom2,MATCH(1,(komnavn2=$C4)*(komaar2=$D$1),0),52))","v":0},{"$f":"IF($C4=0,\"\",INDEX(Data_kom2,MATCH(1,(komnavn2=$C4)*(komaar2=D$1),0),55))","v":0},{"$f":"IF($C4=0,\"\",INDEX(Data_kom2,MATCH(1,(komnavn2=$C4)*(komaar2=$D$1),0),56))","v":2.4193548387096801E-2},{"$f":"IF($C4=0,\"\",INDEX(Data_kom2,MATCH(1,(komnavn2=$C4)*(komaar2=D$1),0),59))","v":31},{"$f":"IF($C4=0,\"\",INDEX(Data_kom2,MATCH(1,(komnavn2=$C4)*(komaar2=$D$1),0),60))","v":0.12406947890818799},{"$f":"IF($C4=0,\"\",INDEX(Data_kom2,MATCH(1,(komnavn2=$C4)*(komaar2=D$1),0),63))","v":31},{"$f":"IF($C4=0,\"\",INDEX(Data_kom2,MATCH(1,(komnavn2=$C4)*(komaar2=$D$1),0),64))","v":0},{"$f":"IF($C4=0,\"\",INDEX(Data_kom2,MATCH(1,(komnavn2=$C4)*(komaar2=D$1),0),67))","v":0},{"$f":"IF($C4=0,\"\",INDEX(Data_kom2,MATCH(1,(komnavn2=$C4)*(komaar2=$D$1),0),68))","v":0.12406947890818799},{"$f":"IF($C4=0,\"\",INDEX(Data_kom2,MATCH(1,(komnavn2=$C4)*(komaar2=D$1),0),71))","v":31},{"$f":"IF($C4=0,\"\",INDEX(Data_kom2,MATCH(1,(komnavn2=$C4)*(komaar2=$D$1),0),72))","v":0},{"$f":"IF($C4=0,\"\",INDEX(Data_kom2,MATCH(1,(komnavn2=$C4)*(komaar2=D$1),0),75))","v":31}]
[null,null,{"$f":"'Dine valg'!K9","v":"Assens"},{"$f":"IF(C5=0,\"\",INDEX(Data_kom2,MATCH(1,(komnavn2=C5)*(komaar2=D$1),0),4))","v":5},{"$f":"IF($C5=0,\"\",INDEX(Data_kom2,MATCH(1,(komnavn2=C5)*(komaar2=D$1),0),7))","v":206},{"$f":"IF(C5=0,\"\",INDEX(Data_kom2,MATCH(1,(komnavn2=C5)*(komaar2=D$1),0),8))","v":33},{"$f":"IF($C5=0,\"\",INDEX(Data_kom2,MATCH(1,(komnavn2=$C5)*(komaar2=D$1),0),11))","v":206},{"$f":"IF(C5=0,\"\",INDEX(Data_kom2,MATCH(1,(komnavn2=C5)*(komaar2=D$1),0),12))","v":21},{"$f":"IF($C5=0,\"\",INDEX(Data_kom2,MATCH(1,(komnavn2=$C5)*(komaar2=D$1),0),15))","v":206},{"$f":"IF(C5=0,\"\",INDEX(Data_kom2,MATCH(1,(komnavn2=C5)*(komaar2=D$1),0),16))","v":93},{"$f":"IF($C5=0,\"\",INDEX(Data_kom2,MATCH(1,(komnavn2=$C5)*(komaar2=D$1),0),19))","v":206},{"$f":"IF(C5=0,\"\",INDEX(Data_kom2,MATCH(1,(komnavn2=C5)*(komaar2=D$1),0),20))","v":0},{"$f":"IF($C5=0,\"\",INDEX(Data_kom2,MATCH(1,(komnavn2=$C5)*(komaar2=D$1),0),23))","v":206},{"$f":"IF(C5=0,\"\",INDEX(Data_kom2,MATCH(1,(komnavn2=C5)*(komaar2=D$1),0),24))","v":0},{"$f":"IF($C5=0,\"\",INDEX(Data_kom2,MATCH(1,(komnavn2=$C5)*(komaar2=D$1),0),27))","v":206},{"$f":"IF(C5=0,\"\",INDEX(Data_kom2,MATCH(1,(komnavn2=C5)*(komaar2=D$1),0),28))","v":0},{"$f":"IF($C5=0,\"\",INDEX(Data_kom2,MATCH(1,(komnavn2=$C5)*(komaar2=D$1),0),31))","v":0},{"$f":"IF(C5=0,\"\",INDEX(Data_kom2,MATCH(1,(komnavn2=C5)*(komaar2=D$1),0),32))","v":0},{"$f":"IF($C5=0,\"\",INDEX(Data_kom2,MATCH(1,(komnavn2=$C5)*(komaar2=D$1),0),35))","v":0},{"$f":"IF(C5=0,\"\",INDEX(Data_kom2,MATCH(1,(komnavn2=C5)*(komaar2=D$1),0),36))","v":0},{"$f":"IF($C5=0,\"\",INDEX(Data_kom2,MATCH(1,(komnavn2=$C5)*(komaar2=D$1),0),39))","v":0},{"$f":"IF(C5=0,\"\",INDEX(Data_kom2,MATCH(1,(komnavn2=C5)*(komaar2=D$1),0),40))","v":0},{"$f":"IF($C5=0,\"\",INDEX(Data_kom2,MATCH(1,(komnavn2=$C5)*(komaar2=D$1),0),43))","v":0},{"$f":"IF($C5=0,\"\",INDEX(Data_kom2,MATCH(1,(komnavn2=$C5)*(komaar2=$D$1),0),44))","v":0},{"$f":"IF($C5=0,\"\",INDEX(Data_kom2,MATCH(1,(komnavn2=$C5)*(komaar2=D$1),0),47))","v":0},{"$f":"IF($C5=0,\"\",INDEX(Data_kom2,MATCH(1,(komnavn2=$C5)*(komaar2=$D$1),0),48))","v":0},{"$f":"IF($C5=0,\"\",INDEX(Data_kom2,MATCH(1,(komnavn2=$C5)*(komaar2=D$1),0),51))","v":0},{"$f":"IF($C5=0,\"\",INDEX(Data_kom2,MATCH(1,(komnavn2=$C5)*(komaar2=$D$1),0),52))","v":0},{"$f":"IF($C5=0,\"\",INDEX(Data_kom2,MATCH(1,(komnavn2=$C5)*(komaar2=D$1),0),55))","v":0},{"$f":"IF($C5=0,\"\",INDEX(Data_kom2,MATCH(1,(komnavn2=$C5)*(komaar2=$D$1),0),56))","v":1.3349514563106801E-2},{"$f":"IF($C5=0,\"\",INDEX(Data_kom2,MATCH(1,(komnavn2=$C5)*(komaar2=D$1),0),59))","v":206},{"$f":"IF($C5=0,\"\",INDEX(Data_kom2,MATCH(1,(komnavn2=$C5)*(komaar2=$D$1),0),60))","v":1.03622106049291E-2},{"$f":"IF($C5=0,\"\",INDEX(Data_kom2,MATCH(1,(komnavn2=$C5)*(komaar2=D$1),0),63))","v":206},{"$f":"IF($C5=0,\"\",INDEX(Data_kom2,MATCH(1,(komnavn2=$C5)*(komaar2=$D$1),0),64))","v":0},{"$f":"IF($C5=0,\"\",INDEX(Data_kom2,MATCH(1,(komnavn2=$C5)*(komaar2=D$1),0),67))","v":0},{"$f":"IF($C5=0,\"\",INDEX(Data_kom2,MATCH(1,(komnavn2=$C5)*(komaar2=$D$1),0),68))","v":1.03622106049291E-2},{"$f":"IF($C5=0,\"\",INDEX(Data_kom2,MATCH(1,(komnavn2=$C5)*(komaar2=D$1),0),71))","v":206},{"$f":"IF($C5=0,\"\",INDEX(Data_kom2,MATCH(1,(komnavn2=$C5)*(komaar2=$D$1),0),72))","v":0},{"$f":"IF($C5=0,\"\",INDEX(Data_kom2,MATCH(1,(komnavn2=$C5)*(komaar2=D$1),0),75))","v":206}]
[null,null,{"$f":"'Dine valg'!K10","v":"Ballerup"},{"$f":"IF(C6=0,\"\",INDEX(Data_kom2,MATCH(1,(komnavn2=C6)*(komaar2=D$1),0),4))","v":21},{"$f":"IF($C6=0,\"\",INDEX(Data_kom2,MATCH(1,(komnavn2=C6)*(komaar2=D$1),0),7))","v":258},{"$f":"IF(C6=0,\"\",INDEX(Data_kom2,MATCH(1,(komnavn2=C6)*(komaar2=D$1),0),8))","v":18},{"$f":"IF($C6=0,\"\",INDEX(Data_kom2,MATCH(1,(komnavn2=$C6)*(komaar2=D$1),0),11))","v":258},{"$f":"IF(C6=0,\"\",INDEX(Data_kom2,MATCH(1,(komnavn2=C6)*(komaar2=D$1),0),12))","v":36},{"$f":"IF($C6=0,\"\",INDEX(Data_kom2,MATCH(1,(komnavn2=$C6)*(komaar2=D$1),0),15))","v":258},{"$f":"IF(C6=0,\"\",INDEX(Data_kom2,MATCH(1,(komnavn2=C6)*(komaar2=D$1),0),16))","v":161},{"$f":"IF($C6=0,\"\",INDEX(Data_kom2,MATCH(1,(komnavn2=$C6)*(komaar2=D$1),0),19))","v":258},{"$f":"IF(C6=0,\"\",INDEX(Data_kom2,MATCH(1,(komnavn2=C6)*(komaar2=D$1),0),20))","v":0},{"$f":"IF($C6=0,\"\",INDEX(Data_kom2,MATCH(1,(komnavn2=$C6)*(komaar2=D$1),0),23))","v":258},{"$f":"IF(C6=0,\"\",INDEX(Data_kom2,MATCH(1,(komnavn2=C6)*(komaar2=D$1),0),24))","v":0},{"$f":"IF($C6=0,\"\",INDEX(Data_kom2,MATCH(1,(komnavn2=$C6)*(komaar2=D$1),0),27))","v":258},{"$f":"IF(C6=0,\"\",INDEX(Data_kom2,MATCH(1,(komnavn2=C6)*(komaar2=D$1),0),28))","v":0},{"$f":"IF($C6=0,\"\",INDEX(Data_kom2,MATCH(1,(komnavn2=$C6)*(komaar2=D$1),0),31))","v":0},{"$f":"IF(C6=0,\"\",INDEX(Data_kom2,MATCH(1,(komnavn2=C6)*(komaar2=D$1),0),32))","v":0},{"$f":"IF($C6=0,\"\",INDEX(Data_kom2,MATCH(1,(komnavn2=$C6)*(komaar2=D$1),0),35))","v":0},{"$f":"IF(C6=0,\"\",INDEX(Data_kom2,MATCH(1,(komnavn2=C6)*(komaar2=D$1),0),36))","v":0},{"$f":"IF($C6=0,\"\",INDEX(Data_kom2,MATCH(1,(komnavn2=$C6)*(komaar2=D$1),0),39))","v":0},{"$f":"IF(C6=0,\"\",INDEX(Data_kom2,MATCH(1,(komnavn2=C6)*(komaar2=D$1),0),40))","v":0},{"$f":"IF($C6=0,\"\",INDEX(Data_kom2,MATCH(1,(komnavn2=$C6)*(komaar2=D$1),0),43))","v":0},{"$f":"IF($C6=0,\"\",INDEX(Data_kom2,MATCH(1,(komnavn2=$C6)*(komaar2=$D$1),0),44))","v":0},{"$f":"IF($C6=0,\"\",INDEX(Data_kom2,MATCH(1,(komnavn2=$C6)*(komaar2=D$1),0),47))","v":0},{"$f":"IF($C6=0,\"\",INDEX(Data_kom2,MATCH(1,(komnavn2=$C6)*(komaar2=$D$1),0),48))","v":0},{"$f":"IF($C6=0,\"\",INDEX(Data_kom2,MATCH(1,(komnavn2=$C6)*(komaar2=D$1),0),51))","v":0},{"$f":"IF($C6=0,\"\",INDEX(Data_kom2,MATCH(1,(komnavn2=$C6)*(komaar2=$D$1),0),52))","v":0},{"$f":"IF($C6=0,\"\",INDEX(Data_kom2,MATCH(1,(komnavn2=$C6)*(komaar2=D$1),0),55))","v":0},{"$f":"IF($C6=0,\"\",INDEX(Data_kom2,MATCH(1,(komnavn2=$C6)*(komaar2=$D$1),0),56))","v":1.47584973166369E-2},{"$f":"IF($C6=0,\"\",INDEX(Data_kom2,MATCH(1,(komnavn2=$C6)*(komaar2=D$1),0),59))","v":258},{"$f":"IF($C6=0,\"\",INDEX(Data_kom2,MATCH(1,(komnavn2=$C6)*(komaar2=$D$1),0),60))","v":3.5629099582588003E-2},{"$f":"IF($C6=0,\"\",INDEX(Data_kom2,MATCH(1,(komnavn2=$C6)*(komaar2=D$1),0),63))","v":258},{"$f":"IF($C6=0,\"\",INDEX(Data_kom2,MATCH(1,(komnavn2=$C6)*(komaar2=$D$1),0),64))","v":0},{"$f":"IF($C6=0,\"\",INDEX(Data_kom2,MATCH(1,(komnavn2=$C6)*(komaar2=D$1),0),67))","v":0},{"$f":"IF($C6=0,\"\",INDEX(Data_kom2,MATCH(1,(komnavn2=$C6)*(komaar2=$D$1),0),68))","v":3.5629099582588003E-2},{"$f":"IF($C6=0,\"\",INDEX(Data_kom2,MATCH(1,(komnavn2=$C6)*(komaar2=D$1),0),71))","v":258},{"$f":"IF($C6=0,\"\",INDEX(Data_kom2,MATCH(1,(komnavn2=$C6)*(komaar2=$D$1),0),72))","v":0},{"$f":"IF($C6=0,\"\",INDEX(Data_kom2,MATCH(1,(komnavn2=$C6)*(komaar2=D$1),0),75))","v":258}]
[null,null,{"$f":"'Dine valg'!K11","v":0},{"$f":"IF(C7=0,\"\",INDEX(Data_kom2,MATCH(1,(komnavn2=C7)*(komaar2=D$1),0),4))","v":""},{"$f":"IF($C7=0,\"\",INDEX(Data_kom2,MATCH(1,(komnavn2=C7)*(komaar2=D$1),0),7))","v":""},{"$f":"IF(C7=0,\"\",INDEX(Data_kom2,MATCH(1,(komnavn2=C7)*(komaar2=D$1),0),8))","v":""},{"$f":"IF($C7=0,\"\",INDEX(Data_kom2,MATCH(1,(komnavn2=$C7)*(komaar2=D$1),0),11))","v":""},{"$f":"IF(C7=0,\"\",INDEX(Data_kom2,MATCH(1,(komnavn2=C7)*(komaar2=D$1),0),12))","v":""},{"$f":"IF($C7=0,\"\",INDEX(Data_kom2,MATCH(1,(komnavn2=$C7)*(komaar2=D$1),0),15))","v":""},{"$f":"IF(C7=0,\"\",INDEX(Data_kom2,MATCH(1,(komnavn2=C7)*(komaar2=D$1),0),16))","v":""},{"$f":"IF($C7=0,\"\",INDEX(Data_kom2,MATCH(1,(komnavn2=$C7)*(komaar2=D$1),0),19))","v":""},{"$f":"IF(C7=0,\"\",INDEX(Data_kom2,MATCH(1,(komnavn2=C7)*(komaar2=D$1),0),20))","v":""},{"$f":"IF($C7=0,\"\",INDEX(Data_kom2,MATCH(1,(komnavn2=$C7)*(komaar2=D$1),0),23))","v":""},{"$f":"IF(C7=0,\"\",INDEX(Data_kom2,MATCH(1,(komnavn2=C7)*(komaar2=D$1),0),24))","v":""},{"$f":"IF($C7=0,\"\",INDEX(Data_kom2,MATCH(1,(komnavn2=$C7)*(komaar2=D$1),0),27))","v":""},{"$f":"IF(C7=0,\"\",INDEX(Data_kom2,MATCH(1,(komnavn2=C7)*(komaar2=D$1),0),28))","v":""},{"$f":"IF($C7=0,\"\",INDEX(Data_kom2,MATCH(1,(komnavn2=$C7)*(komaar2=D$1),0),31))","v":""},{"$f":"IF(C7=0,\"\",INDEX(Data_kom2,MATCH(1,(komnavn2=C7)*(komaar2=D$1),0),32))","v":""},{"$f":"IF($C7=0,\"\",INDEX(Data_kom2,MATCH(1,(komnavn2=$C7)*(komaar2=D$1),0),35))","v":""},{"$f":"IF(C7=0,\"\",INDEX(Data_kom2,MATCH(1,(komnavn2=C7)*(komaar2=D$1),0),36))","v":""},{"$f":"IF($C7=0,\"\",INDEX(Data_kom2,MATCH(1,(komnavn2=$C7)*(komaar2=D$1),0),39))","v":""},{"$f":"IF(C7=0,\"\",INDEX(Data_kom2,MATCH(1,(komnavn2=C7)*(komaar2=D$1),0),40))","v":""},{"$f":"IF($C7=0,\"\",INDEX(Data_kom2,MATCH(1,(komnavn2=$C7)*(komaar2=D$1),0),43))","v":""},{"$f":"IF($C7=0,\"\",INDEX(Data_kom2,MATCH(1,(komnavn2=$C7)*(komaar2=$D$1),0),44))","v":""},{"$f":"IF($C7=0,\"\",INDEX(Data_kom2,MATCH(1,(komnavn2=$C7)*(komaar2=D$1),0),47))","v":""},{"$f":"IF($C7=0,\"\",INDEX(Data_kom2,MATCH(1,(komnavn2=$C7)*(komaar2=$D$1),0),48))","v":""},{"$f":"IF($C7=0,\"\",INDEX(Data_kom2,MATCH(1,(komnavn2=$C7)*(komaar2=D$1),0),51))","v":""},{"$f":"IF($C7=0,\"\",INDEX(Data_kom2,MATCH(1,(komnavn2=$C7)*(komaar2=$D$1),0),52))","v":""},{"$f":"IF($C7=0,\"\",INDEX(Data_kom2,MATCH(1,(komnavn2=$C7)*(komaar2=D$1),0),55))","v":""},{"$f":"IF($C7=0,\"\",INDEX(Data_kom2,MATCH(1,(komnavn2=$C7)*(komaar2=$D$1),0),56))","v":""},{"$f":"IF($C7=0,\"\",INDEX(Data_kom2,MATCH(1,(komnavn2=$C7)*(komaar2=D$1),0),59))","v":""},{"$f":"IF($C7=0,\"\",INDEX(Data_kom2,MATCH(1,(komnavn2=$C7)*(komaar2=$D$1),0),60))","v":""},{"$f":"IF($C7=0,\"\",INDEX(Data_kom2,MATCH(1,(komnavn2=$C7)*(komaar2=D$1),0),63))","v":""},{"$f":"IF($C7=0,\"\",INDEX(Data_kom2,MATCH(1,(komnavn2=$C7)*(komaar2=$D$1),0),64))","v":""},{"$f":"IF($C7=0,\"\",INDEX(Data_kom2,MATCH(1,(komnavn2=$C7)*(komaar2=D$1),0),67))","v":""},{"$f":"IF($C7=0,\"\",INDEX(Data_kom2,MATCH(1,(komnavn2=$C7)*(komaar2=$D$1),0),68))","v":""},{"$f":"IF($C7=0,\"\",INDEX(Data_kom2,MATCH(1,(komnavn2=$C7)*(komaar2=D$1),0),71))","v":""},{"$f":"IF($C7=0,\"\",INDEX(Data_kom2,MATCH(1,(komnavn2=$C7)*(komaar2=$D$1),0),72))","v":""},{"$f":"IF($C7=0,\"\",INDEX(Data_kom2,MATCH(1,(komnavn2=$C7)*(komaar2=D$1),0),75))","v":""}]
[null,null,{"$f":"'Dine valg'!K12","v":0},{"$f":"IF(C8=0,\"\",INDEX(Data_kom2,MATCH(1,(komnavn2=C8)*(komaar2=D$1),0),4))","v":""},{"$f":"IF($C8=0,\"\",INDEX(Data_kom2,MATCH(1,(komnavn2=C8)*(komaar2=D$1),0),7))","v":""},{"$f":"IF(C8=0,\"\",INDEX(Data_kom2,MATCH(1,(komnavn2=C8)*(komaar2=D$1),0),8))","v":""},{"$f":"IF($C8=0,\"\",INDEX(Data_kom2,MATCH(1,(komnavn2=$C8)*(komaar2=D$1),0),11))","v":""},{"$f":"IF(C8=0,\"\",INDEX(Data_kom2,MATCH(1,(komnavn2=C8)*(komaar2=D$1),0),12))","v":""},{"$f":"IF($C8=0,\"\",INDEX(Data_kom2,MATCH(1,(komnavn2=$C8)*(komaar2=D$1),0),15))","v":""},{"$f":"IF(C8=0,\"\",INDEX(Data_kom2,MATCH(1,(komnavn2=C8)*(komaar2=D$1),0),16))","v":""},{"$f":"IF($C8=0,\"\",INDEX(Data_kom2,MATCH(1,(komnavn2=$C8)*(komaar2=D$1),0),19))","v":""},{"$f":"IF(C8=0,\"\",INDEX(Data_kom2,MATCH(1,(komnavn2=C8)*(komaar2=D$1),0),20))","v":""},{"$f":"IF($C8=0,\"\",INDEX(Data_kom2,MATCH(1,(komnavn2=$C8)*(komaar2=D$1),0),23))","v":""},{"$f":"IF(C8=0,\"\",INDEX(Data_kom2,MATCH(1,(komnavn2=C8)*(komaar2=D$1),0),24))","v":""},{"$f":"IF($C8=0,\"\",INDEX(Data_kom2,MATCH(1,(komnavn2=$C8)*(komaar2=D$1),0),27))","v":""},{"$f":"IF(C8=0,\"\",INDEX(Data_kom2,MATCH(1,(komnavn2=C8)*(komaar2=D$1),0),28))","v":""},{"$f":"IF($C8=0,\"\",INDEX(Data_kom2,MATCH(1,(komnavn2=$C8)*(komaar2=D$1),0),31))","v":""},{"$f":"IF(C8=0,\"\",INDEX(Data_kom2,MATCH(1,(komnavn2=C8)*(komaar2=D$1),0),32))","v":""},{"$f":"IF($C8=0,\"\",INDEX(Data_kom2,MATCH(1,(komnavn2=$C8)*(komaar2=D$1),0),35))","v":""},{"$f":"IF(C8=0,\"\",INDEX(Data_kom2,MATCH(1,(komnavn2=C8)*(komaar2=D$1),0),36))","v":""},{"$f":"IF($C8=0,\"\",INDEX(Data_kom2,MATCH(1,(komnavn2=$C8)*(komaar2=D$1),0),39))","v":""},{"$f":"IF(C8=0,\"\",INDEX(Data_kom2,MATCH(1,(komnavn2=C8)*(komaar2=D$1),0),40))","v":""},{"$f":"IF($C8=0,\"\",INDEX(Data_kom2,MATCH(1,(komnavn2=$C8)*(komaar2=D$1),0),43))","v":""},{"$f":"IF($C8=0,\"\",INDEX(Data_kom2,MATCH(1,(komnavn2=$C8)*(komaar2=$D$1),0),44))","v":""},{"$f":"IF($C8=0,\"\",INDEX(Data_kom2,MATCH(1,(komnavn2=$C8)*(komaar2=D$1),0),47))","v":""},{"$f":"IF($C8=0,\"\",INDEX(Data_kom2,MATCH(1,(komnavn2=$C8)*(komaar2=$D$1),0),48))","v":""},{"$f":"IF($C8=0,\"\",INDEX(Data_kom2,MATCH(1,(komnavn2=$C8)*(komaar2=D$1),0),51))","v":""},{"$f":"IF($C8=0,\"\",INDEX(Data_kom2,MATCH(1,(komnavn2=$C8)*(komaar2=$D$1),0),52))","v":""},{"$f":"IF($C8=0,\"\",INDEX(Data_kom2,MATCH(1,(komnavn2=$C8)*(komaar2=D$1),0),55))","v":""},{"$f":"IF($C8=0,\"\",INDEX(Data_kom2,MATCH(1,(komnavn2=$C8)*(komaar2=$D$1),0),56))","v":""},{"$f":"IF($C8=0,\"\",INDEX(Data_kom2,MATCH(1,(komnavn2=$C8)*(komaar2=D$1),0),59))","v":""},{"$f":"IF($C8=0,\"\",INDEX(Data_kom2,MATCH(1,(komnavn2=$C8)*(komaar2=$D$1),0),60))","v":""},{"$f":"IF($C8=0,\"\",INDEX(Data_kom2,MATCH(1,(komnavn2=$C8)*(komaar2=D$1),0),63))","v":""},{"$f":"IF($C8=0,\"\",INDEX(Data_kom2,MATCH(1,(komnavn2=$C8)*(komaar2=$D$1),0),64))","v":""},{"$f":"IF($C8=0,\"\",INDEX(Data_kom2,MATCH(1,(komnavn2=$C8)*(komaar2=D$1),0),67))","v":""},{"$f":"IF($C8=0,\"\",INDEX(Data_kom2,MATCH(1,(komnavn2=$C8)*(komaar2=$D$1),0),68))","v":""},{"$f":"IF($C8=0,\"\",INDEX(Data_kom2,MATCH(1,(komnavn2=$C8)*(komaar2=D$1),0),71))","v":""},{"$f":"IF($C8=0,\"\",INDEX(Data_kom2,MATCH(1,(komnavn2=$C8)*(komaar2=$D$1),0),72))","v":""},{"$f":"IF($C8=0,\"\",INDEX(Data_kom2,MATCH(1,(komnavn2=$C8)*(komaar2=D$1),0),75))","v":""},null,null,null,null,null,null,{"$f":"IF(C8=0,\"\",INDEX(Data_kom2,MATCH(1,(komnavn2=C8)*(komaar2=D$1),0),14))","v":""}]
[null,null,{"$f":"'Dine valg'!K13","v":0},{"$f":"IF(C9=0,\"\",INDEX(Data_kom2,MATCH(1,(komnavn2=C9)*(komaar2=D$1),0),4))","v":""},{"$f":"IF($C9=0,\"\",INDEX(Data_kom2,MATCH(1,(komnavn2=C9)*(komaar2=D$1),0),7))","v":""},{"$f":"IF(C9=0,\"\",INDEX(Data_kom2,MATCH(1,(komnavn2=C9)*(komaar2=D$1),0),8))","v":""},{"$f":"IF($C9=0,\"\",INDEX(Data_kom2,MATCH(1,(komnavn2=$C9)*(komaar2=D$1),0),11))","v":""},{"$f":"IF(C9=0,\"\",INDEX(Data_kom2,MATCH(1,(komnavn2=C9)*(komaar2=D$1),0),12))","v":""},{"$f":"IF($C9=0,\"\",INDEX(Data_kom2,MATCH(1,(komnavn2=$C9)*(komaar2=D$1),0),15))","v":""},{"$f":"IF(C9=0,\"\",INDEX(Data_kom2,MATCH(1,(komnavn2=C9)*(komaar2=D$1),0),16))","v":""},{"$f":"IF($C9=0,\"\",INDEX(Data_kom2,MATCH(1,(komnavn2=$C9)*(komaar2=D$1),0),19))","v":""},{"$f":"IF(C9=0,\"\",INDEX(Data_kom2,MATCH(1,(komnavn2=C9)*(komaar2=D$1),0),20))","v":""},{"$f":"IF($C9=0,\"\",INDEX(Data_kom2,MATCH(1,(komnavn2=$C9)*(komaar2=D$1),0),23))","v":""},{"$f":"IF(C9=0,\"\",INDEX(Data_kom2,MATCH(1,(komnavn2=C9)*(komaar2=D$1),0),24))","v":""},{"$f":"IF($C9=0,\"\",INDEX(Data_kom2,MATCH(1,(komnavn2=$C9)*(komaar2=D$1),0),27))","v":""},{"$f":"IF(C9=0,\"\",INDEX(Data_kom2,MATCH(1,(komnavn2=C9)*(komaar2=D$1),0),28))","v":""},{"$f":"IF($C9=0,\"\",INDEX(Data_kom2,MATCH(1,(komnavn2=$C9)*(komaar2=D$1),0),31))","v":""},{"$f":"IF(C9=0,\"\",INDEX(Data_kom2,MATCH(1,(komnavn2=C9)*(komaar2=D$1),0),32))","v":""},{"$f":"IF($C9=0,\"\",INDEX(Data_kom2,MATCH(1,(komnavn2=$C9)*(komaar2=D$1),0),35))","v":""},{"$f":"IF(C9=0,\"\",INDEX(Data_kom2,MATCH(1,(komnavn2=C9)*(komaar2=D$1),0),36))","v":""},{"$f":"IF($C9=0,\"\",INDEX(Data_kom2,MATCH(1,(komnavn2=$C9)*(komaar2=D$1),0),39))","v":""},{"$f":"IF(C9=0,\"\",INDEX(Data_kom2,MATCH(1,(komnavn2=C9)*(komaar2=D$1),0),40))","v":""},{"$f":"IF($C9=0,\"\",INDEX(Data_kom2,MATCH(1,(komnavn2=$C9)*(komaar2=D$1),0),43))","v":""},{"$f":"IF($C9=0,\"\",INDEX(Data_kom2,MATCH(1,(komnavn2=$C9)*(komaar2=$D$1),0),44))","v":""},{"$f":"IF($C9=0,\"\",INDEX(Data_kom2,MATCH(1,(komnavn2=$C9)*(komaar2=D$1),0),47))","v":""},{"$f":"IF($C9=0,\"\",INDEX(Data_kom2,MATCH(1,(komnavn2=$C9)*(komaar2=$D$1),0),48))","v":""},{"$f":"IF($C9=0,\"\",INDEX(Data_kom2,MATCH(1,(komnavn2=$C9)*(komaar2=D$1),0),51))","v":""},{"$f":"IF($C9=0,\"\",INDEX(Data_kom2,MATCH(1,(komnavn2=$C9)*(komaar2=$D$1),0),52))","v":""},{"$f":"IF($C9=0,\"\",INDEX(Data_kom2,MATCH(1,(komnavn2=$C9)*(komaar2=D$1),0),55))","v":""},{"$f":"IF($C9=0,\"\",INDEX(Data_kom2,MATCH(1,(komnavn2=$C9)*(komaar2=$D$1),0),56))","v":""},{"$f":"IF($C9=0,\"\",INDEX(Data_kom2,MATCH(1,(komnavn2=$C9)*(komaar2=D$1),0),59))","v":""},{"$f":"IF($C9=0,\"\",INDEX(Data_kom2,MATCH(1,(komnavn2=$C9)*(komaar2=$D$1),0),60))","v":""},{"$f":"IF($C9=0,\"\",INDEX(Data_kom2,MATCH(1,(komnavn2=$C9)*(komaar2=D$1),0),63))","v":""},{"$f":"IF($C9=0,\"\",INDEX(Data_kom2,MATCH(1,(komnavn2=$C9)*(komaar2=$D$1),0),64))","v":""},{"$f":"IF($C9=0,\"\",INDEX(Data_kom2,MATCH(1,(komnavn2=$C9)*(komaar2=D$1),0),67))","v":""},{"$f":"IF($C9=0,\"\",INDEX(Data_kom2,MATCH(1,(komnavn2=$C9)*(komaar2=$D$1),0),68))","v":""},{"$f":"IF($C9=0,\"\",INDEX(Data_kom2,MATCH(1,(komnavn2=$C9)*(komaar2=D$1),0),71))","v":""},{"$f":"IF($C9=0,\"\",INDEX(Data_kom2,MATCH(1,(komnavn2=$C9)*(komaar2=$D$1),0),72))","v":""},{"$f":"IF($C9=0,\"\",INDEX(Data_kom2,MATCH(1,(komnavn2=$C9)*(komaar2=D$1),0),75))","v":""},null,null,null,null,null,null,{"$f":"IF(C9=0,\"\",INDEX(Data_kom2,MATCH(1,(komnavn2=C9)*(komaar2=D$1),0),14))","v":""}]
[null,null,{"$f":"'Dine valg'!K14","v":0},{"$f":"IF(C10=0,\"\",INDEX(Data_kom2,MATCH(1,(komnavn2=C10)*(komaar2=D$1),0),4))","v":""},{"$f":"IF($C10=0,\"\",INDEX(Data_kom2,MATCH(1,(komnavn2=C10)*(komaar2=D$1),0),7))","v":""},{"$f":"IF(C10=0,\"\",INDEX(Data_kom2,MATCH(1,(komnavn2=C10)*(komaar2=D$1),0),8))","v":""},{"$f":"IF($C10=0,\"\",INDEX(Data_kom2,MATCH(1,(komnavn2=$C10)*(komaar2=D$1),0),11))","v":""},{"$f":"IF(C10=0,\"\",INDEX(Data_kom2,MATCH(1,(komnavn2=C10)*(komaar2=D$1),0),12))","v":""},{"$f":"IF($C10=0,\"\",INDEX(Data_kom2,MATCH(1,(komnavn2=$C10)*(komaar2=D$1),0),15))","v":""},{"$f":"IF(C10=0,\"\",INDEX(Data_kom2,MATCH(1,(komnavn2=C10)*(komaar2=D$1),0),16))","v":""},{"$f":"IF($C10=0,\"\",INDEX(Data_kom2,MATCH(1,(komnavn2=$C10)*(komaar2=D$1),0),19))","v":""},{"$f":"IF(C10=0,\"\",INDEX(Data_kom2,MATCH(1,(komnavn2=C10)*(komaar2=D$1),0),20))","v":""},{"$f":"IF($C10=0,\"\",INDEX(Data_kom2,MATCH(1,(komnavn2=$C10)*(komaar2=D$1),0),23))","v":""},{"$f":"IF(C10=0,\"\",INDEX(Data_kom2,MATCH(1,(komnavn2=C10)*(komaar2=D$1),0),24))","v":""},{"$f":"IF($C10=0,\"\",INDEX(Data_kom2,MATCH(1,(komnavn2=$C10)*(komaar2=D$1),0),27))","v":""},{"$f":"IF(C10=0,\"\",INDEX(Data_kom2,MATCH(1,(komnavn2=C10)*(komaar2=D$1),0),28))","v":""},{"$f":"IF($C10=0,\"\",INDEX(Data_kom2,MATCH(1,(komnavn2=$C10)*(komaar2=D$1),0),31))","v":""},{"$f":"IF(C10=0,\"\",INDEX(Data_kom2,MATCH(1,(komnavn2=C10)*(komaar2=D$1),0),32))","v":""},{"$f":"IF($C10=0,\"\",INDEX(Data_kom2,MATCH(1,(komnavn2=$C10)*(komaar2=D$1),0),35))","v":""},{"$f":"IF(C10=0,\"\",INDEX(Data_kom2,MATCH(1,(komnavn2=C10)*(komaar2=D$1),0),36))","v":""},{"$f":"IF($C10=0,\"\",INDEX(Data_kom2,MATCH(1,(komnavn2=$C10)*(komaar2=D$1),0),39))","v":""},{"$f":"IF(C10=0,\"\",INDEX(Data_kom2,MATCH(1,(komnavn2=C10)*(komaar2=D$1),0),40))","v":""},{"$f":"IF($C10=0,\"\",INDEX(Data_kom2,MATCH(1,(komnavn2=$C10)*(komaar2=D$1),0),43))","v":""},{"$f":"IF($C10=0,\"\",INDEX(Data_kom2,MATCH(1,(komnavn2=$C10)*(komaar2=$D$1),0),44))","v":""},{"$f":"IF($C10=0,\"\",INDEX(Data_kom2,MATCH(1,(komnavn2=$C10)*(komaar2=D$1),0),47))","v":""},{"$f":"IF($C10=0,\"\",INDEX(Data_kom2,MATCH(1,(komnavn2=$C10)*(komaar2=$D$1),0),48))","v":""},{"$f":"IF($C10=0,\"\",INDEX(Data_kom2,MATCH(1,(komnavn2=$C10)*(komaar2=D$1),0),51))","v":""},{"$f":"IF($C10=0,\"\",INDEX(Data_kom2,MATCH(1,(komnavn2=$C10)*(komaar2=$D$1),0),52))","v":""},{"$f":"IF($C10=0,\"\",INDEX(Data_kom2,MATCH(1,(komnavn2=$C10)*(komaar2=D$1),0),55))","v":""},{"$f":"IF($C10=0,\"\",INDEX(Data_kom2,MATCH(1,(komnavn2=$C10)*(komaar2=$D$1),0),56))","v":""},{"$f":"IF($C10=0,\"\",INDEX(Data_kom2,MATCH(1,(komnavn2=$C10)*(komaar2=D$1),0),59))","v":""},{"$f":"IF($C10=0,\"\",INDEX(Data_kom2,MATCH(1,(komnavn2=$C10)*(komaar2=$D$1),0),60))","v":""},{"$f":"IF($C10=0,\"\",INDEX(Data_kom2,MATCH(1,(komnavn2=$C10)*(komaar2=D$1),0),63))","v":""},{"$f":"IF($C10=0,\"\",INDEX(Data_kom2,MATCH(1,(komnavn2=$C10)*(komaar2=$D$1),0),64))","v":""},{"$f":"IF($C10=0,\"\",INDEX(Data_kom2,MATCH(1,(komnavn2=$C10)*(komaar2=D$1),0),67))","v":""},{"$f":"IF($C10=0,\"\",INDEX(Data_kom2,MATCH(1,(komnavn2=$C10)*(komaar2=$D$1),0),68))","v":""},{"$f":"IF($C10=0,\"\",INDEX(Data_kom2,MATCH(1,(komnavn2=$C10)*(komaar2=D$1),0),71))","v":""},{"$f":"IF($C10=0,\"\",INDEX(Data_kom2,MATCH(1,(komnavn2=$C10)*(komaar2=$D$1),0),72))","v":""},{"$f":"IF($C10=0,\"\",INDEX(Data_kom2,MATCH(1,(komnavn2=$C10)*(komaar2=D$1),0),75))","v":""},null,null,null,null,null,null,{"$f":"IF(C10=0,\"\",INDEX(Data_kom2,MATCH(1,(komnavn2=C10)*(komaar2=D$1),0),14))","v":""}]
[]
[]
[null,null,null,20182,null,2018]
[null,null,null,"Nøgletal 1: Modtagere af længerevarende botilbud",null,"Nøgletal 2: Modtagere af botilbudslignende tilbud",null,"Nøgletal 3: Modtagere af midlertidigt botilbud",null,"Nøgletal 4: Modtagere af socialpædagogisk støtte",null,"Nøgletal 5: Modtagere af beskyttet beskæftigelse og aktivitets- og samværstilbud",null,"Nøgletal 6: Modtagere af forebyggende indsatser",null,"Nøgletal 7: Flytninger fra botilbud",null,"Nøgletal 7.1: Flytninger fra længerevarende botilbud og lignende til midlertidigt botilbud",null,"Antal institutionsanbragte 0-17 årige pr. forrige kvartal",null,"0-17 årige, der ved sidste opgørelse var institutionsanbragt, men nu er anbragt i anden form",null,"Nøgletal 8: Fra socialpædagogisk støtte og ned af trappen",null,"Nøgletal 9: Fra forebyggende indsatser og ned af trappen",null,"Nøgletal 10: Fra forebyggende indsatser og op af trappen",null,"Nøgletal 11: Uddannelsesgrad",null,"Nøgletal 12: Beskæftigelsesgrad",null,"Nøgletal 12.1: Beskæftigelsesgrad for modtagere af forebyggende indsatser",null,"Nøgletal 12.2: Beskæftigelsesgrad for den øvrige målgruppe",null,"Nøgletal 18: Genindlæggelser",null,"Nøgletal 19: Udgifter til forebyggende indsatser ift. udgifter til støttende indsatser","Udgiftsandel til længerevarende botilbud","Udgiftsandel til botilbudslignende tilbud","Udgiftsandel til midlertidige botilbud","Udgiftsandel til socialpædagogisk støtte","Udgiftsandel til beskyttet beskæftigelse og aktivitets- og samværstilbud","Udgiftsandel til forebyggende indsatser"]
[null,null,null,1,null,2,null,3,null,4,null,5,null,6,null,7,null,"7.1",null,"7.2",null,"7.3",null,8,null,9,null,10,null,11,null,12,null,"12.1",null,"12.2",null,18,null,19,"20.1","20.2","20.3","20.4","20.5","20.6"]
[null,null,null,{"$f":"IF($C4=0,\"\",INDEX(Data_kom2,MATCH(1,(komnavn2=$C4)*(komaar2=D$13),0),4))","v":7},{"$f":"IF($C4=0,\"\",INDEX(Data_kom2,MATCH(1,(komnavn2=$C4)*(komaar2=D$13),0),7))","v":29},{"$f":"IF($C4=0,\"\",INDEX(Data_kom2,MATCH(1,(komnavn2=$C4)*(komaar2=D$13),0),8))","v":4},{"$f":"IF($C4=0,\"\",INDEX(Data_kom2,MATCH(1,(komnavn2=$C4)*(komaar2=D$13),0),11))","v":29},{"$f":"IF($C4=0,\"\",INDEX(Data_kom2,MATCH(1,(komnavn2=$C4)*(komaar2=D$13),0),12))","v":3},{"$f":"IF($C4=0,\"\",INDEX(Data_kom2,MATCH(1,(komnavn2=$C4)*(komaar2=D$13),0),15))","v":29},{"$f":"IF($C4=0,\"\",INDEX(Data_kom2,MATCH(1,(komnavn2=$C4)*(komaar2=D$13),0),16))","v":15},{"$f":"IF($C4=0,\"\",INDEX(Data_kom2,MATCH(1,(komnavn2=$C4)*(komaar2=D$13),0),19))","v":29},{"$f":"IF($C4=0,\"\",INDEX(Data_kom2,MATCH(1,(komnavn2=$C4)*(komaar2=D$13),0),20))","v":0},{"$f":"IF($C4=0,\"\",INDEX(Data_kom2,MATCH(1,(komnavn2=$C4)*(komaar2=D$13),0),23))","v":29},{"$f":"IF($C4=0,\"\",INDEX(Data_kom2,MATCH(1,(komnavn2=$C4)*(komaar2=D$13),0),24))","v":0},{"$f":"IF($C4=0,\"\",INDEX(Data_kom2,MATCH(1,(komnavn2=$C4)*(komaar2=D$13),0),27))","v":29},{"$f":"IF($C4=0,\"\",INDEX(Data_kom2,MATCH(1,(komnavn2=$C4)*(komaar2=D$13),0),28))","v":0},{"$f":"IF($C4=0,\"\",INDEX(Data_kom2,MATCH(1,(komnavn2=$C4)*(komaar2=D$13),0),31))","v":15},{"$f":"IF($C4=0,\"\",INDEX(Data_kom2,MATCH(1,(komnavn2=$C4)*(komaar2=D$13),0),32))","v":0},{"$f":"IF($C4=0,\"\",INDEX(Data_kom2,MATCH(1,(komnavn2=$C4)*(komaar2=D$13),0),35))","v":11},{"$f":"IF($C4=0,\"\",INDEX(Data_kom2,MATCH(1,(komnavn2=$C4)*(komaar2=D$13),0),36))","v":0},{"$f":"IF($C4=0,\"\",INDEX(Data_kom2,MATCH(1,(komnavn2=$C4)*(komaar2=D$13),0),39))","v":11},{"$f":"IF(C4=0,\"\",INDEX(Data_kom2,MATCH(1,(komnavn2=C4)*(komaar2=D$13),0),40))","v":0},{"$f":"IF($C4=0,\"\",INDEX(Data_kom2,MATCH(1,(komnavn2=$C4)*(komaar2=D$13),0),43))","v":4},{"$f":"IF($C4=0,\"\",INDEX(Data_kom2,MATCH(1,(komnavn2=$C4)*(komaar2=$D$13),0),44))","v":3},{"$f":"IF($C4=0,\"\",INDEX(Data_kom2,MATCH(1,(komnavn2=$C4)*(komaar2=D$13),0),47))","v":16},{"$f":"IF($C4=0,\"\",INDEX(Data_kom2,MATCH(1,(komnavn2=$C4)*(komaar2=$D$13),0),48))","v":0},{"$f":"IF($C4=0,\"\",INDEX(Data_kom2,MATCH(1,(komnavn2=$C4)*(komaar2=D$13),0),51))","v":0},{"$f":"IF($C4=0,\"\",INDEX(Data_kom2,MATCH(1,(komnavn2=$C4)*(komaar2=$D$13),0),52))","v":0},{"$f":"IF($C4=0,\"\",INDEX(Data_kom2,MATCH(1,(komnavn2=$C4)*(komaar2=D$13),0),55))","v":0},{"$f":"IF($C4=0,\"\",INDEX(Data_kom2,MATCH(1,(komnavn2=$C4)*(komaar2=$D$13),0),56))","v":8.6206896551724102E-3},{"$f":"IF($C4=0,\"\",INDEX(Data_kom2,MATCH(1,(komnavn2=$C4)*(komaar2=D$13),0),59))","v":29},{"$f":"IF($C4=0,\"\",INDEX(Data_kom2,MATCH(1,(komnavn2=$C4)*(komaar2=$D$13),0),60))","v":5.6366047745358097E-2},{"$f":"IF($C4=0,\"\",INDEX(Data_kom2,MATCH(1,(komnavn2=$C4)*(komaar2=D$13),0),63))","v":29},{"$f":"IF($C4=0,\"\",INDEX(Data_kom2,MATCH(1,(komnavn2=$C4)*(komaar2=$D$13),0),64))","v":0},{"$f":"IF($C4=0,\"\",INDEX(Data_kom2,MATCH(1,(komnavn2=$C4)*(komaar2=D$13),0),67))","v":0},{"$f":"IF($C4=0,\"\",INDEX(Data_kom2,MATCH(1,(komnavn2=$C4)*(komaar2=$D$13),0),68))","v":5.6366047745358097E-2},{"$f":"IF($C4=0,\"\",INDEX(Data_kom2,MATCH(1,(komnavn2=$C4)*(komaar2=D$13),0),71))","v":29},{"$f":"IF($C4=0,\"\",INDEX(Data_kom2,MATCH(1,(komnavn2=$C4)*(komaar2=$D$13),0),72))","v":0.84615384615384603},{"$f":"IF($C4=0,\"\",INDEX(Data_kom2,MATCH(1,(komnavn2=$C4)*(komaar2=D$13),0),75))","v":29},{"$f":"IF($C4=0,\"\",INDEX(Data_komoek,MATCH(1,(komnavn=$C4)*(komaar=$F$13),0),3))","v":0},{"$f":"IF($C4=0,\"\",INDEX(Data_komoek,MATCH(1,(komnavn=$C4)*(komaar=$F$13),0),6))","v":0.45494392161918301},{"$f":"IF($C4=0,\"\",INDEX(Data_komoek,MATCH(1,(komnavn=$C4)*(komaar=$F$13),0),9))","v":0.14432125821838299},{"$f":"IF($C4=0,\"\",INDEX(Data_komoek,MATCH(1,(komnavn=$C4)*(komaar=$F$13),0),12))","v":0.33653474281294299},{"$f":"IF($C4=0,\"\",INDEX(Data_komoek,MATCH(1,(komnavn=$C4)*(komaar=$F$13),0),15))","v":2.59120794121439E-2},{"$f":"IF($C4=0,\"\",INDEX(Data_komoek,MATCH(1,(komnavn=$C4)*(komaar=$F$13),0),18))","v":3.8287997937346899E-2},{"$f":"IF($C4=0,\"\",INDEX(Data_komoek,MATCH(1,(komnavn=$C4)*(komaar=$F$13),0),21))","v":0}]
[null,null,null,{"$f":"IF($C5=0,\"\",INDEX(Data_kom2,MATCH(1,(komnavn2=$C5)*(komaar2=D$13),0),4))","v":5},{"$f":"IF($C5=0,\"\",INDEX(Data_kom2,MATCH(1,(komnavn2=$C5)*(komaar2=D$13),0),7))","v":200},{"$f":"IF($C5=0,\"\",INDEX(Data_kom2,MATCH(1,(komnavn2=$C5)*(komaar2=D$13),0),8))","v":34},{"$f":"IF($C5=0,\"\",INDEX(Data_kom2,MATCH(1,(komnavn2=$C5)*(komaar2=D$13),0),11))","v":200},{"$f":"IF($C5=0,\"\",INDEX(Data_kom2,MATCH(1,(komnavn2=$C5)*(komaar2=D$13),0),12))","v":18},{"$f":"IF($C5=0,\"\",INDEX(Data_kom2,MATCH(1,(komnavn2=$C5)*(komaar2=D$13),0),15))","v":200},{"$f":"IF($C5=0,\"\",INDEX(Data_kom2,MATCH(1,(komnavn2=$C5)*(komaar2=D$13),0),16))","v":83},{"$f":"IF($C5=0,\"\",INDEX(Data_kom2,MATCH(1,(komnavn2=$C5)*(komaar2=D$13),0),19))","v":200},{"$f":"IF($C5=0,\"\",INDEX(Data_kom2,MATCH(1,(komnavn2=$C5)*(komaar2=D$13),0),20))","v":54},{"$f":"IF($C5=0,\"\",INDEX(Data_kom2,MATCH(1,(komnavn2=$C5)*(komaar2=D$13),0),23))","v":200},{"$f":"IF($C5=0,\"\",INDEX(Data_kom2,MATCH(1,(komnavn2=$C5)*(komaar2=D$13),0),24))","v":0},{"$f":"IF($C5=0,\"\",INDEX(Data_kom2,MATCH(1,(komnavn2=$C5)*(komaar2=D$13),0),27))","v":200},{"$f":"IF($C5=0,\"\",INDEX(Data_kom2,MATCH(1,(komnavn2=$C5)*(komaar2=D$13),0),28))","v":5},{"$f":"IF($C5=0,\"\",INDEX(Data_kom2,MATCH(1,(komnavn2=$C5)*(komaar2=D$13),0),31))","v":59},{"$f":"IF($C5=0,\"\",INDEX(Data_kom2,MATCH(1,(komnavn2=$C5)*(komaar2=D$13),0),32))","v":0},{"$f":"IF($C5=0,\"\",INDEX(Data_kom2,MATCH(1,(komnavn2=$C5)*(komaar2=D$13),0),35))","v":38},{"$f":"IF($C5=0,\"\",INDEX(Data_kom2,MATCH(1,(komnavn2=$C5)*(komaar2=D$13),0),36))","v":0},{"$f":"IF($C5=0,\"\",INDEX(Data_kom2,MATCH(1,(komnavn2=$C5)*(komaar2=D$13),0),39))","v":38},{"$f":"IF(C5=0,\"\",INDEX(Data_kom2,MATCH(1,(komnavn2=C5)*(komaar2=D$13),0),40))","v":0},{"$f":"IF($C5=0,\"\",INDEX(Data_kom2,MATCH(1,(komnavn2=$C5)*(komaar2=D$13),0),43))","v":21},{"$f":"IF($C5=0,\"\",INDEX(Data_kom2,MATCH(1,(komnavn2=$C5)*(komaar2=$D$13),0),44))","v":8},{"$f":"IF($C5=0,\"\",INDEX(Data_kom2,MATCH(1,(komnavn2=$C5)*(komaar2=D$13),0),47))","v":93},{"$f":"IF($C5=0,\"\",INDEX(Data_kom2,MATCH(1,(komnavn2=$C5)*(komaar2=$D$13),0),48))","v":0},{"$f":"IF($C5=0,\"\",INDEX(Data_kom2,MATCH(1,(komnavn2=$C5)*(komaar2=D$13),0),51))","v":0},{"$f":"IF($C5=0,\"\",INDEX(Data_kom2,MATCH(1,(komnavn2=$C5)*(komaar2=$D$13),0),52))","v":0},{"$f":"IF($C5=0,\"\",INDEX(Data_kom2,MATCH(1,(komnavn2=$C5)*(komaar2=D$13),0),55))","v":0},{"$f":"IF($C5=0,\"\",INDEX(Data_kom2,MATCH(1,(komnavn2=$C5)*(komaar2=$D$13),0),56))","v":1.32692307692308E-2},{"$f":"IF($C5=0,\"\",INDEX(Data_kom2,MATCH(1,(komnavn2=$C5)*(komaar2=D$13),0),59))","v":200},{"$f":"IF($C5=0,\"\",INDEX(Data_kom2,MATCH(1,(komnavn2=$C5)*(komaar2=$D$13),0),60))","v":2.35576923076923E-2},{"$f":"IF($C5=0,\"\",INDEX(Data_kom2,MATCH(1,(komnavn2=$C5)*(komaar2=D$13),0),63))","v":200},{"$f":"IF($C5=0,\"\",INDEX(Data_kom2,MATCH(1,(komnavn2=$C5)*(komaar2=$D$13),0),64))","v":0},{"$f":"IF($C5=0,\"\",INDEX(Data_kom2,MATCH(1,(komnavn2=$C5)*(komaar2=D$13),0),67))","v":0},{"$f":"IF($C5=0,\"\",INDEX(Data_kom2,MATCH(1,(komnavn2=$C5)*(komaar2=$D$13),0),68))","v":2.35576923076923E-2},{"$f":"IF($C5=0,\"\",INDEX(Data_kom2,MATCH(1,(komnavn2=$C5)*(komaar2=D$13),0),71))","v":200},{"$f":"IF($C5=0,\"\",INDEX(Data_kom2,MATCH(1,(komnavn2=$C5)*(komaar2=$D$13),0),72))","v":0.28125},{"$f":"IF($C5=0,\"\",INDEX(Data_kom2,MATCH(1,(komnavn2=$C5)*(komaar2=D$13),0),75))","v":200},{"$f":"IF($C5=0,\"\",INDEX(Data_komoek,MATCH(1,(komnavn=$C5)*(komaar=$F$13),0),3))","v":4.0178979088667702E-2},{"$f":"IF($C5=0,\"\",INDEX(Data_komoek,MATCH(1,(komnavn=$C5)*(komaar=$F$13),0),6))","v":8.0004682058935406E-2},{"$f":"IF($C5=0,\"\",INDEX(Data_komoek,MATCH(1,(komnavn=$C5)*(komaar=$F$13),0),9))","v":0.28859040763175597},{"$f":"IF($C5=0,\"\",INDEX(Data_komoek,MATCH(1,(komnavn=$C5)*(komaar=$F$13),0),12))","v":0.35396365551751402},{"$f":"IF($C5=0,\"\",INDEX(Data_komoek,MATCH(1,(komnavn=$C5)*(komaar=$F$13),0),15))","v":0.10868229303836401},{"$f":"IF($C5=0,\"\",INDEX(Data_komoek,MATCH(1,(komnavn=$C5)*(komaar=$F$13),0),18))","v":0.13013197553624201},{"$f":"IF($C5=0,\"\",INDEX(Data_komoek,MATCH(1,(komnavn=$C5)*(komaar=$F$13),0),21))","v":3.8626986217188998E-2}]
[null,null,null,{"$f":"IF($C6=0,\"\",INDEX(Data_kom2,MATCH(1,(komnavn2=$C6)*(komaar2=D$13),0),4))","v":22},{"$f":"IF($C6=0,\"\",INDEX(Data_kom2,MATCH(1,(komnavn2=$C6)*(komaar2=D$13),0),7))","v":242},{"$f":"IF($C6=0,\"\",INDEX(Data_kom2,MATCH(1,(komnavn2=$C6)*(komaar2=D$13),0),8))","v":17},{"$f":"IF($C6=0,\"\",INDEX(Data_kom2,MATCH(1,(komnavn2=$C6)*(komaar2=D$13),0),11))","v":242},{"$f":"IF($C6=0,\"\",INDEX(Data_kom2,MATCH(1,(komnavn2=$C6)*(komaar2=D$13),0),12))","v":38},{"$f":"IF($C6=0,\"\",INDEX(Data_kom2,MATCH(1,(komnavn2=$C6)*(komaar2=D$13),0),15))","v":242},{"$f":"IF($C6=0,\"\",INDEX(Data_kom2,MATCH(1,(komnavn2=$C6)*(komaar2=D$13),0),16))","v":145},{"$f":"IF($C6=0,\"\",INDEX(Data_kom2,MATCH(1,(komnavn2=$C6)*(komaar2=D$13),0),19))","v":242},{"$f":"IF($C6=0,\"\",INDEX(Data_kom2,MATCH(1,(komnavn2=$C6)*(komaar2=D$13),0),20))","v":0},{"$f":"IF($C6=0,\"\",INDEX(Data_kom2,MATCH(1,(komnavn2=$C6)*(komaar2=D$13),0),23))","v":242},{"$f":"IF($C6=0,\"\",INDEX(Data_kom2,MATCH(1,(komnavn2=$C6)*(komaar2=D$13),0),24))","v":0},{"$f":"IF($C6=0,\"\",INDEX(Data_kom2,MATCH(1,(komnavn2=$C6)*(komaar2=D$13),0),27))","v":242},{"$f":"IF($C6=0,\"\",INDEX(Data_kom2,MATCH(1,(komnavn2=$C6)*(komaar2=D$13),0),28))","v":0},{"$f":"IF($C6=0,\"\",INDEX(Data_kom2,MATCH(1,(komnavn2=$C6)*(komaar2=D$13),0),31))","v":75},{"$f":"IF($C6=0,\"\",INDEX(Data_kom2,MATCH(1,(komnavn2=$C6)*(komaar2=D$13),0),32))","v":0},{"$f":"IF($C6=0,\"\",INDEX(Data_kom2,MATCH(1,(komnavn2=$C6)*(komaar2=D$13),0),35))","v":39},{"$f":"IF($C6=0,\"\",INDEX(Data_kom2,MATCH(1,(komnavn2=$C6)*(komaar2=D$13),0),36))","v":0},{"$f":"IF($C6=0,\"\",INDEX(Data_kom2,MATCH(1,(komnavn2=$C6)*(komaar2=D$13),0),39))","v":39},{"$f":"IF(C6=0,\"\",INDEX(Data_kom2,MATCH(1,(komnavn2=C6)*(komaar2=D$13),0),40))","v":0},{"$f":"IF($C6=0,\"\",INDEX(Data_kom2,MATCH(1,(komnavn2=$C6)*(komaar2=D$13),0),43))","v":36},{"$f":"IF($C6=0,\"\",INDEX(Data_kom2,MATCH(1,(komnavn2=$C6)*(komaar2=$D$13),0),44))","v":27},{"$f":"IF($C6=0,\"\",INDEX(Data_kom2,MATCH(1,(komnavn2=$C6)*(komaar2=D$13),0),47))","v":161},{"$f":"IF($C6=0,\"\",INDEX(Data_kom2,MATCH(1,(komnavn2=$C6)*(komaar2=$D$13),0),48))","v":0},{"$f":"IF($C6=0,\"\",INDEX(Data_kom2,MATCH(1,(komnavn2=$C6)*(komaar2=D$13),0),51))","v":0},{"$f":"IF($C6=0,\"\",INDEX(Data_kom2,MATCH(1,(komnavn2=$C6)*(komaar2=$D$13),0),52))","v":0},{"$f":"IF($C6=0,\"\",INDEX(Data_kom2,MATCH(1,(komnavn2=$C6)*(komaar2=D$13),0),55))","v":0},{"$f":"IF($C6=0,\"\",INDEX(Data_kom2,MATCH(1,(komnavn2=$C6)*(komaar2=$D$13),0),56))","v":7.0724729815638899E-3},{"$f":"IF($C6=0,\"\",INDEX(Data_kom2,MATCH(1,(komnavn2=$C6)*(komaar2=D$13),0),59))","v":242},{"$f":"IF($C6=0,\"\",INDEX(Data_kom2,MATCH(1,(komnavn2=$C6)*(komaar2=$D$13),0),60))","v":2.7177368086459E-2},{"$f":"IF($C6=0,\"\",INDEX(Data_kom2,MATCH(1,(komnavn2=$C6)*(komaar2=D$13),0),63))","v":242},{"$f":"IF($C6=0,\"\",INDEX(Data_kom2,MATCH(1,(komnavn2=$C6)*(komaar2=$D$13),0),64))","v":0},{"$f":"IF($C6=0,\"\",INDEX(Data_kom2,MATCH(1,(komnavn2=$C6)*(komaar2=D$13),0),67))","v":0},{"$f":"IF($C6=0,\"\",INDEX(Data_kom2,MATCH(1,(komnavn2=$C6)*(komaar2=$D$13),0),68))","v":2.7177368086459E-2},{"$f":"IF($C6=0,\"\",INDEX(Data_kom2,MATCH(1,(komnavn2=$C6)*(komaar2=D$13),0),71))","v":242},{"$f":"IF($C6=0,\"\",INDEX(Data_kom2,MATCH(1,(komnavn2=$C6)*(komaar2=$D$13),0),72))","v":0.42045454545454602},{"$f":"IF($C6=0,\"\",INDEX(Data_kom2,MATCH(1,(komnavn2=$C6)*(komaar2=D$13),0),75))","v":242},{"$f":"IF($C6=0,\"\",INDEX(Data_komoek,MATCH(1,(komnavn=$C6)*(komaar=$F$13),0),3))","v":1.5696195041126699E-2},{"$f":"IF($C6=0,\"\",INDEX(Data_komoek,MATCH(1,(komnavn=$C6)*(komaar=$F$13),0),6))","v":0.77110855411684198},{"$f":"IF($C6=0,\"\",INDEX(Data_komoek,MATCH(1,(komnavn=$C6)*(komaar=$F$13),0),9))","v":2.2838166538007802E-2},{"$f":"IF($C6=0,\"\",INDEX(Data_komoek,MATCH(1,(komnavn=$C6)*(komaar=$F$13),0),12))","v":0.13641726262435},{"$f":"IF($C6=0,\"\",INDEX(Data_komoek,MATCH(1,(komnavn=$C6)*(komaar=$F$13),0),15))","v":5.8551932068106702E-2},{"$f":"IF($C6=0,\"\",INDEX(Data_komoek,MATCH(1,(komnavn=$C6)*(komaar=$F$13),0),18))","v":-4.3695471692616903E-3},{"$f":"IF($C6=0,\"\",INDEX(Data_komoek,MATCH(1,(komnavn=$C6)*(komaar=$F$13),0),21))","v":1.5453631821955501E-2}]
[null,null,null,{"$f":"IF($C7=0,\"\",INDEX(Data_kom2,MATCH(1,(komnavn2=$C7)*(komaar2=D$13),0),4))","v":""},{"$f":"IF($C7=0,\"\",INDEX(Data_kom2,MATCH(1,(komnavn2=$C7)*(komaar2=D$13),0),7))","v":""},{"$f":"IF($C7=0,\"\",INDEX(Data_kom2,MATCH(1,(komnavn2=$C7)*(komaar2=D$13),0),8))","v":""},{"$f":"IF($C7=0,\"\",INDEX(Data_kom2,MATCH(1,(komnavn2=$C7)*(komaar2=D$13),0),11))","v":""},{"$f":"IF($C7=0,\"\",INDEX(Data_kom2,MATCH(1,(komnavn2=$C7)*(komaar2=D$13),0),12))","v":""},{"$f":"IF($C7=0,\"\",INDEX(Data_kom2,MATCH(1,(komnavn2=$C7)*(komaar2=D$13),0),15))","v":""},{"$f":"IF($C7=0,\"\",INDEX(Data_kom2,MATCH(1,(komnavn2=$C7)*(komaar2=D$13),0),16))","v":""},{"$f":"IF($C7=0,\"\",INDEX(Data_kom2,MATCH(1,(komnavn2=$C7)*(komaar2=D$13),0),19))","v":""},{"$f":"IF($C7=0,\"\",INDEX(Data_kom2,MATCH(1,(komnavn2=$C7)*(komaar2=D$13),0),20))","v":""},{"$f":"IF($C7=0,\"\",INDEX(Data_kom2,MATCH(1,(komnavn2=$C7)*(komaar2=D$13),0),23))","v":""},{"$f":"IF($C7=0,\"\",INDEX(Data_kom2,MATCH(1,(komnavn2=$C7)*(komaar2=D$13),0),24))","v":""},{"$f":"IF($C7=0,\"\",INDEX(Data_kom2,MATCH(1,(komnavn2=$C7)*(komaar2=D$13),0),27))","v":""},{"$f":"IF($C7=0,\"\",INDEX(Data_kom2,MATCH(1,(komnavn2=$C7)*(komaar2=D$13),0),28))","v":""},{"$f":"IF($C7=0,\"\",INDEX(Data_kom2,MATCH(1,(komnavn2=$C7)*(komaar2=D$13),0),31))","v":""},{"$f":"IF($C7=0,\"\",INDEX(Data_kom2,MATCH(1,(komnavn2=$C7)*(komaar2=D$13),0),32))","v":""},{"$f":"IF($C7=0,\"\",INDEX(Data_kom2,MATCH(1,(komnavn2=$C7)*(komaar2=D$13),0),35))","v":""},{"$f":"IF($C7=0,\"\",INDEX(Data_kom2,MATCH(1,(komnavn2=$C7)*(komaar2=D$13),0),36))","v":""},{"$f":"IF($C7=0,\"\",INDEX(Data_kom2,MATCH(1,(komnavn2=$C7)*(komaar2=D$13),0),39))","v":""},{"$f":"IF(C7=0,\"\",INDEX(Data_kom2,MATCH(1,(komnavn2=C7)*(komaar2=D$13),0),40))","v":""},{"$f":"IF($C7=0,\"\",INDEX(Data_kom2,MATCH(1,(komnavn2=$C7)*(komaar2=D$13),0),43))","v":""},{"$f":"IF($C7=0,\"\",INDEX(Data_kom2,MATCH(1,(komnavn2=$C7)*(komaar2=$D$13),0),44))","v":""},{"$f":"IF($C7=0,\"\",INDEX(Data_kom2,MATCH(1,(komnavn2=$C7)*(komaar2=D$13),0),47))","v":""},{"$f":"IF($C7=0,\"\",INDEX(Data_kom2,MATCH(1,(komnavn2=$C7)*(komaar2=$D$13),0),48))","v":""},{"$f":"IF($C7=0,\"\",INDEX(Data_kom2,MATCH(1,(komnavn2=$C7)*(komaar2=D$13),0),51))","v":""},{"$f":"IF($C7=0,\"\",INDEX(Data_kom2,MATCH(1,(komnavn2=$C7)*(komaar2=$D$13),0),52))","v":""},{"$f":"IF($C7=0,\"\",INDEX(Data_kom2,MATCH(1,(komnavn2=$C7)*(komaar2=D$13),0),55))","v":""},{"$f":"IF($C7=0,\"\",INDEX(Data_kom2,MATCH(1,(komnavn2=$C7)*(komaar2=$D$13),0),56))","v":""},{"$f":"IF($C7=0,\"\",INDEX(Data_kom2,MATCH(1,(komnavn2=$C7)*(komaar2=D$13),0),59))","v":""},{"$f":"IF($C7=0,\"\",INDEX(Data_kom2,MATCH(1,(komnavn2=$C7)*(komaar2=$D$13),0),60))","v":""},{"$f":"IF($C7=0,\"\",INDEX(Data_kom2,MATCH(1,(komnavn2=$C7)*(komaar2=D$13),0),63))","v":""},{"$f":"IF($C7=0,\"\",INDEX(Data_kom2,MATCH(1,(komnavn2=$C7)*(komaar2=$D$13),0),64))","v":""},{"$f":"IF($C7=0,\"\",INDEX(Data_kom2,MATCH(1,(komnavn2=$C7)*(komaar2=D$13),0),67))","v":""},{"$f":"IF($C7=0,\"\",INDEX(Data_kom2,MATCH(1,(komnavn2=$C7)*(komaar2=$D$13),0),68))","v":""},{"$f":"IF($C7=0,\"\",INDEX(Data_kom2,MATCH(1,(komnavn2=$C7)*(komaar2=D$13),0),71))","v":""},{"$f":"IF($C7=0,\"\",INDEX(Data_kom2,MATCH(1,(komnavn2=$C7)*(komaar2=$D$13),0),72))","v":""},{"$f":"IF($C7=0,\"\",INDEX(Data_kom2,MATCH(1,(komnavn2=$C7)*(komaar2=D$13),0),75))","v":""},{"$f":"IF($C7=0,\"\",INDEX(Data_komoek,MATCH(1,(komnavn=$C7)*(komaar=$F$13),0),3))","v":""},{"$f":"IF($C7=0,\"\",INDEX(Data_komoek,MATCH(1,(komnavn=$C7)*(komaar=$F$13),0),6))","v":""},{"$f":"IF($C7=0,\"\",INDEX(Data_komoek,MATCH(1,(komnavn=$C7)*(komaar=$F$13),0),9))","v":""},{"$f":"IF($C7=0,\"\",INDEX(Data_komoek,MATCH(1,(komnavn=$C7)*(komaar=$F$13),0),12))","v":""},{"$f":"IF($C7=0,\"\",INDEX(Data_komoek,MATCH(1,(komnavn=$C7)*(komaar=$F$13),0),15))","v":""},{"$f":"IF($C7=0,\"\",INDEX(Data_komoek,MATCH(1,(komnavn=$C7)*(komaar=$F$13),0),18))","v":""},{"$f":"IF($C7=0,\"\",INDEX(Data_komoek,MATCH(1,(komnavn=$C7)*(komaar=$F$13),0),21))","v":""}]
[null,null,null,{"$f":"IF($C8=0,\"\",INDEX(Data_kom2,MATCH(1,(komnavn2=$C8)*(komaar2=D$13),0),4))","v":""},{"$f":"IF($C8=0,\"\",INDEX(Data_kom2,MATCH(1,(komnavn2=$C8)*(komaar2=D$13),0),7))","v":""},{"$f":"IF($C8=0,\"\",INDEX(Data_kom2,MATCH(1,(komnavn2=$C8)*(komaar2=D$13),0),8))","v":""},{"$f":"IF($C8=0,\"\",INDEX(Data_kom2,MATCH(1,(komnavn2=$C8)*(komaar2=D$13),0),11))","v":""},{"$f":"IF($C8=0,\"\",INDEX(Data_kom2,MATCH(1,(komnavn2=$C8)*(komaar2=D$13),0),12))","v":""},{"$f":"IF($C8=0,\"\",INDEX(Data_kom2,MATCH(1,(komnavn2=$C8)*(komaar2=D$13),0),15))","v":""},{"$f":"IF($C8=0,\"\",INDEX(Data_kom2,MATCH(1,(komnavn2=$C8)*(komaar2=D$13),0),16))","v":""},{"$f":"IF($C8=0,\"\",INDEX(Data_kom2,MATCH(1,(komnavn2=$C8)*(komaar2=D$13),0),19))","v":""},{"$f":"IF($C8=0,\"\",INDEX(Data_kom2,MATCH(1,(komnavn2=$C8)*(komaar2=D$13),0),20))","v":""},{"$f":"IF($C8=0,\"\",INDEX(Data_kom2,MATCH(1,(komnavn2=$C8)*(komaar2=D$13),0),23))","v":""},{"$f":"IF($C8=0,\"\",INDEX(Data_kom2,MATCH(1,(komnavn2=$C8)*(komaar2=D$13),0),24))","v":""},{"$f":"IF($C8=0,\"\",INDEX(Data_kom2,MATCH(1,(komnavn2=$C8)*(komaar2=D$13),0),27))","v":""},{"$f":"IF($C8=0,\"\",INDEX(Data_kom2,MATCH(1,(komnavn2=$C8)*(komaar2=D$13),0),28))","v":""},{"$f":"IF($C8=0,\"\",INDEX(Data_kom2,MATCH(1,(komnavn2=$C8)*(komaar2=D$13),0),31))","v":""},{"$f":"IF($C8=0,\"\",INDEX(Data_kom2,MATCH(1,(komnavn2=$C8)*(komaar2=D$13),0),32))","v":""},{"$f":"IF($C8=0,\"\",INDEX(Data_kom2,MATCH(1,(komnavn2=$C8)*(komaar2=D$13),0),35))","v":""},{"$f":"IF($C8=0,\"\",INDEX(Data_kom2,MATCH(1,(komnavn2=$C8)*(komaar2=D$13),0),36))","v":""},{"$f":"IF($C8=0,\"\",INDEX(Data_kom2,MATCH(1,(komnavn2=$C8)*(komaar2=D$13),0),39))","v":""},{"$f":"IF(C8=0,\"\",INDEX(Data_kom2,MATCH(1,(komnavn2=C8)*(komaar2=D$13),0),40))","v":""},{"$f":"IF($C8=0,\"\",INDEX(Data_kom2,MATCH(1,(komnavn2=$C8)*(komaar2=D$13),0),43))","v":""},{"$f":"IF($C8=0,\"\",INDEX(Data_kom2,MATCH(1,(komnavn2=$C8)*(komaar2=$D$13),0),44))","v":""},{"$f":"IF($C8=0,\"\",INDEX(Data_kom2,MATCH(1,(komnavn2=$C8)*(komaar2=D$13),0),47))","v":""},{"$f":"IF($C8=0,\"\",INDEX(Data_kom2,MATCH(1,(komnavn2=$C8)*(komaar2=$D$13),0),48))","v":""},{"$f":"IF($C8=0,\"\",INDEX(Data_kom2,MATCH(1,(komnavn2=$C8)*(komaar2=D$13),0),51))","v":""},{"$f":"IF($C8=0,\"\",INDEX(Data_kom2,MATCH(1,(komnavn2=$C8)*(komaar2=$D$13),0),52))","v":""},{"$f":"IF($C8=0,\"\",INDEX(Data_kom2,MATCH(1,(komnavn2=$C8)*(komaar2=D$13),0),55))","v":""},{"$f":"IF($C8=0,\"\",INDEX(Data_kom2,MATCH(1,(komnavn2=$C8)*(komaar2=$D$13),0),56))","v":""},{"$f":"IF($C8=0,\"\",INDEX(Data_kom2,MATCH(1,(komnavn2=$C8)*(komaar2=D$13),0),59))","v":""},{"$f":"IF($C8=0,\"\",INDEX(Data_kom2,MATCH(1,(komnavn2=$C8)*(komaar2=$D$13),0),60))","v":""},{"$f":"IF($C8=0,\"\",INDEX(Data_kom2,MATCH(1,(komnavn2=$C8)*(komaar2=D$13),0),63))","v":""},{"$f":"IF($C8=0,\"\",INDEX(Data_kom2,MATCH(1,(komnavn2=$C8)*(komaar2=$D$13),0),64))","v":""},{"$f":"IF($C8=0,\"\",INDEX(Data_kom2,MATCH(1,(komnavn2=$C8)*(komaar2=D$13),0),67))","v":""},{"$f":"IF($C8=0,\"\",INDEX(Data_kom2,MATCH(1,(komnavn2=$C8)*(komaar2=$D$13),0),68))","v":""},{"$f":"IF($C8=0,\"\",INDEX(Data_kom2,MATCH(1,(komnavn2=$C8)*(komaar2=D$13),0),71))","v":""},{"$f":"IF($C8=0,\"\",INDEX(Data_kom2,MATCH(1,(komnavn2=$C8)*(komaar2=$D$13),0),72))","v":""},{"$f":"IF($C8=0,\"\",INDEX(Data_kom2,MATCH(1,(komnavn2=$C8)*(komaar2=D$13),0),75))","v":""},{"$f":"IF($C8=0,\"\",INDEX(Data_komoek,MATCH(1,(komnavn=$C8)*(komaar=$F$13),0),3))","v":""},{"$f":"IF($C8=0,\"\",INDEX(Data_komoek,MATCH(1,(komnavn=$C8)*(komaar=$F$13),0),6))","v":""},{"$f":"IF($C8=0,\"\",INDEX(Data_komoek,MATCH(1,(komnavn=$C8)*(komaar=$F$13),0),9))","v":""},{"$f":"IF($C8=0,\"\",INDEX(Data_komoek,MATCH(1,(komnavn=$C8)*(komaar=$F$13),0),12))","v":""},{"$f":"IF($C8=0,\"\",INDEX(Data_komoek,MATCH(1,(komnavn=$C8)*(komaar=$F$13),0),15))","v":""},{"$f":"IF($C8=0,\"\",INDEX(Data_komoek,MATCH(1,(komnavn=$C8)*(komaar=$F$13),0),18))","v":""},{"$f":"IF($C8=0,\"\",INDEX(Data_komoek,MATCH(1,(komnavn=$C8)*(komaar=$F$13),0),21))","v":""}]
[null,null,null,{"$f":"IF($C9=0,\"\",INDEX(Data_kom2,MATCH(1,(komnavn2=$C9)*(komaar2=D$13),0),4))","v":""},{"$f":"IF($C9=0,\"\",INDEX(Data_kom2,MATCH(1,(komnavn2=$C9)*(komaar2=D$13),0),7))","v":""},{"$f":"IF($C9=0,\"\",INDEX(Data_kom2,MATCH(1,(komnavn2=$C9)*(komaar2=D$13),0),8))","v":""},{"$f":"IF($C9=0,\"\",INDEX(Data_kom2,MATCH(1,(komnavn2=$C9)*(komaar2=D$13),0),11))","v":""},{"$f":"IF($C9=0,\"\",INDEX(Data_kom2,MATCH(1,(komnavn2=$C9)*(komaar2=D$13),0),12))","v":""},{"$f":"IF($C9=0,\"\",INDEX(Data_kom2,MATCH(1,(komnavn2=$C9)*(komaar2=D$13),0),15))","v":""},{"$f":"IF($C9=0,\"\",INDEX(Data_kom2,MATCH(1,(komnavn2=$C9)*(komaar2=D$13),0),16))","v":""},{"$f":"IF($C9=0,\"\",INDEX(Data_kom2,MATCH(1,(komnavn2=$C9)*(komaar2=D$13),0),19))","v":""},{"$f":"IF($C9=0,\"\",INDEX(Data_kom2,MATCH(1,(komnavn2=$C9)*(komaar2=D$13),0),20))","v":""},{"$f":"IF($C9=0,\"\",INDEX(Data_kom2,MATCH(1,(komnavn2=$C9)*(komaar2=D$13),0),23))","v":""},{"$f":"IF($C9=0,\"\",INDEX(Data_kom2,MATCH(1,(komnavn2=$C9)*(komaar2=D$13),0),24))","v":""},{"$f":"IF($C9=0,\"\",INDEX(Data_kom2,MATCH(1,(komnavn2=$C9)*(komaar2=D$13),0),27))","v":""},{"$f":"IF($C9=0,\"\",INDEX(Data_kom2,MATCH(1,(komnavn2=$C9)*(komaar2=D$13),0),28))","v":""},{"$f":"IF($C9=0,\"\",INDEX(Data_kom2,MATCH(1,(komnavn2=$C9)*(komaar2=D$13),0),31))","v":""},{"$f":"IF($C9=0,\"\",INDEX(Data_kom2,MATCH(1,(komnavn2=$C9)*(komaar2=D$13),0),32))","v":""},{"$f":"IF($C9=0,\"\",INDEX(Data_kom2,MATCH(1,(komnavn2=$C9)*(komaar2=D$13),0),35))","v":""},{"$f":"IF($C9=0,\"\",INDEX(Data_kom2,MATCH(1,(komnavn2=$C9)*(komaar2=D$13),0),36))","v":""},{"$f":"IF($C9=0,\"\",INDEX(Data_kom2,MATCH(1,(komnavn2=$C9)*(komaar2=D$13),0),39))","v":""},{"$f":"IF(C9=0,\"\",INDEX(Data_kom2,MATCH(1,(komnavn2=C9)*(komaar2=D$13),0),40))","v":""},{"$f":"IF($C9=0,\"\",INDEX(Data_kom2,MATCH(1,(komnavn2=$C9)*(komaar2=D$13),0),43))","v":""},{"$f":"IF($C9=0,\"\",INDEX(Data_kom2,MATCH(1,(komnavn2=$C9)*(komaar2=$D$13),0),44))","v":""},{"$f":"IF($C9=0,\"\",INDEX(Data_kom2,MATCH(1,(komnavn2=$C9)*(komaar2=D$13),0),47))","v":""},{"$f":"IF($C9=0,\"\",INDEX(Data_kom2,MATCH(1,(komnavn2=$C9)*(komaar2=$D$13),0),48))","v":""},{"$f":"IF($C9=0,\"\",INDEX(Data_kom2,MATCH(1,(komnavn2=$C9)*(komaar2=D$13),0),51))","v":""},{"$f":"IF($C9=0,\"\",INDEX(Data_kom2,MATCH(1,(komnavn2=$C9)*(komaar2=$D$13),0),52))","v":""},{"$f":"IF($C9=0,\"\",INDEX(Data_kom2,MATCH(1,(komnavn2=$C9)*(komaar2=D$13),0),55))","v":""},{"$f":"IF($C9=0,\"\",INDEX(Data_kom2,MATCH(1,(komnavn2=$C9)*(komaar2=$D$13),0),56))","v":""},{"$f":"IF($C9=0,\"\",INDEX(Data_kom2,MATCH(1,(komnavn2=$C9)*(komaar2=D$13),0),59))","v":""},{"$f":"IF($C9=0,\"\",INDEX(Data_kom2,MATCH(1,(komnavn2=$C9)*(komaar2=$D$13),0),60))","v":""},{"$f":"IF($C9=0,\"\",INDEX(Data_kom2,MATCH(1,(komnavn2=$C9)*(komaar2=D$13),0),63))","v":""},{"$f":"IF($C9=0,\"\",INDEX(Data_kom2,MATCH(1,(komnavn2=$C9)*(komaar2=$D$13),0),64))","v":""},{"$f":"IF($C9=0,\"\",INDEX(Data_kom2,MATCH(1,(komnavn2=$C9)*(komaar2=D$13),0),67))","v":""},{"$f":"IF($C9=0,\"\",INDEX(Data_kom2,MATCH(1,(komnavn2=$C9)*(komaar2=$D$13),0),68))","v":""},{"$f":"IF($C9=0,\"\",INDEX(Data_kom2,MATCH(1,(komnavn2=$C9)*(komaar2=D$13),0),71))","v":""},{"$f":"IF($C9=0,\"\",INDEX(Data_kom2,MATCH(1,(komnavn2=$C9)*(komaar2=$D$13),0),72))","v":""},{"$f":"IF($C9=0,\"\",INDEX(Data_kom2,MATCH(1,(komnavn2=$C9)*(komaar2=D$13),0),75))","v":""},{"$f":"IF($C9=0,\"\",INDEX(Data_komoek,MATCH(1,(komnavn=$C9)*(komaar=$F$13),0),3))","v":""},{"$f":"IF($C9=0,\"\",INDEX(Data_komoek,MATCH(1,(komnavn=$C9)*(komaar=$F$13),0),6))","v":""},{"$f":"IF($C9=0,\"\",INDEX(Data_komoek,MATCH(1,(komnavn=$C9)*(komaar=$F$13),0),9))","v":""},{"$f":"IF($C9=0,\"\",INDEX(Data_komoek,MATCH(1,(komnavn=$C9)*(komaar=$F$13),0),12))","v":""},{"$f":"IF($C9=0,\"\",INDEX(Data_komoek,MATCH(1,(komnavn=$C9)*(komaar=$F$13),0),15))","v":""},{"$f":"IF($C9=0,\"\",INDEX(Data_komoek,MATCH(1,(komnavn=$C9)*(komaar=$F$13),0),18))","v":""},{"$f":"IF($C9=0,\"\",INDEX(Data_komoek,MATCH(1,(komnavn=$C9)*(komaar=$F$13),0),21))","v":""}]
[null,null,null,{"$f":"IF($C10=0,\"\",INDEX(Data_kom2,MATCH(1,(komnavn2=$C10)*(komaar2=D$13),0),4))","v":""},{"$f":"IF($C10=0,\"\",INDEX(Data_kom2,MATCH(1,(komnavn2=$C10)*(komaar2=D$13),0),7))","v":""},{"$f":"IF($C10=0,\"\",INDEX(Data_kom2,MATCH(1,(komnavn2=$C10)*(komaar2=D$13),0),8))","v":""},{"$f":"IF($C10=0,\"\",INDEX(Data_kom2,MATCH(1,(komnavn2=$C10)*(komaar2=D$13),0),11))","v":""},{"$f":"IF($C10=0,\"\",INDEX(Data_kom2,MATCH(1,(komnavn2=$C10)*(komaar2=D$13),0),12))","v":""},{"$f":"IF($C10=0,\"\",INDEX(Data_kom2,MATCH(1,(komnavn2=$C10)*(komaar2=D$13),0),15))","v":""},{"$f":"IF($C10=0,\"\",INDEX(Data_kom2,MATCH(1,(komnavn2=$C10)*(komaar2=D$13),0),16))","v":""},{"$f":"IF($C10=0,\"\",INDEX(Data_kom2,MATCH(1,(komnavn2=$C10)*(komaar2=D$13),0),19))","v":""},{"$f":"IF($C10=0,\"\",INDEX(Data_kom2,MATCH(1,(komnavn2=$C10)*(komaar2=D$13),0),20))","v":""},{"$f":"IF($C10=0,\"\",INDEX(Data_kom2,MATCH(1,(komnavn2=$C10)*(komaar2=D$13),0),23))","v":""},{"$f":"IF($C10=0,\"\",INDEX(Data_kom2,MATCH(1,(komnavn2=$C10)*(komaar2=D$13),0),24))","v":""},{"$f":"IF($C10=0,\"\",INDEX(Data_kom2,MATCH(1,(komnavn2=$C10)*(komaar2=D$13),0),27))","v":""},{"$f":"IF($C10=0,\"\",INDEX(Data_kom2,MATCH(1,(komnavn2=$C10)*(komaar2=D$13),0),28))","v":""},{"$f":"IF($C10=0,\"\",INDEX(Data_kom2,MATCH(1,(komnavn2=$C10)*(komaar2=D$13),0),31))","v":""},{"$f":"IF($C10=0,\"\",INDEX(Data_kom2,MATCH(1,(komnavn2=$C10)*(komaar2=D$13),0),32))","v":""},{"$f":"IF($C10=0,\"\",INDEX(Data_kom2,MATCH(1,(komnavn2=$C10)*(komaar2=D$13),0),35))","v":""},{"$f":"IF($C10=0,\"\",INDEX(Data_kom2,MATCH(1,(komnavn2=$C10)*(komaar2=D$13),0),36))","v":""},{"$f":"IF($C10=0,\"\",INDEX(Data_kom2,MATCH(1,(komnavn2=$C10)*(komaar2=D$13),0),39))","v":""},{"$f":"IF(C10=0,\"\",INDEX(Data_kom2,MATCH(1,(komnavn2=C10)*(komaar2=D$13),0),40))","v":""},{"$f":"IF($C10=0,\"\",INDEX(Data_kom2,MATCH(1,(komnavn2=$C10)*(komaar2=D$13),0),43))","v":""},{"$f":"IF($C10=0,\"\",INDEX(Data_kom2,MATCH(1,(komnavn2=$C10)*(komaar2=$D$13),0),44))","v":""},{"$f":"IF($C10=0,\"\",INDEX(Data_kom2,MATCH(1,(komnavn2=$C10)*(komaar2=D$13),0),47))","v":""},{"$f":"IF($C10=0,\"\",INDEX(Data_kom2,MATCH(1,(komnavn2=$C10)*(komaar2=$D$13),0),48))","v":""},{"$f":"IF($C10=0,\"\",INDEX(Data_kom2,MATCH(1,(komnavn2=$C10)*(komaar2=D$13),0),51))","v":""},{"$f":"IF($C10=0,\"\",INDEX(Data_kom2,MATCH(1,(komnavn2=$C10)*(komaar2=$D$13),0),52))","v":""},{"$f":"IF($C10=0,\"\",INDEX(Data_kom2,MATCH(1,(komnavn2=$C10)*(komaar2=D$13),0),55))","v":""},{"$f":"IF($C10=0,\"\",INDEX(Data_kom2,MATCH(1,(komnavn2=$C10)*(komaar2=$D$13),0),56))","v":""},{"$f":"IF($C10=0,\"\",INDEX(Data_kom2,MATCH(1,(komnavn2=$C10)*(komaar2=D$13),0),59))","v":""},{"$f":"IF($C10=0,\"\",INDEX(Data_kom2,MATCH(1,(komnavn2=$C10)*(komaar2=$D$13),0),60))","v":""},{"$f":"IF($C10=0,\"\",INDEX(Data_kom2,MATCH(1,(komnavn2=$C10)*(komaar2=D$13),0),63))","v":""},{"$f":"IF($C10=0,\"\",INDEX(Data_kom2,MATCH(1,(komnavn2=$C10)*(komaar2=$D$13),0),64))","v":""},{"$f":"IF($C10=0,\"\",INDEX(Data_kom2,MATCH(1,(komnavn2=$C10)*(komaar2=D$13),0),67))","v":""},{"$f":"IF($C10=0,\"\",INDEX(Data_kom2,MATCH(1,(komnavn2=$C10)*(komaar2=$D$13),0),68))","v":""},{"$f":"IF($C10=0,\"\",INDEX(Data_kom2,MATCH(1,(komnavn2=$C10)*(komaar2=D$13),0),71))","v":""},{"$f":"IF($C10=0,\"\",INDEX(Data_kom2,MATCH(1,(komnavn2=$C10)*(komaar2=$D$13),0),72))","v":""},{"$f":"IF($C10=0,\"\",INDEX(Data_kom2,MATCH(1,(komnavn2=$C10)*(komaar2=D$13),0),75))","v":""},{"$f":"IF($C10=0,\"\",INDEX(Data_komoek,MATCH(1,(komnavn=$C10)*(komaar=$F$13),0),3))","v":""},{"$f":"IF($C10=0,\"\",INDEX(Data_komoek,MATCH(1,(komnavn=$C10)*(komaar=$F$13),0),6))","v":""},{"$f":"IF($C10=0,\"\",INDEX(Data_komoek,MATCH(1,(komnavn=$C10)*(komaar=$F$13),0),9))","v":""},{"$f":"IF($C10=0,\"\",INDEX(Data_komoek,MATCH(1,(komnavn=$C10)*(komaar=$F$13),0),12))","v":""},{"$f":"IF($C10=0,\"\",INDEX(Data_komoek,MATCH(1,(komnavn=$C10)*(komaar=$F$13),0),15))","v":""},{"$f":"IF($C10=0,\"\",INDEX(Data_komoek,MATCH(1,(komnavn=$C10)*(komaar=$F$13),0),18))","v":""},{"$f":"IF($C10=0,\"\",INDEX(Data_komoek,MATCH(1,(komnavn=$C10)*(komaar=$F$13),0),21))","v":""}]
[]
[]
[null,null,null,20191]
[null,null,null,"Nøgletal 1: Modtagere af længerevarende botilbud",null,"Nøgletal 2: Modtagere af botilbudslignende tilbud",null,"Nøgletal 3: Modtagere af midlertidigt botilbud",null,"Nøgletal 4: Modtagere af socialpædagogisk støtte",null,"Nøgletal 5: Modtagere af beskyttet beskæftigelse og aktivitets- og samværstilbud",null,"Nøgletal 6: Modtagere af forebyggende indsatser",null,"Nøgletal 7: Flytninger fra botilbud",null,"Nøgletal 7.1: Flytninger fra længerevarende botilbud og lignende til midlertidigt botilbud",null,"Antal institutionsanbragte 0-17 årige pr. forrige kvartal",null,"0-17 årige, der ved sidste opgørelse var institutionsanbragt, men nu er anbragt i anden form",null,"Nøgletal 8: Fra socialpædagogisk støtte og ned af trappen",null,"Nøgletal 9: Fra forebyggende indsatser og ned af trappen",null,"Nøgletal 10: Fra forebyggende indsatser og op af trappen",null,"Nøgletal 11: Uddannelsesgrad",null,"Nøgletal 12: Beskæftigelsesgrad",null,"Nøgletal 12.1: Beskæftigelsesgrad for modtagere af forebyggende indsatser",null,"Nøgletal 12.2: Beskæftigelsesgrad for den øvrige målgruppe",null,"Nøgletal 18: Genindlæggelser",null,"Nøgletal 19: Udgifter til forebyggende indsatser ift. udgifter til støttende indsatser","Udgiftsandel til længerevarende botilbud","Udgiftsandel til botilbudslignende tilbud","Udgiftsandel til midlertidige botilbud","Udgiftsandel til socialpædagogisk støtte","Udgiftsandel til beskyttet beskæftigelse og aktivitets- og samværstilbud","Udgiftsandel til forebyggende indsatser"]
[null,null,null,1,null,2,null,3,null,4,null,5,null,6,null,7,null,"7.1",null,"7.2",null,"7.3",null,8,null,9,null,10,null,11,null,12,null,"12.1",null,"12.2",null,18,null,19,"20.1","20.2","20.3","20.4","20.5","20.6"]
[null,null,{"$f":"'Dine valg'!K8","v":"Allerød"},{"$f":"IF(C28=0,\"\",INDEX(Data_kom2,MATCH(1,(komnavn2=C28)*(komaar2=D$25),0),4))","v":7},{"$f":"IF($C28=0,\"\",INDEX(Data_kom2,MATCH(1,(komnavn2=C28)*(komaar2=D$25),0),7))","v":26},{"$f":"IF(C28=0,\"\",INDEX(Data_kom2,MATCH(1,(komnavn2=C28)*(komaar2=D$25),0),8))","v":3},{"$f":"IF($C28=0,\"\",INDEX(Data_kom2,MATCH(1,(komnavn2=$C28)*(komaar2=D$25),0),11))","v":26},{"$f":"IF(C28=0,\"\",INDEX(Data_kom2,MATCH(1,(komnavn2=C28)*(komaar2=D$25),0),12))","v":3},{"$f":"IF($C28=0,\"\",INDEX(Data_kom2,MATCH(1,(komnavn2=$C28)*(komaar2=D$25),0),15))","v":26},{"$f":"IF(C28=0,\"\",INDEX(Data_kom2,MATCH(1,(komnavn2=C28)*(komaar2=D$25),0),16))","v":13},{"$f":"IF($C28=0,\"\",INDEX(Data_kom2,MATCH(1,(komnavn2=$C28)*(komaar2=D$25),0),19))","v":26},{"$f":"IF(C28=0,\"\",INDEX(Data_kom2,MATCH(1,(komnavn2=C28)*(komaar2=D$25),0),20))","v":0},{"$f":"IF($C28=0,\"\",INDEX(Data_kom2,MATCH(1,(komnavn2=$C28)*(komaar2=D$25),0),23))","v":26},{"$f":"IF(C28=0,\"\",INDEX(Data_kom2,MATCH(1,(komnavn2=C28)*(komaar2=D$25),0),24))","v":0},{"$f":"IF($C28=0,\"\",INDEX(Data_kom2,MATCH(1,(komnavn2=$C28)*(komaar2=D$25),0),27))","v":26},{"$f":"IF(C28=0,\"\",INDEX(Data_kom2,MATCH(1,(komnavn2=C28)*(komaar2=D$25),0),28))","v":0},{"$f":"IF($C28=0,\"\",INDEX(Data_kom2,MATCH(1,(komnavn2=$C28)*(komaar2=D$25),0),31))","v":14},{"$f":"IF(C28=0,\"\",INDEX(Data_kom2,MATCH(1,(komnavn2=C28)*(komaar2=D$25),0),32))","v":0},{"$f":"IF($C28=0,\"\",INDEX(Data_kom2,MATCH(1,(komnavn2=$C28)*(komaar2=D$25),0),35))","v":11},{"$f":"IF(C28=0,\"\",INDEX(Data_kom2,MATCH(1,(komnavn2=C28)*(komaar2=D$25),0),36))","v":0},{"$f":"IF($C28=0,\"\",INDEX(Data_kom2,MATCH(1,(komnavn2=$C28)*(komaar2=D$25),0),39))","v":11},{"$f":"IF(C28=0,\"\",INDEX(Data_kom2,MATCH(1,(komnavn2=C28)*(komaar2=D$25),0),40))","v":0},{"$f":"IF($C28=0,\"\",INDEX(Data_kom2,MATCH(1,(komnavn2=$C28)*(komaar2=D$25),0),43))","v":3},{"$f":"IF($C28=0,\"\",INDEX(Data_kom2,MATCH(1,(komnavn2=$C28)*(komaar2=D$25),0),44))","v":3},{"$f":"IF($C28=0,\"\",INDEX(Data_kom2,MATCH(1,(komnavn2=$C28)*(komaar2=D$25),0),47))","v":15},{"$f":"IF($C28=0,\"\",INDEX(Data_kom2,MATCH(1,(komnavn2=$C28)*(komaar2=D$25),0),48))","v":0},{"$f":"IF($C28=0,\"\",INDEX(Data_kom2,MATCH(1,(komnavn2=$C28)*(komaar2=D$25),0),51))","v":0},{"$f":"IF($C28=0,\"\",INDEX(Data_kom2,MATCH(1,(komnavn2=$C28)*(komaar2=D$25),0),52))","v":0},{"$f":"IF($C28=0,\"\",INDEX(Data_kom2,MATCH(1,(komnavn2=$C28)*(komaar2=D$25),0),55))","v":0},{"$f":"IF($C28=0,\"\",INDEX(Data_kom2,MATCH(1,(komnavn2=$C28)*(komaar2=D$25),0),56))","v":0},{"$f":"IF($C28=0,\"\",INDEX(Data_kom2,MATCH(1,(komnavn2=$C28)*(komaar2=D$25),0),59))","v":26},{"$f":"IF($C28=0,\"\",INDEX(Data_kom2,MATCH(1,(komnavn2=$C28)*(komaar2=D$25),0),60))","v":9.4674556213017805E-2},{"$f":"IF($C28=0,\"\",INDEX(Data_kom2,MATCH(1,(komnavn2=$C28)*(komaar2=D$25),0),63))","v":26},{"$f":"IF($C28=0,\"\",INDEX(Data_kom2,MATCH(1,(komnavn2=$C28)*(komaar2=D$25),0),64))","v":0},{"$f":"IF($C28=0,\"\",INDEX(Data_kom2,MATCH(1,(komnavn2=$C28)*(komaar2=D$25),0),67))","v":0},{"$f":"IF($C28=0,\"\",INDEX(Data_kom2,MATCH(1,(komnavn2=$C28)*(komaar2=D$25),0),68))","v":9.4674556213017805E-2},{"$f":"IF($C28=0,\"\",INDEX(Data_kom2,MATCH(1,(komnavn2=$C28)*(komaar2=D$25),0),71))","v":26},{"$f":"IF($C28=0,\"\",INDEX(Data_kom2,MATCH(1,(komnavn2=$C28)*(komaar2=D$25),0),72))","v":0.90625},{"$f":"IF($C28=0,\"\",INDEX(Data_kom2,MATCH(1,(komnavn2=$C28)*(komaar2=D$25),0),75))","v":26}]
[null,null,{"$f":"'Dine valg'!K9","v":"Assens"},{"$f":"IF(C29=0,\"\",INDEX(Data_kom2,MATCH(1,(komnavn2=C29)*(komaar2=D$25),0),4))","v":6},{"$f":"IF($C29=0,\"\",INDEX(Data_kom2,MATCH(1,(komnavn2=C29)*(komaar2=D$25),0),7))","v":198},{"$f":"IF(C29=0,\"\",INDEX(Data_kom2,MATCH(1,(komnavn2=C29)*(komaar2=D$25),0),8))","v":29},{"$f":"IF($C29=0,\"\",INDEX(Data_kom2,MATCH(1,(komnavn2=$C29)*(komaar2=D$25),0),11))","v":198},{"$f":"IF(C29=0,\"\",INDEX(Data_kom2,MATCH(1,(komnavn2=C29)*(komaar2=D$25),0),12))","v":20},{"$f":"IF($C29=0,\"\",INDEX(Data_kom2,MATCH(1,(komnavn2=$C29)*(komaar2=D$25),0),15))","v":198},{"$f":"IF(C29=0,\"\",INDEX(Data_kom2,MATCH(1,(komnavn2=C29)*(komaar2=D$25),0),16))","v":88},{"$f":"IF($C29=0,\"\",INDEX(Data_kom2,MATCH(1,(komnavn2=$C29)*(komaar2=D$25),0),19))","v":198},{"$f":"IF(C29=0,\"\",INDEX(Data_kom2,MATCH(1,(komnavn2=C29)*(komaar2=D$25),0),20))","v":52},{"$f":"IF($C29=0,\"\",INDEX(Data_kom2,MATCH(1,(komnavn2=$C29)*(komaar2=D$25),0),23))","v":198},{"$f":"IF(C29=0,\"\",INDEX(Data_kom2,MATCH(1,(komnavn2=C29)*(komaar2=D$25),0),24))","v":0},{"$f":"IF($C29=0,\"\",INDEX(Data_kom2,MATCH(1,(komnavn2=$C29)*(komaar2=D$25),0),27))","v":198},{"$f":"IF(C29=0,\"\",INDEX(Data_kom2,MATCH(1,(komnavn2=C29)*(komaar2=D$25),0),28))","v":7},{"$f":"IF($C29=0,\"\",INDEX(Data_kom2,MATCH(1,(komnavn2=$C29)*(komaar2=D$25),0),31))","v":57},{"$f":"IF(C29=0,\"\",INDEX(Data_kom2,MATCH(1,(komnavn2=C29)*(komaar2=D$25),0),32))","v":0},{"$f":"IF($C29=0,\"\",INDEX(Data_kom2,MATCH(1,(komnavn2=$C29)*(komaar2=D$25),0),35))","v":39},{"$f":"IF(C29=0,\"\",INDEX(Data_kom2,MATCH(1,(komnavn2=C29)*(komaar2=D$25),0),36))","v":0},{"$f":"IF($C29=0,\"\",INDEX(Data_kom2,MATCH(1,(komnavn2=$C29)*(komaar2=D$25),0),39))","v":39},{"$f":"IF(C29=0,\"\",INDEX(Data_kom2,MATCH(1,(komnavn2=C29)*(komaar2=D$25),0),40))","v":0},{"$f":"IF($C29=0,\"\",INDEX(Data_kom2,MATCH(1,(komnavn2=$C29)*(komaar2=D$25),0),43))","v":18},{"$f":"IF($C29=0,\"\",INDEX(Data_kom2,MATCH(1,(komnavn2=$C29)*(komaar2=D$25),0),44))","v":10},{"$f":"IF($C29=0,\"\",INDEX(Data_kom2,MATCH(1,(komnavn2=$C29)*(komaar2=D$25),0),47))","v":83},{"$f":"IF($C29=0,\"\",INDEX(Data_kom2,MATCH(1,(komnavn2=$C29)*(komaar2=D$25),0),48))","v":0},{"$f":"IF($C29=0,\"\",INDEX(Data_kom2,MATCH(1,(komnavn2=$C29)*(komaar2=D$25),0),51))","v":0},{"$f":"IF($C29=0,\"\",INDEX(Data_kom2,MATCH(1,(komnavn2=$C29)*(komaar2=D$25),0),52))","v":0},{"$f":"IF($C29=0,\"\",INDEX(Data_kom2,MATCH(1,(komnavn2=$C29)*(komaar2=D$25),0),55))","v":0},{"$f":"IF($C29=0,\"\",INDEX(Data_kom2,MATCH(1,(komnavn2=$C29)*(komaar2=D$25),0),56))","v":2.21445221445222E-2},{"$f":"IF($C29=0,\"\",INDEX(Data_kom2,MATCH(1,(komnavn2=$C29)*(komaar2=D$25),0),59))","v":198},{"$f":"IF($C29=0,\"\",INDEX(Data_kom2,MATCH(1,(komnavn2=$C29)*(komaar2=D$25),0),60))","v":2.62237762237762E-2},{"$f":"IF($C29=0,\"\",INDEX(Data_kom2,MATCH(1,(komnavn2=$C29)*(komaar2=D$25),0),63))","v":198},{"$f":"IF($C29=0,\"\",INDEX(Data_kom2,MATCH(1,(komnavn2=$C29)*(komaar2=D$25),0),64))","v":0},{"$f":"IF($C29=0,\"\",INDEX(Data_kom2,MATCH(1,(komnavn2=$C29)*(komaar2=D$25),0),67))","v":0},{"$f":"IF($C29=0,\"\",INDEX(Data_kom2,MATCH(1,(komnavn2=$C29)*(komaar2=D$25),0),68))","v":2.62237762237762E-2},{"$f":"IF($C29=0,\"\",INDEX(Data_kom2,MATCH(1,(komnavn2=$C29)*(komaar2=D$25),0),71))","v":198},{"$f":"IF($C29=0,\"\",INDEX(Data_kom2,MATCH(1,(komnavn2=$C29)*(komaar2=D$25),0),72))","v":0.22222222222222199},{"$f":"IF($C29=0,\"\",INDEX(Data_kom2,MATCH(1,(komnavn2=$C29)*(komaar2=D$25),0),75))","v":198}]
[null,null,{"$f":"'Dine valg'!K10","v":"Ballerup"},{"$f":"IF(C30=0,\"\",INDEX(Data_kom2,MATCH(1,(komnavn2=C30)*(komaar2=D$25),0),4))","v":22},{"$f":"IF($C30=0,\"\",INDEX(Data_kom2,MATCH(1,(komnavn2=C30)*(komaar2=D$25),0),7))","v":260},{"$f":"IF(C30=0,\"\",INDEX(Data_kom2,MATCH(1,(komnavn2=C30)*(komaar2=D$25),0),8))","v":18},{"$f":"IF($C30=0,\"\",INDEX(Data_kom2,MATCH(1,(komnavn2=$C30)*(komaar2=D$25),0),11))","v":260},{"$f":"IF(C30=0,\"\",INDEX(Data_kom2,MATCH(1,(komnavn2=C30)*(komaar2=D$25),0),12))","v":38},{"$f":"IF($C30=0,\"\",INDEX(Data_kom2,MATCH(1,(komnavn2=$C30)*(komaar2=D$25),0),15))","v":260},{"$f":"IF(C30=0,\"\",INDEX(Data_kom2,MATCH(1,(komnavn2=C30)*(komaar2=D$25),0),16))","v":161},{"$f":"IF($C30=0,\"\",INDEX(Data_kom2,MATCH(1,(komnavn2=$C30)*(komaar2=D$25),0),19))","v":260},{"$f":"IF(C30=0,\"\",INDEX(Data_kom2,MATCH(1,(komnavn2=C30)*(komaar2=D$25),0),20))","v":0},{"$f":"IF($C30=0,\"\",INDEX(Data_kom2,MATCH(1,(komnavn2=$C30)*(komaar2=D$25),0),23))","v":260},{"$f":"IF(C30=0,\"\",INDEX(Data_kom2,MATCH(1,(komnavn2=C30)*(komaar2=D$25),0),24))","v":0},{"$f":"IF($C30=0,\"\",INDEX(Data_kom2,MATCH(1,(komnavn2=$C30)*(komaar2=D$25),0),27))","v":260},{"$f":"IF(C30=0,\"\",INDEX(Data_kom2,MATCH(1,(komnavn2=C30)*(komaar2=D$25),0),28))","v":4},{"$f":"IF($C30=0,\"\",INDEX(Data_kom2,MATCH(1,(komnavn2=$C30)*(komaar2=D$25),0),31))","v":77},{"$f":"IF(C30=0,\"\",INDEX(Data_kom2,MATCH(1,(komnavn2=C30)*(komaar2=D$25),0),32))","v":0},{"$f":"IF($C30=0,\"\",INDEX(Data_kom2,MATCH(1,(komnavn2=$C30)*(komaar2=D$25),0),35))","v":39},{"$f":"IF(C30=0,\"\",INDEX(Data_kom2,MATCH(1,(komnavn2=C30)*(komaar2=D$25),0),36))","v":0},{"$f":"IF($C30=0,\"\",INDEX(Data_kom2,MATCH(1,(komnavn2=$C30)*(komaar2=D$25),0),39))","v":39},{"$f":"IF(C30=0,\"\",INDEX(Data_kom2,MATCH(1,(komnavn2=C30)*(komaar2=D$25),0),40))","v":0},{"$f":"IF($C30=0,\"\",INDEX(Data_kom2,MATCH(1,(komnavn2=$C30)*(komaar2=D$25),0),43))","v":38},{"$f":"IF($C30=0,\"\",INDEX(Data_kom2,MATCH(1,(komnavn2=$C30)*(komaar2=D$25),0),44))","v":11},{"$f":"IF($C30=0,\"\",INDEX(Data_kom2,MATCH(1,(komnavn2=$C30)*(komaar2=D$25),0),47))","v":145},{"$f":"IF($C30=0,\"\",INDEX(Data_kom2,MATCH(1,(komnavn2=$C30)*(komaar2=D$25),0),48))","v":0},{"$f":"IF($C30=0,\"\",INDEX(Data_kom2,MATCH(1,(komnavn2=$C30)*(komaar2=D$25),0),51))","v":0},{"$f":"IF($C30=0,\"\",INDEX(Data_kom2,MATCH(1,(komnavn2=$C30)*(komaar2=D$25),0),52))","v":0},{"$f":"IF($C30=0,\"\",INDEX(Data_kom2,MATCH(1,(komnavn2=$C30)*(komaar2=D$25),0),55))","v":0},{"$f":"IF($C30=0,\"\",INDEX(Data_kom2,MATCH(1,(komnavn2=$C30)*(komaar2=D$25),0),56))","v":2.84023668639053E-2},{"$f":"IF($C30=0,\"\",INDEX(Data_kom2,MATCH(1,(komnavn2=$C30)*(komaar2=D$25),0),59))","v":260},{"$f":"IF($C30=0,\"\",INDEX(Data_kom2,MATCH(1,(komnavn2=$C30)*(komaar2=D$25),0),60))","v":3.7056213017751499E-2},{"$f":"IF($C30=0,\"\",INDEX(Data_kom2,MATCH(1,(komnavn2=$C30)*(komaar2=D$25),0),63))","v":260},{"$f":"IF($C30=0,\"\",INDEX(Data_kom2,MATCH(1,(komnavn2=$C30)*(komaar2=D$25),0),64))","v":0},{"$f":"IF($C30=0,\"\",INDEX(Data_kom2,MATCH(1,(komnavn2=$C30)*(komaar2=D$25),0),67))","v":0},{"$f":"IF($C30=0,\"\",INDEX(Data_kom2,MATCH(1,(komnavn2=$C30)*(komaar2=D$25),0),68))","v":3.7056213017751499E-2},{"$f":"IF($C30=0,\"\",INDEX(Data_kom2,MATCH(1,(komnavn2=$C30)*(komaar2=D$25),0),71))","v":260},{"$f":"IF($C30=0,\"\",INDEX(Data_kom2,MATCH(1,(komnavn2=$C30)*(komaar2=D$25),0),72))","v":0.48780487804878098},{"$f":"IF($C30=0,\"\",INDEX(Data_kom2,MATCH(1,(komnavn2=$C30)*(komaar2=D$25),0),75))","v":260}]
[null,null,{"$f":"'Dine valg'!K11","v":0},{"$f":"IF(C31=0,\"\",INDEX(Data_kom2,MATCH(1,(komnavn2=C31)*(komaar2=D$25),0),4))","v":""},{"$f":"IF($C31=0,\"\",INDEX(Data_kom2,MATCH(1,(komnavn2=C31)*(komaar2=D$25),0),7))","v":""},{"$f":"IF(C31=0,\"\",INDEX(Data_kom2,MATCH(1,(komnavn2=C31)*(komaar2=D$25),0),8))","v":""},{"$f":"IF($C31=0,\"\",INDEX(Data_kom2,MATCH(1,(komnavn2=$C31)*(komaar2=D$25),0),11))","v":""},{"$f":"IF(C31=0,\"\",INDEX(Data_kom2,MATCH(1,(komnavn2=C31)*(komaar2=D$25),0),12))","v":""},{"$f":"IF($C31=0,\"\",INDEX(Data_kom2,MATCH(1,(komnavn2=$C31)*(komaar2=D$25),0),15))","v":""},{"$f":"IF(C31=0,\"\",INDEX(Data_kom2,MATCH(1,(komnavn2=C31)*(komaar2=D$25),0),16))","v":""},{"$f":"IF($C31=0,\"\",INDEX(Data_kom2,MATCH(1,(komnavn2=$C31)*(komaar2=D$25),0),19))","v":""},{"$f":"IF(C31=0,\"\",INDEX(Data_kom2,MATCH(1,(komnavn2=C31)*(komaar2=D$25),0),20))","v":""},{"$f":"IF($C31=0,\"\",INDEX(Data_kom2,MATCH(1,(komnavn2=$C31)*(komaar2=D$25),0),23))","v":""},{"$f":"IF(C31=0,\"\",INDEX(Data_kom2,MATCH(1,(komnavn2=C31)*(komaar2=D$25),0),24))","v":""},{"$f":"IF($C31=0,\"\",INDEX(Data_kom2,MATCH(1,(komnavn2=$C31)*(komaar2=D$25),0),27))","v":""},{"$f":"IF(C31=0,\"\",INDEX(Data_kom2,MATCH(1,(komnavn2=C31)*(komaar2=D$25),0),28))","v":""},{"$f":"IF($C31=0,\"\",INDEX(Data_kom2,MATCH(1,(komnavn2=$C31)*(komaar2=D$25),0),31))","v":""},{"$f":"IF(C31=0,\"\",INDEX(Data_kom2,MATCH(1,(komnavn2=C31)*(komaar2=D$25),0),32))","v":""},{"$f":"IF($C31=0,\"\",INDEX(Data_kom2,MATCH(1,(komnavn2=$C31)*(komaar2=D$25),0),35))","v":""},{"$f":"IF(C31=0,\"\",INDEX(Data_kom2,MATCH(1,(komnavn2=C31)*(komaar2=D$25),0),36))","v":""},{"$f":"IF($C31=0,\"\",INDEX(Data_kom2,MATCH(1,(komnavn2=$C31)*(komaar2=D$25),0),39))","v":""},{"$f":"IF(C31=0,\"\",INDEX(Data_kom2,MATCH(1,(komnavn2=C31)*(komaar2=D$25),0),40))","v":""},{"$f":"IF($C31=0,\"\",INDEX(Data_kom2,MATCH(1,(komnavn2=$C31)*(komaar2=D$25),0),43))","v":""},{"$f":"IF($C31=0,\"\",INDEX(Data_kom2,MATCH(1,(komnavn2=$C31)*(komaar2=D$25),0),44))","v":""},{"$f":"IF($C31=0,\"\",INDEX(Data_kom2,MATCH(1,(komnavn2=$C31)*(komaar2=D$25),0),47))","v":""},{"$f":"IF($C31=0,\"\",INDEX(Data_kom2,MATCH(1,(komnavn2=$C31)*(komaar2=D$25),0),48))","v":""},{"$f":"IF($C31=0,\"\",INDEX(Data_kom2,MATCH(1,(komnavn2=$C31)*(komaar2=D$25),0),51))","v":""},{"$f":"IF($C31=0,\"\",INDEX(Data_kom2,MATCH(1,(komnavn2=$C31)*(komaar2=D$25),0),52))","v":""},{"$f":"IF($C31=0,\"\",INDEX(Data_kom2,MATCH(1,(komnavn2=$C31)*(komaar2=D$25),0),55))","v":""},{"$f":"IF($C31=0,\"\",INDEX(Data_kom2,MATCH(1,(komnavn2=$C31)*(komaar2=D$25),0),56))","v":""},{"$f":"IF($C31=0,\"\",INDEX(Data_kom2,MATCH(1,(komnavn2=$C31)*(komaar2=D$25),0),59))","v":""},{"$f":"IF($C31=0,\"\",INDEX(Data_kom2,MATCH(1,(komnavn2=$C31)*(komaar2=D$25),0),60))","v":""},{"$f":"IF($C31=0,\"\",INDEX(Data_kom2,MATCH(1,(komnavn2=$C31)*(komaar2=D$25),0),63))","v":""},{"$f":"IF($C31=0,\"\",INDEX(Data_kom2,MATCH(1,(komnavn2=$C31)*(komaar2=D$25),0),64))","v":""},{"$f":"IF($C31=0,\"\",INDEX(Data_kom2,MATCH(1,(komnavn2=$C31)*(komaar2=D$25),0),67))","v":""},{"$f":"IF($C31=0,\"\",INDEX(Data_kom2,MATCH(1,(komnavn2=$C31)*(komaar2=D$25),0),68))","v":""},{"$f":"IF($C31=0,\"\",INDEX(Data_kom2,MATCH(1,(komnavn2=$C31)*(komaar2=D$25),0),71))","v":""},{"$f":"IF($C31=0,\"\",INDEX(Data_kom2,MATCH(1,(komnavn2=$C31)*(komaar2=D$25),0),72))","v":""},{"$f":"IF($C31=0,\"\",INDEX(Data_kom2,MATCH(1,(komnavn2=$C31)*(komaar2=D$25),0),75))","v":""}]
[null,null,{"$f":"'Dine valg'!K12","v":0},{"$f":"IF(C32=0,\"\",INDEX(Data_kom2,MATCH(1,(komnavn2=C32)*(komaar2=D$25),0),4))","v":""},{"$f":"IF($C32=0,\"\",INDEX(Data_kom2,MATCH(1,(komnavn2=C32)*(komaar2=D$25),0),7))","v":""},{"$f":"IF(C32=0,\"\",INDEX(Data_kom2,MATCH(1,(komnavn2=C32)*(komaar2=D$25),0),8))","v":""},{"$f":"IF($C32=0,\"\",INDEX(Data_kom2,MATCH(1,(komnavn2=$C32)*(komaar2=D$25),0),11))","v":""},{"$f":"IF(C32=0,\"\",INDEX(Data_kom2,MATCH(1,(komnavn2=C32)*(komaar2=D$25),0),12))","v":""},{"$f":"IF($C32=0,\"\",INDEX(Data_kom2,MATCH(1,(komnavn2=$C32)*(komaar2=D$25),0),15))","v":""},{"$f":"IF(C32=0,\"\",INDEX(Data_kom2,MATCH(1,(komnavn2=C32)*(komaar2=D$25),0),16))","v":""},{"$f":"IF($C32=0,\"\",INDEX(Data_kom2,MATCH(1,(komnavn2=$C32)*(komaar2=D$25),0),19))","v":""},{"$f":"IF(C32=0,\"\",INDEX(Data_kom2,MATCH(1,(komnavn2=C32)*(komaar2=D$25),0),20))","v":""},{"$f":"IF($C32=0,\"\",INDEX(Data_kom2,MATCH(1,(komnavn2=$C32)*(komaar2=D$25),0),23))","v":""},{"$f":"IF(C32=0,\"\",INDEX(Data_kom2,MATCH(1,(komnavn2=C32)*(komaar2=D$25),0),24))","v":""},{"$f":"IF($C32=0,\"\",INDEX(Data_kom2,MATCH(1,(komnavn2=$C32)*(komaar2=D$25),0),27))","v":""},{"$f":"IF(C32=0,\"\",INDEX(Data_kom2,MATCH(1,(komnavn2=C32)*(komaar2=D$25),0),28))","v":""},{"$f":"IF($C32=0,\"\",INDEX(Data_kom2,MATCH(1,(komnavn2=$C32)*(komaar2=D$25),0),31))","v":""},{"$f":"IF(C32=0,\"\",INDEX(Data_kom2,MATCH(1,(komnavn2=C32)*(komaar2=D$25),0),32))","v":""},{"$f":"IF($C32=0,\"\",INDEX(Data_kom2,MATCH(1,(komnavn2=$C32)*(komaar2=D$25),0),35))","v":""},{"$f":"IF(C32=0,\"\",INDEX(Data_kom2,MATCH(1,(komnavn2=C32)*(komaar2=D$25),0),36))","v":""},{"$f":"IF($C32=0,\"\",INDEX(Data_kom2,MATCH(1,(komnavn2=$C32)*(komaar2=D$25),0),39))","v":""},{"$f":"IF(C32=0,\"\",INDEX(Data_kom2,MATCH(1,(komnavn2=C32)*(komaar2=D$25),0),40))","v":""},{"$f":"IF($C32=0,\"\",INDEX(Data_kom2,MATCH(1,(komnavn2=$C32)*(komaar2=D$25),0),43))","v":""},{"$f":"IF($C32=0,\"\",INDEX(Data_kom2,MATCH(1,(komnavn2=$C32)*(komaar2=D$25),0),44))","v":""},{"$f":"IF($C32=0,\"\",INDEX(Data_kom2,MATCH(1,(komnavn2=$C32)*(komaar2=D$25),0),47))","v":""},{"$f":"IF($C32=0,\"\",INDEX(Data_kom2,MATCH(1,(komnavn2=$C32)*(komaar2=D$25),0),48))","v":""},{"$f":"IF($C32=0,\"\",INDEX(Data_kom2,MATCH(1,(komnavn2=$C32)*(komaar2=D$25),0),51))","v":""},{"$f":"IF($C32=0,\"\",INDEX(Data_kom2,MATCH(1,(komnavn2=$C32)*(komaar2=D$25),0),52))","v":""},{"$f":"IF($C32=0,\"\",INDEX(Data_kom2,MATCH(1,(komnavn2=$C32)*(komaar2=D$25),0),55))","v":""},{"$f":"IF($C32=0,\"\",INDEX(Data_kom2,MATCH(1,(komnavn2=$C32)*(komaar2=D$25),0),56))","v":""},{"$f":"IF($C32=0,\"\",INDEX(Data_kom2,MATCH(1,(komnavn2=$C32)*(komaar2=D$25),0),59))","v":""},{"$f":"IF($C32=0,\"\",INDEX(Data_kom2,MATCH(1,(komnavn2=$C32)*(komaar2=D$25),0),60))","v":""},{"$f":"IF($C32=0,\"\",INDEX(Data_kom2,MATCH(1,(komnavn2=$C32)*(komaar2=D$25),0),63))","v":""},{"$f":"IF($C32=0,\"\",INDEX(Data_kom2,MATCH(1,(komnavn2=$C32)*(komaar2=D$25),0),64))","v":""},{"$f":"IF($C32=0,\"\",INDEX(Data_kom2,MATCH(1,(komnavn2=$C32)*(komaar2=D$25),0),67))","v":""},{"$f":"IF($C32=0,\"\",INDEX(Data_kom2,MATCH(1,(komnavn2=$C32)*(komaar2=D$25),0),68))","v":""},{"$f":"IF($C32=0,\"\",INDEX(Data_kom2,MATCH(1,(komnavn2=$C32)*(komaar2=D$25),0),71))","v":""},{"$f":"IF($C32=0,\"\",INDEX(Data_kom2,MATCH(1,(komnavn2=$C32)*(komaar2=D$25),0),72))","v":""},{"$f":"IF($C32=0,\"\",INDEX(Data_kom2,MATCH(1,(komnavn2=$C32)*(komaar2=D$25),0),75))","v":""},null,null,null,null,null,null,{"$f":"IF(C32=0,\"\",INDEX(Data_kom2,MATCH(1,(komnavn2=C32)*(komaar2=D$1),0),14))","v":""}]
[null,null,{"$f":"'Dine valg'!K13","v":0},{"$f":"IF(C33=0,\"\",INDEX(Data_kom2,MATCH(1,(komnavn2=C33)*(komaar2=D$25),0),4))","v":""},{"$f":"IF($C33=0,\"\",INDEX(Data_kom2,MATCH(1,(komnavn2=C33)*(komaar2=D$25),0),7))","v":""},{"$f":"IF(C33=0,\"\",INDEX(Data_kom2,MATCH(1,(komnavn2=C33)*(komaar2=D$25),0),8))","v":""},{"$f":"IF($C33=0,\"\",INDEX(Data_kom2,MATCH(1,(komnavn2=$C33)*(komaar2=D$25),0),11))","v":""},{"$f":"IF(C33=0,\"\",INDEX(Data_kom2,MATCH(1,(komnavn2=C33)*(komaar2=D$25),0),12))","v":""},{"$f":"IF($C33=0,\"\",INDEX(Data_kom2,MATCH(1,(komnavn2=$C33)*(komaar2=D$25),0),15))","v":""},{"$f":"IF(C33=0,\"\",INDEX(Data_kom2,MATCH(1,(komnavn2=C33)*(komaar2=D$25),0),16))","v":""},{"$f":"IF($C33=0,\"\",INDEX(Data_kom2,MATCH(1,(komnavn2=$C33)*(komaar2=D$25),0),19))","v":""},{"$f":"IF(C33=0,\"\",INDEX(Data_kom2,MATCH(1,(komnavn2=C33)*(komaar2=D$25),0),20))","v":""},{"$f":"IF($C33=0,\"\",INDEX(Data_kom2,MATCH(1,(komnavn2=$C33)*(komaar2=D$25),0),23))","v":""},{"$f":"IF(C33=0,\"\",INDEX(Data_kom2,MATCH(1,(komnavn2=C33)*(komaar2=D$25),0),24))","v":""},{"$f":"IF($C33=0,\"\",INDEX(Data_kom2,MATCH(1,(komnavn2=$C33)*(komaar2=D$25),0),27))","v":""},{"$f":"IF(C33=0,\"\",INDEX(Data_kom2,MATCH(1,(komnavn2=C33)*(komaar2=D$25),0),28))","v":""},{"$f":"IF($C33=0,\"\",INDEX(Data_kom2,MATCH(1,(komnavn2=$C33)*(komaar2=D$25),0),31))","v":""},{"$f":"IF(C33=0,\"\",INDEX(Data_kom2,MATCH(1,(komnavn2=C33)*(komaar2=D$25),0),32))","v":""},{"$f":"IF($C33=0,\"\",INDEX(Data_kom2,MATCH(1,(komnavn2=$C33)*(komaar2=D$25),0),35))","v":""},{"$f":"IF(C33=0,\"\",INDEX(Data_kom2,MATCH(1,(komnavn2=C33)*(komaar2=D$25),0),36))","v":""},{"$f":"IF($C33=0,\"\",INDEX(Data_kom2,MATCH(1,(komnavn2=$C33)*(komaar2=D$25),0),39))","v":""},{"$f":"IF(C33=0,\"\",INDEX(Data_kom2,MATCH(1,(komnavn2=C33)*(komaar2=D$25),0),40))","v":""},{"$f":"IF($C33=0,\"\",INDEX(Data_kom2,MATCH(1,(komnavn2=$C33)*(komaar2=D$25),0),43))","v":""},{"$f":"IF($C33=0,\"\",INDEX(Data_kom2,MATCH(1,(komnavn2=$C33)*(komaar2=D$25),0),44))","v":""},{"$f":"IF($C33=0,\"\",INDEX(Data_kom2,MATCH(1,(komnavn2=$C33)*(komaar2=D$25),0),47))","v":""},{"$f":"IF($C33=0,\"\",INDEX(Data_kom2,MATCH(1,(komnavn2=$C33)*(komaar2=D$25),0),48))","v":""},{"$f":"IF($C33=0,\"\",INDEX(Data_kom2,MATCH(1,(komnavn2=$C33)*(komaar2=D$25),0),51))","v":""},{"$f":"IF($C33=0,\"\",INDEX(Data_kom2,MATCH(1,(komnavn2=$C33)*(komaar2=D$25),0),52))","v":""},{"$f":"IF($C33=0,\"\",INDEX(Data_kom2,MATCH(1,(komnavn2=$C33)*(komaar2=D$25),0),55))","v":""},{"$f":"IF($C33=0,\"\",INDEX(Data_kom2,MATCH(1,(komnavn2=$C33)*(komaar2=D$25),0),56))","v":""},{"$f":"IF($C33=0,\"\",INDEX(Data_kom2,MATCH(1,(komnavn2=$C33)*(komaar2=D$25),0),59))","v":""},{"$f":"IF($C33=0,\"\",INDEX(Data_kom2,MATCH(1,(komnavn2=$C33)*(komaar2=D$25),0),60))","v":""},{"$f":"IF($C33=0,\"\",INDEX(Data_kom2,MATCH(1,(komnavn2=$C33)*(komaar2=D$25),0),63))","v":""},{"$f":"IF($C33=0,\"\",INDEX(Data_kom2,MATCH(1,(komnavn2=$C33)*(komaar2=D$25),0),64))","v":""},{"$f":"IF($C33=0,\"\",INDEX(Data_kom2,MATCH(1,(komnavn2=$C33)*(komaar2=D$25),0),67))","v":""},{"$f":"IF($C33=0,\"\",INDEX(Data_kom2,MATCH(1,(komnavn2=$C33)*(komaar2=D$25),0),68))","v":""},{"$f":"IF($C33=0,\"\",INDEX(Data_kom2,MATCH(1,(komnavn2=$C33)*(komaar2=D$25),0),71))","v":""},{"$f":"IF($C33=0,\"\",INDEX(Data_kom2,MATCH(1,(komnavn2=$C33)*(komaar2=D$25),0),72))","v":""},{"$f":"IF($C33=0,\"\",INDEX(Data_kom2,MATCH(1,(komnavn2=$C33)*(komaar2=D$25),0),75))","v":""},null,null,null,null,null,null,{"$f":"IF(C33=0,\"\",INDEX(Data_kom2,MATCH(1,(komnavn2=C33)*(komaar2=D$1),0),14))","v":""}]
[null,null,{"$f":"'Dine valg'!K14","v":0},{"$f":"IF(C34=0,\"\",INDEX(Data_kom2,MATCH(1,(komnavn2=C34)*(komaar2=D$25),0),4))","v":""},{"$f":"IF($C34=0,\"\",INDEX(Data_kom2,MATCH(1,(komnavn2=C34)*(komaar2=D$25),0),7))","v":""},{"$f":"IF(C34=0,\"\",INDEX(Data_kom2,MATCH(1,(komnavn2=C34)*(komaar2=D$25),0),8))","v":""},{"$f":"IF($C34=0,\"\",INDEX(Data_kom2,MATCH(1,(komnavn2=$C34)*(komaar2=D$25),0),11))","v":""},{"$f":"IF(C34=0,\"\",INDEX(Data_kom2,MATCH(1,(komnavn2=C34)*(komaar2=D$25),0),12))","v":""},{"$f":"IF($C34=0,\"\",INDEX(Data_kom2,MATCH(1,(komnavn2=$C34)*(komaar2=D$25),0),15))","v":""},{"$f":"IF(C34=0,\"\",INDEX(Data_kom2,MATCH(1,(komnavn2=C34)*(komaar2=D$25),0),16))","v":""},{"$f":"IF($C34=0,\"\",INDEX(Data_kom2,MATCH(1,(komnavn2=$C34)*(komaar2=D$25),0),19))","v":""},{"$f":"IF(C34=0,\"\",INDEX(Data_kom2,MATCH(1,(komnavn2=C34)*(komaar2=D$25),0),20))","v":""},{"$f":"IF($C34=0,\"\",INDEX(Data_kom2,MATCH(1,(komnavn2=$C34)*(komaar2=D$25),0),23))","v":""},{"$f":"IF(C34=0,\"\",INDEX(Data_kom2,MATCH(1,(komnavn2=C34)*(komaar2=D$25),0),24))","v":""},{"$f":"IF($C34=0,\"\",INDEX(Data_kom2,MATCH(1,(komnavn2=$C34)*(komaar2=D$25),0),27))","v":""},{"$f":"IF(C34=0,\"\",INDEX(Data_kom2,MATCH(1,(komnavn2=C34)*(komaar2=D$25),0),28))","v":""},{"$f":"IF($C34=0,\"\",INDEX(Data_kom2,MATCH(1,(komnavn2=$C34)*(komaar2=D$25),0),31))","v":""},{"$f":"IF(C34=0,\"\",INDEX(Data_kom2,MATCH(1,(komnavn2=C34)*(komaar2=D$25),0),32))","v":""},{"$f":"IF($C34=0,\"\",INDEX(Data_kom2,MATCH(1,(komnavn2=$C34)*(komaar2=D$25),0),35))","v":""},{"$f":"IF(C34=0,\"\",INDEX(Data_kom2,MATCH(1,(komnavn2=C34)*(komaar2=D$25),0),36))","v":""},{"$f":"IF($C34=0,\"\",INDEX(Data_kom2,MATCH(1,(komnavn2=$C34)*(komaar2=D$25),0),39))","v":""},{"$f":"IF(C34=0,\"\",INDEX(Data_kom2,MATCH(1,(komnavn2=C34)*(komaar2=D$25),0),40))","v":""},{"$f":"IF($C34=0,\"\",INDEX(Data_kom2,MATCH(1,(komnavn2=$C34)*(komaar2=D$25),0),43))","v":""},{"$f":"IF($C34=0,\"\",INDEX(Data_kom2,MATCH(1,(komnavn2=$C34)*(komaar2=D$25),0),44))","v":""},{"$f":"IF($C34=0,\"\",INDEX(Data_kom2,MATCH(1,(komnavn2=$C34)*(komaar2=D$25),0),47))","v":""},{"$f":"IF($C34=0,\"\",INDEX(Data_kom2,MATCH(1,(komnavn2=$C34)*(komaar2=D$25),0),48))","v":""},{"$f":"IF($C34=0,\"\",INDEX(Data_kom2,MATCH(1,(komnavn2=$C34)*(komaar2=D$25),0),51))","v":""},{"$f":"IF($C34=0,\"\",INDEX(Data_kom2,MATCH(1,(komnavn2=$C34)*(komaar2=D$25),0),52))","v":""},{"$f":"IF($C34=0,\"\",INDEX(Data_kom2,MATCH(1,(komnavn2=$C34)*(komaar2=D$25),0),55))","v":""},{"$f":"IF($C34=0,\"\",INDEX(Data_kom2,MATCH(1,(komnavn2=$C34)*(komaar2=D$25),0),56))","v":""},{"$f":"IF($C34=0,\"\",INDEX(Data_kom2,MATCH(1,(komnavn2=$C34)*(komaar2=D$25),0),59))","v":""},{"$f":"IF($C34=0,\"\",INDEX(Data_kom2,MATCH(1,(komnavn2=$C34)*(komaar2=D$25),0),60))","v":""},{"$f":"IF($C34=0,\"\",INDEX(Data_kom2,MATCH(1,(komnavn2=$C34)*(komaar2=D$25),0),63))","v":""},{"$f":"IF($C34=0,\"\",INDEX(Data_kom2,MATCH(1,(komnavn2=$C34)*(komaar2=D$25),0),64))","v":""},{"$f":"IF($C34=0,\"\",INDEX(Data_kom2,MATCH(1,(komnavn2=$C34)*(komaar2=D$25),0),67))","v":""},{"$f":"IF($C34=0,\"\",INDEX(Data_kom2,MATCH(1,(komnavn2=$C34)*(komaar2=D$25),0),68))","v":""},{"$f":"IF($C34=0,\"\",INDEX(Data_kom2,MATCH(1,(komnavn2=$C34)*(komaar2=D$25),0),71))","v":""},{"$f":"IF($C34=0,\"\",INDEX(Data_kom2,MATCH(1,(komnavn2=$C34)*(komaar2=D$25),0),72))","v":""},{"$f":"IF($C34=0,\"\",INDEX(Data_kom2,MATCH(1,(komnavn2=$C34)*(komaar2=D$25),0),75))","v":""},null,null,null,null,null,null,{"$f":"IF(C34=0,\"\",INDEX(Data_kom2,MATCH(1,(komnavn2=C34)*(komaar2=D$1),0),14))","v":""}]
[]
[]
[null,null,null,20192,null,2019]
[null,null,null,"Nøgletal 1: Modtagere af længerevarende botilbud",null,"Nøgletal 2: Modtagere af botilbudslignende tilbud",null,"Nøgletal 3: Modtagere af midlertidigt botilbud",null,"Nøgletal 4: Modtagere af socialpædagogisk støtte",null,"Nøgletal 5: Modtagere af beskyttet beskæftigelse og aktivitets- og samværstilbud",null,"Nøgletal 6: Modtagere af forebyggende indsatser",null,"Nøgletal 7: Flytninger fra botilbud",null,"Nøgletal 7.1: Flytninger fra længerevarende botilbud og lignende til midlertidigt botilbud",null,"Antal institutionsanbragte 0-17 årige pr. forrige kvartal",null,"0-17 årige, der ved sidste opgørelse var institutionsanbragt, men nu er anbragt i anden form",null,"Nøgletal 8: Fra socialpædagogisk støtte og ned af trappen",null,"Nøgletal 9: Fra forebyggende indsatser og ned af trappen",null,"Nøgletal 10: Fra forebyggende indsatser og op af trappen",null,"Nøgletal 11: Uddannelsesgrad",null,"Nøgletal 12: Beskæftigelsesgrad",null,"Nøgletal 12.1: Beskæftigelsesgrad for modtagere af forebyggende indsatser",null,"Nøgletal 12.2: Beskæftigelsesgrad for den øvrige målgruppe",null,"Nøgletal 18: Genindlæggelser",null,"Nøgletal 19: Udgifter til forebyggende indsatser ift. udgifter til støttende indsatser","Udgiftsandel til længerevarende botilbud","Udgiftsandel til botilbudslignende tilbud","Udgiftsandel til midlertidige botilbud","Udgiftsandel til socialpædagogisk støtte","Udgiftsandel til beskyttet beskæftigelse og aktivitets- og samværstilbud","Udgiftsandel til forebyggende indsatser"]
[null,null,null,1,null,2,null,3,null,4,null,5,null,6,null,7,null,"7.1",null,"7.2",null,"7.3",null,8,null,9,null,10,null,11,null,12,null,"12.1",null,"12.2",null,18,null,19,"20.1","20.2","20.3","20.4","20.5","20.6"]
[null,null,null,{"$f":"IF($C28=0,\"\",INDEX(Data_kom2,MATCH(1,(komnavn2=$C28)*(komaar2=D$37),0),4))","v":7},{"$f":"IF($C28=0,\"\",INDEX(Data_kom2,MATCH(1,(komnavn2=$C28)*(komaar2=D$37),0),7))","v":26},{"$f":"IF($C28=0,\"\",INDEX(Data_kom2,MATCH(1,(komnavn2=$C28)*(komaar2=D$37),0),8))","v":0},{"$f":"IF($C28=0,\"\",INDEX(Data_kom2,MATCH(1,(komnavn2=$C28)*(komaar2=D$37),0),11))","v":26},{"$f":"IF($C28=0,\"\",INDEX(Data_kom2,MATCH(1,(komnavn2=$C28)*(komaar2=D$37),0),12))","v":0},{"$f":"IF($C28=0,\"\",INDEX(Data_kom2,MATCH(1,(komnavn2=$C28)*(komaar2=D$37),0),15))","v":26},{"$f":"IF($C28=0,\"\",INDEX(Data_kom2,MATCH(1,(komnavn2=$C28)*(komaar2=D$37),0),16))","v":13},{"$f":"IF($C28=0,\"\",INDEX(Data_kom2,MATCH(1,(komnavn2=$C28)*(komaar2=D$37),0),19))","v":26},{"$f":"IF($C28=0,\"\",INDEX(Data_kom2,MATCH(1,(komnavn2=$C28)*(komaar2=D$37),0),20))","v":0},{"$f":"IF($C28=0,\"\",INDEX(Data_kom2,MATCH(1,(komnavn2=$C28)*(komaar2=D$37),0),23))","v":26},{"$f":"IF($C28=0,\"\",INDEX(Data_kom2,MATCH(1,(komnavn2=$C28)*(komaar2=D$37),0),24))","v":0},{"$f":"IF($C28=0,\"\",INDEX(Data_kom2,MATCH(1,(komnavn2=$C28)*(komaar2=D$37),0),27))","v":26},{"$f":"IF($C28=0,\"\",INDEX(Data_kom2,MATCH(1,(komnavn2=$C28)*(komaar2=D$37),0),28))","v":0},{"$f":"IF($C28=0,\"\",INDEX(Data_kom2,MATCH(1,(komnavn2=$C28)*(komaar2=D$37),0),31))","v":13},{"$f":"IF($C28=0,\"\",INDEX(Data_kom2,MATCH(1,(komnavn2=$C28)*(komaar2=D$37),0),32))","v":0},{"$f":"IF($C28=0,\"\",INDEX(Data_kom2,MATCH(1,(komnavn2=$C28)*(komaar2=D$37),0),35))","v":10},{"$f":"IF($C28=0,\"\",INDEX(Data_kom2,MATCH(1,(komnavn2=$C28)*(komaar2=D$37),0),36))","v":0},{"$f":"IF($C28=0,\"\",INDEX(Data_kom2,MATCH(1,(komnavn2=$C28)*(komaar2=D$37),0),39))","v":10},{"$f":"IF(C28=0,\"\",INDEX(Data_kom2,MATCH(1,(komnavn2=C28)*(komaar2=D$37),0),40))","v":0},{"$f":"IF($C28=0,\"\",INDEX(Data_kom2,MATCH(1,(komnavn2=$C28)*(komaar2=D$37),0),43))","v":3},{"$f":"IF($C28=0,\"\",INDEX(Data_kom2,MATCH(1,(komnavn2=$C28)*(komaar2=D$37),0),44))","v":0},{"$f":"IF($C28=0,\"\",INDEX(Data_kom2,MATCH(1,(komnavn2=$C28)*(komaar2=D$37),0),47))","v":13},{"$f":"IF($C28=0,\"\",INDEX(Data_kom2,MATCH(1,(komnavn2=$C28)*(komaar2=D$37),0),48))","v":0},{"$f":"IF($C28=0,\"\",INDEX(Data_kom2,MATCH(1,(komnavn2=$C28)*(komaar2=D$37),0),51))","v":0},{"$f":"IF($C28=0,\"\",INDEX(Data_kom2,MATCH(1,(komnavn2=$C28)*(komaar2=D$37),0),52))","v":0},{"$f":"IF($C28=0,\"\",INDEX(Data_kom2,MATCH(1,(komnavn2=$C28)*(komaar2=D$37),0),55))","v":0},{"$f":"IF($C28=0,\"\",INDEX(Data_kom2,MATCH(1,(komnavn2=$C28)*(komaar2=D$37),0),56))","v":0},{"$f":"IF($C28=0,\"\",INDEX(Data_kom2,MATCH(1,(komnavn2=$C28)*(komaar2=D$37),0),59))","v":26},{"$f":"IF($C28=0,\"\",INDEX(Data_kom2,MATCH(1,(komnavn2=$C28)*(komaar2=D$37),0),60))","v":0.128698224852071},{"$f":"IF($C28=0,\"\",INDEX(Data_kom2,MATCH(1,(komnavn2=$C28)*(komaar2=D$37),0),63))","v":26},{"$f":"IF($C28=0,\"\",INDEX(Data_kom2,MATCH(1,(komnavn2=$C28)*(komaar2=D$37),0),64))","v":0},{"$f":"IF($C28=0,\"\",INDEX(Data_kom2,MATCH(1,(komnavn2=$C28)*(komaar2=D$37),0),67))","v":0},{"$f":"IF($C28=0,\"\",INDEX(Data_kom2,MATCH(1,(komnavn2=$C28)*(komaar2=D$37),0),68))","v":0.128698224852071},{"$f":"IF($C28=0,\"\",INDEX(Data_kom2,MATCH(1,(komnavn2=$C28)*(komaar2=D$37),0),71))","v":0},{"$f":"IF($C28=0,\"\",INDEX(Data_kom2,MATCH(1,(komnavn2=$C28)*(komaar2=D$37),0),72))","v":0.81481481481481499},{"$f":"IF($C28=0,\"\",INDEX(Data_kom2,MATCH(1,(komnavn2=$C28)*(komaar2=D$37),0),75))","v":26},{"$f":"IF($C28=0,\"\",INDEX(Data_komoek,MATCH(1,(komnavn=$C28)*(komaar=$F$37),0),3))","v":0},{"$f":"IF($C28=0,\"\",INDEX(Data_komoek,MATCH(1,(komnavn=$C28)*(komaar=$F$37),0),6))","v":0.53918809032338799},{"$f":"IF($C28=0,\"\",INDEX(Data_komoek,MATCH(1,(komnavn=$C28)*(komaar=$F$37),0),9))","v":0.14486770501032101},{"$f":"IF($C28=0,\"\",INDEX(Data_komoek,MATCH(1,(komnavn=$C28)*(komaar=$F$37),0),12))","v":0.249452680302746},{"$f":"IF($C28=0,\"\",INDEX(Data_komoek,MATCH(1,(komnavn=$C28)*(komaar=$F$37),0),15))","v":3.7030086945643297E-2},{"$f":"IF($C28=0,\"\",INDEX(Data_komoek,MATCH(1,(komnavn=$C28)*(komaar=$F$37),0),18))","v":2.9461437417902001E-2},{"$f":"IF($C28=0,\"\",INDEX(Data_komoek,MATCH(1,(komnavn=$C28)*(komaar=$F$37),0),21))","v":0}]
[null,null,null,{"$f":"IF($C29=0,\"\",INDEX(Data_kom2,MATCH(1,(komnavn2=$C29)*(komaar2=D$37),0),4))","v":5},{"$f":"IF($C29=0,\"\",INDEX(Data_kom2,MATCH(1,(komnavn2=$C29)*(komaar2=D$37),0),7))","v":196},{"$f":"IF($C29=0,\"\",INDEX(Data_kom2,MATCH(1,(komnavn2=$C29)*(komaar2=D$37),0),8))","v":24},{"$f":"IF($C29=0,\"\",INDEX(Data_kom2,MATCH(1,(komnavn2=$C29)*(komaar2=D$37),0),11))","v":196},{"$f":"IF($C29=0,\"\",INDEX(Data_kom2,MATCH(1,(komnavn2=$C29)*(komaar2=D$37),0),12))","v":24},{"$f":"IF($C29=0,\"\",INDEX(Data_kom2,MATCH(1,(komnavn2=$C29)*(komaar2=D$37),0),15))","v":196},{"$f":"IF($C29=0,\"\",INDEX(Data_kom2,MATCH(1,(komnavn2=$C29)*(komaar2=D$37),0),16))","v":91},{"$f":"IF($C29=0,\"\",INDEX(Data_kom2,MATCH(1,(komnavn2=$C29)*(komaar2=D$37),0),19))","v":196},{"$f":"IF($C29=0,\"\",INDEX(Data_kom2,MATCH(1,(komnavn2=$C29)*(komaar2=D$37),0),20))","v":49},{"$f":"IF($C29=0,\"\",INDEX(Data_kom2,MATCH(1,(komnavn2=$C29)*(komaar2=D$37),0),23))","v":196},{"$f":"IF($C29=0,\"\",INDEX(Data_kom2,MATCH(1,(komnavn2=$C29)*(komaar2=D$37),0),24))","v":0},{"$f":"IF($C29=0,\"\",INDEX(Data_kom2,MATCH(1,(komnavn2=$C29)*(komaar2=D$37),0),27))","v":196},{"$f":"IF($C29=0,\"\",INDEX(Data_kom2,MATCH(1,(komnavn2=$C29)*(komaar2=D$37),0),28))","v":8},{"$f":"IF($C29=0,\"\",INDEX(Data_kom2,MATCH(1,(komnavn2=$C29)*(komaar2=D$37),0),31))","v":55},{"$f":"IF($C29=0,\"\",INDEX(Data_kom2,MATCH(1,(komnavn2=$C29)*(komaar2=D$37),0),32))","v":0},{"$f":"IF($C29=0,\"\",INDEX(Data_kom2,MATCH(1,(komnavn2=$C29)*(komaar2=D$37),0),35))","v":35},{"$f":"IF($C29=0,\"\",INDEX(Data_kom2,MATCH(1,(komnavn2=$C29)*(komaar2=D$37),0),36))","v":5},{"$f":"IF($C29=0,\"\",INDEX(Data_kom2,MATCH(1,(komnavn2=$C29)*(komaar2=D$37),0),39))","v":35},{"$f":"IF(C29=0,\"\",INDEX(Data_kom2,MATCH(1,(komnavn2=C29)*(komaar2=D$37),0),40))","v":0},{"$f":"IF($C29=0,\"\",INDEX(Data_kom2,MATCH(1,(komnavn2=$C29)*(komaar2=D$37),0),43))","v":20},{"$f":"IF($C29=0,\"\",INDEX(Data_kom2,MATCH(1,(komnavn2=$C29)*(komaar2=D$37),0),44))","v":13},{"$f":"IF($C29=0,\"\",INDEX(Data_kom2,MATCH(1,(komnavn2=$C29)*(komaar2=D$37),0),47))","v":88},{"$f":"IF($C29=0,\"\",INDEX(Data_kom2,MATCH(1,(komnavn2=$C29)*(komaar2=D$37),0),48))","v":0},{"$f":"IF($C29=0,\"\",INDEX(Data_kom2,MATCH(1,(komnavn2=$C29)*(komaar2=D$37),0),51))","v":0},{"$f":"IF($C29=0,\"\",INDEX(Data_kom2,MATCH(1,(komnavn2=$C29)*(komaar2=D$37),0),52))","v":0},{"$f":"IF($C29=0,\"\",INDEX(Data_kom2,MATCH(1,(komnavn2=$C29)*(komaar2=D$37),0),55))","v":0},{"$f":"IF($C29=0,\"\",INDEX(Data_kom2,MATCH(1,(komnavn2=$C29)*(komaar2=D$37),0),56))","v":9.4191522762951396E-3},{"$f":"IF($C29=0,\"\",INDEX(Data_kom2,MATCH(1,(komnavn2=$C29)*(komaar2=D$37),0),59))","v":196},{"$f":"IF($C29=0,\"\",INDEX(Data_kom2,MATCH(1,(komnavn2=$C29)*(komaar2=D$37),0),60))","v":3.5419937205651501E-2},{"$f":"IF($C29=0,\"\",INDEX(Data_kom2,MATCH(1,(komnavn2=$C29)*(komaar2=D$37),0),63))","v":196},{"$f":"IF($C29=0,\"\",INDEX(Data_kom2,MATCH(1,(komnavn2=$C29)*(komaar2=D$37),0),64))","v":0},{"$f":"IF($C29=0,\"\",INDEX(Data_kom2,MATCH(1,(komnavn2=$C29)*(komaar2=D$37),0),67))","v":0},{"$f":"IF($C29=0,\"\",INDEX(Data_kom2,MATCH(1,(komnavn2=$C29)*(komaar2=D$37),0),68))","v":3.5419937205651501E-2},{"$f":"IF($C29=0,\"\",INDEX(Data_kom2,MATCH(1,(komnavn2=$C29)*(komaar2=D$37),0),71))","v":196},{"$f":"IF($C29=0,\"\",INDEX(Data_kom2,MATCH(1,(komnavn2=$C29)*(komaar2=D$37),0),72))","v":0.37777777777777799},{"$f":"IF($C29=0,\"\",INDEX(Data_kom2,MATCH(1,(komnavn2=$C29)*(komaar2=D$37),0),75))","v":196},{"$f":"IF($C29=0,\"\",INDEX(Data_komoek,MATCH(1,(komnavn=$C29)*(komaar=$F$37),0),3))","v":1.7573029842616699E-2},{"$f":"IF($C29=0,\"\",INDEX(Data_komoek,MATCH(1,(komnavn=$C29)*(komaar=$F$37),0),6))","v":7.3585756141537104E-2},{"$f":"IF($C29=0,\"\",INDEX(Data_komoek,MATCH(1,(komnavn=$C29)*(komaar=$F$37),0),9))","v":0.21951769213432501},{"$f":"IF($C29=0,\"\",INDEX(Data_komoek,MATCH(1,(komnavn=$C29)*(komaar=$F$37),0),12))","v":0.47405341446923599},{"$f":"IF($C29=0,\"\",INDEX(Data_komoek,MATCH(1,(komnavn=$C29)*(komaar=$F$37),0),15))","v":0.108913680414695},{"$f":"IF($C29=0,\"\",INDEX(Data_komoek,MATCH(1,(komnavn=$C29)*(komaar=$F$37),0),18))","v":0.10665990534144699},{"$f":"IF($C29=0,\"\",INDEX(Data_komoek,MATCH(1,(komnavn=$C29)*(komaar=$F$37),0),21))","v":1.7269551498760399E-2}]
[null,null,null,{"$f":"IF($C30=0,\"\",INDEX(Data_kom2,MATCH(1,(komnavn2=$C30)*(komaar2=D$37),0),4))","v":21},{"$f":"IF($C30=0,\"\",INDEX(Data_kom2,MATCH(1,(komnavn2=$C30)*(komaar2=D$37),0),7))","v":268},{"$f":"IF($C30=0,\"\",INDEX(Data_kom2,MATCH(1,(komnavn2=$C30)*(komaar2=D$37),0),8))","v":17},{"$f":"IF($C30=0,\"\",INDEX(Data_kom2,MATCH(1,(komnavn2=$C30)*(komaar2=D$37),0),11))","v":268},{"$f":"IF($C30=0,\"\",INDEX(Data_kom2,MATCH(1,(komnavn2=$C30)*(komaar2=D$37),0),12))","v":35},{"$f":"IF($C30=0,\"\",INDEX(Data_kom2,MATCH(1,(komnavn2=$C30)*(komaar2=D$37),0),15))","v":268},{"$f":"IF($C30=0,\"\",INDEX(Data_kom2,MATCH(1,(komnavn2=$C30)*(komaar2=D$37),0),16))","v":169},{"$f":"IF($C30=0,\"\",INDEX(Data_kom2,MATCH(1,(komnavn2=$C30)*(komaar2=D$37),0),19))","v":268},{"$f":"IF($C30=0,\"\",INDEX(Data_kom2,MATCH(1,(komnavn2=$C30)*(komaar2=D$37),0),20))","v":20},{"$f":"IF($C30=0,\"\",INDEX(Data_kom2,MATCH(1,(komnavn2=$C30)*(komaar2=D$37),0),23))","v":268},{"$f":"IF($C30=0,\"\",INDEX(Data_kom2,MATCH(1,(komnavn2=$C30)*(komaar2=D$37),0),24))","v":0},{"$f":"IF($C30=0,\"\",INDEX(Data_kom2,MATCH(1,(komnavn2=$C30)*(komaar2=D$37),0),27))","v":268},{"$f":"IF($C30=0,\"\",INDEX(Data_kom2,MATCH(1,(komnavn2=$C30)*(komaar2=D$37),0),28))","v":8},{"$f":"IF($C30=0,\"\",INDEX(Data_kom2,MATCH(1,(komnavn2=$C30)*(komaar2=D$37),0),31))","v":78},{"$f":"IF($C30=0,\"\",INDEX(Data_kom2,MATCH(1,(komnavn2=$C30)*(komaar2=D$37),0),32))","v":0},{"$f":"IF($C30=0,\"\",INDEX(Data_kom2,MATCH(1,(komnavn2=$C30)*(komaar2=D$37),0),35))","v":40},{"$f":"IF($C30=0,\"\",INDEX(Data_kom2,MATCH(1,(komnavn2=$C30)*(komaar2=D$37),0),36))","v":4},{"$f":"IF($C30=0,\"\",INDEX(Data_kom2,MATCH(1,(komnavn2=$C30)*(komaar2=D$37),0),39))","v":40},{"$f":"IF(C30=0,\"\",INDEX(Data_kom2,MATCH(1,(komnavn2=C30)*(komaar2=D$37),0),40))","v":4},{"$f":"IF($C30=0,\"\",INDEX(Data_kom2,MATCH(1,(komnavn2=$C30)*(komaar2=D$37),0),43))","v":38},{"$f":"IF($C30=0,\"\",INDEX(Data_kom2,MATCH(1,(komnavn2=$C30)*(komaar2=D$37),0),44))","v":25},{"$f":"IF($C30=0,\"\",INDEX(Data_kom2,MATCH(1,(komnavn2=$C30)*(komaar2=D$37),0),47))","v":161},{"$f":"IF($C30=0,\"\",INDEX(Data_kom2,MATCH(1,(komnavn2=$C30)*(komaar2=D$37),0),48))","v":0},{"$f":"IF($C30=0,\"\",INDEX(Data_kom2,MATCH(1,(komnavn2=$C30)*(komaar2=D$37),0),51))","v":0},{"$f":"IF($C30=0,\"\",INDEX(Data_kom2,MATCH(1,(komnavn2=$C30)*(komaar2=D$37),0),52))","v":0},{"$f":"IF($C30=0,\"\",INDEX(Data_kom2,MATCH(1,(komnavn2=$C30)*(komaar2=D$37),0),55))","v":0},{"$f":"IF($C30=0,\"\",INDEX(Data_kom2,MATCH(1,(komnavn2=$C30)*(komaar2=D$37),0),56))","v":2.9563719862227299E-2},{"$f":"IF($C30=0,\"\",INDEX(Data_kom2,MATCH(1,(komnavn2=$C30)*(komaar2=D$37),0),59))","v":268},{"$f":"IF($C30=0,\"\",INDEX(Data_kom2,MATCH(1,(komnavn2=$C30)*(komaar2=D$37),0),60))","v":5.1592996555683099E-2},{"$f":"IF($C30=0,\"\",INDEX(Data_kom2,MATCH(1,(komnavn2=$C30)*(komaar2=D$37),0),63))","v":268},{"$f":"IF($C30=0,\"\",INDEX(Data_kom2,MATCH(1,(komnavn2=$C30)*(komaar2=D$37),0),64))","v":0},{"$f":"IF($C30=0,\"\",INDEX(Data_kom2,MATCH(1,(komnavn2=$C30)*(komaar2=D$37),0),67))","v":0},{"$f":"IF($C30=0,\"\",INDEX(Data_kom2,MATCH(1,(komnavn2=$C30)*(komaar2=D$37),0),68))","v":5.1592996555683099E-2},{"$f":"IF($C30=0,\"\",INDEX(Data_kom2,MATCH(1,(komnavn2=$C30)*(komaar2=D$37),0),71))","v":268},{"$f":"IF($C30=0,\"\",INDEX(Data_kom2,MATCH(1,(komnavn2=$C30)*(komaar2=D$37),0),72))","v":0.67058823529411804},{"$f":"IF($C30=0,\"\",INDEX(Data_kom2,MATCH(1,(komnavn2=$C30)*(komaar2=D$37),0),75))","v":268},{"$f":"IF($C30=0,\"\",INDEX(Data_komoek,MATCH(1,(komnavn=$C30)*(komaar=$F$37),0),3))","v":1.12715651562769E-2},{"$f":"IF($C30=0,\"\",INDEX(Data_komoek,MATCH(1,(komnavn=$C30)*(komaar=$F$37),0),6))","v":0.718007893943169},{"$f":"IF($C30=0,\"\",INDEX(Data_komoek,MATCH(1,(komnavn=$C30)*(komaar=$F$37),0),9))","v":6.2351660744023797E-2},{"$f":"IF($C30=0,\"\",INDEX(Data_komoek,MATCH(1,(komnavn=$C30)*(komaar=$F$37),0),12))","v":0.142785958746935},{"$f":"IF($C30=0,\"\",INDEX(Data_komoek,MATCH(1,(komnavn=$C30)*(komaar=$F$37),0),15))","v":6.17746947981275E-2},{"$f":"IF($C30=0,\"\",INDEX(Data_komoek,MATCH(1,(komnavn=$C30)*(komaar=$F$37),0),18))","v":3.9338587220204297E-3},{"$f":"IF($C30=0,\"\",INDEX(Data_komoek,MATCH(1,(komnavn=$C30)*(komaar=$F$37),0),21))","v":1.11459330457246E-2}]
[null,null,null,{"$f":"IF($C31=0,\"\",INDEX(Data_kom2,MATCH(1,(komnavn2=$C31)*(komaar2=D$37),0),4))","v":""},{"$f":"IF($C31=0,\"\",INDEX(Data_kom2,MATCH(1,(komnavn2=$C31)*(komaar2=D$37),0),7))","v":""},{"$f":"IF($C31=0,\"\",INDEX(Data_kom2,MATCH(1,(komnavn2=$C31)*(komaar2=D$37),0),8))","v":""},{"$f":"IF($C31=0,\"\",INDEX(Data_kom2,MATCH(1,(komnavn2=$C31)*(komaar2=D$37),0),11))","v":""},{"$f":"IF($C31=0,\"\",INDEX(Data_kom2,MATCH(1,(komnavn2=$C31)*(komaar2=D$37),0),12))","v":""},{"$f":"IF($C31=0,\"\",INDEX(Data_kom2,MATCH(1,(komnavn2=$C31)*(komaar2=D$37),0),15))","v":""},{"$f":"IF($C31=0,\"\",INDEX(Data_kom2,MATCH(1,(komnavn2=$C31)*(komaar2=D$37),0),16))","v":""},{"$f":"IF($C31=0,\"\",INDEX(Data_kom2,MATCH(1,(komnavn2=$C31)*(komaar2=D$37),0),19))","v":""},{"$f":"IF($C31=0,\"\",INDEX(Data_kom2,MATCH(1,(komnavn2=$C31)*(komaar2=D$37),0),20))","v":""},{"$f":"IF($C31=0,\"\",INDEX(Data_kom2,MATCH(1,(komnavn2=$C31)*(komaar2=D$37),0),23))","v":""},{"$f":"IF($C31=0,\"\",INDEX(Data_kom2,MATCH(1,(komnavn2=$C31)*(komaar2=D$37),0),24))","v":""},{"$f":"IF($C31=0,\"\",INDEX(Data_kom2,MATCH(1,(komnavn2=$C31)*(komaar2=D$37),0),27))","v":""},{"$f":"IF($C31=0,\"\",INDEX(Data_kom2,MATCH(1,(komnavn2=$C31)*(komaar2=D$37),0),28))","v":""},{"$f":"IF($C31=0,\"\",INDEX(Data_kom2,MATCH(1,(komnavn2=$C31)*(komaar2=D$37),0),31))","v":""},{"$f":"IF($C31=0,\"\",INDEX(Data_kom2,MATCH(1,(komnavn2=$C31)*(komaar2=D$37),0),32))","v":""},{"$f":"IF($C31=0,\"\",INDEX(Data_kom2,MATCH(1,(komnavn2=$C31)*(komaar2=D$37),0),35))","v":""},{"$f":"IF($C31=0,\"\",INDEX(Data_kom2,MATCH(1,(komnavn2=$C31)*(komaar2=D$37),0),36))","v":""},{"$f":"IF($C31=0,\"\",INDEX(Data_kom2,MATCH(1,(komnavn2=$C31)*(komaar2=D$37),0),39))","v":""},{"$f":"IF(C31=0,\"\",INDEX(Data_kom2,MATCH(1,(komnavn2=C31)*(komaar2=D$37),0),40))","v":""},{"$f":"IF($C31=0,\"\",INDEX(Data_kom2,MATCH(1,(komnavn2=$C31)*(komaar2=D$37),0),43))","v":""},{"$f":"IF($C31=0,\"\",INDEX(Data_kom2,MATCH(1,(komnavn2=$C31)*(komaar2=D$37),0),44))","v":""},{"$f":"IF($C31=0,\"\",INDEX(Data_kom2,MATCH(1,(komnavn2=$C31)*(komaar2=D$37),0),47))","v":""},{"$f":"IF($C31=0,\"\",INDEX(Data_kom2,MATCH(1,(komnavn2=$C31)*(komaar2=D$37),0),48))","v":""},{"$f":"IF($C31=0,\"\",INDEX(Data_kom2,MATCH(1,(komnavn2=$C31)*(komaar2=D$37),0),51))","v":""},{"$f":"IF($C31=0,\"\",INDEX(Data_kom2,MATCH(1,(komnavn2=$C31)*(komaar2=D$37),0),52))","v":""},{"$f":"IF($C31=0,\"\",INDEX(Data_kom2,MATCH(1,(komnavn2=$C31)*(komaar2=D$37),0),55))","v":""},{"$f":"IF($C31=0,\"\",INDEX(Data_kom2,MATCH(1,(komnavn2=$C31)*(komaar2=D$37),0),56))","v":""},{"$f":"IF($C31=0,\"\",INDEX(Data_kom2,MATCH(1,(komnavn2=$C31)*(komaar2=D$37),0),59))","v":""},{"$f":"IF($C31=0,\"\",INDEX(Data_kom2,MATCH(1,(komnavn2=$C31)*(komaar2=D$37),0),60))","v":""},{"$f":"IF($C31=0,\"\",INDEX(Data_kom2,MATCH(1,(komnavn2=$C31)*(komaar2=D$37),0),63))","v":""},{"$f":"IF($C31=0,\"\",INDEX(Data_kom2,MATCH(1,(komnavn2=$C31)*(komaar2=D$37),0),64))","v":""},{"$f":"IF($C31=0,\"\",INDEX(Data_kom2,MATCH(1,(komnavn2=$C31)*(komaar2=D$37),0),67))","v":""},{"$f":"IF($C31=0,\"\",INDEX(Data_kom2,MATCH(1,(komnavn2=$C31)*(komaar2=D$37),0),68))","v":""},{"$f":"IF($C31=0,\"\",INDEX(Data_kom2,MATCH(1,(komnavn2=$C31)*(komaar2=D$37),0),71))","v":""},{"$f":"IF($C31=0,\"\",INDEX(Data_kom2,MATCH(1,(komnavn2=$C31)*(komaar2=D$37),0),72))","v":""},{"$f":"IF($C31=0,\"\",INDEX(Data_kom2,MATCH(1,(komnavn2=$C31)*(komaar2=D$37),0),75))","v":""},{"$f":"IF($C31=0,\"\",INDEX(Data_komoek,MATCH(1,(komnavn=$C31)*(komaar=$F$37),0),3))","v":""},{"$f":"IF($C31=0,\"\",INDEX(Data_komoek,MATCH(1,(komnavn=$C31)*(komaar=$F$37),0),6))","v":""},{"$f":"IF($C31=0,\"\",INDEX(Data_komoek,MATCH(1,(komnavn=$C31)*(komaar=$F$37),0),9))","v":""},{"$f":"IF($C31=0,\"\",INDEX(Data_komoek,MATCH(1,(komnavn=$C31)*(komaar=$F$37),0),12))","v":""},{"$f":"IF($C31=0,\"\",INDEX(Data_komoek,MATCH(1,(komnavn=$C31)*(komaar=$F$37),0),15))","v":""},{"$f":"IF($C31=0,\"\",INDEX(Data_komoek,MATCH(1,(komnavn=$C31)*(komaar=$F$37),0),18))","v":""},{"$f":"IF($C31=0,\"\",INDEX(Data_komoek,MATCH(1,(komnavn=$C31)*(komaar=$F$37),0),21))","v":""}]
[null,null,null,{"$f":"IF($C32=0,\"\",INDEX(Data_kom2,MATCH(1,(komnavn2=$C32)*(komaar2=D$37),0),4))","v":""},{"$f":"IF($C32=0,\"\",INDEX(Data_kom2,MATCH(1,(komnavn2=$C32)*(komaar2=D$37),0),7))","v":""},{"$f":"IF($C32=0,\"\",INDEX(Data_kom2,MATCH(1,(komnavn2=$C32)*(komaar2=D$37),0),8))","v":""},{"$f":"IF($C32=0,\"\",INDEX(Data_kom2,MATCH(1,(komnavn2=$C32)*(komaar2=D$37),0),11))","v":""},{"$f":"IF($C32=0,\"\",INDEX(Data_kom2,MATCH(1,(komnavn2=$C32)*(komaar2=D$37),0),12))","v":""},{"$f":"IF($C32=0,\"\",INDEX(Data_kom2,MATCH(1,(komnavn2=$C32)*(komaar2=D$37),0),15))","v":""},{"$f":"IF($C32=0,\"\",INDEX(Data_kom2,MATCH(1,(komnavn2=$C32)*(komaar2=D$37),0),16))","v":""},{"$f":"IF($C32=0,\"\",INDEX(Data_kom2,MATCH(1,(komnavn2=$C32)*(komaar2=D$37),0),19))","v":""},{"$f":"IF($C32=0,\"\",INDEX(Data_kom2,MATCH(1,(komnavn2=$C32)*(komaar2=D$37),0),20))","v":""},{"$f":"IF($C32=0,\"\",INDEX(Data_kom2,MATCH(1,(komnavn2=$C32)*(komaar2=D$37),0),23))","v":""},{"$f":"IF($C32=0,\"\",INDEX(Data_kom2,MATCH(1,(komnavn2=$C32)*(komaar2=D$37),0),24))","v":""},{"$f":"IF($C32=0,\"\",INDEX(Data_kom2,MATCH(1,(komnavn2=$C32)*(komaar2=D$37),0),27))","v":""},{"$f":"IF($C32=0,\"\",INDEX(Data_kom2,MATCH(1,(komnavn2=$C32)*(komaar2=D$37),0),28))","v":""},{"$f":"IF($C32=0,\"\",INDEX(Data_kom2,MATCH(1,(komnavn2=$C32)*(komaar2=D$37),0),31))","v":""},{"$f":"IF($C32=0,\"\",INDEX(Data_kom2,MATCH(1,(komnavn2=$C32)*(komaar2=D$37),0),32))","v":""},{"$f":"IF($C32=0,\"\",INDEX(Data_kom2,MATCH(1,(komnavn2=$C32)*(komaar2=D$37),0),35))","v":""},{"$f":"IF($C32=0,\"\",INDEX(Data_kom2,MATCH(1,(komnavn2=$C32)*(komaar2=D$37),0),36))","v":""},{"$f":"IF($C32=0,\"\",INDEX(Data_kom2,MATCH(1,(komnavn2=$C32)*(komaar2=D$37),0),39))","v":""},{"$f":"IF(C32=0,\"\",INDEX(Data_kom2,MATCH(1,(komnavn2=C32)*(komaar2=D$37),0),40))","v":""},{"$f":"IF($C32=0,\"\",INDEX(Data_kom2,MATCH(1,(komnavn2=$C32)*(komaar2=D$37),0),43))","v":""},{"$f":"IF($C32=0,\"\",INDEX(Data_kom2,MATCH(1,(komnavn2=$C32)*(komaar2=D$37),0),44))","v":""},{"$f":"IF($C32=0,\"\",INDEX(Data_kom2,MATCH(1,(komnavn2=$C32)*(komaar2=D$37),0),47))","v":""},{"$f":"IF($C32=0,\"\",INDEX(Data_kom2,MATCH(1,(komnavn2=$C32)*(komaar2=D$37),0),48))","v":""},{"$f":"IF($C32=0,\"\",INDEX(Data_kom2,MATCH(1,(komnavn2=$C32)*(komaar2=D$37),0),51))","v":""},{"$f":"IF($C32=0,\"\",INDEX(Data_kom2,MATCH(1,(komnavn2=$C32)*(komaar2=D$37),0),52))","v":""},{"$f":"IF($C32=0,\"\",INDEX(Data_kom2,MATCH(1,(komnavn2=$C32)*(komaar2=D$37),0),55))","v":""},{"$f":"IF($C32=0,\"\",INDEX(Data_kom2,MATCH(1,(komnavn2=$C32)*(komaar2=D$37),0),56))","v":""},{"$f":"IF($C32=0,\"\",INDEX(Data_kom2,MATCH(1,(komnavn2=$C32)*(komaar2=D$37),0),59))","v":""},{"$f":"IF($C32=0,\"\",INDEX(Data_kom2,MATCH(1,(komnavn2=$C32)*(komaar2=D$37),0),60))","v":""},{"$f":"IF($C32=0,\"\",INDEX(Data_kom2,MATCH(1,(komnavn2=$C32)*(komaar2=D$37),0),63))","v":""},{"$f":"IF($C32=0,\"\",INDEX(Data_kom2,MATCH(1,(komnavn2=$C32)*(komaar2=D$37),0),64))","v":""},{"$f":"IF($C32=0,\"\",INDEX(Data_kom2,MATCH(1,(komnavn2=$C32)*(komaar2=D$37),0),67))","v":""},{"$f":"IF($C32=0,\"\",INDEX(Data_kom2,MATCH(1,(komnavn2=$C32)*(komaar2=D$37),0),68))","v":""},{"$f":"IF($C32=0,\"\",INDEX(Data_kom2,MATCH(1,(komnavn2=$C32)*(komaar2=D$37),0),71))","v":""},{"$f":"IF($C32=0,\"\",INDEX(Data_kom2,MATCH(1,(komnavn2=$C32)*(komaar2=D$37),0),72))","v":""},{"$f":"IF($C32=0,\"\",INDEX(Data_kom2,MATCH(1,(komnavn2=$C32)*(komaar2=D$37),0),75))","v":""},{"$f":"IF($C32=0,\"\",INDEX(Data_komoek,MATCH(1,(komnavn=$C32)*(komaar=$F$37),0),3))","v":""},{"$f":"IF($C32=0,\"\",INDEX(Data_komoek,MATCH(1,(komnavn=$C32)*(komaar=$F$37),0),6))","v":""},{"$f":"IF($C32=0,\"\",INDEX(Data_komoek,MATCH(1,(komnavn=$C32)*(komaar=$F$37),0),9))","v":""},{"$f":"IF($C32=0,\"\",INDEX(Data_komoek,MATCH(1,(komnavn=$C32)*(komaar=$F$37),0),12))","v":""},{"$f":"IF($C32=0,\"\",INDEX(Data_komoek,MATCH(1,(komnavn=$C32)*(komaar=$F$37),0),15))","v":""},{"$f":"IF($C32=0,\"\",INDEX(Data_komoek,MATCH(1,(komnavn=$C32)*(komaar=$F$37),0),18))","v":""},{"$f":"IF($C32=0,\"\",INDEX(Data_komoek,MATCH(1,(komnavn=$C32)*(komaar=$F$37),0),21))","v":""}]
[null,null,null,{"$f":"IF($C33=0,\"\",INDEX(Data_kom2,MATCH(1,(komnavn2=$C33)*(komaar2=D$37),0),4))","v":""},{"$f":"IF($C33=0,\"\",INDEX(Data_kom2,MATCH(1,(komnavn2=$C33)*(komaar2=D$37),0),7))","v":""},{"$f":"IF($C33=0,\"\",INDEX(Data_kom2,MATCH(1,(komnavn2=$C33)*(komaar2=D$37),0),8))","v":""},{"$f":"IF($C33=0,\"\",INDEX(Data_kom2,MATCH(1,(komnavn2=$C33)*(komaar2=D$37),0),11))","v":""},{"$f":"IF($C33=0,\"\",INDEX(Data_kom2,MATCH(1,(komnavn2=$C33)*(komaar2=D$37),0),12))","v":""},{"$f":"IF($C33=0,\"\",INDEX(Data_kom2,MATCH(1,(komnavn2=$C33)*(komaar2=D$37),0),15))","v":""},{"$f":"IF($C33=0,\"\",INDEX(Data_kom2,MATCH(1,(komnavn2=$C33)*(komaar2=D$37),0),16))","v":""},{"$f":"IF($C33=0,\"\",INDEX(Data_kom2,MATCH(1,(komnavn2=$C33)*(komaar2=D$37),0),19))","v":""},{"$f":"IF($C33=0,\"\",INDEX(Data_kom2,MATCH(1,(komnavn2=$C33)*(komaar2=D$37),0),20))","v":""},{"$f":"IF($C33=0,\"\",INDEX(Data_kom2,MATCH(1,(komnavn2=$C33)*(komaar2=D$37),0),23))","v":""},{"$f":"IF($C33=0,\"\",INDEX(Data_kom2,MATCH(1,(komnavn2=$C33)*(komaar2=D$37),0),24))","v":""},{"$f":"IF($C33=0,\"\",INDEX(Data_kom2,MATCH(1,(komnavn2=$C33)*(komaar2=D$37),0),27))","v":""},{"$f":"IF($C33=0,\"\",INDEX(Data_kom2,MATCH(1,(komnavn2=$C33)*(komaar2=D$37),0),28))","v":""},{"$f":"IF($C33=0,\"\",INDEX(Data_kom2,MATCH(1,(komnavn2=$C33)*(komaar2=D$37),0),31))","v":""},{"$f":"IF($C33=0,\"\",INDEX(Data_kom2,MATCH(1,(komnavn2=$C33)*(komaar2=D$37),0),32))","v":""},{"$f":"IF($C33=0,\"\",INDEX(Data_kom2,MATCH(1,(komnavn2=$C33)*(komaar2=D$37),0),35))","v":""},{"$f":"IF($C33=0,\"\",INDEX(Data_kom2,MATCH(1,(komnavn2=$C33)*(komaar2=D$37),0),36))","v":""},{"$f":"IF($C33=0,\"\",INDEX(Data_kom2,MATCH(1,(komnavn2=$C33)*(komaar2=D$37),0),39))","v":""},{"$f":"IF(C33=0,\"\",INDEX(Data_kom2,MATCH(1,(komnavn2=C33)*(komaar2=D$37),0),40))","v":""},{"$f":"IF($C33=0,\"\",INDEX(Data_kom2,MATCH(1,(komnavn2=$C33)*(komaar2=D$37),0),43))","v":""},{"$f":"IF($C33=0,\"\",INDEX(Data_kom2,MATCH(1,(komnavn2=$C33)*(komaar2=D$37),0),44))","v":""},{"$f":"IF($C33=0,\"\",INDEX(Data_kom2,MATCH(1,(komnavn2=$C33)*(komaar2=D$37),0),47))","v":""},{"$f":"IF($C33=0,\"\",INDEX(Data_kom2,MATCH(1,(komnavn2=$C33)*(komaar2=D$37),0),48))","v":""},{"$f":"IF($C33=0,\"\",INDEX(Data_kom2,MATCH(1,(komnavn2=$C33)*(komaar2=D$37),0),51))","v":""},{"$f":"IF($C33=0,\"\",INDEX(Data_kom2,MATCH(1,(komnavn2=$C33)*(komaar2=D$37),0),52))","v":""},{"$f":"IF($C33=0,\"\",INDEX(Data_kom2,MATCH(1,(komnavn2=$C33)*(komaar2=D$37),0),55))","v":""},{"$f":"IF($C33=0,\"\",INDEX(Data_kom2,MATCH(1,(komnavn2=$C33)*(komaar2=D$37),0),56))","v":""},{"$f":"IF($C33=0,\"\",INDEX(Data_kom2,MATCH(1,(komnavn2=$C33)*(komaar2=D$37),0),59))","v":""},{"$f":"IF($C33=0,\"\",INDEX(Data_kom2,MATCH(1,(komnavn2=$C33)*(komaar2=D$37),0),60))","v":""},{"$f":"IF($C33=0,\"\",INDEX(Data_kom2,MATCH(1,(komnavn2=$C33)*(komaar2=D$37),0),63))","v":""},{"$f":"IF($C33=0,\"\",INDEX(Data_kom2,MATCH(1,(komnavn2=$C33)*(komaar2=D$37),0),64))","v":""},{"$f":"IF($C33=0,\"\",INDEX(Data_kom2,MATCH(1,(komnavn2=$C33)*(komaar2=D$37),0),67))","v":""},{"$f":"IF($C33=0,\"\",INDEX(Data_kom2,MATCH(1,(komnavn2=$C33)*(komaar2=D$37),0),68))","v":""},{"$f":"IF($C33=0,\"\",INDEX(Data_kom2,MATCH(1,(komnavn2=$C33)*(komaar2=D$37),0),71))","v":""},{"$f":"IF($C33=0,\"\",INDEX(Data_kom2,MATCH(1,(komnavn2=$C33)*(komaar2=D$37),0),72))","v":""},{"$f":"IF($C33=0,\"\",INDEX(Data_kom2,MATCH(1,(komnavn2=$C33)*(komaar2=D$37),0),75))","v":""},{"$f":"IF($C33=0,\"\",INDEX(Data_komoek,MATCH(1,(komnavn=$C33)*(komaar=$F$37),0),3))","v":""},{"$f":"IF($C33=0,\"\",INDEX(Data_komoek,MATCH(1,(komnavn=$C33)*(komaar=$F$37),0),6))","v":""},{"$f":"IF($C33=0,\"\",INDEX(Data_komoek,MATCH(1,(komnavn=$C33)*(komaar=$F$37),0),9))","v":""},{"$f":"IF($C33=0,\"\",INDEX(Data_komoek,MATCH(1,(komnavn=$C33)*(komaar=$F$37),0),12))","v":""},{"$f":"IF($C33=0,\"\",INDEX(Data_komoek,MATCH(1,(komnavn=$C33)*(komaar=$F$37),0),15))","v":""},{"$f":"IF($C33=0,\"\",INDEX(Data_komoek,MATCH(1,(komnavn=$C33)*(komaar=$F$37),0),18))","v":""},{"$f":"IF($C33=0,\"\",INDEX(Data_komoek,MATCH(1,(komnavn=$C33)*(komaar=$F$37),0),21))","v":""}]
[null,null,null,{"$f":"IF($C34=0,\"\",INDEX(Data_kom2,MATCH(1,(komnavn2=$C34)*(komaar2=D$37),0),4))","v":""},{"$f":"IF($C34=0,\"\",INDEX(Data_kom2,MATCH(1,(komnavn2=$C34)*(komaar2=D$37),0),7))","v":""},{"$f":"IF($C34=0,\"\",INDEX(Data_kom2,MATCH(1,(komnavn2=$C34)*(komaar2=D$37),0),8))","v":""},{"$f":"IF($C34=0,\"\",INDEX(Data_kom2,MATCH(1,(komnavn2=$C34)*(komaar2=D$37),0),11))","v":""},{"$f":"IF($C34=0,\"\",INDEX(Data_kom2,MATCH(1,(komnavn2=$C34)*(komaar2=D$37),0),12))","v":""},{"$f":"IF($C34=0,\"\",INDEX(Data_kom2,MATCH(1,(komnavn2=$C34)*(komaar2=D$37),0),15))","v":""},{"$f":"IF($C34=0,\"\",INDEX(Data_kom2,MATCH(1,(komnavn2=$C34)*(komaar2=D$37),0),16))","v":""},{"$f":"IF($C34=0,\"\",INDEX(Data_kom2,MATCH(1,(komnavn2=$C34)*(komaar2=D$37),0),19))","v":""},{"$f":"IF($C34=0,\"\",INDEX(Data_kom2,MATCH(1,(komnavn2=$C34)*(komaar2=D$37),0),20))","v":""},{"$f":"IF($C34=0,\"\",INDEX(Data_kom2,MATCH(1,(komnavn2=$C34)*(komaar2=D$37),0),23))","v":""},{"$f":"IF($C34=0,\"\",INDEX(Data_kom2,MATCH(1,(komnavn2=$C34)*(komaar2=D$37),0),24))","v":""},{"$f":"IF($C34=0,\"\",INDEX(Data_kom2,MATCH(1,(komnavn2=$C34)*(komaar2=D$37),0),27))","v":""},{"$f":"IF($C34=0,\"\",INDEX(Data_kom2,MATCH(1,(komnavn2=$C34)*(komaar2=D$37),0),28))","v":""},{"$f":"IF($C34=0,\"\",INDEX(Data_kom2,MATCH(1,(komnavn2=$C34)*(komaar2=D$37),0),31))","v":""},{"$f":"IF($C34=0,\"\",INDEX(Data_kom2,MATCH(1,(komnavn2=$C34)*(komaar2=D$37),0),32))","v":""},{"$f":"IF($C34=0,\"\",INDEX(Data_kom2,MATCH(1,(komnavn2=$C34)*(komaar2=D$37),0),35))","v":""},{"$f":"IF($C34=0,\"\",INDEX(Data_kom2,MATCH(1,(komnavn2=$C34)*(komaar2=D$37),0),36))","v":""},{"$f":"IF($C34=0,\"\",INDEX(Data_kom2,MATCH(1,(komnavn2=$C34)*(komaar2=D$37),0),39))","v":""},{"$f":"IF(C34=0,\"\",INDEX(Data_kom2,MATCH(1,(komnavn2=C34)*(komaar2=D$37),0),40))","v":""},{"$f":"IF($C34=0,\"\",INDEX(Data_kom2,MATCH(1,(komnavn2=$C34)*(komaar2=D$37),0),43))","v":""},{"$f":"IF($C34=0,\"\",INDEX(Data_kom2,MATCH(1,(komnavn2=$C34)*(komaar2=D$37),0),44))","v":""},{"$f":"IF($C34=0,\"\",INDEX(Data_kom2,MATCH(1,(komnavn2=$C34)*(komaar2=D$37),0),47))","v":""},{"$f":"IF($C34=0,\"\",INDEX(Data_kom2,MATCH(1,(komnavn2=$C34)*(komaar2=D$37),0),48))","v":""},{"$f":"IF($C34=0,\"\",INDEX(Data_kom2,MATCH(1,(komnavn2=$C34)*(komaar2=D$37),0),51))","v":""},{"$f":"IF($C34=0,\"\",INDEX(Data_kom2,MATCH(1,(komnavn2=$C34)*(komaar2=D$37),0),52))","v":""},{"$f":"IF($C34=0,\"\",INDEX(Data_kom2,MATCH(1,(komnavn2=$C34)*(komaar2=D$37),0),55))","v":""},{"$f":"IF($C34=0,\"\",INDEX(Data_kom2,MATCH(1,(komnavn2=$C34)*(komaar2=D$37),0),56))","v":""},{"$f":"IF($C34=0,\"\",INDEX(Data_kom2,MATCH(1,(komnavn2=$C34)*(komaar2=D$37),0),59))","v":""},{"$f":"IF($C34=0,\"\",INDEX(Data_kom2,MATCH(1,(komnavn2=$C34)*(komaar2=D$37),0),60))","v":""},{"$f":"IF($C34=0,\"\",INDEX(Data_kom2,MATCH(1,(komnavn2=$C34)*(komaar2=D$37),0),63))","v":""},{"$f":"IF($C34=0,\"\",INDEX(Data_kom2,MATCH(1,(komnavn2=$C34)*(komaar2=D$37),0),64))","v":""},{"$f":"IF($C34=0,\"\",INDEX(Data_kom2,MATCH(1,(komnavn2=$C34)*(komaar2=D$37),0),67))","v":""},{"$f":"IF($C34=0,\"\",INDEX(Data_kom2,MATCH(1,(komnavn2=$C34)*(komaar2=D$37),0),68))","v":""},{"$f":"IF($C34=0,\"\",INDEX(Data_kom2,MATCH(1,(komnavn2=$C34)*(komaar2=D$37),0),71))","v":""},{"$f":"IF($C34=0,\"\",INDEX(Data_kom2,MATCH(1,(komnavn2=$C34)*(komaar2=D$37),0),72))","v":""},{"$f":"IF($C34=0,\"\",INDEX(Data_kom2,MATCH(1,(komnavn2=$C34)*(komaar2=D$37),0),75))","v":""},{"$f":"IF($C34=0,\"\",INDEX(Data_komoek,MATCH(1,(komnavn=$C34)*(komaar=$F$37),0),3))","v":""},{"$f":"IF($C34=0,\"\",INDEX(Data_komoek,MATCH(1,(komnavn=$C34)*(komaar=$F$37),0),6))","v":""},{"$f":"IF($C34=0,\"\",INDEX(Data_komoek,MATCH(1,(komnavn=$C34)*(komaar=$F$37),0),9))","v":""},{"$f":"IF($C34=0,\"\",INDEX(Data_komoek,MATCH(1,(komnavn=$C34)*(komaar=$F$37),0),12))","v":""},{"$f":"IF($C34=0,\"\",INDEX(Data_komoek,MATCH(1,(komnavn=$C34)*(komaar=$F$37),0),15))","v":""},{"$f":"IF($C34=0,\"\",INDEX(Data_komoek,MATCH(1,(komnavn=$C34)*(komaar=$F$37),0),18))","v":""},{"$f":"IF($C34=0,\"\",INDEX(Data_komoek,MATCH(1,(komnavn=$C34)*(komaar=$F$37),0),21))","v":""}]
[]
[]
[null,null,null,20201]
[null,null,null,"Nøgletal 1: Modtagere af længerevarende botilbud",null,"Nøgletal 2: Modtagere af botilbudslignende tilbud",null,"Nøgletal 3: Modtagere af midlertidigt botilbud",null,"Nøgletal 4: Modtagere af socialpædagogisk støtte",null,"Nøgletal 5: Modtagere af beskyttet beskæftigelse og aktivitets- og samværstilbud",null,"Nøgletal 6: Modtagere af forebyggende indsatser",null,"Nøgletal 7: Flytninger fra botilbud",null,"Nøgletal 7.1: Flytninger fra længerevarende botilbud og lignende til midlertidigt botilbud",null,"Antal institutionsanbragte 0-17 årige pr. forrige kvartal",null,"0-17 årige, der ved sidste opgørelse var institutionsanbragt, men nu er anbragt i anden form",null,"Nøgletal 8: Fra socialpædagogisk støtte og ned af trappen",null,"Nøgletal 9: Fra forebyggende indsatser og ned af trappen",null,"Nøgletal 10: Fra forebyggende indsatser og op af trappen",null,"Nøgletal 11: Uddannelsesgrad",null,"Nøgletal 12: Beskæftigelsesgrad",null,"Nøgletal 12.1: Beskæftigelsesgrad for modtagere af forebyggende indsatser",null,"Nøgletal 12.2: Beskæftigelsesgrad for den øvrige målgruppe",null,"Nøgletal 18: Genindlæggelser",null,"Nøgletal 19: Udgifter til forebyggende indsatser ift. udgifter til støttende indsatser","Udgiftsandel til længerevarende botilbud","Udgiftsandel til botilbudslignende tilbud","Udgiftsandel til midlertidige botilbud","Udgiftsandel til socialpædagogisk støtte","Udgiftsandel til beskyttet beskæftigelse og aktivitets- og samværstilbud","Udgiftsandel til forebyggende indsatser"]
[null,null,null,1,null,2,null,3,null,4,null,5,null,6,null,7,null,"7.1",null,"7.2",null,"7.3",null,8,null,9,null,10,null,11,null,12,null,"12.1",null,"12.2",null,18,null,19,"20.1","20.2","20.3","20.4","20.5","20.6"]
[null,null,{"$f":"'Dine valg'!K8","v":"Allerød"},{"$f":"IF(C52=0,\"\",INDEX(Data_kom2,MATCH(1,(komnavn2=C52)*(komaar2=D$49),0),4))","v":8},{"$f":"IF($C52=0,\"\",INDEX(Data_kom2,MATCH(1,(komnavn2=C52)*(komaar2=D$49),0),7))","v":30},{"$f":"IF(C52=0,\"\",INDEX(Data_kom2,MATCH(1,(komnavn2=C52)*(komaar2=D$49),0),8))","v":0},{"$f":"IF($C52=0,\"\",INDEX(Data_kom2,MATCH(1,(komnavn2=$C52)*(komaar2=D$49),0),11))","v":30},{"$f":"IF(C52=0,\"\",INDEX(Data_kom2,MATCH(1,(komnavn2=C52)*(komaar2=D$49),0),12))","v":0},{"$f":"IF($C52=0,\"\",INDEX(Data_kom2,MATCH(1,(komnavn2=$C52)*(komaar2=D$49),0),15))","v":30},{"$f":"IF(C52=0,\"\",INDEX(Data_kom2,MATCH(1,(komnavn2=C52)*(komaar2=D$49),0),16))","v":15},{"$f":"IF($C52=0,\"\",INDEX(Data_kom2,MATCH(1,(komnavn2=$C52)*(komaar2=D$49),0),19))","v":30},{"$f":"IF(C52=0,\"\",INDEX(Data_kom2,MATCH(1,(komnavn2=C52)*(komaar2=D$49),0),20))","v":0},{"$f":"IF($C52=0,\"\",INDEX(Data_kom2,MATCH(1,(komnavn2=$C52)*(komaar2=D$49),0),23))","v":30},{"$f":"IF(C52=0,\"\",INDEX(Data_kom2,MATCH(1,(komnavn2=C52)*(komaar2=D$49),0),24))","v":0},{"$f":"IF($C52=0,\"\",INDEX(Data_kom2,MATCH(1,(komnavn2=$C52)*(komaar2=D$49),0),27))","v":30},{"$f":"IF(C52=0,\"\",INDEX(Data_kom2,MATCH(1,(komnavn2=C52)*(komaar2=D$49),0),28))","v":0},{"$f":"IF($C52=0,\"\",INDEX(Data_kom2,MATCH(1,(komnavn2=$C52)*(komaar2=D$49),0),31))","v":0},{"$f":"IF(C52=0,\"\",INDEX(Data_kom2,MATCH(1,(komnavn2=C52)*(komaar2=D$49),0),32))","v":0},{"$f":"IF($C52=0,\"\",INDEX(Data_kom2,MATCH(1,(komnavn2=$C52)*(komaar2=D$49),0),35))","v":0},{"$f":"IF(C52=0,\"\",INDEX(Data_kom2,MATCH(1,(komnavn2=C52)*(komaar2=D$49),0),36))","v":0},{"$f":"IF($C52=0,\"\",INDEX(Data_kom2,MATCH(1,(komnavn2=$C52)*(komaar2=D$49),0),39))","v":0},{"$f":"IF(C52=0,\"\",INDEX(Data_kom2,MATCH(1,(komnavn2=C52)*(komaar2=D$49),0),40))","v":0},{"$f":"IF($C52=0,\"\",INDEX(Data_kom2,MATCH(1,(komnavn2=$C52)*(komaar2=D$49),0),43))","v":0},{"$f":"IF($C52=0,\"\",INDEX(Data_kom2,MATCH(1,(komnavn2=$C52)*(komaar2=D$49),0),44))","v":0},{"$f":"IF($C52=0,\"\",INDEX(Data_kom2,MATCH(1,(komnavn2=$C52)*(komaar2=D$49),0),47))","v":13},{"$f":"IF($C52=0,\"\",INDEX(Data_kom2,MATCH(1,(komnavn2=$C52)*(komaar2=D$49),0),48))","v":0},{"$f":"IF($C52=0,\"\",INDEX(Data_kom2,MATCH(1,(komnavn2=$C52)*(komaar2=D$49),0),51))","v":0},{"$f":"IF($C52=0,\"\",INDEX(Data_kom2,MATCH(1,(komnavn2=$C52)*(komaar2=D$49),0),52))","v":0},{"$f":"IF($C52=0,\"\",INDEX(Data_kom2,MATCH(1,(komnavn2=$C52)*(komaar2=D$49),0),55))","v":0},{"$f":"IF($C52=0,\"\",INDEX(Data_kom2,MATCH(1,(komnavn2=$C52)*(komaar2=D$49),0),56))","v":0},{"$f":"IF($C52=0,\"\",INDEX(Data_kom2,MATCH(1,(komnavn2=$C52)*(komaar2=D$49),0),59))","v":30},{"$f":"IF($C52=0,\"\",INDEX(Data_kom2,MATCH(1,(komnavn2=$C52)*(komaar2=D$49),0),60))","v":0.15064102564102599},{"$f":"IF($C52=0,\"\",INDEX(Data_kom2,MATCH(1,(komnavn2=$C52)*(komaar2=D$49),0),63))","v":30},{"$f":"IF($C52=0,\"\",INDEX(Data_kom2,MATCH(1,(komnavn2=$C52)*(komaar2=D$49),0),64))","v":0},{"$f":"IF($C52=0,\"\",INDEX(Data_kom2,MATCH(1,(komnavn2=$C52)*(komaar2=D$49),0),67))","v":0},{"$f":"IF($C52=0,\"\",INDEX(Data_kom2,MATCH(1,(komnavn2=$C52)*(komaar2=D$49),0),68))","v":0.15064102564102599},{"$f":"IF($C52=0,\"\",INDEX(Data_kom2,MATCH(1,(komnavn2=$C52)*(komaar2=D$49),0),71))","v":0},{"$f":"IF($C52=0,\"\",INDEX(Data_kom2,MATCH(1,(komnavn2=$C52)*(komaar2=D$49),0),72))","v":0.83333333333333304},{"$f":"IF($C52=0,\"\",INDEX(Data_kom2,MATCH(1,(komnavn2=$C52)*(komaar2=D$49),0),75))","v":30}]
[null,null,{"$f":"'Dine valg'!K9","v":"Assens"},{"$f":"IF(C53=0,\"\",INDEX(Data_kom2,MATCH(1,(komnavn2=C53)*(komaar2=D$49),0),4))","v":6},{"$f":"IF($C53=0,\"\",INDEX(Data_kom2,MATCH(1,(komnavn2=C53)*(komaar2=D$49),0),7))","v":204},{"$f":"IF(C53=0,\"\",INDEX(Data_kom2,MATCH(1,(komnavn2=C53)*(komaar2=D$49),0),8))","v":23},{"$f":"IF($C53=0,\"\",INDEX(Data_kom2,MATCH(1,(komnavn2=$C53)*(komaar2=D$49),0),11))","v":204},{"$f":"IF(C53=0,\"\",INDEX(Data_kom2,MATCH(1,(komnavn2=C53)*(komaar2=D$49),0),12))","v":22},{"$f":"IF($C53=0,\"\",INDEX(Data_kom2,MATCH(1,(komnavn2=$C53)*(komaar2=D$49),0),15))","v":204},{"$f":"IF(C53=0,\"\",INDEX(Data_kom2,MATCH(1,(komnavn2=C53)*(komaar2=D$49),0),16))","v":105},{"$f":"IF($C53=0,\"\",INDEX(Data_kom2,MATCH(1,(komnavn2=$C53)*(komaar2=D$49),0),19))","v":204},{"$f":"IF(C53=0,\"\",INDEX(Data_kom2,MATCH(1,(komnavn2=C53)*(komaar2=D$49),0),20))","v":45},{"$f":"IF($C53=0,\"\",INDEX(Data_kom2,MATCH(1,(komnavn2=$C53)*(komaar2=D$49),0),23))","v":204},{"$f":"IF(C53=0,\"\",INDEX(Data_kom2,MATCH(1,(komnavn2=C53)*(komaar2=D$49),0),24))","v":0},{"$f":"IF($C53=0,\"\",INDEX(Data_kom2,MATCH(1,(komnavn2=$C53)*(komaar2=D$49),0),27))","v":204},{"$f":"IF(C53=0,\"\",INDEX(Data_kom2,MATCH(1,(komnavn2=C53)*(komaar2=D$49),0),28))","v":5},{"$f":"IF($C53=0,\"\",INDEX(Data_kom2,MATCH(1,(komnavn2=$C53)*(komaar2=D$49),0),31))","v":53},{"$f":"IF(C53=0,\"\",INDEX(Data_kom2,MATCH(1,(komnavn2=C53)*(komaar2=D$49),0),32))","v":0},{"$f":"IF($C53=0,\"\",INDEX(Data_kom2,MATCH(1,(komnavn2=$C53)*(komaar2=D$49),0),35))","v":29},{"$f":"IF(C53=0,\"\",INDEX(Data_kom2,MATCH(1,(komnavn2=C53)*(komaar2=D$49),0),36))","v":0},{"$f":"IF($C53=0,\"\",INDEX(Data_kom2,MATCH(1,(komnavn2=$C53)*(komaar2=D$49),0),39))","v":29},{"$f":"IF(C53=0,\"\",INDEX(Data_kom2,MATCH(1,(komnavn2=C53)*(komaar2=D$49),0),40))","v":0},{"$f":"IF($C53=0,\"\",INDEX(Data_kom2,MATCH(1,(komnavn2=$C53)*(komaar2=D$49),0),43))","v":24},{"$f":"IF($C53=0,\"\",INDEX(Data_kom2,MATCH(1,(komnavn2=$C53)*(komaar2=D$49),0),44))","v":6},{"$f":"IF($C53=0,\"\",INDEX(Data_kom2,MATCH(1,(komnavn2=$C53)*(komaar2=D$49),0),47))","v":91},{"$f":"IF($C53=0,\"\",INDEX(Data_kom2,MATCH(1,(komnavn2=$C53)*(komaar2=D$49),0),48))","v":0},{"$f":"IF($C53=0,\"\",INDEX(Data_kom2,MATCH(1,(komnavn2=$C53)*(komaar2=D$49),0),51))","v":0},{"$f":"IF($C53=0,\"\",INDEX(Data_kom2,MATCH(1,(komnavn2=$C53)*(komaar2=D$49),0),52))","v":0},{"$f":"IF($C53=0,\"\",INDEX(Data_kom2,MATCH(1,(komnavn2=$C53)*(komaar2=D$49),0),55))","v":0},{"$f":"IF($C53=0,\"\",INDEX(Data_kom2,MATCH(1,(komnavn2=$C53)*(komaar2=D$49),0),56))","v":1.17835595776772E-2},{"$f":"IF($C53=0,\"\",INDEX(Data_kom2,MATCH(1,(komnavn2=$C53)*(komaar2=D$49),0),59))","v":204},{"$f":"IF($C53=0,\"\",INDEX(Data_kom2,MATCH(1,(komnavn2=$C53)*(komaar2=D$49),0),60))","v":4.1195324283559598E-2},{"$f":"IF($C53=0,\"\",INDEX(Data_kom2,MATCH(1,(komnavn2=$C53)*(komaar2=D$49),0),63))","v":204},{"$f":"IF($C53=0,\"\",INDEX(Data_kom2,MATCH(1,(komnavn2=$C53)*(komaar2=D$49),0),64))","v":0},{"$f":"IF($C53=0,\"\",INDEX(Data_kom2,MATCH(1,(komnavn2=$C53)*(komaar2=D$49),0),67))","v":0},{"$f":"IF($C53=0,\"\",INDEX(Data_kom2,MATCH(1,(komnavn2=$C53)*(komaar2=D$49),0),68))","v":4.1195324283559598E-2},{"$f":"IF($C53=0,\"\",INDEX(Data_kom2,MATCH(1,(komnavn2=$C53)*(komaar2=D$49),0),71))","v":204},{"$f":"IF($C53=0,\"\",INDEX(Data_kom2,MATCH(1,(komnavn2=$C53)*(komaar2=D$49),0),72))","v":0.39534883720930197},{"$f":"IF($C53=0,\"\",INDEX(Data_kom2,MATCH(1,(komnavn2=$C53)*(komaar2=D$49),0),75))","v":204}]
[null,null,{"$f":"'Dine valg'!K10","v":"Ballerup"},{"$f":"IF(C54=0,\"\",INDEX(Data_kom2,MATCH(1,(komnavn2=C54)*(komaar2=D$49),0),4))","v":22},{"$f":"IF($C54=0,\"\",INDEX(Data_kom2,MATCH(1,(komnavn2=C54)*(komaar2=D$49),0),7))","v":253},{"$f":"IF(C54=0,\"\",INDEX(Data_kom2,MATCH(1,(komnavn2=C54)*(komaar2=D$49),0),8))","v":17},{"$f":"IF($C54=0,\"\",INDEX(Data_kom2,MATCH(1,(komnavn2=$C54)*(komaar2=D$49),0),11))","v":253},{"$f":"IF(C54=0,\"\",INDEX(Data_kom2,MATCH(1,(komnavn2=C54)*(komaar2=D$49),0),12))","v":36},{"$f":"IF($C54=0,\"\",INDEX(Data_kom2,MATCH(1,(komnavn2=$C54)*(komaar2=D$49),0),15))","v":253},{"$f":"IF(C54=0,\"\",INDEX(Data_kom2,MATCH(1,(komnavn2=C54)*(komaar2=D$49),0),16))","v":152},{"$f":"IF($C54=0,\"\",INDEX(Data_kom2,MATCH(1,(komnavn2=$C54)*(komaar2=D$49),0),19))","v":253},{"$f":"IF(C54=0,\"\",INDEX(Data_kom2,MATCH(1,(komnavn2=C54)*(komaar2=D$49),0),20))","v":20},{"$f":"IF($C54=0,\"\",INDEX(Data_kom2,MATCH(1,(komnavn2=$C54)*(komaar2=D$49),0),23))","v":253},{"$f":"IF(C54=0,\"\",INDEX(Data_kom2,MATCH(1,(komnavn2=C54)*(komaar2=D$49),0),24))","v":0},{"$f":"IF($C54=0,\"\",INDEX(Data_kom2,MATCH(1,(komnavn2=$C54)*(komaar2=D$49),0),27))","v":253},{"$f":"IF(C54=0,\"\",INDEX(Data_kom2,MATCH(1,(komnavn2=C54)*(komaar2=D$49),0),28))","v":4},{"$f":"IF($C54=0,\"\",INDEX(Data_kom2,MATCH(1,(komnavn2=$C54)*(komaar2=D$49),0),31))","v":73},{"$f":"IF(C54=0,\"\",INDEX(Data_kom2,MATCH(1,(komnavn2=C54)*(komaar2=D$49),0),32))","v":0},{"$f":"IF($C54=0,\"\",INDEX(Data_kom2,MATCH(1,(komnavn2=$C54)*(komaar2=D$49),0),35))","v":38},{"$f":"IF(C54=0,\"\",INDEX(Data_kom2,MATCH(1,(komnavn2=C54)*(komaar2=D$49),0),36))","v":0},{"$f":"IF($C54=0,\"\",INDEX(Data_kom2,MATCH(1,(komnavn2=$C54)*(komaar2=D$49),0),39))","v":38},{"$f":"IF(C54=0,\"\",INDEX(Data_kom2,MATCH(1,(komnavn2=C54)*(komaar2=D$49),0),40))","v":0},{"$f":"IF($C54=0,\"\",INDEX(Data_kom2,MATCH(1,(komnavn2=$C54)*(komaar2=D$49),0),43))","v":35},{"$f":"IF($C54=0,\"\",INDEX(Data_kom2,MATCH(1,(komnavn2=$C54)*(komaar2=D$49),0),44))","v":25},{"$f":"IF($C54=0,\"\",INDEX(Data_kom2,MATCH(1,(komnavn2=$C54)*(komaar2=D$49),0),47))","v":169},{"$f":"IF($C54=0,\"\",INDEX(Data_kom2,MATCH(1,(komnavn2=$C54)*(komaar2=D$49),0),48))","v":0},{"$f":"IF($C54=0,\"\",INDEX(Data_kom2,MATCH(1,(komnavn2=$C54)*(komaar2=D$49),0),51))","v":0},{"$f":"IF($C54=0,\"\",INDEX(Data_kom2,MATCH(1,(komnavn2=$C54)*(komaar2=D$49),0),52))","v":0},{"$f":"IF($C54=0,\"\",INDEX(Data_kom2,MATCH(1,(komnavn2=$C54)*(komaar2=D$49),0),55))","v":0},{"$f":"IF($C54=0,\"\",INDEX(Data_kom2,MATCH(1,(komnavn2=$C54)*(komaar2=D$49),0),56))","v":2.27272727272727E-2},{"$f":"IF($C54=0,\"\",INDEX(Data_kom2,MATCH(1,(komnavn2=$C54)*(komaar2=D$49),0),59))","v":253},{"$f":"IF($C54=0,\"\",INDEX(Data_kom2,MATCH(1,(komnavn2=$C54)*(komaar2=D$49),0),60))","v":5.8072362420188497E-2},{"$f":"IF($C54=0,\"\",INDEX(Data_kom2,MATCH(1,(komnavn2=$C54)*(komaar2=D$49),0),63))","v":253},{"$f":"IF($C54=0,\"\",INDEX(Data_kom2,MATCH(1,(komnavn2=$C54)*(komaar2=D$49),0),64))","v":0},{"$f":"IF($C54=0,\"\",INDEX(Data_kom2,MATCH(1,(komnavn2=$C54)*(komaar2=D$49),0),67))","v":0},{"$f":"IF($C54=0,\"\",INDEX(Data_kom2,MATCH(1,(komnavn2=$C54)*(komaar2=D$49),0),68))","v":5.8072362420188497E-2},{"$f":"IF($C54=0,\"\",INDEX(Data_kom2,MATCH(1,(komnavn2=$C54)*(komaar2=D$49),0),71))","v":253},{"$f":"IF($C54=0,\"\",INDEX(Data_kom2,MATCH(1,(komnavn2=$C54)*(komaar2=D$49),0),72))","v":0.44262295081967201},{"$f":"IF($C54=0,\"\",INDEX(Data_kom2,MATCH(1,(komnavn2=$C54)*(komaar2=D$49),0),75))","v":253}]
[null,null,{"$f":"'Dine valg'!K11","v":0},{"$f":"IF(C55=0,\"\",INDEX(Data_kom2,MATCH(1,(komnavn2=C55)*(komaar2=D$49),0),4))","v":""},{"$f":"IF($C55=0,\"\",INDEX(Data_kom2,MATCH(1,(komnavn2=C55)*(komaar2=D$49),0),7))","v":""},{"$f":"IF(C55=0,\"\",INDEX(Data_kom2,MATCH(1,(komnavn2=C55)*(komaar2=D$49),0),8))","v":""},{"$f":"IF($C55=0,\"\",INDEX(Data_kom2,MATCH(1,(komnavn2=$C55)*(komaar2=D$49),0),11))","v":""},{"$f":"IF(C55=0,\"\",INDEX(Data_kom2,MATCH(1,(komnavn2=C55)*(komaar2=D$49),0),12))","v":""},{"$f":"IF($C55=0,\"\",INDEX(Data_kom2,MATCH(1,(komnavn2=$C55)*(komaar2=D$49),0),15))","v":""},{"$f":"IF(C55=0,\"\",INDEX(Data_kom2,MATCH(1,(komnavn2=C55)*(komaar2=D$49),0),16))","v":""},{"$f":"IF($C55=0,\"\",INDEX(Data_kom2,MATCH(1,(komnavn2=$C55)*(komaar2=D$49),0),19))","v":""},{"$f":"IF(C55=0,\"\",INDEX(Data_kom2,MATCH(1,(komnavn2=C55)*(komaar2=D$49),0),20))","v":""},{"$f":"IF($C55=0,\"\",INDEX(Data_kom2,MATCH(1,(komnavn2=$C55)*(komaar2=D$49),0),23))","v":""},{"$f":"IF(C55=0,\"\",INDEX(Data_kom2,MATCH(1,(komnavn2=C55)*(komaar2=D$49),0),24))","v":""},{"$f":"IF($C55=0,\"\",INDEX(Data_kom2,MATCH(1,(komnavn2=$C55)*(komaar2=D$49),0),27))","v":""},{"$f":"IF(C55=0,\"\",INDEX(Data_kom2,MATCH(1,(komnavn2=C55)*(komaar2=D$49),0),28))","v":""},{"$f":"IF($C55=0,\"\",INDEX(Data_kom2,MATCH(1,(komnavn2=$C55)*(komaar2=D$49),0),31))","v":""},{"$f":"IF(C55=0,\"\",INDEX(Data_kom2,MATCH(1,(komnavn2=C55)*(komaar2=D$49),0),32))","v":""},{"$f":"IF($C55=0,\"\",INDEX(Data_kom2,MATCH(1,(komnavn2=$C55)*(komaar2=D$49),0),35))","v":""},{"$f":"IF(C55=0,\"\",INDEX(Data_kom2,MATCH(1,(komnavn2=C55)*(komaar2=D$49),0),36))","v":""},{"$f":"IF($C55=0,\"\",INDEX(Data_kom2,MATCH(1,(komnavn2=$C55)*(komaar2=D$49),0),39))","v":""},{"$f":"IF(C55=0,\"\",INDEX(Data_kom2,MATCH(1,(komnavn2=C55)*(komaar2=D$49),0),40))","v":""},{"$f":"IF($C55=0,\"\",INDEX(Data_kom2,MATCH(1,(komnavn2=$C55)*(komaar2=D$49),0),43))","v":""},{"$f":"IF($C55=0,\"\",INDEX(Data_kom2,MATCH(1,(komnavn2=$C55)*(komaar2=D$49),0),44))","v":""},{"$f":"IF($C55=0,\"\",INDEX(Data_kom2,MATCH(1,(komnavn2=$C55)*(komaar2=D$49),0),47))","v":""},{"$f":"IF($C55=0,\"\",INDEX(Data_kom2,MATCH(1,(komnavn2=$C55)*(komaar2=D$49),0),48))","v":""},{"$f":"IF($C55=0,\"\",INDEX(Data_kom2,MATCH(1,(komnavn2=$C55)*(komaar2=D$49),0),51))","v":""},{"$f":"IF($C55=0,\"\",INDEX(Data_kom2,MATCH(1,(komnavn2=$C55)*(komaar2=D$49),0),52))","v":""},{"$f":"IF($C55=0,\"\",INDEX(Data_kom2,MATCH(1,(komnavn2=$C55)*(komaar2=D$49),0),55))","v":""},{"$f":"IF($C55=0,\"\",INDEX(Data_kom2,MATCH(1,(komnavn2=$C55)*(komaar2=D$49),0),56))","v":""},{"$f":"IF($C55=0,\"\",INDEX(Data_kom2,MATCH(1,(komnavn2=$C55)*(komaar2=D$49),0),59))","v":""},{"$f":"IF($C55=0,\"\",INDEX(Data_kom2,MATCH(1,(komnavn2=$C55)*(komaar2=D$49),0),60))","v":""},{"$f":"IF($C55=0,\"\",INDEX(Data_kom2,MATCH(1,(komnavn2=$C55)*(komaar2=D$49),0),63))","v":""},{"$f":"IF($C55=0,\"\",INDEX(Data_kom2,MATCH(1,(komnavn2=$C55)*(komaar2=D$49),0),64))","v":""},{"$f":"IF($C55=0,\"\",INDEX(Data_kom2,MATCH(1,(komnavn2=$C55)*(komaar2=D$49),0),67))","v":""},{"$f":"IF($C55=0,\"\",INDEX(Data_kom2,MATCH(1,(komnavn2=$C55)*(komaar2=D$49),0),68))","v":""},{"$f":"IF($C55=0,\"\",INDEX(Data_kom2,MATCH(1,(komnavn2=$C55)*(komaar2=D$49),0),71))","v":""},{"$f":"IF($C55=0,\"\",INDEX(Data_kom2,MATCH(1,(komnavn2=$C55)*(komaar2=D$49),0),72))","v":""},{"$f":"IF($C55=0,\"\",INDEX(Data_kom2,MATCH(1,(komnavn2=$C55)*(komaar2=D$49),0),75))","v":""}]
[null,null,{"$f":"'Dine valg'!K12","v":0},{"$f":"IF(C56=0,\"\",INDEX(Data_kom2,MATCH(1,(komnavn2=C56)*(komaar2=D$49),0),4))","v":""},{"$f":"IF($C56=0,\"\",INDEX(Data_kom2,MATCH(1,(komnavn2=C56)*(komaar2=D$49),0),7))","v":""},{"$f":"IF(C56=0,\"\",INDEX(Data_kom2,MATCH(1,(komnavn2=C56)*(komaar2=D$49),0),8))","v":""},{"$f":"IF($C56=0,\"\",INDEX(Data_kom2,MATCH(1,(komnavn2=$C56)*(komaar2=D$49),0),11))","v":""},{"$f":"IF(C56=0,\"\",INDEX(Data_kom2,MATCH(1,(komnavn2=C56)*(komaar2=D$49),0),12))","v":""},{"$f":"IF($C56=0,\"\",INDEX(Data_kom2,MATCH(1,(komnavn2=$C56)*(komaar2=D$49),0),15))","v":""},{"$f":"IF(C56=0,\"\",INDEX(Data_kom2,MATCH(1,(komnavn2=C56)*(komaar2=D$49),0),16))","v":""},{"$f":"IF($C56=0,\"\",INDEX(Data_kom2,MATCH(1,(komnavn2=$C56)*(komaar2=D$49),0),19))","v":""},{"$f":"IF(C56=0,\"\",INDEX(Data_kom2,MATCH(1,(komnavn2=C56)*(komaar2=D$49),0),20))","v":""},{"$f":"IF($C56=0,\"\",INDEX(Data_kom2,MATCH(1,(komnavn2=$C56)*(komaar2=D$49),0),23))","v":""},{"$f":"IF(C56=0,\"\",INDEX(Data_kom2,MATCH(1,(komnavn2=C56)*(komaar2=D$49),0),24))","v":""},{"$f":"IF($C56=0,\"\",INDEX(Data_kom2,MATCH(1,(komnavn2=$C56)*(komaar2=D$49),0),27))","v":""},{"$f":"IF(C56=0,\"\",INDEX(Data_kom2,MATCH(1,(komnavn2=C56)*(komaar2=D$49),0),28))","v":""},{"$f":"IF($C56=0,\"\",INDEX(Data_kom2,MATCH(1,(komnavn2=$C56)*(komaar2=D$49),0),31))","v":""},{"$f":"IF(C56=0,\"\",INDEX(Data_kom2,MATCH(1,(komnavn2=C56)*(komaar2=D$49),0),32))","v":""},{"$f":"IF($C56=0,\"\",INDEX(Data_kom2,MATCH(1,(komnavn2=$C56)*(komaar2=D$49),0),35))","v":""},{"$f":"IF(C56=0,\"\",INDEX(Data_kom2,MATCH(1,(komnavn2=C56)*(komaar2=D$49),0),36))","v":""},{"$f":"IF($C56=0,\"\",INDEX(Data_kom2,MATCH(1,(komnavn2=$C56)*(komaar2=D$49),0),39))","v":""},{"$f":"IF(C56=0,\"\",INDEX(Data_kom2,MATCH(1,(komnavn2=C56)*(komaar2=D$49),0),40))","v":""},{"$f":"IF($C56=0,\"\",INDEX(Data_kom2,MATCH(1,(komnavn2=$C56)*(komaar2=D$49),0),43))","v":""},{"$f":"IF($C56=0,\"\",INDEX(Data_kom2,MATCH(1,(komnavn2=$C56)*(komaar2=D$49),0),44))","v":""},{"$f":"IF($C56=0,\"\",INDEX(Data_kom2,MATCH(1,(komnavn2=$C56)*(komaar2=D$49),0),47))","v":""},{"$f":"IF($C56=0,\"\",INDEX(Data_kom2,MATCH(1,(komnavn2=$C56)*(komaar2=D$49),0),48))","v":""},{"$f":"IF($C56=0,\"\",INDEX(Data_kom2,MATCH(1,(komnavn2=$C56)*(komaar2=D$49),0),51))","v":""},{"$f":"IF($C56=0,\"\",INDEX(Data_kom2,MATCH(1,(komnavn2=$C56)*(komaar2=D$49),0),52))","v":""},{"$f":"IF($C56=0,\"\",INDEX(Data_kom2,MATCH(1,(komnavn2=$C56)*(komaar2=D$49),0),55))","v":""},{"$f":"IF($C56=0,\"\",INDEX(Data_kom2,MATCH(1,(komnavn2=$C56)*(komaar2=D$49),0),56))","v":""},{"$f":"IF($C56=0,\"\",INDEX(Data_kom2,MATCH(1,(komnavn2=$C56)*(komaar2=D$49),0),59))","v":""},{"$f":"IF($C56=0,\"\",INDEX(Data_kom2,MATCH(1,(komnavn2=$C56)*(komaar2=D$49),0),60))","v":""},{"$f":"IF($C56=0,\"\",INDEX(Data_kom2,MATCH(1,(komnavn2=$C56)*(komaar2=D$49),0),63))","v":""},{"$f":"IF($C56=0,\"\",INDEX(Data_kom2,MATCH(1,(komnavn2=$C56)*(komaar2=D$49),0),64))","v":""},{"$f":"IF($C56=0,\"\",INDEX(Data_kom2,MATCH(1,(komnavn2=$C56)*(komaar2=D$49),0),67))","v":""},{"$f":"IF($C56=0,\"\",INDEX(Data_kom2,MATCH(1,(komnavn2=$C56)*(komaar2=D$49),0),68))","v":""},{"$f":"IF($C56=0,\"\",INDEX(Data_kom2,MATCH(1,(komnavn2=$C56)*(komaar2=D$49),0),71))","v":""},{"$f":"IF($C56=0,\"\",INDEX(Data_kom2,MATCH(1,(komnavn2=$C56)*(komaar2=D$49),0),72))","v":""},{"$f":"IF($C56=0,\"\",INDEX(Data_kom2,MATCH(1,(komnavn2=$C56)*(komaar2=D$49),0),75))","v":""},null,null,null,null,null,null,{"$f":"IF(C56=0,\"\",INDEX(Data_kom2,MATCH(1,(komnavn2=C56)*(komaar2=D$1),0),14))","v":""}]
[null,null,{"$f":"'Dine valg'!K13","v":0},{"$f":"IF(C57=0,\"\",INDEX(Data_kom2,MATCH(1,(komnavn2=C57)*(komaar2=D$49),0),4))","v":""},{"$f":"IF($C57=0,\"\",INDEX(Data_kom2,MATCH(1,(komnavn2=C57)*(komaar2=D$49),0),7))","v":""},{"$f":"IF(C57=0,\"\",INDEX(Data_kom2,MATCH(1,(komnavn2=C57)*(komaar2=D$49),0),8))","v":""},{"$f":"IF($C57=0,\"\",INDEX(Data_kom2,MATCH(1,(komnavn2=$C57)*(komaar2=D$49),0),11))","v":""},{"$f":"IF(C57=0,\"\",INDEX(Data_kom2,MATCH(1,(komnavn2=C57)*(komaar2=D$49),0),12))","v":""},{"$f":"IF($C57=0,\"\",INDEX(Data_kom2,MATCH(1,(komnavn2=$C57)*(komaar2=D$49),0),15))","v":""},{"$f":"IF(C57=0,\"\",INDEX(Data_kom2,MATCH(1,(komnavn2=C57)*(komaar2=D$49),0),16))","v":""},{"$f":"IF($C57=0,\"\",INDEX(Data_kom2,MATCH(1,(komnavn2=$C57)*(komaar2=D$49),0),19))","v":""},{"$f":"IF(C57=0,\"\",INDEX(Data_kom2,MATCH(1,(komnavn2=C57)*(komaar2=D$49),0),20))","v":""},{"$f":"IF($C57=0,\"\",INDEX(Data_kom2,MATCH(1,(komnavn2=$C57)*(komaar2=D$49),0),23))","v":""},{"$f":"IF(C57=0,\"\",INDEX(Data_kom2,MATCH(1,(komnavn2=C57)*(komaar2=D$49),0),24))","v":""},{"$f":"IF($C57=0,\"\",INDEX(Data_kom2,MATCH(1,(komnavn2=$C57)*(komaar2=D$49),0),27))","v":""},{"$f":"IF(C57=0,\"\",INDEX(Data_kom2,MATCH(1,(komnavn2=C57)*(komaar2=D$49),0),28))","v":""},{"$f":"IF($C57=0,\"\",INDEX(Data_kom2,MATCH(1,(komnavn2=$C57)*(komaar2=D$49),0),31))","v":""},{"$f":"IF(C57=0,\"\",INDEX(Data_kom2,MATCH(1,(komnavn2=C57)*(komaar2=D$49),0),32))","v":""},{"$f":"IF($C57=0,\"\",INDEX(Data_kom2,MATCH(1,(komnavn2=$C57)*(komaar2=D$49),0),35))","v":""},{"$f":"IF(C57=0,\"\",INDEX(Data_kom2,MATCH(1,(komnavn2=C57)*(komaar2=D$49),0),36))","v":""},{"$f":"IF($C57=0,\"\",INDEX(Data_kom2,MATCH(1,(komnavn2=$C57)*(komaar2=D$49),0),39))","v":""},{"$f":"IF(C57=0,\"\",INDEX(Data_kom2,MATCH(1,(komnavn2=C57)*(komaar2=D$49),0),40))","v":""},{"$f":"IF($C57=0,\"\",INDEX(Data_kom2,MATCH(1,(komnavn2=$C57)*(komaar2=D$49),0),43))","v":""},{"$f":"IF($C57=0,\"\",INDEX(Data_kom2,MATCH(1,(komnavn2=$C57)*(komaar2=D$49),0),44))","v":""},{"$f":"IF($C57=0,\"\",INDEX(Data_kom2,MATCH(1,(komnavn2=$C57)*(komaar2=D$49),0),47))","v":""},{"$f":"IF($C57=0,\"\",INDEX(Data_kom2,MATCH(1,(komnavn2=$C57)*(komaar2=D$49),0),48))","v":""},{"$f":"IF($C57=0,\"\",INDEX(Data_kom2,MATCH(1,(komnavn2=$C57)*(komaar2=D$49),0),51))","v":""},{"$f":"IF($C57=0,\"\",INDEX(Data_kom2,MATCH(1,(komnavn2=$C57)*(komaar2=D$49),0),52))","v":""},{"$f":"IF($C57=0,\"\",INDEX(Data_kom2,MATCH(1,(komnavn2=$C57)*(komaar2=D$49),0),55))","v":""},{"$f":"IF($C57=0,\"\",INDEX(Data_kom2,MATCH(1,(komnavn2=$C57)*(komaar2=D$49),0),56))","v":""},{"$f":"IF($C57=0,\"\",INDEX(Data_kom2,MATCH(1,(komnavn2=$C57)*(komaar2=D$49),0),59))","v":""},{"$f":"IF($C57=0,\"\",INDEX(Data_kom2,MATCH(1,(komnavn2=$C57)*(komaar2=D$49),0),60))","v":""},{"$f":"IF($C57=0,\"\",INDEX(Data_kom2,MATCH(1,(komnavn2=$C57)*(komaar2=D$49),0),63))","v":""},{"$f":"IF($C57=0,\"\",INDEX(Data_kom2,MATCH(1,(komnavn2=$C57)*(komaar2=D$49),0),64))","v":""},{"$f":"IF($C57=0,\"\",INDEX(Data_kom2,MATCH(1,(komnavn2=$C57)*(komaar2=D$49),0),67))","v":""},{"$f":"IF($C57=0,\"\",INDEX(Data_kom2,MATCH(1,(komnavn2=$C57)*(komaar2=D$49),0),68))","v":""},{"$f":"IF($C57=0,\"\",INDEX(Data_kom2,MATCH(1,(komnavn2=$C57)*(komaar2=D$49),0),71))","v":""},{"$f":"IF($C57=0,\"\",INDEX(Data_kom2,MATCH(1,(komnavn2=$C57)*(komaar2=D$49),0),72))","v":""},{"$f":"IF($C57=0,\"\",INDEX(Data_kom2,MATCH(1,(komnavn2=$C57)*(komaar2=D$49),0),75))","v":""},null,null,null,null,null,null,{"$f":"IF(C57=0,\"\",INDEX(Data_kom2,MATCH(1,(komnavn2=C57)*(komaar2=D$1),0),14))","v":""}]
[null,null,{"$f":"'Dine valg'!K14","v":0},{"$f":"IF(C58=0,\"\",INDEX(Data_kom2,MATCH(1,(komnavn2=C58)*(komaar2=D$49),0),4))","v":""},{"$f":"IF($C58=0,\"\",INDEX(Data_kom2,MATCH(1,(komnavn2=C58)*(komaar2=D$49),0),7))","v":""},{"$f":"IF(C58=0,\"\",INDEX(Data_kom2,MATCH(1,(komnavn2=C58)*(komaar2=D$49),0),8))","v":""},{"$f":"IF($C58=0,\"\",INDEX(Data_kom2,MATCH(1,(komnavn2=$C58)*(komaar2=D$49),0),11))","v":""},{"$f":"IF(C58=0,\"\",INDEX(Data_kom2,MATCH(1,(komnavn2=C58)*(komaar2=D$49),0),12))","v":""},{"$f":"IF($C58=0,\"\",INDEX(Data_kom2,MATCH(1,(komnavn2=$C58)*(komaar2=D$49),0),15))","v":""},{"$f":"IF(C58=0,\"\",INDEX(Data_kom2,MATCH(1,(komnavn2=C58)*(komaar2=D$49),0),16))","v":""},{"$f":"IF($C58=0,\"\",INDEX(Data_kom2,MATCH(1,(komnavn2=$C58)*(komaar2=D$49),0),19))","v":""},{"$f":"IF(C58=0,\"\",INDEX(Data_kom2,MATCH(1,(komnavn2=C58)*(komaar2=D$49),0),20))","v":""},{"$f":"IF($C58=0,\"\",INDEX(Data_kom2,MATCH(1,(komnavn2=$C58)*(komaar2=D$49),0),23))","v":""},{"$f":"IF(C58=0,\"\",INDEX(Data_kom2,MATCH(1,(komnavn2=C58)*(komaar2=D$49),0),24))","v":""},{"$f":"IF($C58=0,\"\",INDEX(Data_kom2,MATCH(1,(komnavn2=$C58)*(komaar2=D$49),0),27))","v":""},{"$f":"IF(C58=0,\"\",INDEX(Data_kom2,MATCH(1,(komnavn2=C58)*(komaar2=D$49),0),28))","v":""},{"$f":"IF($C58=0,\"\",INDEX(Data_kom2,MATCH(1,(komnavn2=$C58)*(komaar2=D$49),0),31))","v":""},{"$f":"IF(C58=0,\"\",INDEX(Data_kom2,MATCH(1,(komnavn2=C58)*(komaar2=D$49),0),32))","v":""},{"$f":"IF($C58=0,\"\",INDEX(Data_kom2,MATCH(1,(komnavn2=$C58)*(komaar2=D$49),0),35))","v":""},{"$f":"IF(C58=0,\"\",INDEX(Data_kom2,MATCH(1,(komnavn2=C58)*(komaar2=D$49),0),36))","v":""},{"$f":"IF($C58=0,\"\",INDEX(Data_kom2,MATCH(1,(komnavn2=$C58)*(komaar2=D$49),0),39))","v":""},{"$f":"IF(C58=0,\"\",INDEX(Data_kom2,MATCH(1,(komnavn2=C58)*(komaar2=D$49),0),40))","v":""},{"$f":"IF($C58=0,\"\",INDEX(Data_kom2,MATCH(1,(komnavn2=$C58)*(komaar2=D$49),0),43))","v":""},{"$f":"IF($C58=0,\"\",INDEX(Data_kom2,MATCH(1,(komnavn2=$C58)*(komaar2=D$49),0),44))","v":""},{"$f":"IF($C58=0,\"\",INDEX(Data_kom2,MATCH(1,(komnavn2=$C58)*(komaar2=D$49),0),47))","v":""},{"$f":"IF($C58=0,\"\",INDEX(Data_kom2,MATCH(1,(komnavn2=$C58)*(komaar2=D$49),0),48))","v":""},{"$f":"IF($C58=0,\"\",INDEX(Data_kom2,MATCH(1,(komnavn2=$C58)*(komaar2=D$49),0),51))","v":""},{"$f":"IF($C58=0,\"\",INDEX(Data_kom2,MATCH(1,(komnavn2=$C58)*(komaar2=D$49),0),52))","v":""},{"$f":"IF($C58=0,\"\",INDEX(Data_kom2,MATCH(1,(komnavn2=$C58)*(komaar2=D$49),0),55))","v":""},{"$f":"IF($C58=0,\"\",INDEX(Data_kom2,MATCH(1,(komnavn2=$C58)*(komaar2=D$49),0),56))","v":""},{"$f":"IF($C58=0,\"\",INDEX(Data_kom2,MATCH(1,(komnavn2=$C58)*(komaar2=D$49),0),59))","v":""},{"$f":"IF($C58=0,\"\",INDEX(Data_kom2,MATCH(1,(komnavn2=$C58)*(komaar2=D$49),0),60))","v":""},{"$f":"IF($C58=0,\"\",INDEX(Data_kom2,MATCH(1,(komnavn2=$C58)*(komaar2=D$49),0),63))","v":""},{"$f":"IF($C58=0,\"\",INDEX(Data_kom2,MATCH(1,(komnavn2=$C58)*(komaar2=D$49),0),64))","v":""},{"$f":"IF($C58=0,\"\",INDEX(Data_kom2,MATCH(1,(komnavn2=$C58)*(komaar2=D$49),0),67))","v":""},{"$f":"IF($C58=0,\"\",INDEX(Data_kom2,MATCH(1,(komnavn2=$C58)*(komaar2=D$49),0),68))","v":""},{"$f":"IF($C58=0,\"\",INDEX(Data_kom2,MATCH(1,(komnavn2=$C58)*(komaar2=D$49),0),71))","v":""},{"$f":"IF($C58=0,\"\",INDEX(Data_kom2,MATCH(1,(komnavn2=$C58)*(komaar2=D$49),0),72))","v":""},{"$f":"IF($C58=0,\"\",INDEX(Data_kom2,MATCH(1,(komnavn2=$C58)*(komaar2=D$49),0),75))","v":""},null,null,null,null,null,null,{"$f":"IF(C58=0,\"\",INDEX(Data_kom2,MATCH(1,(komnavn2=C58)*(komaar2=D$1),0),14))","v":""}]
[]
[]
[null,null,null,20202,null,2020]
[null,null,null,"Nøgletal 1: Modtagere af længerevarende botilbud",null,"Nøgletal 2: Modtagere af botilbudslignende tilbud",null,"Nøgletal 3: Modtagere af midlertidigt botilbud",null,"Nøgletal 4: Modtagere af socialpædagogisk støtte",null,"Nøgletal 5: Modtagere af beskyttet beskæftigelse og aktivitets- og samværstilbud",null,"Nøgletal 6: Modtagere af forebyggende indsatser",null,"Nøgletal 7: Flytninger fra botilbud",null,"Nøgletal 7.1: Flytninger fra længerevarende botilbud og lignende til midlertidigt botilbud",null,"Antal institutionsanbragte 0-17 årige pr. forrige kvartal",null,"0-17 årige, der ved sidste opgørelse var institutionsanbragt, men nu er anbragt i anden form",null,"Nøgletal 8: Fra socialpædagogisk støtte og ned af trappen",null,"Nøgletal 9: Fra forebyggende indsatser og ned af trappen",null,"Nøgletal 10: Fra forebyggende indsatser og op af trappen",null,"Nøgletal 11: Uddannelsesgrad",null,"Nøgletal 12: Beskæftigelsesgrad",null,"Nøgletal 12.1: Beskæftigelsesgrad for modtagere af forebyggende indsatser",null,"Nøgletal 12.2: Beskæftigelsesgrad for den øvrige målgruppe",null,"Nøgletal 18: Genindlæggelser",null,"Nøgletal 19: Udgifter til forebyggende indsatser ift. udgifter til støttende indsatser","Udgiftsandel til længerevarende botilbud","Udgiftsandel til botilbudslignende tilbud","Udgiftsandel til midlertidige botilbud","Udgiftsandel til socialpædagogisk støtte","Udgiftsandel til beskyttet beskæftigelse og aktivitets- og samværstilbud","Udgiftsandel til forebyggende indsatser"]
[null,null,null,1,null,2,null,3,null,4,null,5,null,6,null,7,null,"7.1",null,"7.2",null,"7.3",null,8,null,9,null,10,null,11,null,12,null,"12.1",null,"12.2",null,18,null,19,"20.1","20.2","20.3","20.4","20.5","20.6"]
[null,null,null,{"$f":"IF($C52=0,\"\",INDEX(Data_kom2,MATCH(1,(komnavn2=$C52)*(komaar2=D$61),0),4))","v":8},{"$f":"IF($C52=0,\"\",INDEX(Data_kom2,MATCH(1,(komnavn2=$C52)*(komaar2=D$61),0),7))","v":32},{"$f":"IF($C52=0,\"\",INDEX(Data_kom2,MATCH(1,(komnavn2=$C52)*(komaar2=D$61),0),8))","v":0},{"$f":"IF($C52=0,\"\",INDEX(Data_kom2,MATCH(1,(komnavn2=$C52)*(komaar2=D$61),0),11))","v":32},{"$f":"IF($C52=0,\"\",INDEX(Data_kom2,MATCH(1,(komnavn2=$C52)*(komaar2=D$61),0),12))","v":0},{"$f":"IF($C52=0,\"\",INDEX(Data_kom2,MATCH(1,(komnavn2=$C52)*(komaar2=D$61),0),15))","v":32},{"$f":"IF($C52=0,\"\",INDEX(Data_kom2,MATCH(1,(komnavn2=$C52)*(komaar2=D$61),0),16))","v":16},{"$f":"IF($C52=0,\"\",INDEX(Data_kom2,MATCH(1,(komnavn2=$C52)*(komaar2=D$61),0),19))","v":32},{"$f":"IF($C52=0,\"\",INDEX(Data_kom2,MATCH(1,(komnavn2=$C52)*(komaar2=D$61),0),20))","v":0},{"$f":"IF($C52=0,\"\",INDEX(Data_kom2,MATCH(1,(komnavn2=$C52)*(komaar2=D$61),0),23))","v":32},{"$f":"IF($C52=0,\"\",INDEX(Data_kom2,MATCH(1,(komnavn2=$C52)*(komaar2=D$61),0),24))","v":0},{"$f":"IF($C52=0,\"\",INDEX(Data_kom2,MATCH(1,(komnavn2=$C52)*(komaar2=D$61),0),27))","v":32},{"$f":"IF($C52=0,\"\",INDEX(Data_kom2,MATCH(1,(komnavn2=$C52)*(komaar2=D$61),0),28))","v":0},{"$f":"IF($C52=0,\"\",INDEX(Data_kom2,MATCH(1,(komnavn2=$C52)*(komaar2=D$61),0),31))","v":0},{"$f":"IF($C52=0,\"\",INDEX(Data_kom2,MATCH(1,(komnavn2=$C52)*(komaar2=D$61),0),32))","v":0},{"$f":"IF($C52=0,\"\",INDEX(Data_kom2,MATCH(1,(komnavn2=$C52)*(komaar2=D$61),0),35))","v":0},{"$f":"IF($C52=0,\"\",INDEX(Data_kom2,MATCH(1,(komnavn2=$C52)*(komaar2=D$61),0),36))","v":0},{"$f":"IF($C52=0,\"\",INDEX(Data_kom2,MATCH(1,(komnavn2=$C52)*(komaar2=D$61),0),39))","v":0},{"$f":"IF(C52=0,\"\",INDEX(Data_kom2,MATCH(1,(komnavn2=C52)*(komaar2=D$61),0),40))","v":0},{"$f":"IF($C52=0,\"\",INDEX(Data_kom2,MATCH(1,(komnavn2=$C52)*(komaar2=D$61),0),43))","v":0},{"$f":"IF($C52=0,\"\",INDEX(Data_kom2,MATCH(1,(komnavn2=$C52)*(komaar2=D$61),0),44))","v":0},{"$f":"IF($C52=0,\"\",INDEX(Data_kom2,MATCH(1,(komnavn2=$C52)*(komaar2=D$61),0),47))","v":15},{"$f":"IF($C52=0,\"\",INDEX(Data_kom2,MATCH(1,(komnavn2=$C52)*(komaar2=D$61),0),48))","v":0},{"$f":"IF($C52=0,\"\",INDEX(Data_kom2,MATCH(1,(komnavn2=$C52)*(komaar2=D$61),0),51))","v":0},{"$f":"IF($C52=0,\"\",INDEX(Data_kom2,MATCH(1,(komnavn2=$C52)*(komaar2=D$61),0),52))","v":0},{"$f":"IF($C52=0,\"\",INDEX(Data_kom2,MATCH(1,(komnavn2=$C52)*(komaar2=D$61),0),55))","v":0},{"$f":"IF($C52=0,\"\",INDEX(Data_kom2,MATCH(1,(komnavn2=$C52)*(komaar2=D$61),0),56))","v":0},{"$f":"IF($C52=0,\"\",INDEX(Data_kom2,MATCH(1,(komnavn2=$C52)*(komaar2=D$61),0),59))","v":32},{"$f":"IF($C52=0,\"\",INDEX(Data_kom2,MATCH(1,(komnavn2=$C52)*(komaar2=D$61),0),60))","v":0.14603365384615399},{"$f":"IF($C52=0,\"\",INDEX(Data_kom2,MATCH(1,(komnavn2=$C52)*(komaar2=D$61),0),63))","v":32},{"$f":"IF($C52=0,\"\",INDEX(Data_kom2,MATCH(1,(komnavn2=$C52)*(komaar2=D$61),0),64))","v":0},{"$f":"IF($C52=0,\"\",INDEX(Data_kom2,MATCH(1,(komnavn2=$C52)*(komaar2=D$61),0),67))","v":0},{"$f":"IF($C52=0,\"\",INDEX(Data_kom2,MATCH(1,(komnavn2=$C52)*(komaar2=D$61),0),68))","v":0.14603365384615399},{"$f":"IF($C52=0,\"\",INDEX(Data_kom2,MATCH(1,(komnavn2=$C52)*(komaar2=D$61),0),71))","v":0},{"$f":"IF($C52=0,\"\",INDEX(Data_kom2,MATCH(1,(komnavn2=$C52)*(komaar2=D$61),0),72))","v":0.75},{"$f":"IF($C52=0,\"\",INDEX(Data_kom2,MATCH(1,(komnavn2=$C52)*(komaar2=D$61),0),75))","v":32},{"$f":"IF($C52=0,\"\",INDEX(Data_komoek,MATCH(1,(komnavn=$C52)*(komaar=$F$61),0),3))","v":0},{"$f":"IF($C52=0,\"\",INDEX(Data_komoek,MATCH(1,(komnavn=$C52)*(komaar=$F$61),0),6))","v":0.60610116557916505},{"$f":"IF($C52=0,\"\",INDEX(Data_komoek,MATCH(1,(komnavn=$C52)*(komaar=$F$61),0),9))","v":0.14745412971947999},{"$f":"IF($C52=0,\"\",INDEX(Data_komoek,MATCH(1,(komnavn=$C52)*(komaar=$F$61),0),12))","v":0.18046957782611101},{"$f":"IF($C52=0,\"\",INDEX(Data_komoek,MATCH(1,(komnavn=$C52)*(komaar=$F$61),0),15))","v":3.2513524064469397E-2},{"$f":"IF($C52=0,\"\",INDEX(Data_komoek,MATCH(1,(komnavn=$C52)*(komaar=$F$61),0),18))","v":3.34616028107746E-2},{"$f":"IF($C52=0,\"\",INDEX(Data_komoek,MATCH(1,(komnavn=$C52)*(komaar=$F$61),0),21))","v":0}]
[null,null,null,{"$f":"IF($C53=0,\"\",INDEX(Data_kom2,MATCH(1,(komnavn2=$C53)*(komaar2=D$61),0),4))","v":6},{"$f":"IF($C53=0,\"\",INDEX(Data_kom2,MATCH(1,(komnavn2=$C53)*(komaar2=D$61),0),7))","v":217},{"$f":"IF($C53=0,\"\",INDEX(Data_kom2,MATCH(1,(komnavn2=$C53)*(komaar2=D$61),0),8))","v":23},{"$f":"IF($C53=0,\"\",INDEX(Data_kom2,MATCH(1,(komnavn2=$C53)*(komaar2=D$61),0),11))","v":217},{"$f":"IF($C53=0,\"\",INDEX(Data_kom2,MATCH(1,(komnavn2=$C53)*(komaar2=D$61),0),12))","v":23},{"$f":"IF($C53=0,\"\",INDEX(Data_kom2,MATCH(1,(komnavn2=$C53)*(komaar2=D$61),0),15))","v":217},{"$f":"IF($C53=0,\"\",INDEX(Data_kom2,MATCH(1,(komnavn2=$C53)*(komaar2=D$61),0),16))","v":122},{"$f":"IF($C53=0,\"\",INDEX(Data_kom2,MATCH(1,(komnavn2=$C53)*(komaar2=D$61),0),19))","v":217},{"$f":"IF($C53=0,\"\",INDEX(Data_kom2,MATCH(1,(komnavn2=$C53)*(komaar2=D$61),0),20))","v":40},{"$f":"IF($C53=0,\"\",INDEX(Data_kom2,MATCH(1,(komnavn2=$C53)*(komaar2=D$61),0),23))","v":217},{"$f":"IF($C53=0,\"\",INDEX(Data_kom2,MATCH(1,(komnavn2=$C53)*(komaar2=D$61),0),24))","v":0},{"$f":"IF($C53=0,\"\",INDEX(Data_kom2,MATCH(1,(komnavn2=$C53)*(komaar2=D$61),0),27))","v":217},{"$f":"IF($C53=0,\"\",INDEX(Data_kom2,MATCH(1,(komnavn2=$C53)*(komaar2=D$61),0),28))","v":0},{"$f":"IF($C53=0,\"\",INDEX(Data_kom2,MATCH(1,(komnavn2=$C53)*(komaar2=D$61),0),31))","v":51},{"$f":"IF($C53=0,\"\",INDEX(Data_kom2,MATCH(1,(komnavn2=$C53)*(komaar2=D$61),0),32))","v":0},{"$f":"IF($C53=0,\"\",INDEX(Data_kom2,MATCH(1,(komnavn2=$C53)*(komaar2=D$61),0),35))","v":29},{"$f":"IF($C53=0,\"\",INDEX(Data_kom2,MATCH(1,(komnavn2=$C53)*(komaar2=D$61),0),36))","v":0},{"$f":"IF($C53=0,\"\",INDEX(Data_kom2,MATCH(1,(komnavn2=$C53)*(komaar2=D$61),0),39))","v":29},{"$f":"IF(C53=0,\"\",INDEX(Data_kom2,MATCH(1,(komnavn2=C53)*(komaar2=D$61),0),40))","v":0},{"$f":"IF($C53=0,\"\",INDEX(Data_kom2,MATCH(1,(komnavn2=$C53)*(komaar2=D$61),0),43))","v":22},{"$f":"IF($C53=0,\"\",INDEX(Data_kom2,MATCH(1,(komnavn2=$C53)*(komaar2=D$61),0),44))","v":9},{"$f":"IF($C53=0,\"\",INDEX(Data_kom2,MATCH(1,(komnavn2=$C53)*(komaar2=D$61),0),47))","v":105},{"$f":"IF($C53=0,\"\",INDEX(Data_kom2,MATCH(1,(komnavn2=$C53)*(komaar2=D$61),0),48))","v":0},{"$f":"IF($C53=0,\"\",INDEX(Data_kom2,MATCH(1,(komnavn2=$C53)*(komaar2=D$61),0),51))","v":0},{"$f":"IF($C53=0,\"\",INDEX(Data_kom2,MATCH(1,(komnavn2=$C53)*(komaar2=D$61),0),52))","v":0},{"$f":"IF($C53=0,\"\",INDEX(Data_kom2,MATCH(1,(komnavn2=$C53)*(komaar2=D$61),0),55))","v":0},{"$f":"IF($C53=0,\"\",INDEX(Data_kom2,MATCH(1,(komnavn2=$C53)*(komaar2=D$61),0),56))","v":1.2318326834455899E-2},{"$f":"IF($C53=0,\"\",INDEX(Data_kom2,MATCH(1,(komnavn2=$C53)*(komaar2=D$61),0),59))","v":217},{"$f":"IF($C53=0,\"\",INDEX(Data_kom2,MATCH(1,(komnavn2=$C53)*(komaar2=D$61),0),60))","v":4.3690180786955003E-2},{"$f":"IF($C53=0,\"\",INDEX(Data_kom2,MATCH(1,(komnavn2=$C53)*(komaar2=D$61),0),63))","v":217},{"$f":"IF($C53=0,\"\",INDEX(Data_kom2,MATCH(1,(komnavn2=$C53)*(komaar2=D$61),0),64))","v":0},{"$f":"IF($C53=0,\"\",INDEX(Data_kom2,MATCH(1,(komnavn2=$C53)*(komaar2=D$61),0),67))","v":0},{"$f":"IF($C53=0,\"\",INDEX(Data_kom2,MATCH(1,(komnavn2=$C53)*(komaar2=D$61),0),68))","v":4.3690180786955003E-2},{"$f":"IF($C53=0,\"\",INDEX(Data_kom2,MATCH(1,(komnavn2=$C53)*(komaar2=D$61),0),71))","v":217},{"$f":"IF($C53=0,\"\",INDEX(Data_kom2,MATCH(1,(komnavn2=$C53)*(komaar2=D$61),0),72))","v":0.60493827160493796},{"$f":"IF($C53=0,\"\",INDEX(Data_kom2,MATCH(1,(komnavn2=$C53)*(komaar2=D$61),0),75))","v":217},{"$f":"IF($C53=0,\"\",INDEX(Data_komoek,MATCH(1,(komnavn=$C53)*(komaar=$F$61),0),3))","v":1.3731600415494901E-2},{"$f":"IF($C53=0,\"\",INDEX(Data_komoek,MATCH(1,(komnavn=$C53)*(komaar=$F$61),0),6))","v":0.10299152775348},{"$f":"IF($C53=0,\"\",INDEX(Data_komoek,MATCH(1,(komnavn=$C53)*(komaar=$F$61),0),9))","v":0.234273860995177},{"$f":"IF($C53=0,\"\",INDEX(Data_komoek,MATCH(1,(komnavn=$C53)*(komaar=$F$61),0),12))","v":0.40406867767975402},{"$f":"IF($C53=0,\"\",INDEX(Data_komoek,MATCH(1,(komnavn=$C53)*(komaar=$F$61),0),15))","v":0.15132581910879001},{"$f":"IF($C53=0,\"\",INDEX(Data_komoek,MATCH(1,(komnavn=$C53)*(komaar=$F$61),0),18))","v":9.3794516782045895E-2},{"$f":"IF($C53=0,\"\",INDEX(Data_komoek,MATCH(1,(komnavn=$C53)*(komaar=$F$61),0),21))","v":1.35455976807538E-2}]
[null,null,null,{"$f":"IF($C54=0,\"\",INDEX(Data_kom2,MATCH(1,(komnavn2=$C54)*(komaar2=D$61),0),4))","v":23},{"$f":"IF($C54=0,\"\",INDEX(Data_kom2,MATCH(1,(komnavn2=$C54)*(komaar2=D$61),0),7))","v":243},{"$f":"IF($C54=0,\"\",INDEX(Data_kom2,MATCH(1,(komnavn2=$C54)*(komaar2=D$61),0),8))","v":18},{"$f":"IF($C54=0,\"\",INDEX(Data_kom2,MATCH(1,(komnavn2=$C54)*(komaar2=D$61),0),11))","v":243},{"$f":"IF($C54=0,\"\",INDEX(Data_kom2,MATCH(1,(komnavn2=$C54)*(komaar2=D$61),0),12))","v":41},{"$f":"IF($C54=0,\"\",INDEX(Data_kom2,MATCH(1,(komnavn2=$C54)*(komaar2=D$61),0),15))","v":243},{"$f":"IF($C54=0,\"\",INDEX(Data_kom2,MATCH(1,(komnavn2=$C54)*(komaar2=D$61),0),16))","v":145},{"$f":"IF($C54=0,\"\",INDEX(Data_kom2,MATCH(1,(komnavn2=$C54)*(komaar2=D$61),0),19))","v":243},{"$f":"IF($C54=0,\"\",INDEX(Data_kom2,MATCH(1,(komnavn2=$C54)*(komaar2=D$61),0),20))","v":10},{"$f":"IF($C54=0,\"\",INDEX(Data_kom2,MATCH(1,(komnavn2=$C54)*(komaar2=D$61),0),23))","v":243},{"$f":"IF($C54=0,\"\",INDEX(Data_kom2,MATCH(1,(komnavn2=$C54)*(komaar2=D$61),0),24))","v":0},{"$f":"IF($C54=0,\"\",INDEX(Data_kom2,MATCH(1,(komnavn2=$C54)*(komaar2=D$61),0),27))","v":243},{"$f":"IF($C54=0,\"\",INDEX(Data_kom2,MATCH(1,(komnavn2=$C54)*(komaar2=D$61),0),28))","v":0},{"$f":"IF($C54=0,\"\",INDEX(Data_kom2,MATCH(1,(komnavn2=$C54)*(komaar2=D$61),0),31))","v":75},{"$f":"IF($C54=0,\"\",INDEX(Data_kom2,MATCH(1,(komnavn2=$C54)*(komaar2=D$61),0),32))","v":0},{"$f":"IF($C54=0,\"\",INDEX(Data_kom2,MATCH(1,(komnavn2=$C54)*(komaar2=D$61),0),35))","v":39},{"$f":"IF($C54=0,\"\",INDEX(Data_kom2,MATCH(1,(komnavn2=$C54)*(komaar2=D$61),0),36))","v":0},{"$f":"IF($C54=0,\"\",INDEX(Data_kom2,MATCH(1,(komnavn2=$C54)*(komaar2=D$61),0),39))","v":39},{"$f":"IF(C54=0,\"\",INDEX(Data_kom2,MATCH(1,(komnavn2=C54)*(komaar2=D$61),0),40))","v":0},{"$f":"IF($C54=0,\"\",INDEX(Data_kom2,MATCH(1,(komnavn2=$C54)*(komaar2=D$61),0),43))","v":36},{"$f":"IF($C54=0,\"\",INDEX(Data_kom2,MATCH(1,(komnavn2=$C54)*(komaar2=D$61),0),44))","v":20},{"$f":"IF($C54=0,\"\",INDEX(Data_kom2,MATCH(1,(komnavn2=$C54)*(komaar2=D$61),0),47))","v":152},{"$f":"IF($C54=0,\"\",INDEX(Data_kom2,MATCH(1,(komnavn2=$C54)*(komaar2=D$61),0),48))","v":0},{"$f":"IF($C54=0,\"\",INDEX(Data_kom2,MATCH(1,(komnavn2=$C54)*(komaar2=D$61),0),51))","v":0},{"$f":"IF($C54=0,\"\",INDEX(Data_kom2,MATCH(1,(komnavn2=$C54)*(komaar2=D$61),0),52))","v":0},{"$f":"IF($C54=0,\"\",INDEX(Data_kom2,MATCH(1,(komnavn2=$C54)*(komaar2=D$61),0),55))","v":0},{"$f":"IF($C54=0,\"\",INDEX(Data_kom2,MATCH(1,(komnavn2=$C54)*(komaar2=D$61),0),56))","v":2.1842355175688499E-2},{"$f":"IF($C54=0,\"\",INDEX(Data_kom2,MATCH(1,(komnavn2=$C54)*(komaar2=D$61),0),59))","v":243},{"$f":"IF($C54=0,\"\",INDEX(Data_kom2,MATCH(1,(komnavn2=$C54)*(komaar2=D$61),0),60))","v":4.6771130104463397E-2},{"$f":"IF($C54=0,\"\",INDEX(Data_kom2,MATCH(1,(komnavn2=$C54)*(komaar2=D$61),0),63))","v":243},{"$f":"IF($C54=0,\"\",INDEX(Data_kom2,MATCH(1,(komnavn2=$C54)*(komaar2=D$61),0),64))","v":0},{"$f":"IF($C54=0,\"\",INDEX(Data_kom2,MATCH(1,(komnavn2=$C54)*(komaar2=D$61),0),67))","v":0},{"$f":"IF($C54=0,\"\",INDEX(Data_kom2,MATCH(1,(komnavn2=$C54)*(komaar2=D$61),0),68))","v":4.6771130104463397E-2},{"$f":"IF($C54=0,\"\",INDEX(Data_kom2,MATCH(1,(komnavn2=$C54)*(komaar2=D$61),0),71))","v":243},{"$f":"IF($C54=0,\"\",INDEX(Data_kom2,MATCH(1,(komnavn2=$C54)*(komaar2=D$61),0),72))","v":0.46296296296296302},{"$f":"IF($C54=0,\"\",INDEX(Data_kom2,MATCH(1,(komnavn2=$C54)*(komaar2=D$61),0),75))","v":243},{"$f":"IF($C54=0,\"\",INDEX(Data_komoek,MATCH(1,(komnavn=$C54)*(komaar=$F$61),0),3))","v":1.0677368357047299E-2},{"$f":"IF($C54=0,\"\",INDEX(Data_komoek,MATCH(1,(komnavn=$C54)*(komaar=$F$61),0),6))","v":0.68314723011021805},{"$f":"IF($C54=0,\"\",INDEX(Data_komoek,MATCH(1,(komnavn=$C54)*(komaar=$F$61),0),9))","v":9.6982239976897505E-2},{"$f":"IF($C54=0,\"\",INDEX(Data_komoek,MATCH(1,(komnavn=$C54)*(komaar=$F$61),0),12))","v":0.161356307455359},{"$f":"IF($C54=0,\"\",INDEX(Data_komoek,MATCH(1,(komnavn=$C54)*(komaar=$F$61),0),15))","v":4.6698272127833701E-2},{"$f":"IF($C54=0,\"\",INDEX(Data_komoek,MATCH(1,(komnavn=$C54)*(komaar=$F$61),0),18))","v":1.25138374163739E-3},{"$f":"IF($C54=0,\"\",INDEX(Data_komoek,MATCH(1,(komnavn=$C54)*(komaar=$F$61),0),21))","v":1.0564566588054099E-2}]
[null,null,null,{"$f":"IF($C55=0,\"\",INDEX(Data_kom2,MATCH(1,(komnavn2=$C55)*(komaar2=D$61),0),4))","v":""},{"$f":"IF($C55=0,\"\",INDEX(Data_kom2,MATCH(1,(komnavn2=$C55)*(komaar2=D$61),0),7))","v":""},{"$f":"IF($C55=0,\"\",INDEX(Data_kom2,MATCH(1,(komnavn2=$C55)*(komaar2=D$61),0),8))","v":""},{"$f":"IF($C55=0,\"\",INDEX(Data_kom2,MATCH(1,(komnavn2=$C55)*(komaar2=D$61),0),11))","v":""},{"$f":"IF($C55=0,\"\",INDEX(Data_kom2,MATCH(1,(komnavn2=$C55)*(komaar2=D$61),0),12))","v":""},{"$f":"IF($C55=0,\"\",INDEX(Data_kom2,MATCH(1,(komnavn2=$C55)*(komaar2=D$61),0),15))","v":""},{"$f":"IF($C55=0,\"\",INDEX(Data_kom2,MATCH(1,(komnavn2=$C55)*(komaar2=D$61),0),16))","v":""},{"$f":"IF($C55=0,\"\",INDEX(Data_kom2,MATCH(1,(komnavn2=$C55)*(komaar2=D$61),0),19))","v":""},{"$f":"IF($C55=0,\"\",INDEX(Data_kom2,MATCH(1,(komnavn2=$C55)*(komaar2=D$61),0),20))","v":""},{"$f":"IF($C55=0,\"\",INDEX(Data_kom2,MATCH(1,(komnavn2=$C55)*(komaar2=D$61),0),23))","v":""},{"$f":"IF($C55=0,\"\",INDEX(Data_kom2,MATCH(1,(komnavn2=$C55)*(komaar2=D$61),0),24))","v":""},{"$f":"IF($C55=0,\"\",INDEX(Data_kom2,MATCH(1,(komnavn2=$C55)*(komaar2=D$61),0),27))","v":""},{"$f":"IF($C55=0,\"\",INDEX(Data_kom2,MATCH(1,(komnavn2=$C55)*(komaar2=D$61),0),28))","v":""},{"$f":"IF($C55=0,\"\",INDEX(Data_kom2,MATCH(1,(komnavn2=$C55)*(komaar2=D$61),0),31))","v":""},{"$f":"IF($C55=0,\"\",INDEX(Data_kom2,MATCH(1,(komnavn2=$C55)*(komaar2=D$61),0),32))","v":""},{"$f":"IF($C55=0,\"\",INDEX(Data_kom2,MATCH(1,(komnavn2=$C55)*(komaar2=D$61),0),35))","v":""},{"$f":"IF($C55=0,\"\",INDEX(Data_kom2,MATCH(1,(komnavn2=$C55)*(komaar2=D$61),0),36))","v":""},{"$f":"IF($C55=0,\"\",INDEX(Data_kom2,MATCH(1,(komnavn2=$C55)*(komaar2=D$61),0),39))","v":""},{"$f":"IF(C55=0,\"\",INDEX(Data_kom2,MATCH(1,(komnavn2=C55)*(komaar2=D$61),0),40))","v":""},{"$f":"IF($C55=0,\"\",INDEX(Data_kom2,MATCH(1,(komnavn2=$C55)*(komaar2=D$61),0),43))","v":""},{"$f":"IF($C55=0,\"\",INDEX(Data_kom2,MATCH(1,(komnavn2=$C55)*(komaar2=D$61),0),44))","v":""},{"$f":"IF($C55=0,\"\",INDEX(Data_kom2,MATCH(1,(komnavn2=$C55)*(komaar2=D$61),0),47))","v":""},{"$f":"IF($C55=0,\"\",INDEX(Data_kom2,MATCH(1,(komnavn2=$C55)*(komaar2=D$61),0),48))","v":""},{"$f":"IF($C55=0,\"\",INDEX(Data_kom2,MATCH(1,(komnavn2=$C55)*(komaar2=D$61),0),51))","v":""},{"$f":"IF($C55=0,\"\",INDEX(Data_kom2,MATCH(1,(komnavn2=$C55)*(komaar2=D$61),0),52))","v":""},{"$f":"IF($C55=0,\"\",INDEX(Data_kom2,MATCH(1,(komnavn2=$C55)*(komaar2=D$61),0),55))","v":""},{"$f":"IF($C55=0,\"\",INDEX(Data_kom2,MATCH(1,(komnavn2=$C55)*(komaar2=D$61),0),56))","v":""},{"$f":"IF($C55=0,\"\",INDEX(Data_kom2,MATCH(1,(komnavn2=$C55)*(komaar2=D$61),0),59))","v":""},{"$f":"IF($C55=0,\"\",INDEX(Data_kom2,MATCH(1,(komnavn2=$C55)*(komaar2=D$61),0),60))","v":""},{"$f":"IF($C55=0,\"\",INDEX(Data_kom2,MATCH(1,(komnavn2=$C55)*(komaar2=D$61),0),63))","v":""},{"$f":"IF($C55=0,\"\",INDEX(Data_kom2,MATCH(1,(komnavn2=$C55)*(komaar2=D$61),0),64))","v":""},{"$f":"IF($C55=0,\"\",INDEX(Data_kom2,MATCH(1,(komnavn2=$C55)*(komaar2=D$61),0),67))","v":""},{"$f":"IF($C55=0,\"\",INDEX(Data_kom2,MATCH(1,(komnavn2=$C55)*(komaar2=D$61),0),68))","v":""},{"$f":"IF($C55=0,\"\",INDEX(Data_kom2,MATCH(1,(komnavn2=$C55)*(komaar2=D$61),0),71))","v":""},{"$f":"IF($C55=0,\"\",INDEX(Data_kom2,MATCH(1,(komnavn2=$C55)*(komaar2=D$61),0),72))","v":""},{"$f":"IF($C55=0,\"\",INDEX(Data_kom2,MATCH(1,(komnavn2=$C55)*(komaar2=D$61),0),75))","v":""},{"$f":"IF($C55=0,\"\",INDEX(Data_komoek,MATCH(1,(komnavn=$C55)*(komaar=$F$61),0),3))","v":""},{"$f":"IF($C55=0,\"\",INDEX(Data_komoek,MATCH(1,(komnavn=$C55)*(komaar=$F$61),0),6))","v":""},{"$f":"IF($C55=0,\"\",INDEX(Data_komoek,MATCH(1,(komnavn=$C55)*(komaar=$F$61),0),9))","v":""},{"$f":"IF($C55=0,\"\",INDEX(Data_komoek,MATCH(1,(komnavn=$C55)*(komaar=$F$61),0),12))","v":""},{"$f":"IF($C55=0,\"\",INDEX(Data_komoek,MATCH(1,(komnavn=$C55)*(komaar=$F$61),0),15))","v":""},{"$f":"IF($C55=0,\"\",INDEX(Data_komoek,MATCH(1,(komnavn=$C55)*(komaar=$F$61),0),18))","v":""},{"$f":"IF($C55=0,\"\",INDEX(Data_komoek,MATCH(1,(komnavn=$C55)*(komaar=$F$61),0),21))","v":""}]
[null,null,null,{"$f":"IF($C56=0,\"\",INDEX(Data_kom2,MATCH(1,(komnavn2=$C56)*(komaar2=D$61),0),4))","v":""},{"$f":"IF($C56=0,\"\",INDEX(Data_kom2,MATCH(1,(komnavn2=$C56)*(komaar2=D$61),0),7))","v":""},{"$f":"IF($C56=0,\"\",INDEX(Data_kom2,MATCH(1,(komnavn2=$C56)*(komaar2=D$61),0),8))","v":""},{"$f":"IF($C56=0,\"\",INDEX(Data_kom2,MATCH(1,(komnavn2=$C56)*(komaar2=D$61),0),11))","v":""},{"$f":"IF($C56=0,\"\",INDEX(Data_kom2,MATCH(1,(komnavn2=$C56)*(komaar2=D$61),0),12))","v":""},{"$f":"IF($C56=0,\"\",INDEX(Data_kom2,MATCH(1,(komnavn2=$C56)*(komaar2=D$61),0),15))","v":""},{"$f":"IF($C56=0,\"\",INDEX(Data_kom2,MATCH(1,(komnavn2=$C56)*(komaar2=D$61),0),16))","v":""},{"$f":"IF($C56=0,\"\",INDEX(Data_kom2,MATCH(1,(komnavn2=$C56)*(komaar2=D$61),0),19))","v":""},{"$f":"IF($C56=0,\"\",INDEX(Data_kom2,MATCH(1,(komnavn2=$C56)*(komaar2=D$61),0),20))","v":""},{"$f":"IF($C56=0,\"\",INDEX(Data_kom2,MATCH(1,(komnavn2=$C56)*(komaar2=D$61),0),23))","v":""},{"$f":"IF($C56=0,\"\",INDEX(Data_kom2,MATCH(1,(komnavn2=$C56)*(komaar2=D$61),0),24))","v":""},{"$f":"IF($C56=0,\"\",INDEX(Data_kom2,MATCH(1,(komnavn2=$C56)*(komaar2=D$61),0),27))","v":""},{"$f":"IF($C56=0,\"\",INDEX(Data_kom2,MATCH(1,(komnavn2=$C56)*(komaar2=D$61),0),28))","v":""},{"$f":"IF($C56=0,\"\",INDEX(Data_kom2,MATCH(1,(komnavn2=$C56)*(komaar2=D$61),0),31))","v":""},{"$f":"IF($C56=0,\"\",INDEX(Data_kom2,MATCH(1,(komnavn2=$C56)*(komaar2=D$61),0),32))","v":""},{"$f":"IF($C56=0,\"\",INDEX(Data_kom2,MATCH(1,(komnavn2=$C56)*(komaar2=D$61),0),35))","v":""},{"$f":"IF($C56=0,\"\",INDEX(Data_kom2,MATCH(1,(komnavn2=$C56)*(komaar2=D$61),0),36))","v":""},{"$f":"IF($C56=0,\"\",INDEX(Data_kom2,MATCH(1,(komnavn2=$C56)*(komaar2=D$61),0),39))","v":""},{"$f":"IF(C56=0,\"\",INDEX(Data_kom2,MATCH(1,(komnavn2=C56)*(komaar2=D$61),0),40))","v":""},{"$f":"IF($C56=0,\"\",INDEX(Data_kom2,MATCH(1,(komnavn2=$C56)*(komaar2=D$61),0),43))","v":""},{"$f":"IF($C56=0,\"\",INDEX(Data_kom2,MATCH(1,(komnavn2=$C56)*(komaar2=D$61),0),44))","v":""},{"$f":"IF($C56=0,\"\",INDEX(Data_kom2,MATCH(1,(komnavn2=$C56)*(komaar2=D$61),0),47))","v":""},{"$f":"IF($C56=0,\"\",INDEX(Data_kom2,MATCH(1,(komnavn2=$C56)*(komaar2=D$61),0),48))","v":""},{"$f":"IF($C56=0,\"\",INDEX(Data_kom2,MATCH(1,(komnavn2=$C56)*(komaar2=D$61),0),51))","v":""},{"$f":"IF($C56=0,\"\",INDEX(Data_kom2,MATCH(1,(komnavn2=$C56)*(komaar2=D$61),0),52))","v":""},{"$f":"IF($C56=0,\"\",INDEX(Data_kom2,MATCH(1,(komnavn2=$C56)*(komaar2=D$61),0),55))","v":""},{"$f":"IF($C56=0,\"\",INDEX(Data_kom2,MATCH(1,(komnavn2=$C56)*(komaar2=D$61),0),56))","v":""},{"$f":"IF($C56=0,\"\",INDEX(Data_kom2,MATCH(1,(komnavn2=$C56)*(komaar2=D$61),0),59))","v":""},{"$f":"IF($C56=0,\"\",INDEX(Data_kom2,MATCH(1,(komnavn2=$C56)*(komaar2=D$61),0),60))","v":""},{"$f":"IF($C56=0,\"\",INDEX(Data_kom2,MATCH(1,(komnavn2=$C56)*(komaar2=D$61),0),63))","v":""},{"$f":"IF($C56=0,\"\",INDEX(Data_kom2,MATCH(1,(komnavn2=$C56)*(komaar2=D$61),0),64))","v":""},{"$f":"IF($C56=0,\"\",INDEX(Data_kom2,MATCH(1,(komnavn2=$C56)*(komaar2=D$61),0),67))","v":""},{"$f":"IF($C56=0,\"\",INDEX(Data_kom2,MATCH(1,(komnavn2=$C56)*(komaar2=D$61),0),68))","v":""},{"$f":"IF($C56=0,\"\",INDEX(Data_kom2,MATCH(1,(komnavn2=$C56)*(komaar2=D$61),0),71))","v":""},{"$f":"IF($C56=0,\"\",INDEX(Data_kom2,MATCH(1,(komnavn2=$C56)*(komaar2=D$61),0),72))","v":""},{"$f":"IF($C56=0,\"\",INDEX(Data_kom2,MATCH(1,(komnavn2=$C56)*(komaar2=D$61),0),75))","v":""},{"$f":"IF($C56=0,\"\",INDEX(Data_komoek,MATCH(1,(komnavn=$C56)*(komaar=$F$61),0),3))","v":""},{"$f":"IF($C56=0,\"\",INDEX(Data_komoek,MATCH(1,(komnavn=$C56)*(komaar=$F$61),0),6))","v":""},{"$f":"IF($C56=0,\"\",INDEX(Data_komoek,MATCH(1,(komnavn=$C56)*(komaar=$F$61),0),9))","v":""},{"$f":"IF($C56=0,\"\",INDEX(Data_komoek,MATCH(1,(komnavn=$C56)*(komaar=$F$61),0),12))","v":""},{"$f":"IF($C56=0,\"\",INDEX(Data_komoek,MATCH(1,(komnavn=$C56)*(komaar=$F$61),0),15))","v":""},{"$f":"IF($C56=0,\"\",INDEX(Data_komoek,MATCH(1,(komnavn=$C56)*(komaar=$F$61),0),18))","v":""},{"$f":"IF($C56=0,\"\",INDEX(Data_komoek,MATCH(1,(komnavn=$C56)*(komaar=$F$61),0),21))","v":""}]
[null,null,null,{"$f":"IF($C57=0,\"\",INDEX(Data_kom2,MATCH(1,(komnavn2=$C57)*(komaar2=D$61),0),4))","v":""},{"$f":"IF($C57=0,\"\",INDEX(Data_kom2,MATCH(1,(komnavn2=$C57)*(komaar2=D$61),0),7))","v":""},{"$f":"IF($C57=0,\"\",INDEX(Data_kom2,MATCH(1,(komnavn2=$C57)*(komaar2=D$61),0),8))","v":""},{"$f":"IF($C57=0,\"\",INDEX(Data_kom2,MATCH(1,(komnavn2=$C57)*(komaar2=D$61),0),11))","v":""},{"$f":"IF($C57=0,\"\",INDEX(Data_kom2,MATCH(1,(komnavn2=$C57)*(komaar2=D$61),0),12))","v":""},{"$f":"IF($C57=0,\"\",INDEX(Data_kom2,MATCH(1,(komnavn2=$C57)*(komaar2=D$61),0),15))","v":""},{"$f":"IF($C57=0,\"\",INDEX(Data_kom2,MATCH(1,(komnavn2=$C57)*(komaar2=D$61),0),16))","v":""},{"$f":"IF($C57=0,\"\",INDEX(Data_kom2,MATCH(1,(komnavn2=$C57)*(komaar2=D$61),0),19))","v":""},{"$f":"IF($C57=0,\"\",INDEX(Data_kom2,MATCH(1,(komnavn2=$C57)*(komaar2=D$61),0),20))","v":""},{"$f":"IF($C57=0,\"\",INDEX(Data_kom2,MATCH(1,(komnavn2=$C57)*(komaar2=D$61),0),23))","v":""},{"$f":"IF($C57=0,\"\",INDEX(Data_kom2,MATCH(1,(komnavn2=$C57)*(komaar2=D$61),0),24))","v":""},{"$f":"IF($C57=0,\"\",INDEX(Data_kom2,MATCH(1,(komnavn2=$C57)*(komaar2=D$61),0),27))","v":""},{"$f":"IF($C57=0,\"\",INDEX(Data_kom2,MATCH(1,(komnavn2=$C57)*(komaar2=D$61),0),28))","v":""},{"$f":"IF($C57=0,\"\",INDEX(Data_kom2,MATCH(1,(komnavn2=$C57)*(komaar2=D$61),0),31))","v":""},{"$f":"IF($C57=0,\"\",INDEX(Data_kom2,MATCH(1,(komnavn2=$C57)*(komaar2=D$61),0),32))","v":""},{"$f":"IF($C57=0,\"\",INDEX(Data_kom2,MATCH(1,(komnavn2=$C57)*(komaar2=D$61),0),35))","v":""},{"$f":"IF($C57=0,\"\",INDEX(Data_kom2,MATCH(1,(komnavn2=$C57)*(komaar2=D$61),0),36))","v":""},{"$f":"IF($C57=0,\"\",INDEX(Data_kom2,MATCH(1,(komnavn2=$C57)*(komaar2=D$61),0),39))","v":""},{"$f":"IF(C57=0,\"\",INDEX(Data_kom2,MATCH(1,(komnavn2=C57)*(komaar2=D$61),0),40))","v":""},{"$f":"IF($C57=0,\"\",INDEX(Data_kom2,MATCH(1,(komnavn2=$C57)*(komaar2=D$61),0),43))","v":""},{"$f":"IF($C57=0,\"\",INDEX(Data_kom2,MATCH(1,(komnavn2=$C57)*(komaar2=D$61),0),44))","v":""},{"$f":"IF($C57=0,\"\",INDEX(Data_kom2,MATCH(1,(komnavn2=$C57)*(komaar2=D$61),0),47))","v":""},{"$f":"IF($C57=0,\"\",INDEX(Data_kom2,MATCH(1,(komnavn2=$C57)*(komaar2=D$61),0),48))","v":""},{"$f":"IF($C57=0,\"\",INDEX(Data_kom2,MATCH(1,(komnavn2=$C57)*(komaar2=D$61),0),51))","v":""},{"$f":"IF($C57=0,\"\",INDEX(Data_kom2,MATCH(1,(komnavn2=$C57)*(komaar2=D$61),0),52))","v":""},{"$f":"IF($C57=0,\"\",INDEX(Data_kom2,MATCH(1,(komnavn2=$C57)*(komaar2=D$61),0),55))","v":""},{"$f":"IF($C57=0,\"\",INDEX(Data_kom2,MATCH(1,(komnavn2=$C57)*(komaar2=D$61),0),56))","v":""},{"$f":"IF($C57=0,\"\",INDEX(Data_kom2,MATCH(1,(komnavn2=$C57)*(komaar2=D$61),0),59))","v":""},{"$f":"IF($C57=0,\"\",INDEX(Data_kom2,MATCH(1,(komnavn2=$C57)*(komaar2=D$61),0),60))","v":""},{"$f":"IF($C57=0,\"\",INDEX(Data_kom2,MATCH(1,(komnavn2=$C57)*(komaar2=D$61),0),63))","v":""},{"$f":"IF($C57=0,\"\",INDEX(Data_kom2,MATCH(1,(komnavn2=$C57)*(komaar2=D$61),0),64))","v":""},{"$f":"IF($C57=0,\"\",INDEX(Data_kom2,MATCH(1,(komnavn2=$C57)*(komaar2=D$61),0),67))","v":""},{"$f":"IF($C57=0,\"\",INDEX(Data_kom2,MATCH(1,(komnavn2=$C57)*(komaar2=D$61),0),68))","v":""},{"$f":"IF($C57=0,\"\",INDEX(Data_kom2,MATCH(1,(komnavn2=$C57)*(komaar2=D$61),0),71))","v":""},{"$f":"IF($C57=0,\"\",INDEX(Data_kom2,MATCH(1,(komnavn2=$C57)*(komaar2=D$61),0),72))","v":""},{"$f":"IF($C57=0,\"\",INDEX(Data_kom2,MATCH(1,(komnavn2=$C57)*(komaar2=D$61),0),75))","v":""},{"$f":"IF($C57=0,\"\",INDEX(Data_komoek,MATCH(1,(komnavn=$C57)*(komaar=$F$61),0),3))","v":""},{"$f":"IF($C57=0,\"\",INDEX(Data_komoek,MATCH(1,(komnavn=$C57)*(komaar=$F$61),0),6))","v":""},{"$f":"IF($C57=0,\"\",INDEX(Data_komoek,MATCH(1,(komnavn=$C57)*(komaar=$F$61),0),9))","v":""},{"$f":"IF($C57=0,\"\",INDEX(Data_komoek,MATCH(1,(komnavn=$C57)*(komaar=$F$61),0),12))","v":""},{"$f":"IF($C57=0,\"\",INDEX(Data_komoek,MATCH(1,(komnavn=$C57)*(komaar=$F$61),0),15))","v":""},{"$f":"IF($C57=0,\"\",INDEX(Data_komoek,MATCH(1,(komnavn=$C57)*(komaar=$F$61),0),18))","v":""},{"$f":"IF($C57=0,\"\",INDEX(Data_komoek,MATCH(1,(komnavn=$C57)*(komaar=$F$61),0),21))","v":""}]
[null,null,null,{"$f":"IF($C58=0,\"\",INDEX(Data_kom2,MATCH(1,(komnavn2=$C58)*(komaar2=D$61),0),4))","v":""},{"$f":"IF($C58=0,\"\",INDEX(Data_kom2,MATCH(1,(komnavn2=$C58)*(komaar2=D$61),0),7))","v":""},{"$f":"IF($C58=0,\"\",INDEX(Data_kom2,MATCH(1,(komnavn2=$C58)*(komaar2=D$61),0),8))","v":""},{"$f":"IF($C58=0,\"\",INDEX(Data_kom2,MATCH(1,(komnavn2=$C58)*(komaar2=D$61),0),11))","v":""},{"$f":"IF($C58=0,\"\",INDEX(Data_kom2,MATCH(1,(komnavn2=$C58)*(komaar2=D$61),0),12))","v":""},{"$f":"IF($C58=0,\"\",INDEX(Data_kom2,MATCH(1,(komnavn2=$C58)*(komaar2=D$61),0),15))","v":""},{"$f":"IF($C58=0,\"\",INDEX(Data_kom2,MATCH(1,(komnavn2=$C58)*(komaar2=D$61),0),16))","v":""},{"$f":"IF($C58=0,\"\",INDEX(Data_kom2,MATCH(1,(komnavn2=$C58)*(komaar2=D$61),0),19))","v":""},{"$f":"IF($C58=0,\"\",INDEX(Data_kom2,MATCH(1,(komnavn2=$C58)*(komaar2=D$61),0),20))","v":""},{"$f":"IF($C58=0,\"\",INDEX(Data_kom2,MATCH(1,(komnavn2=$C58)*(komaar2=D$61),0),23))","v":""},{"$f":"IF($C58=0,\"\",INDEX(Data_kom2,MATCH(1,(komnavn2=$C58)*(komaar2=D$61),0),24))","v":""},{"$f":"IF($C58=0,\"\",INDEX(Data_kom2,MATCH(1,(komnavn2=$C58)*(komaar2=D$61),0),27))","v":""},{"$f":"IF($C58=0,\"\",INDEX(Data_kom2,MATCH(1,(komnavn2=$C58)*(komaar2=D$61),0),28))","v":""},{"$f":"IF($C58=0,\"\",INDEX(Data_kom2,MATCH(1,(komnavn2=$C58)*(komaar2=D$61),0),31))","v":""},{"$f":"IF($C58=0,\"\",INDEX(Data_kom2,MATCH(1,(komnavn2=$C58)*(komaar2=D$61),0),32))","v":""},{"$f":"IF($C58=0,\"\",INDEX(Data_kom2,MATCH(1,(komnavn2=$C58)*(komaar2=D$61),0),35))","v":""},{"$f":"IF($C58=0,\"\",INDEX(Data_kom2,MATCH(1,(komnavn2=$C58)*(komaar2=D$61),0),36))","v":""},{"$f":"IF($C58=0,\"\",INDEX(Data_kom2,MATCH(1,(komnavn2=$C58)*(komaar2=D$61),0),39))","v":""},{"$f":"IF(C58=0,\"\",INDEX(Data_kom2,MATCH(1,(komnavn2=C58)*(komaar2=D$61),0),40))","v":""},{"$f":"IF($C58=0,\"\",INDEX(Data_kom2,MATCH(1,(komnavn2=$C58)*(komaar2=D$61),0),43))","v":""},{"$f":"IF($C58=0,\"\",INDEX(Data_kom2,MATCH(1,(komnavn2=$C58)*(komaar2=D$61),0),44))","v":""},{"$f":"IF($C58=0,\"\",INDEX(Data_kom2,MATCH(1,(komnavn2=$C58)*(komaar2=D$61),0),47))","v":""},{"$f":"IF($C58=0,\"\",INDEX(Data_kom2,MATCH(1,(komnavn2=$C58)*(komaar2=D$61),0),48))","v":""},{"$f":"IF($C58=0,\"\",INDEX(Data_kom2,MATCH(1,(komnavn2=$C58)*(komaar2=D$61),0),51))","v":""},{"$f":"IF($C58=0,\"\",INDEX(Data_kom2,MATCH(1,(komnavn2=$C58)*(komaar2=D$61),0),52))","v":""},{"$f":"IF($C58=0,\"\",INDEX(Data_kom2,MATCH(1,(komnavn2=$C58)*(komaar2=D$61),0),55))","v":""},{"$f":"IF($C58=0,\"\",INDEX(Data_kom2,MATCH(1,(komnavn2=$C58)*(komaar2=D$61),0),56))","v":""},{"$f":"IF($C58=0,\"\",INDEX(Data_kom2,MATCH(1,(komnavn2=$C58)*(komaar2=D$61),0),59))","v":""},{"$f":"IF($C58=0,\"\",INDEX(Data_kom2,MATCH(1,(komnavn2=$C58)*(komaar2=D$61),0),60))","v":""},{"$f":"IF($C58=0,\"\",INDEX(Data_kom2,MATCH(1,(komnavn2=$C58)*(komaar2=D$61),0),63))","v":""},{"$f":"IF($C58=0,\"\",INDEX(Data_kom2,MATCH(1,(komnavn2=$C58)*(komaar2=D$61),0),64))","v":""},{"$f":"IF($C58=0,\"\",INDEX(Data_kom2,MATCH(1,(komnavn2=$C58)*(komaar2=D$61),0),67))","v":""},{"$f":"IF($C58=0,\"\",INDEX(Data_kom2,MATCH(1,(komnavn2=$C58)*(komaar2=D$61),0),69))","v":""},{"$f":"IF($C58=0,\"\",INDEX(Data_kom2,MATCH(1,(komnavn2=$C58)*(komaar2=D$61),0),71))","v":""},{"$f":"IF($C58=0,\"\",INDEX(Data_kom2,MATCH(1,(komnavn2=$C58)*(komaar2=D$61),0),72))","v":""},{"$f":"IF($C58=0,\"\",INDEX(Data_kom2,MATCH(1,(komnavn2=$C58)*(komaar2=D$61),0),75))","v":""},{"$f":"IF($C58=0,\"\",INDEX(Data_komoek,MATCH(1,(komnavn=$C58)*(komaar=$F$61),0),4))","v":""},{"$f":"IF($C58=0,\"\",INDEX(Data_komoek,MATCH(1,(komnavn=$C58)*(komaar=$F$61),0),7))","v":""},{"$f":"IF($C58=0,\"\",INDEX(Data_komoek,MATCH(1,(komnavn=$C58)*(komaar=$F$61),0),10))","v":""},{"$f":"IF($C58=0,\"\",INDEX(Data_komoek,MATCH(1,(komnavn=$C58)*(komaar=$F$61),0),13))","v":""},{"$f":"IF($C58=0,\"\",INDEX(Data_komoek,MATCH(1,(komnavn=$C58)*(komaar=$F$61),0),16))","v":""},{"$f":"IF($C58=0,\"\",INDEX(Data_komoek,MATCH(1,(komnavn=$C58)*(komaar=$F$61),0),19))","v":""},{"$f":"IF($C58=0,\"\",INDEX(Data_komoek,MATCH(1,(komnavn=$C58)*(komaar=$F$61),0),22))","v":""}]
[null,null,null,null,null,null,null,null,null,null,null,null,null,null,null,null,null,{"$f":"IF($C59=0,\"\",INDEX(Data_kom2,MATCH(1,(komnavn2=$C59)*(komaar2=D$61),0),32))","v":""},null,null,null,null,null,null,null,{"$f":"IF($C59=0,\"\",INDEX(Data_kom2,MATCH(1,(komnavn2=$C59)*(komaar2=D$61),0),48))","v":""}]
[]
[null,null,null,20211]
[null,null,null,"Nøgletal 1: Modtagere af længerevarende botilbud",null,"Nøgletal 2: Modtagere af botilbudslignende tilbud",null,"Nøgletal 3: Modtagere af midlertidigt botilbud",null,"Nøgletal 4: Modtagere af socialpædagogisk støtte",null,"Nøgletal 5: Modtagere af beskyttet beskæftigelse og aktivitets- og samværstilbud",null,"Nøgletal 6: Modtagere af forebyggende indsatser",null,"Nøgletal 7: Flytninger fra botilbud",null,"Nøgletal 7.1: Flytninger fra længerevarende botilbud og lignende til midlertidigt botilbud",null,"Antal institutionsanbragte 0-17 årige pr. forrige kvartal",null,"0-17 årige, der ved sidste opgørelse var institutionsanbragt, men nu er anbragt i anden form",null,"Nøgletal 8: Fra socialpædagogisk støtte og ned af trappen",null,"Nøgletal 9: Fra forebyggende indsatser og ned af trappen",null,"Nøgletal 10: Fra forebyggende indsatser og op af trappen",null,"Nøgletal 11: Uddannelsesgrad",null,"Nøgletal 12: Beskæftigelsesgrad",null,"Nøgletal 12.1: Beskæftigelsesgrad for modtagere af forebyggende indsatser",null,"Nøgletal 12.2: Beskæftigelsesgrad for den øvrige målgruppe",null,"Nøgletal 18: Genindlæggelser",null,"Nøgletal 19: Udgifter til forebyggende indsatser ift. udgifter til støttende indsatser","Udgiftsandel til længerevarende botilbud","Udgiftsandel til botilbudslignende tilbud","Udgiftsandel til midlertidige botilbud","Udgiftsandel til socialpædagogisk støtte","Udgiftsandel til beskyttet beskæftigelse og aktivitets- og samværstilbud","Udgiftsandel til forebyggende indsatser"]
[null,null,null,1,null,2,null,3,null,4,null,5,null,6,null,7,null,"7.1",null,"7.2",null,"7.3",null,8,null,9,null,10,null,11,null,12,null,"12.1",null,"12.2",null,18,null,19,"20.1","20.2","20.3","20.4","20.5","20.6"]
[null,null,{"$f":"'Dine valg'!K8","v":"Allerød"},{"$f":"IF(C76=0,\"\",INDEX(Data_kom2,MATCH(1,(komnavn2=C76)*(komaar2=D$73),0),4))","v":7},{"$f":"IF($C76=0,\"\",INDEX(Data_kom2,MATCH(1,(komnavn2=C76)*(komaar2=D$73),0),7))","v":34},{"$f":"IF(C76=0,\"\",INDEX(Data_kom2,MATCH(1,(komnavn2=C76)*(komaar2=D$73),0),8))","v":6},{"$f":"IF($C76=0,\"\",INDEX(Data_kom2,MATCH(1,(komnavn2=$C76)*(komaar2=D$73),0),11))","v":34},{"$f":"IF(C76=0,\"\",INDEX(Data_kom2,MATCH(1,(komnavn2=C76)*(komaar2=D$73),0),12))","v":0},{"$f":"IF($C76=0,\"\",INDEX(Data_kom2,MATCH(1,(komnavn2=$C76)*(komaar2=D$73),0),15))","v":34},{"$f":"IF(C76=0,\"\",INDEX(Data_kom2,MATCH(1,(komnavn2=C76)*(komaar2=D$73),0),16))","v":17},{"$f":"IF($C76=0,\"\",INDEX(Data_kom2,MATCH(1,(komnavn2=$C76)*(komaar2=D$73),0),19))","v":34},{"$f":"IF(C76=0,\"\",INDEX(Data_kom2,MATCH(1,(komnavn2=C76)*(komaar2=D$73),0),20))","v":0},{"$f":"IF($C76=0,\"\",INDEX(Data_kom2,MATCH(1,(komnavn2=$C76)*(komaar2=D$73),0),23))","v":34},{"$f":"IF(C76=0,\"\",INDEX(Data_kom2,MATCH(1,(komnavn2=C76)*(komaar2=D$73),0),24))","v":0},{"$f":"IF($C76=0,\"\",INDEX(Data_kom2,MATCH(1,(komnavn2=$C76)*(komaar2=D$73),0),27))","v":34},{"$f":"IF(C76=0,\"\",INDEX(Data_kom2,MATCH(1,(komnavn2=C76)*(komaar2=D$73),0),28))","v":0},{"$f":"IF($C76=0,\"\",INDEX(Data_kom2,MATCH(1,(komnavn2=$C76)*(komaar2=D$73),0),31))","v":0},{"$f":"IF(C76=0,\"\",INDEX(Data_kom2,MATCH(1,(komnavn2=C76)*(komaar2=D$73),0),32))","v":0},{"$f":"IF($C76=0,\"\",INDEX(Data_kom2,MATCH(1,(komnavn2=$C76)*(komaar2=D$73),0),35))","v":0},{"$f":"IF(C76=0,\"\",INDEX(Data_kom2,MATCH(1,(komnavn2=C76)*(komaar2=D$73),0),36))","v":0},{"$f":"IF($C76=0,\"\",INDEX(Data_kom2,MATCH(1,(komnavn2=$C76)*(komaar2=D$73),0),39))","v":0},{"$f":"IF(C76=0,\"\",INDEX(Data_kom2,MATCH(1,(komnavn2=C76)*(komaar2=D$73),0),40))","v":0},{"$f":"IF($C76=0,\"\",INDEX(Data_kom2,MATCH(1,(komnavn2=$C76)*(komaar2=D$73),0),43))","v":0},{"$f":"IF($C76=0,\"\",INDEX(Data_kom2,MATCH(1,(komnavn2=$C76)*(komaar2=D$73),0),44))","v":0},{"$f":"IF($C76=0,\"\",INDEX(Data_kom2,MATCH(1,(komnavn2=$C76)*(komaar2=D$73),0),47))","v":16},{"$f":"IF($C76=0,\"\",INDEX(Data_kom2,MATCH(1,(komnavn2=$C76)*(komaar2=D$73),0),48))","v":0},{"$f":"IF($C76=0,\"\",INDEX(Data_kom2,MATCH(1,(komnavn2=$C76)*(komaar2=D$73),0),51))","v":0},{"$f":"IF($C76=0,\"\",INDEX(Data_kom2,MATCH(1,(komnavn2=$C76)*(komaar2=D$73),0),52))","v":0},{"$f":"IF($C76=0,\"\",INDEX(Data_kom2,MATCH(1,(komnavn2=$C76)*(komaar2=D$73),0),55))","v":0},{"$f":"IF($C76=0,\"\",INDEX(Data_kom2,MATCH(1,(komnavn2=$C76)*(komaar2=D$73),0),56))","v":0},{"$f":"IF($C76=0,\"\",INDEX(Data_kom2,MATCH(1,(komnavn2=$C76)*(komaar2=D$73),0),59))","v":34},{"$f":"IF($C76=0,\"\",INDEX(Data_kom2,MATCH(1,(komnavn2=$C76)*(komaar2=D$73),0),60))","v":0.135180995475113},{"$f":"IF($C76=0,\"\",INDEX(Data_kom2,MATCH(1,(komnavn2=$C76)*(komaar2=D$73),0),63))","v":34},{"$f":"IF($C76=0,\"\",INDEX(Data_kom2,MATCH(1,(komnavn2=$C76)*(komaar2=D$73),0),64))","v":0},{"$f":"IF($C76=0,\"\",INDEX(Data_kom2,MATCH(1,(komnavn2=$C76)*(komaar2=D$73),0),67))","v":0},{"$f":"IF($C76=0,\"\",INDEX(Data_kom2,MATCH(1,(komnavn2=$C76)*(komaar2=D$73),0),68))","v":0.135180995475113},{"$f":"IF($C76=0,\"\",INDEX(Data_kom2,MATCH(1,(komnavn2=$C76)*(komaar2=D$73),0),71))","v":0},{"$f":"IF($C76=0,\"\",INDEX(Data_kom2,MATCH(1,(komnavn2=$C76)*(komaar2=D$73),0),72))","v":0},{"$f":"IF($C76=0,\"\",INDEX(Data_kom2,MATCH(1,(komnavn2=$C76)*(komaar2=D$73),0),75))","v":34}]
[null,null,{"$f":"'Dine valg'!K9","v":"Assens"},{"$f":"IF(C77=0,\"\",INDEX(Data_kom2,MATCH(1,(komnavn2=C77)*(komaar2=D$73),0),4))","v":8},{"$f":"IF($C77=0,\"\",INDEX(Data_kom2,MATCH(1,(komnavn2=C77)*(komaar2=D$73),0),7))","v":215},{"$f":"IF(C77=0,\"\",INDEX(Data_kom2,MATCH(1,(komnavn2=C77)*(komaar2=D$73),0),8))","v":23},{"$f":"IF($C77=0,\"\",INDEX(Data_kom2,MATCH(1,(komnavn2=$C77)*(komaar2=D$73),0),11))","v":215},{"$f":"IF(C77=0,\"\",INDEX(Data_kom2,MATCH(1,(komnavn2=C77)*(komaar2=D$73),0),12))","v":19},{"$f":"IF($C77=0,\"\",INDEX(Data_kom2,MATCH(1,(komnavn2=$C77)*(komaar2=D$73),0),15))","v":215},{"$f":"IF(C77=0,\"\",INDEX(Data_kom2,MATCH(1,(komnavn2=C77)*(komaar2=D$73),0),16))","v":123},{"$f":"IF($C77=0,\"\",INDEX(Data_kom2,MATCH(1,(komnavn2=$C77)*(komaar2=D$73),0),19))","v":215},{"$f":"IF(C77=0,\"\",INDEX(Data_kom2,MATCH(1,(komnavn2=C77)*(komaar2=D$73),0),20))","v":39},{"$f":"IF($C77=0,\"\",INDEX(Data_kom2,MATCH(1,(komnavn2=$C77)*(komaar2=D$73),0),23))","v":215},{"$f":"IF(C77=0,\"\",INDEX(Data_kom2,MATCH(1,(komnavn2=C77)*(komaar2=D$73),0),24))","v":0},{"$f":"IF($C77=0,\"\",INDEX(Data_kom2,MATCH(1,(komnavn2=$C77)*(komaar2=D$73),0),27))","v":215},{"$f":"IF(C77=0,\"\",INDEX(Data_kom2,MATCH(1,(komnavn2=C77)*(komaar2=D$73),0),28))","v":4},{"$f":"IF($C77=0,\"\",INDEX(Data_kom2,MATCH(1,(komnavn2=$C77)*(komaar2=D$73),0),31))","v":52},{"$f":"IF(C77=0,\"\",INDEX(Data_kom2,MATCH(1,(komnavn2=C77)*(komaar2=D$73),0),32))","v":0},{"$f":"IF($C77=0,\"\",INDEX(Data_kom2,MATCH(1,(komnavn2=$C77)*(komaar2=D$73),0),35))","v":29},{"$f":"IF(C77=0,\"\",INDEX(Data_kom2,MATCH(1,(komnavn2=C77)*(komaar2=D$73),0),36))","v":0},{"$f":"IF($C77=0,\"\",INDEX(Data_kom2,MATCH(1,(komnavn2=$C77)*(komaar2=D$73),0),39))","v":29},{"$f":"IF(C77=0,\"\",INDEX(Data_kom2,MATCH(1,(komnavn2=C77)*(komaar2=D$73),0),40))","v":0},{"$f":"IF($C77=0,\"\",INDEX(Data_kom2,MATCH(1,(komnavn2=$C77)*(komaar2=D$73),0),43))","v":23},{"$f":"IF($C77=0,\"\",INDEX(Data_kom2,MATCH(1,(komnavn2=$C77)*(komaar2=D$73),0),44))","v":10},{"$f":"IF($C77=0,\"\",INDEX(Data_kom2,MATCH(1,(komnavn2=$C77)*(komaar2=D$73),0),47))","v":122},{"$f":"IF($C77=0,\"\",INDEX(Data_kom2,MATCH(1,(komnavn2=$C77)*(komaar2=D$73),0),48))","v":0},{"$f":"IF($C77=0,\"\",INDEX(Data_kom2,MATCH(1,(komnavn2=$C77)*(komaar2=D$73),0),51))","v":0},{"$f":"IF($C77=0,\"\",INDEX(Data_kom2,MATCH(1,(komnavn2=$C77)*(komaar2=D$73),0),52))","v":0},{"$f":"IF($C77=0,\"\",INDEX(Data_kom2,MATCH(1,(komnavn2=$C77)*(komaar2=D$73),0),55))","v":0},{"$f":"IF($C77=0,\"\",INDEX(Data_kom2,MATCH(1,(komnavn2=$C77)*(komaar2=D$73),0),56))","v":1.5295169946332701E-2},{"$f":"IF($C77=0,\"\",INDEX(Data_kom2,MATCH(1,(komnavn2=$C77)*(komaar2=D$73),0),59))","v":215},{"$f":"IF($C77=0,\"\",INDEX(Data_kom2,MATCH(1,(komnavn2=$C77)*(komaar2=D$73),0),60))","v":3.6225402504472301E-2},{"$f":"IF($C77=0,\"\",INDEX(Data_kom2,MATCH(1,(komnavn2=$C77)*(komaar2=D$73),0),63))","v":215},{"$f":"IF($C77=0,\"\",INDEX(Data_kom2,MATCH(1,(komnavn2=$C77)*(komaar2=D$73),0),64))","v":0},{"$f":"IF($C77=0,\"\",INDEX(Data_kom2,MATCH(1,(komnavn2=$C77)*(komaar2=D$73),0),67))","v":0},{"$f":"IF($C77=0,\"\",INDEX(Data_kom2,MATCH(1,(komnavn2=$C77)*(komaar2=D$73),0),68))","v":3.6225402504472301E-2},{"$f":"IF($C77=0,\"\",INDEX(Data_kom2,MATCH(1,(komnavn2=$C77)*(komaar2=D$73),0),71))","v":215},{"$f":"IF($C77=0,\"\",INDEX(Data_kom2,MATCH(1,(komnavn2=$C77)*(komaar2=D$73),0),72))","v":0.57627118644067798},{"$f":"IF($C77=0,\"\",INDEX(Data_kom2,MATCH(1,(komnavn2=$C77)*(komaar2=D$73),0),75))","v":215}]
[null,null,{"$f":"'Dine valg'!K10","v":"Ballerup"},{"$f":"IF(C78=0,\"\",INDEX(Data_kom2,MATCH(1,(komnavn2=C78)*(komaar2=D$73),0),4))","v":21},{"$f":"IF($C78=0,\"\",INDEX(Data_kom2,MATCH(1,(komnavn2=C78)*(komaar2=D$73),0),7))","v":247},{"$f":"IF(C78=0,\"\",INDEX(Data_kom2,MATCH(1,(komnavn2=C78)*(komaar2=D$73),0),8))","v":19},{"$f":"IF($C78=0,\"\",INDEX(Data_kom2,MATCH(1,(komnavn2=$C78)*(komaar2=D$73),0),11))","v":247},{"$f":"IF(C78=0,\"\",INDEX(Data_kom2,MATCH(1,(komnavn2=C78)*(komaar2=D$73),0),12))","v":42},{"$f":"IF($C78=0,\"\",INDEX(Data_kom2,MATCH(1,(komnavn2=$C78)*(komaar2=D$73),0),15))","v":247},{"$f":"IF(C78=0,\"\",INDEX(Data_kom2,MATCH(1,(komnavn2=C78)*(komaar2=D$73),0),16))","v":148},{"$f":"IF($C78=0,\"\",INDEX(Data_kom2,MATCH(1,(komnavn2=$C78)*(komaar2=D$73),0),19))","v":247},{"$f":"IF(C78=0,\"\",INDEX(Data_kom2,MATCH(1,(komnavn2=C78)*(komaar2=D$73),0),20))","v":10},{"$f":"IF($C78=0,\"\",INDEX(Data_kom2,MATCH(1,(komnavn2=$C78)*(komaar2=D$73),0),23))","v":247},{"$f":"IF(C78=0,\"\",INDEX(Data_kom2,MATCH(1,(komnavn2=C78)*(komaar2=D$73),0),24))","v":0},{"$f":"IF($C78=0,\"\",INDEX(Data_kom2,MATCH(1,(komnavn2=$C78)*(komaar2=D$73),0),27))","v":247},{"$f":"IF(C78=0,\"\",INDEX(Data_kom2,MATCH(1,(komnavn2=C78)*(komaar2=D$73),0),28))","v":6},{"$f":"IF($C78=0,\"\",INDEX(Data_kom2,MATCH(1,(komnavn2=$C78)*(komaar2=D$73),0),31))","v":82},{"$f":"IF(C78=0,\"\",INDEX(Data_kom2,MATCH(1,(komnavn2=C78)*(komaar2=D$73),0),32))","v":0},{"$f":"IF($C78=0,\"\",INDEX(Data_kom2,MATCH(1,(komnavn2=$C78)*(komaar2=D$73),0),35))","v":41},{"$f":"IF(C78=0,\"\",INDEX(Data_kom2,MATCH(1,(komnavn2=C78)*(komaar2=D$73),0),36))","v":0},{"$f":"IF($C78=0,\"\",INDEX(Data_kom2,MATCH(1,(komnavn2=$C78)*(komaar2=D$73),0),39))","v":41},{"$f":"IF(C78=0,\"\",INDEX(Data_kom2,MATCH(1,(komnavn2=C78)*(komaar2=D$73),0),40))","v":0},{"$f":"IF($C78=0,\"\",INDEX(Data_kom2,MATCH(1,(komnavn2=$C78)*(komaar2=D$73),0),43))","v":41},{"$f":"IF($C78=0,\"\",INDEX(Data_kom2,MATCH(1,(komnavn2=$C78)*(komaar2=D$73),0),44))","v":13},{"$f":"IF($C78=0,\"\",INDEX(Data_kom2,MATCH(1,(komnavn2=$C78)*(komaar2=D$73),0),47))","v":145},{"$f":"IF($C78=0,\"\",INDEX(Data_kom2,MATCH(1,(komnavn2=$C78)*(komaar2=D$73),0),48))","v":0},{"$f":"IF($C78=0,\"\",INDEX(Data_kom2,MATCH(1,(komnavn2=$C78)*(komaar2=D$73),0),51))","v":0},{"$f":"IF($C78=0,\"\",INDEX(Data_kom2,MATCH(1,(komnavn2=$C78)*(komaar2=D$73),0),52))","v":0},{"$f":"IF($C78=0,\"\",INDEX(Data_kom2,MATCH(1,(komnavn2=$C78)*(komaar2=D$73),0),55))","v":0},{"$f":"IF($C78=0,\"\",INDEX(Data_kom2,MATCH(1,(komnavn2=$C78)*(komaar2=D$73),0),56))","v":2.9897228277795101E-2},{"$f":"IF($C78=0,\"\",INDEX(Data_kom2,MATCH(1,(komnavn2=$C78)*(komaar2=D$73),0),59))","v":247},{"$f":"IF($C78=0,\"\",INDEX(Data_kom2,MATCH(1,(komnavn2=$C78)*(komaar2=D$73),0),60))","v":4.49236997819994E-2},{"$f":"IF($C78=0,\"\",INDEX(Data_kom2,MATCH(1,(komnavn2=$C78)*(komaar2=D$73),0),63))","v":247},{"$f":"IF($C78=0,\"\",INDEX(Data_kom2,MATCH(1,(komnavn2=$C78)*(komaar2=D$73),0),64))","v":0},{"$f":"IF($C78=0,\"\",INDEX(Data_kom2,MATCH(1,(komnavn2=$C78)*(komaar2=D$73),0),67))","v":0},{"$f":"IF($C78=0,\"\",INDEX(Data_kom2,MATCH(1,(komnavn2=$C78)*(komaar2=D$73),0),68))","v":4.49236997819994E-2},{"$f":"IF($C78=0,\"\",INDEX(Data_kom2,MATCH(1,(komnavn2=$C78)*(komaar2=D$73),0),71))","v":247},{"$f":"IF($C78=0,\"\",INDEX(Data_kom2,MATCH(1,(komnavn2=$C78)*(komaar2=D$73),0),72))","v":0.41666666666666702},{"$f":"IF($C78=0,\"\",INDEX(Data_kom2,MATCH(1,(komnavn2=$C78)*(komaar2=D$73),0),75))","v":247}]
[null,null,{"$f":"'Dine valg'!K11","v":0},{"$f":"IF(C79=0,\"\",INDEX(Data_kom2,MATCH(1,(komnavn2=C79)*(komaar2=D$73),0),4))","v":""},{"$f":"IF($C79=0,\"\",INDEX(Data_kom2,MATCH(1,(komnavn2=C79)*(komaar2=D$73),0),7))","v":""},{"$f":"IF(C79=0,\"\",INDEX(Data_kom2,MATCH(1,(komnavn2=C79)*(komaar2=D$73),0),8))","v":""},{"$f":"IF($C79=0,\"\",INDEX(Data_kom2,MATCH(1,(komnavn2=$C79)*(komaar2=D$73),0),11))","v":""},{"$f":"IF(C79=0,\"\",INDEX(Data_kom2,MATCH(1,(komnavn2=C79)*(komaar2=D$73),0),12))","v":""},{"$f":"IF($C79=0,\"\",INDEX(Data_kom2,MATCH(1,(komnavn2=$C79)*(komaar2=D$73),0),15))","v":""},{"$f":"IF(C79=0,\"\",INDEX(Data_kom2,MATCH(1,(komnavn2=C79)*(komaar2=D$73),0),16))","v":""},{"$f":"IF($C79=0,\"\",INDEX(Data_kom2,MATCH(1,(komnavn2=$C79)*(komaar2=D$73),0),19))","v":""},{"$f":"IF(C79=0,\"\",INDEX(Data_kom2,MATCH(1,(komnavn2=C79)*(komaar2=D$73),0),20))","v":""},{"$f":"IF($C79=0,\"\",INDEX(Data_kom2,MATCH(1,(komnavn2=$C79)*(komaar2=D$73),0),23))","v":""},{"$f":"IF(C79=0,\"\",INDEX(Data_kom2,MATCH(1,(komnavn2=C79)*(komaar2=D$73),0),24))","v":""},{"$f":"IF($C79=0,\"\",INDEX(Data_kom2,MATCH(1,(komnavn2=$C79)*(komaar2=D$73),0),27))","v":""},{"$f":"IF(C79=0,\"\",INDEX(Data_kom2,MATCH(1,(komnavn2=C79)*(komaar2=D$73),0),28))","v":""},{"$f":"IF($C79=0,\"\",INDEX(Data_kom2,MATCH(1,(komnavn2=$C79)*(komaar2=D$73),0),31))","v":""},{"$f":"IF(C79=0,\"\",INDEX(Data_kom2,MATCH(1,(komnavn2=C79)*(komaar2=D$73),0),32))","v":""},{"$f":"IF($C79=0,\"\",INDEX(Data_kom2,MATCH(1,(komnavn2=$C79)*(komaar2=D$73),0),35))","v":""},{"$f":"IF(C79=0,\"\",INDEX(Data_kom2,MATCH(1,(komnavn2=C79)*(komaar2=D$73),0),36))","v":""},{"$f":"IF($C79=0,\"\",INDEX(Data_kom2,MATCH(1,(komnavn2=$C79)*(komaar2=D$73),0),39))","v":""},{"$f":"IF(C79=0,\"\",INDEX(Data_kom2,MATCH(1,(komnavn2=C79)*(komaar2=D$73),0),40))","v":""},{"$f":"IF($C79=0,\"\",INDEX(Data_kom2,MATCH(1,(komnavn2=$C79)*(komaar2=D$73),0),43))","v":""},{"$f":"IF($C79=0,\"\",INDEX(Data_kom2,MATCH(1,(komnavn2=$C79)*(komaar2=D$73),0),44))","v":""},{"$f":"IF($C79=0,\"\",INDEX(Data_kom2,MATCH(1,(komnavn2=$C79)*(komaar2=D$73),0),47))","v":""},{"$f":"IF($C79=0,\"\",INDEX(Data_kom2,MATCH(1,(komnavn2=$C79)*(komaar2=D$73),0),48))","v":""},{"$f":"IF($C79=0,\"\",INDEX(Data_kom2,MATCH(1,(komnavn2=$C79)*(komaar2=D$73),0),51))","v":""},{"$f":"IF($C79=0,\"\",INDEX(Data_kom2,MATCH(1,(komnavn2=$C79)*(komaar2=D$73),0),52))","v":""},{"$f":"IF($C79=0,\"\",INDEX(Data_kom2,MATCH(1,(komnavn2=$C79)*(komaar2=D$73),0),55))","v":""},{"$f":"IF($C79=0,\"\",INDEX(Data_kom2,MATCH(1,(komnavn2=$C79)*(komaar2=D$73),0),56))","v":""},{"$f":"IF($C79=0,\"\",INDEX(Data_kom2,MATCH(1,(komnavn2=$C79)*(komaar2=D$73),0),59))","v":""},{"$f":"IF($C79=0,\"\",INDEX(Data_kom2,MATCH(1,(komnavn2=$C79)*(komaar2=D$73),0),60))","v":""},{"$f":"IF($C79=0,\"\",INDEX(Data_kom2,MATCH(1,(komnavn2=$C79)*(komaar2=D$73),0),63))","v":""},{"$f":"IF($C79=0,\"\",INDEX(Data_kom2,MATCH(1,(komnavn2=$C79)*(komaar2=D$73),0),64))","v":""},{"$f":"IF($C79=0,\"\",INDEX(Data_kom2,MATCH(1,(komnavn2=$C79)*(komaar2=D$73),0),67))","v":""},{"$f":"IF($C79=0,\"\",INDEX(Data_kom2,MATCH(1,(komnavn2=$C79)*(komaar2=D$73),0),68))","v":""},{"$f":"IF($C79=0,\"\",INDEX(Data_kom2,MATCH(1,(komnavn2=$C79)*(komaar2=D$73),0),71))","v":""},{"$f":"IF($C79=0,\"\",INDEX(Data_kom2,MATCH(1,(komnavn2=$C79)*(komaar2=D$73),0),72))","v":""},{"$f":"IF($C79=0,\"\",INDEX(Data_kom2,MATCH(1,(komnavn2=$C79)*(komaar2=D$73),0),75))","v":""}]
[null,null,{"$f":"'Dine valg'!K12","v":0},{"$f":"IF(C80=0,\"\",INDEX(Data_kom2,MATCH(1,(komnavn2=C80)*(komaar2=D$73),0),4))","v":""},{"$f":"IF($C80=0,\"\",INDEX(Data_kom2,MATCH(1,(komnavn2=C80)*(komaar2=D$73),0),7))","v":""},{"$f":"IF(C80=0,\"\",INDEX(Data_kom2,MATCH(1,(komnavn2=C80)*(komaar2=D$73),0),8))","v":""},{"$f":"IF($C80=0,\"\",INDEX(Data_kom2,MATCH(1,(komnavn2=$C80)*(komaar2=D$73),0),11))","v":""},{"$f":"IF(C80=0,\"\",INDEX(Data_kom2,MATCH(1,(komnavn2=C80)*(komaar2=D$73),0),12))","v":""},{"$f":"IF($C80=0,\"\",INDEX(Data_kom2,MATCH(1,(komnavn2=$C80)*(komaar2=D$73),0),15))","v":""},{"$f":"IF(C80=0,\"\",INDEX(Data_kom2,MATCH(1,(komnavn2=C80)*(komaar2=D$73),0),16))","v":""},{"$f":"IF($C80=0,\"\",INDEX(Data_kom2,MATCH(1,(komnavn2=$C80)*(komaar2=D$73),0),19))","v":""},{"$f":"IF(C80=0,\"\",INDEX(Data_kom2,MATCH(1,(komnavn2=C80)*(komaar2=D$73),0),20))","v":""},{"$f":"IF($C80=0,\"\",INDEX(Data_kom2,MATCH(1,(komnavn2=$C80)*(komaar2=D$73),0),23))","v":""},{"$f":"IF(C80=0,\"\",INDEX(Data_kom2,MATCH(1,(komnavn2=C80)*(komaar2=D$73),0),24))","v":""},{"$f":"IF($C80=0,\"\",INDEX(Data_kom2,MATCH(1,(komnavn2=$C80)*(komaar2=D$73),0),27))","v":""},{"$f":"IF(C80=0,\"\",INDEX(Data_kom2,MATCH(1,(komnavn2=C80)*(komaar2=D$73),0),28))","v":""},{"$f":"IF($C80=0,\"\",INDEX(Data_kom2,MATCH(1,(komnavn2=$C80)*(komaar2=D$73),0),31))","v":""},{"$f":"IF(C80=0,\"\",INDEX(Data_kom2,MATCH(1,(komnavn2=C80)*(komaar2=D$73),0),32))","v":""},{"$f":"IF($C80=0,\"\",INDEX(Data_kom2,MATCH(1,(komnavn2=$C80)*(komaar2=D$73),0),35))","v":""},{"$f":"IF(C80=0,\"\",INDEX(Data_kom2,MATCH(1,(komnavn2=C80)*(komaar2=D$73),0),36))","v":""},{"$f":"IF($C80=0,\"\",INDEX(Data_kom2,MATCH(1,(komnavn2=$C80)*(komaar2=D$73),0),39))","v":""},{"$f":"IF(C80=0,\"\",INDEX(Data_kom2,MATCH(1,(komnavn2=C80)*(komaar2=D$73),0),40))","v":""},{"$f":"IF($C80=0,\"\",INDEX(Data_kom2,MATCH(1,(komnavn2=$C80)*(komaar2=D$73),0),43))","v":""},{"$f":"IF($C80=0,\"\",INDEX(Data_kom2,MATCH(1,(komnavn2=$C80)*(komaar2=D$73),0),44))","v":""},{"$f":"IF($C80=0,\"\",INDEX(Data_kom2,MATCH(1,(komnavn2=$C80)*(komaar2=D$73),0),47))","v":""},{"$f":"IF($C80=0,\"\",INDEX(Data_kom2,MATCH(1,(komnavn2=$C80)*(komaar2=D$73),0),48))","v":""},{"$f":"IF($C80=0,\"\",INDEX(Data_kom2,MATCH(1,(komnavn2=$C80)*(komaar2=D$73),0),51))","v":""},{"$f":"IF($C80=0,\"\",INDEX(Data_kom2,MATCH(1,(komnavn2=$C80)*(komaar2=D$73),0),52))","v":""},{"$f":"IF($C80=0,\"\",INDEX(Data_kom2,MATCH(1,(komnavn2=$C80)*(komaar2=D$73),0),55))","v":""},{"$f":"IF($C80=0,\"\",INDEX(Data_kom2,MATCH(1,(komnavn2=$C80)*(komaar2=D$73),0),56))","v":""},{"$f":"IF($C80=0,\"\",INDEX(Data_kom2,MATCH(1,(komnavn2=$C80)*(komaar2=D$73),0),59))","v":""},{"$f":"IF($C80=0,\"\",INDEX(Data_kom2,MATCH(1,(komnavn2=$C80)*(komaar2=D$73),0),60))","v":""},{"$f":"IF($C80=0,\"\",INDEX(Data_kom2,MATCH(1,(komnavn2=$C80)*(komaar2=D$73),0),63))","v":""},{"$f":"IF($C80=0,\"\",INDEX(Data_kom2,MATCH(1,(komnavn2=$C80)*(komaar2=D$73),0),64))","v":""},{"$f":"IF($C80=0,\"\",INDEX(Data_kom2,MATCH(1,(komnavn2=$C80)*(komaar2=D$73),0),67))","v":""},{"$f":"IF($C80=0,\"\",INDEX(Data_kom2,MATCH(1,(komnavn2=$C80)*(komaar2=D$73),0),68))","v":""},{"$f":"IF($C80=0,\"\",INDEX(Data_kom2,MATCH(1,(komnavn2=$C80)*(komaar2=D$73),0),71))","v":""},{"$f":"IF($C80=0,\"\",INDEX(Data_kom2,MATCH(1,(komnavn2=$C80)*(komaar2=D$73),0),72))","v":""},{"$f":"IF($C80=0,\"\",INDEX(Data_kom2,MATCH(1,(komnavn2=$C80)*(komaar2=D$73),0),75))","v":""},null,null,null,null,null,null,{"$f":"IF(C80=0,\"\",INDEX(Data_kom2,MATCH(1,(komnavn2=C80)*(komaar2=D$1),0),14))","v":""}]
[null,null,{"$f":"'Dine valg'!K13","v":0},{"$f":"IF(C81=0,\"\",INDEX(Data_kom2,MATCH(1,(komnavn2=C81)*(komaar2=D$73),0),4))","v":""},{"$f":"IF($C81=0,\"\",INDEX(Data_kom2,MATCH(1,(komnavn2=C81)*(komaar2=D$73),0),7))","v":""},{"$f":"IF(C81=0,\"\",INDEX(Data_kom2,MATCH(1,(komnavn2=C81)*(komaar2=D$73),0),8))","v":""},{"$f":"IF($C81=0,\"\",INDEX(Data_kom2,MATCH(1,(komnavn2=$C81)*(komaar2=D$73),0),11))","v":""},{"$f":"IF(C81=0,\"\",INDEX(Data_kom2,MATCH(1,(komnavn2=C81)*(komaar2=D$73),0),12))","v":""},{"$f":"IF($C81=0,\"\",INDEX(Data_kom2,MATCH(1,(komnavn2=$C81)*(komaar2=D$73),0),15))","v":""},{"$f":"IF(C81=0,\"\",INDEX(Data_kom2,MATCH(1,(komnavn2=C81)*(komaar2=D$73),0),16))","v":""},{"$f":"IF($C81=0,\"\",INDEX(Data_kom2,MATCH(1,(komnavn2=$C81)*(komaar2=D$73),0),19))","v":""},{"$f":"IF(C81=0,\"\",INDEX(Data_kom2,MATCH(1,(komnavn2=C81)*(komaar2=D$73),0),20))","v":""},{"$f":"IF($C81=0,\"\",INDEX(Data_kom2,MATCH(1,(komnavn2=$C81)*(komaar2=D$73),0),23))","v":""},{"$f":"IF(C81=0,\"\",INDEX(Data_kom2,MATCH(1,(komnavn2=C81)*(komaar2=D$73),0),24))","v":""},{"$f":"IF($C81=0,\"\",INDEX(Data_kom2,MATCH(1,(komnavn2=$C81)*(komaar2=D$73),0),27))","v":""},{"$f":"IF(C81=0,\"\",INDEX(Data_kom2,MATCH(1,(komnavn2=C81)*(komaar2=D$73),0),28))","v":""},{"$f":"IF($C81=0,\"\",INDEX(Data_kom2,MATCH(1,(komnavn2=$C81)*(komaar2=D$73),0),31))","v":""},{"$f":"IF(C81=0,\"\",INDEX(Data_kom2,MATCH(1,(komnavn2=C81)*(komaar2=D$73),0),32))","v":""},{"$f":"IF($C81=0,\"\",INDEX(Data_kom2,MATCH(1,(komnavn2=$C81)*(komaar2=D$73),0),35))","v":""},{"$f":"IF(C81=0,\"\",INDEX(Data_kom2,MATCH(1,(komnavn2=C81)*(komaar2=D$73),0),36))","v":""},{"$f":"IF($C81=0,\"\",INDEX(Data_kom2,MATCH(1,(komnavn2=$C81)*(komaar2=D$73),0),39))","v":""},{"$f":"IF(C81=0,\"\",INDEX(Data_kom2,MATCH(1,(komnavn2=C81)*(komaar2=D$73),0),40))","v":""},{"$f":"IF($C81=0,\"\",INDEX(Data_kom2,MATCH(1,(komnavn2=$C81)*(komaar2=D$73),0),43))","v":""},{"$f":"IF($C81=0,\"\",INDEX(Data_kom2,MATCH(1,(komnavn2=$C81)*(komaar2=D$73),0),44))","v":""},{"$f":"IF($C81=0,\"\",INDEX(Data_kom2,MATCH(1,(komnavn2=$C81)*(komaar2=D$73),0),47))","v":""},{"$f":"IF($C81=0,\"\",INDEX(Data_kom2,MATCH(1,(komnavn2=$C81)*(komaar2=D$73),0),48))","v":""},{"$f":"IF($C81=0,\"\",INDEX(Data_kom2,MATCH(1,(komnavn2=$C81)*(komaar2=D$73),0),51))","v":""},{"$f":"IF($C81=0,\"\",INDEX(Data_kom2,MATCH(1,(komnavn2=$C81)*(komaar2=D$73),0),52))","v":""},{"$f":"IF($C81=0,\"\",INDEX(Data_kom2,MATCH(1,(komnavn2=$C81)*(komaar2=D$73),0),55))","v":""},{"$f":"IF($C81=0,\"\",INDEX(Data_kom2,MATCH(1,(komnavn2=$C81)*(komaar2=D$73),0),56))","v":""},{"$f":"IF($C81=0,\"\",INDEX(Data_kom2,MATCH(1,(komnavn2=$C81)*(komaar2=D$73),0),59))","v":""},{"$f":"IF($C81=0,\"\",INDEX(Data_kom2,MATCH(1,(komnavn2=$C81)*(komaar2=D$73),0),60))","v":""},{"$f":"IF($C81=0,\"\",INDEX(Data_kom2,MATCH(1,(komnavn2=$C81)*(komaar2=D$73),0),63))","v":""},{"$f":"IF($C81=0,\"\",INDEX(Data_kom2,MATCH(1,(komnavn2=$C81)*(komaar2=D$73),0),64))","v":""},{"$f":"IF($C81=0,\"\",INDEX(Data_kom2,MATCH(1,(komnavn2=$C81)*(komaar2=D$73),0),67))","v":""},{"$f":"IF($C81=0,\"\",INDEX(Data_kom2,MATCH(1,(komnavn2=$C81)*(komaar2=D$73),0),68))","v":""},{"$f":"IF($C81=0,\"\",INDEX(Data_kom2,MATCH(1,(komnavn2=$C81)*(komaar2=D$73),0),71))","v":""},{"$f":"IF($C81=0,\"\",INDEX(Data_kom2,MATCH(1,(komnavn2=$C81)*(komaar2=D$73),0),72))","v":""},{"$f":"IF($C81=0,\"\",INDEX(Data_kom2,MATCH(1,(komnavn2=$C81)*(komaar2=D$73),0),75))","v":""},null,null,null,null,null,null,{"$f":"IF(C81=0,\"\",INDEX(Data_kom2,MATCH(1,(komnavn2=C81)*(komaar2=D$1),0),14))","v":""}]
[null,null,{"$f":"'Dine valg'!K14","v":0},{"$f":"IF(C82=0,\"\",INDEX(Data_kom2,MATCH(1,(komnavn2=C82)*(komaar2=D$73),0),4))","v":""},{"$f":"IF($C82=0,\"\",INDEX(Data_kom2,MATCH(1,(komnavn2=C82)*(komaar2=D$73),0),7))","v":""},{"$f":"IF(C82=0,\"\",INDEX(Data_kom2,MATCH(1,(komnavn2=C82)*(komaar2=D$73),0),8))","v":""},{"$f":"IF($C82=0,\"\",INDEX(Data_kom2,MATCH(1,(komnavn2=$C82)*(komaar2=D$73),0),11))","v":""},{"$f":"IF(C82=0,\"\",INDEX(Data_kom2,MATCH(1,(komnavn2=C82)*(komaar2=D$73),0),12))","v":""},{"$f":"IF($C82=0,\"\",INDEX(Data_kom2,MATCH(1,(komnavn2=$C82)*(komaar2=D$73),0),15))","v":""},{"$f":"IF(C82=0,\"\",INDEX(Data_kom2,MATCH(1,(komnavn2=C82)*(komaar2=D$73),0),16))","v":""},{"$f":"IF($C82=0,\"\",INDEX(Data_kom2,MATCH(1,(komnavn2=$C82)*(komaar2=D$73),0),19))","v":""},{"$f":"IF(C82=0,\"\",INDEX(Data_kom2,MATCH(1,(komnavn2=C82)*(komaar2=D$73),0),20))","v":""},{"$f":"IF($C82=0,\"\",INDEX(Data_kom2,MATCH(1,(komnavn2=$C82)*(komaar2=D$73),0),23))","v":""},{"$f":"IF(C82=0,\"\",INDEX(Data_kom2,MATCH(1,(komnavn2=C82)*(komaar2=D$73),0),24))","v":""},{"$f":"IF($C82=0,\"\",INDEX(Data_kom2,MATCH(1,(komnavn2=$C82)*(komaar2=D$73),0),27))","v":""},{"$f":"IF(C82=0,\"\",INDEX(Data_kom2,MATCH(1,(komnavn2=C82)*(komaar2=D$73),0),28))","v":""},{"$f":"IF($C82=0,\"\",INDEX(Data_kom2,MATCH(1,(komnavn2=$C82)*(komaar2=D$73),0),31))","v":""},{"$f":"IF(C82=0,\"\",INDEX(Data_kom2,MATCH(1,(komnavn2=C82)*(komaar2=D$73),0),32))","v":""},{"$f":"IF($C82=0,\"\",INDEX(Data_kom2,MATCH(1,(komnavn2=$C82)*(komaar2=D$73),0),35))","v":""},{"$f":"IF(C82=0,\"\",INDEX(Data_kom2,MATCH(1,(komnavn2=C82)*(komaar2=D$73),0),36))","v":""},{"$f":"IF($C82=0,\"\",INDEX(Data_kom2,MATCH(1,(komnavn2=$C82)*(komaar2=D$73),0),39))","v":""},{"$f":"IF(C82=0,\"\",INDEX(Data_kom2,MATCH(1,(komnavn2=C82)*(komaar2=D$73),0),40))","v":""},{"$f":"IF($C82=0,\"\",INDEX(Data_kom2,MATCH(1,(komnavn2=$C82)*(komaar2=D$73),0),43))","v":""},{"$f":"IF($C82=0,\"\",INDEX(Data_kom2,MATCH(1,(komnavn2=$C82)*(komaar2=D$73),0),44))","v":""},{"$f":"IF($C82=0,\"\",INDEX(Data_kom2,MATCH(1,(komnavn2=$C82)*(komaar2=D$73),0),47))","v":""},{"$f":"IF($C82=0,\"\",INDEX(Data_kom2,MATCH(1,(komnavn2=$C82)*(komaar2=D$73),0),48))","v":""},{"$f":"IF($C82=0,\"\",INDEX(Data_kom2,MATCH(1,(komnavn2=$C82)*(komaar2=D$73),0),51))","v":""},{"$f":"IF($C82=0,\"\",INDEX(Data_kom2,MATCH(1,(komnavn2=$C82)*(komaar2=D$73),0),52))","v":""},{"$f":"IF($C82=0,\"\",INDEX(Data_kom2,MATCH(1,(komnavn2=$C82)*(komaar2=D$73),0),55))","v":""},{"$f":"IF($C82=0,\"\",INDEX(Data_kom2,MATCH(1,(komnavn2=$C82)*(komaar2=D$73),0),56))","v":""},{"$f":"IF($C82=0,\"\",INDEX(Data_kom2,MATCH(1,(komnavn2=$C82)*(komaar2=D$73),0),59))","v":""},{"$f":"IF($C82=0,\"\",INDEX(Data_kom2,MATCH(1,(komnavn2=$C82)*(komaar2=D$73),0),60))","v":""},{"$f":"IF($C82=0,\"\",INDEX(Data_kom2,MATCH(1,(komnavn2=$C82)*(komaar2=D$73),0),63))","v":""},{"$f":"IF($C82=0,\"\",INDEX(Data_kom2,MATCH(1,(komnavn2=$C82)*(komaar2=D$73),0),64))","v":""},{"$f":"IF($C82=0,\"\",INDEX(Data_kom2,MATCH(1,(komnavn2=$C82)*(komaar2=D$73),0),67))","v":""},{"$f":"IF($C82=0,\"\",INDEX(Data_kom2,MATCH(1,(komnavn2=$C82)*(komaar2=D$73),0),68))","v":""},{"$f":"IF($C82=0,\"\",INDEX(Data_kom2,MATCH(1,(komnavn2=$C82)*(komaar2=D$73),0),71))","v":""},{"$f":"IF($C82=0,\"\",INDEX(Data_kom2,MATCH(1,(komnavn2=$C82)*(komaar2=D$73),0),72))","v":""},{"$f":"IF($C82=0,\"\",INDEX(Data_kom2,MATCH(1,(komnavn2=$C82)*(komaar2=D$73),0),75))","v":""},null,null,null,null,null,null,{"$f":"IF(C82=0,\"\",INDEX(Data_kom2,MATCH(1,(komnavn2=C82)*(komaar2=D$1),0),14))","v":""}]
[]
[]
[null,null,null,20212,null,2021]
[null,null,null,"Nøgletal 1: Modtagere af længerevarende botilbud",null,"Nøgletal 2: Modtagere af botilbudslignende tilbud",null,"Nøgletal 3: Modtagere af midlertidigt botilbud",null,"Nøgletal 4: Modtagere af socialpædagogisk støtte",null,"Nøgletal 5: Modtagere af beskyttet beskæftigelse og aktivitets- og samværstilbud",null,"Nøgletal 6: Modtagere af forebyggende indsatser",null,"Nøgletal 7: Flytninger fra botilbud",null,"Nøgletal 7.1: Flytninger fra længerevarende botilbud og lignende til midlertidigt botilbud",null,"Antal institutionsanbragte 0-17 årige pr. forrige kvartal",null,"0-17 årige, der ved sidste opgørelse var institutionsanbragt, men nu er anbragt i anden form",null,"Nøgletal 8: Fra socialpædagogisk støtte og ned af trappen",null,"Nøgletal 9: Fra forebyggende indsatser og ned af trappen",null,"Nøgletal 10: Fra forebyggende indsatser og op af trappen",null,"Nøgletal 11: Uddannelsesgrad",null,"Nøgletal 12: Beskæftigelsesgrad",null,"Nøgletal 12.1: Beskæftigelsesgrad for modtagere af forebyggende indsatser",null,"Nøgletal 12.2: Beskæftigelsesgrad for den øvrige målgruppe",null,"Nøgletal 18: Genindlæggelser",null,"Nøgletal 19: Udgifter til forebyggende indsatser ift. udgifter til støttende indsatser","Udgiftsandel til længerevarende botilbud","Udgiftsandel til botilbudslignende tilbud","Udgiftsandel til midlertidige botilbud","Udgiftsandel til socialpædagogisk støtte","Udgiftsandel til beskyttet beskæftigelse og aktivitets- og samværstilbud","Udgiftsandel til forebyggende indsatser"]
[null,null,null,1,null,2,null,3,null,4,null,5,null,6,null,7,null,"7.1",null,"7.2",null,"7.3",null,8,null,9,null,10,null,11,null,12,null,"12.1",null,"12.2",null,18,null,19,"20.1","20.2","20.3","20.4","20.5","20.6"]
[null,null,null,{"$f":"IF($C76=0,\"\",INDEX(Data_kom2,MATCH(1,(komnavn2=$C76)*(komaar2=D$85),0),4))","v":7},{"$f":"IF($C76=0,\"\",INDEX(Data_kom2,MATCH(1,(komnavn2=$C76)*(komaar2=D$85),0),7))","v":36},{"$f":"IF($C76=0,\"\",INDEX(Data_kom2,MATCH(1,(komnavn2=$C76)*(komaar2=D$85),0),8))","v":6},{"$f":"IF($C76=0,\"\",INDEX(Data_kom2,MATCH(1,(komnavn2=$C76)*(komaar2=D$85),0),11))","v":36},{"$f":"IF($C76=0,\"\",INDEX(Data_kom2,MATCH(1,(komnavn2=$C76)*(komaar2=D$85),0),12))","v":4},{"$f":"IF($C76=0,\"\",INDEX(Data_kom2,MATCH(1,(komnavn2=$C76)*(komaar2=D$85),0),15))","v":36},{"$f":"IF($C76=0,\"\",INDEX(Data_kom2,MATCH(1,(komnavn2=$C76)*(komaar2=D$85),0),16))","v":19},{"$f":"IF($C76=0,\"\",INDEX(Data_kom2,MATCH(1,(komnavn2=$C76)*(komaar2=D$85),0),19))","v":36},{"$f":"IF($C76=0,\"\",INDEX(Data_kom2,MATCH(1,(komnavn2=$C76)*(komaar2=D$85),0),20))","v":0},{"$f":"IF($C76=0,\"\",INDEX(Data_kom2,MATCH(1,(komnavn2=$C76)*(komaar2=D$85),0),23))","v":36},{"$f":"IF($C76=0,\"\",INDEX(Data_kom2,MATCH(1,(komnavn2=$C76)*(komaar2=D$85),0),24))","v":0},{"$f":"IF($C76=0,\"\",INDEX(Data_kom2,MATCH(1,(komnavn2=$C76)*(komaar2=D$85),0),27))","v":36},{"$f":"IF($C76=0,\"\",INDEX(Data_kom2,MATCH(1,(komnavn2=$C76)*(komaar2=D$85),0),28))","v":0},{"$f":"IF($C76=0,\"\",INDEX(Data_kom2,MATCH(1,(komnavn2=$C76)*(komaar2=D$85),0),31))","v":0},{"$f":"IF($C76=0,\"\",INDEX(Data_kom2,MATCH(1,(komnavn2=$C76)*(komaar2=D$85),0),32))","v":0},{"$f":"IF($C76=0,\"\",INDEX(Data_kom2,MATCH(1,(komnavn2=$C76)*(komaar2=D$85),0),35))","v":13},{"$f":"IF($C76=0,\"\",INDEX(Data_kom2,MATCH(1,(komnavn2=$C76)*(komaar2=D$85),0),36))","v":0},{"$f":"IF($C76=0,\"\",INDEX(Data_kom2,MATCH(1,(komnavn2=$C76)*(komaar2=D$85),0),39))","v":13},{"$f":"IF(C76=0,\"\",INDEX(Data_kom2,MATCH(1,(komnavn2=C76)*(komaar2=D$85),0),40))","v":0},{"$f":"IF($C76=0,\"\",INDEX(Data_kom2,MATCH(1,(komnavn2=$C76)*(komaar2=D$85),0),43))","v":0},{"$f":"IF($C76=0,\"\",INDEX(Data_kom2,MATCH(1,(komnavn2=$C76)*(komaar2=D$85),0),44))","v":0},{"$f":"IF($C76=0,\"\",INDEX(Data_kom2,MATCH(1,(komnavn2=$C76)*(komaar2=D$85),0),47))","v":17},{"$f":"IF($C76=0,\"\",INDEX(Data_kom2,MATCH(1,(komnavn2=$C76)*(komaar2=D$85),0),48))","v":0},{"$f":"IF($C76=0,\"\",INDEX(Data_kom2,MATCH(1,(komnavn2=$C76)*(komaar2=D$85),0),51))","v":0},{"$f":"IF($C76=0,\"\",INDEX(Data_kom2,MATCH(1,(komnavn2=$C76)*(komaar2=D$85),0),52))","v":0},{"$f":"IF($C76=0,\"\",INDEX(Data_kom2,MATCH(1,(komnavn2=$C76)*(komaar2=D$85),0),55))","v":0},{"$f":"IF($C76=0,\"\",INDEX(Data_kom2,MATCH(1,(komnavn2=$C76)*(komaar2=D$85),0),56))","v":2.2435897435897401E-2},{"$f":"IF($C76=0,\"\",INDEX(Data_kom2,MATCH(1,(komnavn2=$C76)*(komaar2=D$85),0),59))","v":36},{"$f":"IF($C76=0,\"\",INDEX(Data_kom2,MATCH(1,(komnavn2=$C76)*(komaar2=D$85),0),60))","v":9.9893162393162399E-2},{"$f":"IF($C76=0,\"\",INDEX(Data_kom2,MATCH(1,(komnavn2=$C76)*(komaar2=D$85),0),63))","v":36},{"$f":"IF($C76=0,\"\",INDEX(Data_kom2,MATCH(1,(komnavn2=$C76)*(komaar2=D$85),0),64))","v":0},{"$f":"IF($C76=0,\"\",INDEX(Data_kom2,MATCH(1,(komnavn2=$C76)*(komaar2=D$85),0),67))","v":0},{"$f":"IF($C76=0,\"\",INDEX(Data_kom2,MATCH(1,(komnavn2=$C76)*(komaar2=D$85),0),68))","v":9.9893162393162399E-2},{"$f":"IF($C76=0,\"\",INDEX(Data_kom2,MATCH(1,(komnavn2=$C76)*(komaar2=D$85),0),71))","v":36},{"$f":"IF($C76=0,\"\",INDEX(Data_kom2,MATCH(1,(komnavn2=$C76)*(komaar2=D$85),0),72))","v":0.75},{"$f":"IF($C76=0,\"\",INDEX(Data_kom2,MATCH(1,(komnavn2=$C76)*(komaar2=D$85),0),75))","v":36},{"$f":"IF($C76=0,\"\",INDEX(Data_komoek,MATCH(1,(komnavn=$C76)*(komaar=$F$85),0),3))","v":2.1565808391059999E-2},{"$f":"IF($C76=0,\"\",INDEX(Data_komoek,MATCH(1,(komnavn=$C76)*(komaar=$F$85),0),6))","v":0.57343909928352099},{"$f":"IF($C76=0,\"\",INDEX(Data_komoek,MATCH(1,(komnavn=$C76)*(komaar=$F$85),0),9))","v":0.20214943705220101},{"$f":"IF($C76=0,\"\",INDEX(Data_komoek,MATCH(1,(komnavn=$C76)*(komaar=$F$85),0),12))","v":0.15026867963152499},{"$f":"IF($C76=0,\"\",INDEX(Data_komoek,MATCH(1,(komnavn=$C76)*(komaar=$F$85),0),15))","v":4.3692425793244602E-2},{"$f":"IF($C76=0,\"\",INDEX(Data_komoek,MATCH(1,(komnavn=$C76)*(komaar=$F$85),0),18))","v":9.3398157625383792E-3},{"$f":"IF($C76=0,\"\",INDEX(Data_komoek,MATCH(1,(komnavn=$C76)*(komaar=$F$85),0),21))","v":2.11105424769703E-2}]
[null,null,null,{"$f":"IF($C77=0,\"\",INDEX(Data_kom2,MATCH(1,(komnavn2=$C77)*(komaar2=D$85),0),4))","v":9},{"$f":"IF($C77=0,\"\",INDEX(Data_kom2,MATCH(1,(komnavn2=$C77)*(komaar2=D$85),0),7))","v":230},{"$f":"IF($C77=0,\"\",INDEX(Data_kom2,MATCH(1,(komnavn2=$C77)*(komaar2=D$85),0),8))","v":23},{"$f":"IF($C77=0,\"\",INDEX(Data_kom2,MATCH(1,(komnavn2=$C77)*(komaar2=D$85),0),11))","v":230},{"$f":"IF($C77=0,\"\",INDEX(Data_kom2,MATCH(1,(komnavn2=$C77)*(komaar2=D$85),0),12))","v":23},{"$f":"IF($C77=0,\"\",INDEX(Data_kom2,MATCH(1,(komnavn2=$C77)*(komaar2=D$85),0),15))","v":230},{"$f":"IF($C77=0,\"\",INDEX(Data_kom2,MATCH(1,(komnavn2=$C77)*(komaar2=D$85),0),16))","v":135},{"$f":"IF($C77=0,\"\",INDEX(Data_kom2,MATCH(1,(komnavn2=$C77)*(komaar2=D$85),0),19))","v":230},{"$f":"IF($C77=0,\"\",INDEX(Data_kom2,MATCH(1,(komnavn2=$C77)*(komaar2=D$85),0),20))","v":36},{"$f":"IF($C77=0,\"\",INDEX(Data_kom2,MATCH(1,(komnavn2=$C77)*(komaar2=D$85),0),23))","v":230},{"$f":"IF($C77=0,\"\",INDEX(Data_kom2,MATCH(1,(komnavn2=$C77)*(komaar2=D$85),0),24))","v":0},{"$f":"IF($C77=0,\"\",INDEX(Data_kom2,MATCH(1,(komnavn2=$C77)*(komaar2=D$85),0),27))","v":230},{"$f":"IF($C77=0,\"\",INDEX(Data_kom2,MATCH(1,(komnavn2=$C77)*(komaar2=D$85),0),28))","v":3},{"$f":"IF($C77=0,\"\",INDEX(Data_kom2,MATCH(1,(komnavn2=$C77)*(komaar2=D$85),0),31))","v":50},{"$f":"IF($C77=0,\"\",INDEX(Data_kom2,MATCH(1,(komnavn2=$C77)*(komaar2=D$85),0),32))","v":0},{"$f":"IF($C77=0,\"\",INDEX(Data_kom2,MATCH(1,(komnavn2=$C77)*(komaar2=D$85),0),35))","v":31},{"$f":"IF($C77=0,\"\",INDEX(Data_kom2,MATCH(1,(komnavn2=$C77)*(komaar2=D$85),0),36))","v":0},{"$f":"IF($C77=0,\"\",INDEX(Data_kom2,MATCH(1,(komnavn2=$C77)*(komaar2=D$85),0),39))","v":31},{"$f":"IF(C77=0,\"\",INDEX(Data_kom2,MATCH(1,(komnavn2=C77)*(komaar2=D$85),0),40))","v":0},{"$f":"IF($C77=0,\"\",INDEX(Data_kom2,MATCH(1,(komnavn2=$C77)*(komaar2=D$85),0),43))","v":19},{"$f":"IF($C77=0,\"\",INDEX(Data_kom2,MATCH(1,(komnavn2=$C77)*(komaar2=D$85),0),44))","v":15},{"$f":"IF($C77=0,\"\",INDEX(Data_kom2,MATCH(1,(komnavn2=$C77)*(komaar2=D$85),0),47))","v":123},{"$f":"IF($C77=0,\"\",INDEX(Data_kom2,MATCH(1,(komnavn2=$C77)*(komaar2=D$85),0),48))","v":0},{"$f":"IF($C77=0,\"\",INDEX(Data_kom2,MATCH(1,(komnavn2=$C77)*(komaar2=D$85),0),51))","v":0},{"$f":"IF($C77=0,\"\",INDEX(Data_kom2,MATCH(1,(komnavn2=$C77)*(komaar2=D$85),0),52))","v":0},{"$f":"IF($C77=0,\"\",INDEX(Data_kom2,MATCH(1,(komnavn2=$C77)*(komaar2=D$85),0),55))","v":0},{"$f":"IF($C77=0,\"\",INDEX(Data_kom2,MATCH(1,(komnavn2=$C77)*(komaar2=D$85),0),56))","v":4.7658862876254196E-3},{"$f":"IF($C77=0,\"\",INDEX(Data_kom2,MATCH(1,(komnavn2=$C77)*(komaar2=D$85),0),59))","v":230},{"$f":"IF($C77=0,\"\",INDEX(Data_kom2,MATCH(1,(komnavn2=$C77)*(komaar2=D$85),0),60))","v":4.2642140468227403E-2},{"$f":"IF($C77=0,\"\",INDEX(Data_kom2,MATCH(1,(komnavn2=$C77)*(komaar2=D$85),0),63))","v":230},{"$f":"IF($C77=0,\"\",INDEX(Data_kom2,MATCH(1,(komnavn2=$C77)*(komaar2=D$85),0),64))","v":0},{"$f":"IF($C77=0,\"\",INDEX(Data_kom2,MATCH(1,(komnavn2=$C77)*(komaar2=D$85),0),67))","v":0},{"$f":"IF($C77=0,\"\",INDEX(Data_kom2,MATCH(1,(komnavn2=$C77)*(komaar2=D$85),0),68))","v":4.2642140468227403E-2},{"$f":"IF($C77=0,\"\",INDEX(Data_kom2,MATCH(1,(komnavn2=$C77)*(komaar2=D$85),0),71))","v":230},{"$f":"IF($C77=0,\"\",INDEX(Data_kom2,MATCH(1,(komnavn2=$C77)*(komaar2=D$85),0),72))","v":0.320754716981132},{"$f":"IF($C77=0,\"\",INDEX(Data_kom2,MATCH(1,(komnavn2=$C77)*(komaar2=D$85),0),75))","v":230},{"$f":"IF($C77=0,\"\",INDEX(Data_komoek,MATCH(1,(komnavn=$C77)*(komaar=$F$85),0),3))","v":1.3494846456274599E-2},{"$f":"IF($C77=0,\"\",INDEX(Data_komoek,MATCH(1,(komnavn=$C77)*(komaar=$F$85),0),6))","v":0.179534493604529},{"$f":"IF($C77=0,\"\",INDEX(Data_komoek,MATCH(1,(komnavn=$C77)*(komaar=$F$85),0),9))","v":0.190459215768505},{"$f":"IF($C77=0,\"\",INDEX(Data_komoek,MATCH(1,(komnavn=$C77)*(komaar=$F$85),0),12))","v":0.35919479974837498},{"$f":"IF($C77=0,\"\",INDEX(Data_komoek,MATCH(1,(komnavn=$C77)*(komaar=$F$85),0),15))","v":0.17420842944013401},{"$f":"IF($C77=0,\"\",INDEX(Data_komoek,MATCH(1,(komnavn=$C77)*(komaar=$F$85),0),18))","v":8.3287901027469094E-2},{"$f":"IF($C77=0,\"\",INDEX(Data_komoek,MATCH(1,(komnavn=$C77)*(komaar=$F$85),0),21))","v":1.3315160410987599E-2}]
[null,null,null,{"$f":"IF($C78=0,\"\",INDEX(Data_kom2,MATCH(1,(komnavn2=$C78)*(komaar2=D$85),0),4))","v":19},{"$f":"IF($C78=0,\"\",INDEX(Data_kom2,MATCH(1,(komnavn2=$C78)*(komaar2=D$85),0),7))","v":250},{"$f":"IF($C78=0,\"\",INDEX(Data_kom2,MATCH(1,(komnavn2=$C78)*(komaar2=D$85),0),8))","v":19},{"$f":"IF($C78=0,\"\",INDEX(Data_kom2,MATCH(1,(komnavn2=$C78)*(komaar2=D$85),0),11))","v":250},{"$f":"IF($C78=0,\"\",INDEX(Data_kom2,MATCH(1,(komnavn2=$C78)*(komaar2=D$85),0),12))","v":42},{"$f":"IF($C78=0,\"\",INDEX(Data_kom2,MATCH(1,(komnavn2=$C78)*(komaar2=D$85),0),15))","v":250},{"$f":"IF($C78=0,\"\",INDEX(Data_kom2,MATCH(1,(komnavn2=$C78)*(komaar2=D$85),0),16))","v":151},{"$f":"IF($C78=0,\"\",INDEX(Data_kom2,MATCH(1,(komnavn2=$C78)*(komaar2=D$85),0),19))","v":250},{"$f":"IF($C78=0,\"\",INDEX(Data_kom2,MATCH(1,(komnavn2=$C78)*(komaar2=D$85),0),20))","v":11},{"$f":"IF($C78=0,\"\",INDEX(Data_kom2,MATCH(1,(komnavn2=$C78)*(komaar2=D$85),0),23))","v":250},{"$f":"IF($C78=0,\"\",INDEX(Data_kom2,MATCH(1,(komnavn2=$C78)*(komaar2=D$85),0),24))","v":0},{"$f":"IF($C78=0,\"\",INDEX(Data_kom2,MATCH(1,(komnavn2=$C78)*(komaar2=D$85),0),27))","v":250},{"$f":"IF($C78=0,\"\",INDEX(Data_kom2,MATCH(1,(komnavn2=$C78)*(komaar2=D$85),0),28))","v":5},{"$f":"IF($C78=0,\"\",INDEX(Data_kom2,MATCH(1,(komnavn2=$C78)*(komaar2=D$85),0),31))","v":82},{"$f":"IF($C78=0,\"\",INDEX(Data_kom2,MATCH(1,(komnavn2=$C78)*(komaar2=D$85),0),32))","v":0},{"$f":"IF($C78=0,\"\",INDEX(Data_kom2,MATCH(1,(komnavn2=$C78)*(komaar2=D$85),0),35))","v":40},{"$f":"IF($C78=0,\"\",INDEX(Data_kom2,MATCH(1,(komnavn2=$C78)*(komaar2=D$85),0),36))","v":0},{"$f":"IF($C78=0,\"\",INDEX(Data_kom2,MATCH(1,(komnavn2=$C78)*(komaar2=D$85),0),39))","v":40},{"$f":"IF(C78=0,\"\",INDEX(Data_kom2,MATCH(1,(komnavn2=C78)*(komaar2=D$85),0),40))","v":0},{"$f":"IF($C78=0,\"\",INDEX(Data_kom2,MATCH(1,(komnavn2=$C78)*(komaar2=D$85),0),43))","v":42},{"$f":"IF($C78=0,\"\",INDEX(Data_kom2,MATCH(1,(komnavn2=$C78)*(komaar2=D$85),0),44))","v":20},{"$f":"IF($C78=0,\"\",INDEX(Data_kom2,MATCH(1,(komnavn2=$C78)*(komaar2=D$85),0),47))","v":148},{"$f":"IF($C78=0,\"\",INDEX(Data_kom2,MATCH(1,(komnavn2=$C78)*(komaar2=D$85),0),48))","v":0},{"$f":"IF($C78=0,\"\",INDEX(Data_kom2,MATCH(1,(komnavn2=$C78)*(komaar2=D$85),0),51))","v":0},{"$f":"IF($C78=0,\"\",INDEX(Data_kom2,MATCH(1,(komnavn2=$C78)*(komaar2=D$85),0),52))","v":0},{"$f":"IF($C78=0,\"\",INDEX(Data_kom2,MATCH(1,(komnavn2=$C78)*(komaar2=D$85),0),55))","v":0},{"$f":"IF($C78=0,\"\",INDEX(Data_kom2,MATCH(1,(komnavn2=$C78)*(komaar2=D$85),0),56))","v":3.3000000000000002E-2},{"$f":"IF($C78=0,\"\",INDEX(Data_kom2,MATCH(1,(komnavn2=$C78)*(komaar2=D$85),0),59))","v":250},{"$f":"IF($C78=0,\"\",INDEX(Data_kom2,MATCH(1,(komnavn2=$C78)*(komaar2=D$85),0),60))","v":4.4538461538461499E-2},{"$f":"IF($C78=0,\"\",INDEX(Data_kom2,MATCH(1,(komnavn2=$C78)*(komaar2=D$85),0),63))","v":250},{"$f":"IF($C78=0,\"\",INDEX(Data_kom2,MATCH(1,(komnavn2=$C78)*(komaar2=D$85),0),64))","v":0},{"$f":"IF($C78=0,\"\",INDEX(Data_kom2,MATCH(1,(komnavn2=$C78)*(komaar2=D$85),0),67))","v":0},{"$f":"IF($C78=0,\"\",INDEX(Data_kom2,MATCH(1,(komnavn2=$C78)*(komaar2=D$85),0),68))","v":4.4538461538461499E-2},{"$f":"IF($C78=0,\"\",INDEX(Data_kom2,MATCH(1,(komnavn2=$C78)*(komaar2=D$85),0),71))","v":250},{"$f":"IF($C78=0,\"\",INDEX(Data_kom2,MATCH(1,(komnavn2=$C78)*(komaar2=D$85),0),72))","v":0.38461538461538503},{"$f":"IF($C78=0,\"\",INDEX(Data_kom2,MATCH(1,(komnavn2=$C78)*(komaar2=D$85),0),75))","v":250},{"$f":"IF($C78=0,\"\",INDEX(Data_komoek,MATCH(1,(komnavn=$C78)*(komaar=$F$85),0),3))","v":0},{"$f":"IF($C78=0,\"\",INDEX(Data_komoek,MATCH(1,(komnavn=$C78)*(komaar=$F$85),0),6))","v":0.55993724505804798},{"$f":"IF($C78=0,\"\",INDEX(Data_komoek,MATCH(1,(komnavn=$C78)*(komaar=$F$85),0),9))","v":0.18143708817069301},{"$f":"IF($C78=0,\"\",INDEX(Data_komoek,MATCH(1,(komnavn=$C78)*(komaar=$F$85),0),12))","v":0.206564166928146},{"$f":"IF($C78=0,\"\",INDEX(Data_komoek,MATCH(1,(komnavn=$C78)*(komaar=$F$85),0),15))","v":4.8785691873234997E-2},{"$f":"IF($C78=0,\"\",INDEX(Data_komoek,MATCH(1,(komnavn=$C78)*(komaar=$F$85),0),18))","v":3.27580796987763E-3},{"$f":"IF($C78=0,\"\",INDEX(Data_komoek,MATCH(1,(komnavn=$C78)*(komaar=$F$85),0),21))","v":0}]
[null,null,null,{"$f":"IF($C79=0,\"\",INDEX(Data_kom2,MATCH(1,(komnavn2=$C79)*(komaar2=D$85),0),4))","v":""},{"$f":"IF($C79=0,\"\",INDEX(Data_kom2,MATCH(1,(komnavn2=$C79)*(komaar2=D$85),0),7))","v":""},{"$f":"IF($C79=0,\"\",INDEX(Data_kom2,MATCH(1,(komnavn2=$C79)*(komaar2=D$85),0),8))","v":""},{"$f":"IF($C79=0,\"\",INDEX(Data_kom2,MATCH(1,(komnavn2=$C79)*(komaar2=D$85),0),11))","v":""},{"$f":"IF($C79=0,\"\",INDEX(Data_kom2,MATCH(1,(komnavn2=$C79)*(komaar2=D$85),0),12))","v":""},{"$f":"IF($C79=0,\"\",INDEX(Data_kom2,MATCH(1,(komnavn2=$C79)*(komaar2=D$85),0),15))","v":""},{"$f":"IF($C79=0,\"\",INDEX(Data_kom2,MATCH(1,(komnavn2=$C79)*(komaar2=D$85),0),16))","v":""},{"$f":"IF($C79=0,\"\",INDEX(Data_kom2,MATCH(1,(komnavn2=$C79)*(komaar2=D$85),0),19))","v":""},{"$f":"IF($C79=0,\"\",INDEX(Data_kom2,MATCH(1,(komnavn2=$C79)*(komaar2=D$85),0),20))","v":""},{"$f":"IF($C79=0,\"\",INDEX(Data_kom2,MATCH(1,(komnavn2=$C79)*(komaar2=D$85),0),23))","v":""},{"$f":"IF($C79=0,\"\",INDEX(Data_kom2,MATCH(1,(komnavn2=$C79)*(komaar2=D$85),0),24))","v":""},{"$f":"IF($C79=0,\"\",INDEX(Data_kom2,MATCH(1,(komnavn2=$C79)*(komaar2=D$85),0),27))","v":""},{"$f":"IF($C79=0,\"\",INDEX(Data_kom2,MATCH(1,(komnavn2=$C79)*(komaar2=D$85),0),28))","v":""},{"$f":"IF($C79=0,\"\",INDEX(Data_kom2,MATCH(1,(komnavn2=$C79)*(komaar2=D$85),0),31))","v":""},{"$f":"IF($C79=0,\"\",INDEX(Data_kom2,MATCH(1,(komnavn2=$C79)*(komaar2=D$85),0),32))","v":""},{"$f":"IF($C79=0,\"\",INDEX(Data_kom2,MATCH(1,(komnavn2=$C79)*(komaar2=D$85),0),35))","v":""},{"$f":"IF($C79=0,\"\",INDEX(Data_kom2,MATCH(1,(komnavn2=$C79)*(komaar2=D$85),0),36))","v":""},{"$f":"IF($C79=0,\"\",INDEX(Data_kom2,MATCH(1,(komnavn2=$C79)*(komaar2=D$85),0),39))","v":""},{"$f":"IF(C79=0,\"\",INDEX(Data_kom2,MATCH(1,(komnavn2=C79)*(komaar2=D$85),0),40))","v":""},{"$f":"IF($C79=0,\"\",INDEX(Data_kom2,MATCH(1,(komnavn2=$C79)*(komaar2=D$85),0),43))","v":""},{"$f":"IF($C79=0,\"\",INDEX(Data_kom2,MATCH(1,(komnavn2=$C79)*(komaar2=D$85),0),44))","v":""},{"$f":"IF($C79=0,\"\",INDEX(Data_kom2,MATCH(1,(komnavn2=$C79)*(komaar2=D$85),0),47))","v":""},{"$f":"IF($C79=0,\"\",INDEX(Data_kom2,MATCH(1,(komnavn2=$C79)*(komaar2=D$85),0),48))","v":""},{"$f":"IF($C79=0,\"\",INDEX(Data_kom2,MATCH(1,(komnavn2=$C79)*(komaar2=D$85),0),51))","v":""},{"$f":"IF($C79=0,\"\",INDEX(Data_kom2,MATCH(1,(komnavn2=$C79)*(komaar2=D$85),0),52))","v":""},{"$f":"IF($C79=0,\"\",INDEX(Data_kom2,MATCH(1,(komnavn2=$C79)*(komaar2=D$85),0),55))","v":""},{"$f":"IF($C79=0,\"\",INDEX(Data_kom2,MATCH(1,(komnavn2=$C79)*(komaar2=D$85),0),56))","v":""},{"$f":"IF($C79=0,\"\",INDEX(Data_kom2,MATCH(1,(komnavn2=$C79)*(komaar2=D$85),0),59))","v":""},{"$f":"IF($C79=0,\"\",INDEX(Data_kom2,MATCH(1,(komnavn2=$C79)*(komaar2=D$85),0),60))","v":""},{"$f":"IF($C79=0,\"\",INDEX(Data_kom2,MATCH(1,(komnavn2=$C79)*(komaar2=D$85),0),63))","v":""},{"$f":"IF($C79=0,\"\",INDEX(Data_kom2,MATCH(1,(komnavn2=$C79)*(komaar2=D$85),0),64))","v":""},{"$f":"IF($C79=0,\"\",INDEX(Data_kom2,MATCH(1,(komnavn2=$C79)*(komaar2=D$85),0),67))","v":""},{"$f":"IF($C79=0,\"\",INDEX(Data_kom2,MATCH(1,(komnavn2=$C79)*(komaar2=D$85),0),68))","v":""},{"$f":"IF($C79=0,\"\",INDEX(Data_kom2,MATCH(1,(komnavn2=$C79)*(komaar2=D$85),0),71))","v":""},{"$f":"IF($C79=0,\"\",INDEX(Data_kom2,MATCH(1,(komnavn2=$C79)*(komaar2=D$85),0),72))","v":""},{"$f":"IF($C79=0,\"\",INDEX(Data_kom2,MATCH(1,(komnavn2=$C79)*(komaar2=D$85),0),75))","v":""},{"$f":"IF($C79=0,\"\",INDEX(Data_komoek,MATCH(1,(komnavn=$C79)*(komaar=$F$85),0),3))","v":""},{"$f":"IF($C79=0,\"\",INDEX(Data_komoek,MATCH(1,(komnavn=$C79)*(komaar=$F$85),0),6))","v":""},{"$f":"IF($C79=0,\"\",INDEX(Data_komoek,MATCH(1,(komnavn=$C79)*(komaar=$F$85),0),9))","v":""},{"$f":"IF($C79=0,\"\",INDEX(Data_komoek,MATCH(1,(komnavn=$C79)*(komaar=$F$85),0),12))","v":""},{"$f":"IF($C79=0,\"\",INDEX(Data_komoek,MATCH(1,(komnavn=$C79)*(komaar=$F$85),0),15))","v":""},{"$f":"IF($C79=0,\"\",INDEX(Data_komoek,MATCH(1,(komnavn=$C79)*(komaar=$F$85),0),18))","v":""},{"$f":"IF($C79=0,\"\",INDEX(Data_komoek,MATCH(1,(komnavn=$C79)*(komaar=$F$85),0),21))","v":""}]
[null,null,null,{"$f":"IF($C80=0,\"\",INDEX(Data_kom2,MATCH(1,(komnavn2=$C80)*(komaar2=D$85),0),4))","v":""},{"$f":"IF($C80=0,\"\",INDEX(Data_kom2,MATCH(1,(komnavn2=$C80)*(komaar2=D$85),0),7))","v":""},{"$f":"IF($C80=0,\"\",INDEX(Data_kom2,MATCH(1,(komnavn2=$C80)*(komaar2=D$85),0),8))","v":""},{"$f":"IF($C80=0,\"\",INDEX(Data_kom2,MATCH(1,(komnavn2=$C80)*(komaar2=D$85),0),11))","v":""},{"$f":"IF($C80=0,\"\",INDEX(Data_kom2,MATCH(1,(komnavn2=$C80)*(komaar2=D$85),0),12))","v":""},{"$f":"IF($C80=0,\"\",INDEX(Data_kom2,MATCH(1,(komnavn2=$C80)*(komaar2=D$85),0),15))","v":""},{"$f":"IF($C80=0,\"\",INDEX(Data_kom2,MATCH(1,(komnavn2=$C80)*(komaar2=D$85),0),16))","v":""},{"$f":"IF($C80=0,\"\",INDEX(Data_kom2,MATCH(1,(komnavn2=$C80)*(komaar2=D$85),0),19))","v":""},{"$f":"IF($C80=0,\"\",INDEX(Data_kom2,MATCH(1,(komnavn2=$C80)*(komaar2=D$85),0),20))","v":""},{"$f":"IF($C80=0,\"\",INDEX(Data_kom2,MATCH(1,(komnavn2=$C80)*(komaar2=D$85),0),23))","v":""},{"$f":"IF($C80=0,\"\",INDEX(Data_kom2,MATCH(1,(komnavn2=$C80)*(komaar2=D$85),0),24))","v":""},{"$f":"IF($C80=0,\"\",INDEX(Data_kom2,MATCH(1,(komnavn2=$C80)*(komaar2=D$85),0),27))","v":""},{"$f":"IF($C80=0,\"\",INDEX(Data_kom2,MATCH(1,(komnavn2=$C80)*(komaar2=D$85),0),28))","v":""},{"$f":"IF($C80=0,\"\",INDEX(Data_kom2,MATCH(1,(komnavn2=$C80)*(komaar2=D$85),0),31))","v":""},{"$f":"IF($C80=0,\"\",INDEX(Data_kom2,MATCH(1,(komnavn2=$C80)*(komaar2=D$85),0),32))","v":""},{"$f":"IF($C80=0,\"\",INDEX(Data_kom2,MATCH(1,(komnavn2=$C80)*(komaar2=D$85),0),35))","v":""},{"$f":"IF($C80=0,\"\",INDEX(Data_kom2,MATCH(1,(komnavn2=$C80)*(komaar2=D$85),0),36))","v":""},{"$f":"IF($C80=0,\"\",INDEX(Data_kom2,MATCH(1,(komnavn2=$C80)*(komaar2=D$85),0),39))","v":""},{"$f":"IF(C80=0,\"\",INDEX(Data_kom2,MATCH(1,(komnavn2=C80)*(komaar2=D$85),0),40))","v":""},{"$f":"IF($C80=0,\"\",INDEX(Data_kom2,MATCH(1,(komnavn2=$C80)*(komaar2=D$85),0),43))","v":""},{"$f":"IF($C80=0,\"\",INDEX(Data_kom2,MATCH(1,(komnavn2=$C80)*(komaar2=D$85),0),44))","v":""},{"$f":"IF($C80=0,\"\",INDEX(Data_kom2,MATCH(1,(komnavn2=$C80)*(komaar2=D$85),0),47))","v":""},{"$f":"IF($C80=0,\"\",INDEX(Data_kom2,MATCH(1,(komnavn2=$C80)*(komaar2=D$85),0),48))","v":""},{"$f":"IF($C80=0,\"\",INDEX(Data_kom2,MATCH(1,(komnavn2=$C80)*(komaar2=D$85),0),51))","v":""},{"$f":"IF($C80=0,\"\",INDEX(Data_kom2,MATCH(1,(komnavn2=$C80)*(komaar2=D$85),0),52))","v":""},{"$f":"IF($C80=0,\"\",INDEX(Data_kom2,MATCH(1,(komnavn2=$C80)*(komaar2=D$85),0),55))","v":""},{"$f":"IF($C80=0,\"\",INDEX(Data_kom2,MATCH(1,(komnavn2=$C80)*(komaar2=D$85),0),56))","v":""},{"$f":"IF($C80=0,\"\",INDEX(Data_kom2,MATCH(1,(komnavn2=$C80)*(komaar2=D$85),0),59))","v":""},{"$f":"IF($C80=0,\"\",INDEX(Data_kom2,MATCH(1,(komnavn2=$C80)*(komaar2=D$85),0),60))","v":""},{"$f":"IF($C80=0,\"\",INDEX(Data_kom2,MATCH(1,(komnavn2=$C80)*(komaar2=D$85),0),63))","v":""},{"$f":"IF($C80=0,\"\",INDEX(Data_kom2,MATCH(1,(komnavn2=$C80)*(komaar2=D$85),0),64))","v":""},{"$f":"IF($C80=0,\"\",INDEX(Data_kom2,MATCH(1,(komnavn2=$C80)*(komaar2=D$85),0),67))","v":""},{"$f":"IF($C80=0,\"\",INDEX(Data_kom2,MATCH(1,(komnavn2=$C80)*(komaar2=D$85),0),68))","v":""},{"$f":"IF($C80=0,\"\",INDEX(Data_kom2,MATCH(1,(komnavn2=$C80)*(komaar2=D$85),0),71))","v":""},{"$f":"IF($C80=0,\"\",INDEX(Data_kom2,MATCH(1,(komnavn2=$C80)*(komaar2=D$85),0),72))","v":""},{"$f":"IF($C80=0,\"\",INDEX(Data_kom2,MATCH(1,(komnavn2=$C80)*(komaar2=D$85),0),75))","v":""},{"$f":"IF($C80=0,\"\",INDEX(Data_komoek,MATCH(1,(komnavn=$C80)*(komaar=$F$85),0),3))","v":""},{"$f":"IF($C80=0,\"\",INDEX(Data_komoek,MATCH(1,(komnavn=$C80)*(komaar=$F$85),0),6))","v":""},{"$f":"IF($C80=0,\"\",INDEX(Data_komoek,MATCH(1,(komnavn=$C80)*(komaar=$F$85),0),9))","v":""},{"$f":"IF($C80=0,\"\",INDEX(Data_komoek,MATCH(1,(komnavn=$C80)*(komaar=$F$85),0),12))","v":""},{"$f":"IF($C80=0,\"\",INDEX(Data_komoek,MATCH(1,(komnavn=$C80)*(komaar=$F$85),0),15))","v":""},{"$f":"IF($C80=0,\"\",INDEX(Data_komoek,MATCH(1,(komnavn=$C80)*(komaar=$F$85),0),18))","v":""},{"$f":"IF($C80=0,\"\",INDEX(Data_komoek,MATCH(1,(komnavn=$C80)*(komaar=$F$85),0),21))","v":""}]
[null,null,null,{"$f":"IF($C81=0,\"\",INDEX(Data_kom2,MATCH(1,(komnavn2=$C81)*(komaar2=D$85),0),4))","v":""},{"$f":"IF($C81=0,\"\",INDEX(Data_kom2,MATCH(1,(komnavn2=$C81)*(komaar2=D$85),0),7))","v":""},{"$f":"IF($C81=0,\"\",INDEX(Data_kom2,MATCH(1,(komnavn2=$C81)*(komaar2=D$85),0),8))","v":""},{"$f":"IF($C81=0,\"\",INDEX(Data_kom2,MATCH(1,(komnavn2=$C81)*(komaar2=D$85),0),11))","v":""},{"$f":"IF($C81=0,\"\",INDEX(Data_kom2,MATCH(1,(komnavn2=$C81)*(komaar2=D$85),0),12))","v":""},{"$f":"IF($C81=0,\"\",INDEX(Data_kom2,MATCH(1,(komnavn2=$C81)*(komaar2=D$85),0),15))","v":""},{"$f":"IF($C81=0,\"\",INDEX(Data_kom2,MATCH(1,(komnavn2=$C81)*(komaar2=D$85),0),16))","v":""},{"$f":"IF($C81=0,\"\",INDEX(Data_kom2,MATCH(1,(komnavn2=$C81)*(komaar2=D$85),0),19))","v":""},{"$f":"IF($C81=0,\"\",INDEX(Data_kom2,MATCH(1,(komnavn2=$C81)*(komaar2=D$85),0),20))","v":""},{"$f":"IF($C81=0,\"\",INDEX(Data_kom2,MATCH(1,(komnavn2=$C81)*(komaar2=D$85),0),23))","v":""},{"$f":"IF($C81=0,\"\",INDEX(Data_kom2,MATCH(1,(komnavn2=$C81)*(komaar2=D$85),0),24))","v":""},{"$f":"IF($C81=0,\"\",INDEX(Data_kom2,MATCH(1,(komnavn2=$C81)*(komaar2=D$85),0),27))","v":""},{"$f":"IF($C81=0,\"\",INDEX(Data_kom2,MATCH(1,(komnavn2=$C81)*(komaar2=D$85),0),28))","v":""},{"$f":"IF($C81=0,\"\",INDEX(Data_kom2,MATCH(1,(komnavn2=$C81)*(komaar2=D$85),0),31))","v":""},{"$f":"IF($C81=0,\"\",INDEX(Data_kom2,MATCH(1,(komnavn2=$C81)*(komaar2=D$85),0),32))","v":""},{"$f":"IF($C81=0,\"\",INDEX(Data_kom2,MATCH(1,(komnavn2=$C81)*(komaar2=D$85),0),35))","v":""},{"$f":"IF($C81=0,\"\",INDEX(Data_kom2,MATCH(1,(komnavn2=$C81)*(komaar2=D$85),0),36))","v":""},{"$f":"IF($C81=0,\"\",INDEX(Data_kom2,MATCH(1,(komnavn2=$C81)*(komaar2=D$85),0),39))","v":""},{"$f":"IF(C81=0,\"\",INDEX(Data_kom2,MATCH(1,(komnavn2=C81)*(komaar2=D$85),0),40))","v":""},{"$f":"IF($C81=0,\"\",INDEX(Data_kom2,MATCH(1,(komnavn2=$C81)*(komaar2=D$85),0),43))","v":""},{"$f":"IF($C81=0,\"\",INDEX(Data_kom2,MATCH(1,(komnavn2=$C81)*(komaar2=D$85),0),44))","v":""},{"$f":"IF($C81=0,\"\",INDEX(Data_kom2,MATCH(1,(komnavn2=$C81)*(komaar2=D$85),0),47))","v":""},{"$f":"IF($C81=0,\"\",INDEX(Data_kom2,MATCH(1,(komnavn2=$C81)*(komaar2=D$85),0),48))","v":""},{"$f":"IF($C81=0,\"\",INDEX(Data_kom2,MATCH(1,(komnavn2=$C81)*(komaar2=D$85),0),51))","v":""},{"$f":"IF($C81=0,\"\",INDEX(Data_kom2,MATCH(1,(komnavn2=$C81)*(komaar2=D$85),0),52))","v":""},{"$f":"IF($C81=0,\"\",INDEX(Data_kom2,MATCH(1,(komnavn2=$C81)*(komaar2=D$85),0),55))","v":""},{"$f":"IF($C81=0,\"\",INDEX(Data_kom2,MATCH(1,(komnavn2=$C81)*(komaar2=D$85),0),56))","v":""},{"$f":"IF($C81=0,\"\",INDEX(Data_kom2,MATCH(1,(komnavn2=$C81)*(komaar2=D$85),0),59))","v":""},{"$f":"IF($C81=0,\"\",INDEX(Data_kom2,MATCH(1,(komnavn2=$C81)*(komaar2=D$85),0),60))","v":""},{"$f":"IF($C81=0,\"\",INDEX(Data_kom2,MATCH(1,(komnavn2=$C81)*(komaar2=D$85),0),63))","v":""},{"$f":"IF($C81=0,\"\",INDEX(Data_kom2,MATCH(1,(komnavn2=$C81)*(komaar2=D$85),0),64))","v":""},{"$f":"IF($C81=0,\"\",INDEX(Data_kom2,MATCH(1,(komnavn2=$C81)*(komaar2=D$85),0),67))","v":""},{"$f":"IF($C81=0,\"\",INDEX(Data_kom2,MATCH(1,(komnavn2=$C81)*(komaar2=D$85),0),68))","v":""},{"$f":"IF($C81=0,\"\",INDEX(Data_kom2,MATCH(1,(komnavn2=$C81)*(komaar2=D$85),0),71))","v":""},{"$f":"IF($C81=0,\"\",INDEX(Data_kom2,MATCH(1,(komnavn2=$C81)*(komaar2=D$85),0),72))","v":""},{"$f":"IF($C81=0,\"\",INDEX(Data_kom2,MATCH(1,(komnavn2=$C81)*(komaar2=D$85),0),75))","v":""},{"$f":"IF($C81=0,\"\",INDEX(Data_komoek,MATCH(1,(komnavn=$C81)*(komaar=$F$85),0),3))","v":""},{"$f":"IF($C81=0,\"\",INDEX(Data_komoek,MATCH(1,(komnavn=$C81)*(komaar=$F$85),0),6))","v":""},{"$f":"IF($C81=0,\"\",INDEX(Data_komoek,MATCH(1,(komnavn=$C81)*(komaar=$F$85),0),9))","v":""},{"$f":"IF($C81=0,\"\",INDEX(Data_komoek,MATCH(1,(komnavn=$C81)*(komaar=$F$85),0),12))","v":""},{"$f":"IF($C81=0,\"\",INDEX(Data_komoek,MATCH(1,(komnavn=$C81)*(komaar=$F$85),0),15))","v":""},{"$f":"IF($C81=0,\"\",INDEX(Data_komoek,MATCH(1,(komnavn=$C81)*(komaar=$F$85),0),18))","v":""},{"$f":"IF($C81=0,\"\",INDEX(Data_komoek,MATCH(1,(komnavn=$C81)*(komaar=$F$85),0),21))","v":""}]
[null,null,null,{"$f":"IF($C82=0,\"\",INDEX(Data_kom2,MATCH(1,(komnavn2=$C82)*(komaar2=D$85),0),4))","v":""},{"$f":"IF($C82=0,\"\",INDEX(Data_kom2,MATCH(1,(komnavn2=$C82)*(komaar2=D$85),0),7))","v":""},{"$f":"IF($C82=0,\"\",INDEX(Data_kom2,MATCH(1,(komnavn2=$C82)*(komaar2=D$85),0),8))","v":""},{"$f":"IF($C82=0,\"\",INDEX(Data_kom2,MATCH(1,(komnavn2=$C82)*(komaar2=D$85),0),11))","v":""},{"$f":"IF($C82=0,\"\",INDEX(Data_kom2,MATCH(1,(komnavn2=$C82)*(komaar2=D$85),0),12))","v":""},{"$f":"IF($C82=0,\"\",INDEX(Data_kom2,MATCH(1,(komnavn2=$C82)*(komaar2=D$85),0),15))","v":""},{"$f":"IF($C82=0,\"\",INDEX(Data_kom2,MATCH(1,(komnavn2=$C82)*(komaar2=D$85),0),16))","v":""},{"$f":"IF($C82=0,\"\",INDEX(Data_kom2,MATCH(1,(komnavn2=$C82)*(komaar2=D$85),0),19))","v":""},{"$f":"IF($C82=0,\"\",INDEX(Data_kom2,MATCH(1,(komnavn2=$C82)*(komaar2=D$85),0),20))","v":""},{"$f":"IF($C82=0,\"\",INDEX(Data_kom2,MATCH(1,(komnavn2=$C82)*(komaar2=D$85),0),23))","v":""},{"$f":"IF($C82=0,\"\",INDEX(Data_kom2,MATCH(1,(komnavn2=$C82)*(komaar2=D$85),0),24))","v":""},{"$f":"IF($C82=0,\"\",INDEX(Data_kom2,MATCH(1,(komnavn2=$C82)*(komaar2=D$85),0),27))","v":""},{"$f":"IF($C82=0,\"\",INDEX(Data_kom2,MATCH(1,(komnavn2=$C82)*(komaar2=D$85),0),28))","v":""},{"$f":"IF($C82=0,\"\",INDEX(Data_kom2,MATCH(1,(komnavn2=$C82)*(komaar2=D$85),0),31))","v":""},{"$f":"IF($C82=0,\"\",INDEX(Data_kom2,MATCH(1,(komnavn2=$C82)*(komaar2=D$85),0),32))","v":""},{"$f":"IF($C82=0,\"\",INDEX(Data_kom2,MATCH(1,(komnavn2=$C82)*(komaar2=D$85),0),35))","v":""},{"$f":"IF($C82=0,\"\",INDEX(Data_kom2,MATCH(1,(komnavn2=$C82)*(komaar2=D$85),0),36))","v":""},{"$f":"IF($C82=0,\"\",INDEX(Data_kom2,MATCH(1,(komnavn2=$C82)*(komaar2=D$85),0),39))","v":""},{"$f":"IF(C82=0,\"\",INDEX(Data_kom2,MATCH(1,(komnavn2=C82)*(komaar2=D$85),0),40))","v":""},{"$f":"IF($C82=0,\"\",INDEX(Data_kom2,MATCH(1,(komnavn2=$C82)*(komaar2=D$85),0),43))","v":""},{"$f":"IF($C82=0,\"\",INDEX(Data_kom2,MATCH(1,(komnavn2=$C82)*(komaar2=D$85),0),44))","v":""},{"$f":"IF($C82=0,\"\",INDEX(Data_kom2,MATCH(1,(komnavn2=$C82)*(komaar2=D$85),0),47))","v":""},{"$f":"IF($C82=0,\"\",INDEX(Data_kom2,MATCH(1,(komnavn2=$C82)*(komaar2=D$85),0),48))","v":""},{"$f":"IF($C82=0,\"\",INDEX(Data_kom2,MATCH(1,(komnavn2=$C82)*(komaar2=D$85),0),51))","v":""},{"$f":"IF($C82=0,\"\",INDEX(Data_kom2,MATCH(1,(komnavn2=$C82)*(komaar2=D$85),0),52))","v":""},{"$f":"IF($C82=0,\"\",INDEX(Data_kom2,MATCH(1,(komnavn2=$C82)*(komaar2=D$85),0),55))","v":""},{"$f":"IF($C82=0,\"\",INDEX(Data_kom2,MATCH(1,(komnavn2=$C82)*(komaar2=D$85),0),56))","v":""},{"$f":"IF($C82=0,\"\",INDEX(Data_kom2,MATCH(1,(komnavn2=$C82)*(komaar2=D$85),0),59))","v":""},{"$f":"IF($C82=0,\"\",INDEX(Data_kom2,MATCH(1,(komnavn2=$C82)*(komaar2=D$85),0),60))","v":""},{"$f":"IF($C82=0,\"\",INDEX(Data_kom2,MATCH(1,(komnavn2=$C82)*(komaar2=D$85),0),63))","v":""},{"$f":"IF($C82=0,\"\",INDEX(Data_kom2,MATCH(1,(komnavn2=$C82)*(komaar2=D$85),0),64))","v":""},{"$f":"IF($C82=0,\"\",INDEX(Data_kom2,MATCH(1,(komnavn2=$C82)*(komaar2=D$85),0),67))","v":""},{"$f":"IF($C82=0,\"\",INDEX(Data_kom2,MATCH(1,(komnavn2=$C82)*(komaar2=D$85),0),68))","v":""},{"$f":"IF($C82=0,\"\",INDEX(Data_kom2,MATCH(1,(komnavn2=$C82)*(komaar2=D$85),0),71))","v":""},{"$f":"IF($C82=0,\"\",INDEX(Data_kom2,MATCH(1,(komnavn2=$C82)*(komaar2=D$85),0),72))","v":""},{"$f":"IF($C82=0,\"\",INDEX(Data_kom2,MATCH(1,(komnavn2=$C82)*(komaar2=D$85),0),75))","v":""},{"$f":"IF($C82=0,\"\",INDEX(Data_komoek,MATCH(1,(komnavn=$C82)*(komaar=$F$85),0),3))","v":""},{"$f":"IF($C82=0,\"\",INDEX(Data_komoek,MATCH(1,(komnavn=$C82)*(komaar=$F$85),0),6))","v":""},{"$f":"IF($C82=0,\"\",INDEX(Data_komoek,MATCH(1,(komnavn=$C82)*(komaar=$F$85),0),9))","v":""},{"$f":"IF($C82=0,\"\",INDEX(Data_komoek,MATCH(1,(komnavn=$C82)*(komaar=$F$85),0),12))","v":""},{"$f":"IF($C82=0,\"\",INDEX(Data_komoek,MATCH(1,(komnavn=$C82)*(komaar=$F$85),0),15))","v":""},{"$f":"IF($C82=0,\"\",INDEX(Data_komoek,MATCH(1,(komnavn=$C82)*(komaar=$F$85),0),18))","v":""},{"$f":"IF($C82=0,\"\",INDEX(Data_komoek,MATCH(1,(komnavn=$C82)*(komaar=$F$85),0),21))","v":""}]
[]
[]
[null,null,null,20221,null,2022]
[null,null,null,"Nøgletal 1: Modtagere af længerevarende botilbud",null,"Nøgletal 2: Modtagere af botilbudslignende tilbud",null,"Nøgletal 3: Modtagere af midlertidigt botilbud",null,"Nøgletal 4: Modtagere af socialpædagogisk støtte",null,"Nøgletal 5: Modtagere af beskyttet beskæftigelse og aktivitets- og samværstilbud",null,"Nøgletal 6: Modtagere af forebyggende indsatser",null,"Nøgletal 7: Flytninger fra botilbud",null,"Nøgletal 7.1: Flytninger fra længerevarende botilbud og lignende til midlertidigt botilbud",null,"Antal institutionsanbragte 0-17 årige pr. forrige kvartal",null,"0-17 årige, der ved sidste opgørelse var institutionsanbragt, men nu er anbragt i anden form",null,"Nøgletal 8: Fra socialpædagogisk støtte og ned af trappen",null,"Nøgletal 9: Fra forebyggende indsatser og ned af trappen",null,"Nøgletal 10: Fra forebyggende indsatser og op af trappen",null,"Nøgletal 11: Uddannelsesgrad",null,"Nøgletal 12: Beskæftigelsesgrad",null,"Nøgletal 12.1: Beskæftigelsesgrad for modtagere af forebyggende indsatser",null,"Nøgletal 12.2: Beskæftigelsesgrad for den øvrige målgruppe",null,"Nøgletal 18: Genindlæggelser",null,"Nøgletal 19: Udgifter til forebyggende indsatser ift. udgifter til støttende indsatser","Udgiftsandel til længerevarende botilbud","Udgiftsandel til botilbudslignende tilbud","Udgiftsandel til midlertidige botilbud","Udgiftsandel til socialpædagogisk støtte","Udgiftsandel til beskyttet beskæftigelse og aktivitets- og samværstilbud","Udgiftsandel til forebyggende indsatser"]
[null,null,null,1,null,2,null,3,null,4,null,5,null,6,null,7,null,"7.1",null,"7.2",null,"7.3",null,8,null,9,null,10,null,11,null,12,null,"12.1",null,"12.2",null,18,null,19,"20.1","20.2","20.3","20.4","20.5","20.6"]
[null,null,null,{"$f":"IF($C76=0,\"\",INDEX(Data_kom2,MATCH(1,(komnavn2=$C76)*(komaar2=D$97),0),4))","v":7},{"$f":"IF($C76=0,\"\",INDEX(Data_kom2,MATCH(1,(komnavn2=$C76)*(komaar2=D$97),0),7))","v":35},{"$f":"IF($C76=0,\"\",INDEX(Data_kom2,MATCH(1,(komnavn2=$C76)*(komaar2=D$97),0),8))","v":6},{"$f":"IF($C76=0,\"\",INDEX(Data_kom2,MATCH(1,(komnavn2=$C76)*(komaar2=D$97),0),11))","v":35},{"$f":"IF($C76=0,\"\",INDEX(Data_kom2,MATCH(1,(komnavn2=$C76)*(komaar2=D$97),0),12))","v":5},{"$f":"IF($C76=0,\"\",INDEX(Data_kom2,MATCH(1,(komnavn2=$C76)*(komaar2=D$97),0),15))","v":35},{"$f":"IF($C76=0,\"\",INDEX(Data_kom2,MATCH(1,(komnavn2=$C76)*(komaar2=D$97),0),16))","v":17},{"$f":"IF($C76=0,\"\",INDEX(Data_kom2,MATCH(1,(komnavn2=$C76)*(komaar2=D$97),0),19))","v":35},{"$f":"IF($C76=0,\"\",INDEX(Data_kom2,MATCH(1,(komnavn2=$C76)*(komaar2=D$97),0),20))","v":0},{"$f":"IF($C76=0,\"\",INDEX(Data_kom2,MATCH(1,(komnavn2=$C76)*(komaar2=D$97),0),23))","v":35},{"$f":"IF($C76=0,\"\",INDEX(Data_kom2,MATCH(1,(komnavn2=$C76)*(komaar2=D$97),0),24))","v":0},{"$f":"IF($C76=0,\"\",INDEX(Data_kom2,MATCH(1,(komnavn2=$C76)*(komaar2=D$97),0),27))","v":35},{"$f":"IF($C76=0,\"\",INDEX(Data_kom2,MATCH(1,(komnavn2=$C76)*(komaar2=D$97),0),28))","v":0},{"$f":"IF($C76=0,\"\",INDEX(Data_kom2,MATCH(1,(komnavn2=$C76)*(komaar2=D$97),0),31))","v":17},{"$f":"IF($C76=0,\"\",INDEX(Data_kom2,MATCH(1,(komnavn2=$C76)*(komaar2=D$97),0),32))","v":0},{"$f":"IF($C76=0,\"\",INDEX(Data_kom2,MATCH(1,(komnavn2=$C76)*(komaar2=D$97),0),35))","v":13},{"$f":"IF($C76=0,\"\",INDEX(Data_kom2,MATCH(1,(komnavn2=$C76)*(komaar2=D$97),0),36))","v":0},{"$f":"IF($C76=0,\"\",INDEX(Data_kom2,MATCH(1,(komnavn2=$C76)*(komaar2=D$97),0),39))","v":13},{"$f":"IF(C88=0,\"\",INDEX(Data_kom2,MATCH(1,(komnavn2=C88)*(komaar2=D$97),0),40))","v":""},{"$f":"IF($C76=0,\"\",INDEX(Data_kom2,MATCH(1,(komnavn2=$C76)*(komaar2=D$97),0),43))","v":4},{"$f":"IF($C76=0,\"\",INDEX(Data_kom2,MATCH(1,(komnavn2=$C76)*(komaar2=D$97),0),44))","v":0},{"$f":"IF($C76=0,\"\",INDEX(Data_kom2,MATCH(1,(komnavn2=$C76)*(komaar2=D$97),0),47))","v":19},{"$f":"IF($C76=0,\"\",INDEX(Data_kom2,MATCH(1,(komnavn2=$C76)*(komaar2=D$97),0),48))","v":0},{"$f":"IF($C76=0,\"\",INDEX(Data_kom2,MATCH(1,(komnavn2=$C76)*(komaar2=D$97),0),51))","v":0},{"$f":"IF($C76=0,\"\",INDEX(Data_kom2,MATCH(1,(komnavn2=$C76)*(komaar2=D$97),0),52))","v":0},{"$f":"IF($C76=0,\"\",INDEX(Data_kom2,MATCH(1,(komnavn2=$C76)*(komaar2=D$97),0),55))","v":0},{"$f":"IF($C76=0,\"\",INDEX(Data_kom2,MATCH(1,(komnavn2=$C76)*(komaar2=D$97),0),56))","v":3.5714285714285698E-2},{"$f":"IF($C76=0,\"\",INDEX(Data_kom2,MATCH(1,(komnavn2=$C76)*(komaar2=D$97),0),59))","v":35},{"$f":"IF($C76=0,\"\",INDEX(Data_kom2,MATCH(1,(komnavn2=$C76)*(komaar2=D$97),0),60))","v":7.0879120879120905E-2},{"$f":"IF($C76=0,\"\",INDEX(Data_kom2,MATCH(1,(komnavn2=$C76)*(komaar2=D$97),0),63))","v":35},{"$f":"IF($C76=0,\"\",INDEX(Data_kom2,MATCH(1,(komnavn2=$C76)*(komaar2=D$97),0),64))","v":0},{"$f":"IF($C76=0,\"\",INDEX(Data_kom2,MATCH(1,(komnavn2=$C76)*(komaar2=D$97),0),67))","v":0},{"$f":"IF($C76=0,\"\",INDEX(Data_kom2,MATCH(1,(komnavn2=$C76)*(komaar2=D$97),0),68))","v":7.0879120879120905E-2},{"$f":"IF($C76=0,\"\",INDEX(Data_kom2,MATCH(1,(komnavn2=$C76)*(komaar2=D$97),0),71))","v":35},{"$f":"IF($C76=0,\"\",INDEX(Data_kom2,MATCH(1,(komnavn2=$C76)*(komaar2=D$97),0),72))","v":0.77272727272727304},{"$f":"IF($C76=0,\"\",INDEX(Data_kom2,MATCH(1,(komnavn2=$C76)*(komaar2=D$97),0),75))","v":35},{"$f":"IF($C76=0,\"\",INDEX(Data_komoek,MATCH(1,(komnavn=$C76)*(komaar=$F$97),0),3))","v":1.27552387587759E-2},{"$f":"IF($C76=0,\"\",INDEX(Data_komoek,MATCH(1,(komnavn=$C76)*(komaar=$F$97),0),6))","v":0.58321426681483801},{"$f":"IF($C76=0,\"\",INDEX(Data_komoek,MATCH(1,(komnavn=$C76)*(komaar=$F$97),0),9))","v":0.22564428216119001},{"$f":"IF($C76=0,\"\",INDEX(Data_komoek,MATCH(1,(komnavn=$C76)*(komaar=$F$97),0),12))","v":0.107371540456157},{"$f":"IF($C76=0,\"\",INDEX(Data_komoek,MATCH(1,(komnavn=$C76)*(komaar=$F$97),0),15))","v":6.3131714028681798E-2},{"$f":"IF($C76=0,\"\",INDEX(Data_komoek,MATCH(1,(komnavn=$C76)*(komaar=$F$97),0),18))","v":8.0436048049955002E-3},{"$f":"IF($C76=0,\"\",INDEX(Data_komoek,MATCH(1,(komnavn=$C76)*(komaar=$F$97),0),21))","v":1.2594591734137701E-2}]
[null,null,null,{"$f":"IF($C77=0,\"\",INDEX(Data_kom2,MATCH(1,(komnavn2=$C77)*(komaar2=D$97),0),4))","v":10},{"$f":"IF($C77=0,\"\",INDEX(Data_kom2,MATCH(1,(komnavn2=$C77)*(komaar2=D$97),0),7))","v":246},{"$f":"IF($C77=0,\"\",INDEX(Data_kom2,MATCH(1,(komnavn2=$C77)*(komaar2=D$97),0),8))","v":23},{"$f":"IF($C77=0,\"\",INDEX(Data_kom2,MATCH(1,(komnavn2=$C77)*(komaar2=D$97),0),11))","v":246},{"$f":"IF($C77=0,\"\",INDEX(Data_kom2,MATCH(1,(komnavn2=$C77)*(komaar2=D$97),0),12))","v":22},{"$f":"IF($C77=0,\"\",INDEX(Data_kom2,MATCH(1,(komnavn2=$C77)*(komaar2=D$97),0),15))","v":246},{"$f":"IF($C77=0,\"\",INDEX(Data_kom2,MATCH(1,(komnavn2=$C77)*(komaar2=D$97),0),16))","v":152},{"$f":"IF($C77=0,\"\",INDEX(Data_kom2,MATCH(1,(komnavn2=$C77)*(komaar2=D$97),0),19))","v":246},{"$f":"IF($C77=0,\"\",INDEX(Data_kom2,MATCH(1,(komnavn2=$C77)*(komaar2=D$97),0),20))","v":35},{"$f":"IF($C77=0,\"\",INDEX(Data_kom2,MATCH(1,(komnavn2=$C77)*(komaar2=D$97),0),23))","v":246},{"$f":"IF($C77=0,\"\",INDEX(Data_kom2,MATCH(1,(komnavn2=$C77)*(komaar2=D$97),0),24))","v":0},{"$f":"IF($C77=0,\"\",INDEX(Data_kom2,MATCH(1,(komnavn2=$C77)*(komaar2=D$97),0),27))","v":246},{"$f":"IF($C77=0,\"\",INDEX(Data_kom2,MATCH(1,(komnavn2=$C77)*(komaar2=D$97),0),28))","v":4},{"$f":"IF($C77=0,\"\",INDEX(Data_kom2,MATCH(1,(komnavn2=$C77)*(komaar2=D$97),0),31))","v":55},{"$f":"IF($C77=0,\"\",INDEX(Data_kom2,MATCH(1,(komnavn2=$C77)*(komaar2=D$97),0),32))","v":0},{"$f":"IF($C77=0,\"\",INDEX(Data_kom2,MATCH(1,(komnavn2=$C77)*(komaar2=D$97),0),35))","v":32},{"$f":"IF($C77=0,\"\",INDEX(Data_kom2,MATCH(1,(komnavn2=$C77)*(komaar2=D$97),0),36))","v":0},{"$f":"IF($C77=0,\"\",INDEX(Data_kom2,MATCH(1,(komnavn2=$C77)*(komaar2=D$97),0),39))","v":32},{"$f":"IF(C89=0,\"\",INDEX(Data_kom2,MATCH(1,(komnavn2=C89)*(komaar2=D$97),0),40))","v":""},{"$f":"IF($C77=0,\"\",INDEX(Data_kom2,MATCH(1,(komnavn2=$C77)*(komaar2=D$97),0),43))","v":23},{"$f":"IF($C77=0,\"\",INDEX(Data_kom2,MATCH(1,(komnavn2=$C77)*(komaar2=D$97),0),44))","v":8},{"$f":"IF($C77=0,\"\",INDEX(Data_kom2,MATCH(1,(komnavn2=$C77)*(komaar2=D$97),0),47))","v":135},{"$f":"IF($C77=0,\"\",INDEX(Data_kom2,MATCH(1,(komnavn2=$C77)*(komaar2=D$97),0),48))","v":0},{"$f":"IF($C77=0,\"\",INDEX(Data_kom2,MATCH(1,(komnavn2=$C77)*(komaar2=D$97),0),51))","v":0},{"$f":"IF($C77=0,\"\",INDEX(Data_kom2,MATCH(1,(komnavn2=$C77)*(komaar2=D$97),0),52))","v":0},{"$f":"IF($C77=0,\"\",INDEX(Data_kom2,MATCH(1,(komnavn2=$C77)*(komaar2=D$97),0),55))","v":0},{"$f":"IF($C77=0,\"\",INDEX(Data_kom2,MATCH(1,(komnavn2=$C77)*(komaar2=D$97),0),56))","v":4.2213883677298296E-3},{"$f":"IF($C77=0,\"\",INDEX(Data_kom2,MATCH(1,(komnavn2=$C77)*(komaar2=D$97),0),59))","v":246},{"$f":"IF($C77=0,\"\",INDEX(Data_kom2,MATCH(1,(komnavn2=$C77)*(komaar2=D$97),0),60))","v":4.8780487804878099E-2},{"$f":"IF($C77=0,\"\",INDEX(Data_kom2,MATCH(1,(komnavn2=$C77)*(komaar2=D$97),0),63))","v":246},{"$f":"IF($C77=0,\"\",INDEX(Data_kom2,MATCH(1,(komnavn2=$C77)*(komaar2=D$97),0),64))","v":0},{"$f":"IF($C77=0,\"\",INDEX(Data_kom2,MATCH(1,(komnavn2=$C77)*(komaar2=D$97),0),67))","v":0},{"$f":"IF($C77=0,\"\",INDEX(Data_kom2,MATCH(1,(komnavn2=$C77)*(komaar2=D$97),0),68))","v":4.8780487804878099E-2},{"$f":"IF($C77=0,\"\",INDEX(Data_kom2,MATCH(1,(komnavn2=$C77)*(komaar2=D$97),0),71))","v":246},{"$f":"IF($C77=0,\"\",INDEX(Data_kom2,MATCH(1,(komnavn2=$C77)*(komaar2=D$97),0),72))","v":0.4375},{"$f":"IF($C77=0,\"\",INDEX(Data_kom2,MATCH(1,(komnavn2=$C77)*(komaar2=D$97),0),75))","v":246},{"$f":"IF($C77=0,\"\",INDEX(Data_komoek,MATCH(1,(komnavn=$C77)*(komaar=$F$97),0),3))","v":1.44365262491577E-2},{"$f":"IF($C77=0,\"\",INDEX(Data_komoek,MATCH(1,(komnavn=$C77)*(komaar=$F$97),0),6))","v":0.17421497584541101},{"$f":"IF($C77=0,\"\",INDEX(Data_komoek,MATCH(1,(komnavn=$C77)*(komaar=$F$97),0),9))","v":0.18287037037036999},{"$f":"IF($C77=0,\"\",INDEX(Data_komoek,MATCH(1,(komnavn=$C77)*(komaar=$F$97),0),12))","v":0.38357487922705302},{"$f":"IF($C77=0,\"\",INDEX(Data_komoek,MATCH(1,(komnavn=$C77)*(komaar=$F$97),0),15))","v":0.159561191626409},{"$f":"IF($C77=0,\"\",INDEX(Data_komoek,MATCH(1,(komnavn=$C77)*(komaar=$F$97),0),18))","v":8.5547504025764901E-2},{"$f":"IF($C77=0,\"\",INDEX(Data_komoek,MATCH(1,(komnavn=$C77)*(komaar=$F$97),0),21))","v":1.4231078904991999E-2}]
[null,null,null,{"$f":"IF($C78=0,\"\",INDEX(Data_kom2,MATCH(1,(komnavn2=$C78)*(komaar2=D$97),0),4))","v":18},{"$f":"IF($C78=0,\"\",INDEX(Data_kom2,MATCH(1,(komnavn2=$C78)*(komaar2=D$97),0),7))","v":237},{"$f":"IF($C78=0,\"\",INDEX(Data_kom2,MATCH(1,(komnavn2=$C78)*(komaar2=D$97),0),8))","v":19},{"$f":"IF($C78=0,\"\",INDEX(Data_kom2,MATCH(1,(komnavn2=$C78)*(komaar2=D$97),0),11))","v":237},{"$f":"IF($C78=0,\"\",INDEX(Data_kom2,MATCH(1,(komnavn2=$C78)*(komaar2=D$97),0),12))","v":41},{"$f":"IF($C78=0,\"\",INDEX(Data_kom2,MATCH(1,(komnavn2=$C78)*(komaar2=D$97),0),15))","v":237},{"$f":"IF($C78=0,\"\",INDEX(Data_kom2,MATCH(1,(komnavn2=$C78)*(komaar2=D$97),0),16))","v":140},{"$f":"IF($C78=0,\"\",INDEX(Data_kom2,MATCH(1,(komnavn2=$C78)*(komaar2=D$97),0),19))","v":237},{"$f":"IF($C78=0,\"\",INDEX(Data_kom2,MATCH(1,(komnavn2=$C78)*(komaar2=D$97),0),20))","v":11},{"$f":"IF($C78=0,\"\",INDEX(Data_kom2,MATCH(1,(komnavn2=$C78)*(komaar2=D$97),0),23))","v":237},{"$f":"IF($C78=0,\"\",INDEX(Data_kom2,MATCH(1,(komnavn2=$C78)*(komaar2=D$97),0),24))","v":0},{"$f":"IF($C78=0,\"\",INDEX(Data_kom2,MATCH(1,(komnavn2=$C78)*(komaar2=D$97),0),27))","v":237},{"$f":"IF($C78=0,\"\",INDEX(Data_kom2,MATCH(1,(komnavn2=$C78)*(komaar2=D$97),0),28))","v":12},{"$f":"IF($C78=0,\"\",INDEX(Data_kom2,MATCH(1,(komnavn2=$C78)*(komaar2=D$97),0),31))","v":80},{"$f":"IF($C78=0,\"\",INDEX(Data_kom2,MATCH(1,(komnavn2=$C78)*(komaar2=D$97),0),32))","v":0},{"$f":"IF($C78=0,\"\",INDEX(Data_kom2,MATCH(1,(komnavn2=$C78)*(komaar2=D$97),0),35))","v":38},{"$f":"IF($C78=0,\"\",INDEX(Data_kom2,MATCH(1,(komnavn2=$C78)*(komaar2=D$97),0),36))","v":0},{"$f":"IF($C78=0,\"\",INDEX(Data_kom2,MATCH(1,(komnavn2=$C78)*(komaar2=D$97),0),39))","v":38},{"$f":"IF(C90=0,\"\",INDEX(Data_kom2,MATCH(1,(komnavn2=C90)*(komaar2=D$97),0),40))","v":""},{"$f":"IF($C78=0,\"\",INDEX(Data_kom2,MATCH(1,(komnavn2=$C78)*(komaar2=D$97),0),43))","v":42},{"$f":"IF($C78=0,\"\",INDEX(Data_kom2,MATCH(1,(komnavn2=$C78)*(komaar2=D$97),0),44))","v":27},{"$f":"IF($C78=0,\"\",INDEX(Data_kom2,MATCH(1,(komnavn2=$C78)*(komaar2=D$97),0),47))","v":151},{"$f":"IF($C78=0,\"\",INDEX(Data_kom2,MATCH(1,(komnavn2=$C78)*(komaar2=D$97),0),48))","v":0},{"$f":"IF($C78=0,\"\",INDEX(Data_kom2,MATCH(1,(komnavn2=$C78)*(komaar2=D$97),0),51))","v":0},{"$f":"IF($C78=0,\"\",INDEX(Data_kom2,MATCH(1,(komnavn2=$C78)*(komaar2=D$97),0),52))","v":0},{"$f":"IF($C78=0,\"\",INDEX(Data_kom2,MATCH(1,(komnavn2=$C78)*(komaar2=D$97),0),55))","v":0},{"$f":"IF($C78=0,\"\",INDEX(Data_kom2,MATCH(1,(komnavn2=$C78)*(komaar2=D$97),0),56))","v":3.1645569620253201E-2},{"$f":"IF($C78=0,\"\",INDEX(Data_kom2,MATCH(1,(komnavn2=$C78)*(komaar2=D$97),0),59))","v":237},{"$f":"IF($C78=0,\"\",INDEX(Data_kom2,MATCH(1,(komnavn2=$C78)*(komaar2=D$97),0),60))","v":5.8341447581953899E-2},{"$f":"IF($C78=0,\"\",INDEX(Data_kom2,MATCH(1,(komnavn2=$C78)*(komaar2=D$97),0),63))","v":237},{"$f":"IF($C78=0,\"\",INDEX(Data_kom2,MATCH(1,(komnavn2=$C78)*(komaar2=D$97),0),64))","v":0},{"$f":"IF($C78=0,\"\",INDEX(Data_kom2,MATCH(1,(komnavn2=$C78)*(komaar2=D$97),0),67))","v":0},{"$f":"IF($C78=0,\"\",INDEX(Data_kom2,MATCH(1,(komnavn2=$C78)*(komaar2=D$97),0),68))","v":5.8341447581953899E-2},{"$f":"IF($C78=0,\"\",INDEX(Data_kom2,MATCH(1,(komnavn2=$C78)*(komaar2=D$97),0),71))","v":237},{"$f":"IF($C78=0,\"\",INDEX(Data_kom2,MATCH(1,(komnavn2=$C78)*(komaar2=D$97),0),72))","v":0.5},{"$f":"IF($C78=0,\"\",INDEX(Data_kom2,MATCH(1,(komnavn2=$C78)*(komaar2=D$97),0),75))","v":237},{"$f":"IF($C78=0,\"\",INDEX(Data_komoek,MATCH(1,(komnavn=$C78)*(komaar=$F$97),0),3))","v":0},{"$f":"IF($C78=0,\"\",INDEX(Data_komoek,MATCH(1,(komnavn=$C78)*(komaar=$F$97),0),6))","v":0.31565233575283802},{"$f":"IF($C78=0,\"\",INDEX(Data_komoek,MATCH(1,(komnavn=$C78)*(komaar=$F$97),0),9))","v":4.3799243129226402E-2},{"$f":"IF($C78=0,\"\",INDEX(Data_komoek,MATCH(1,(komnavn=$C78)*(komaar=$F$97),0),12))","v":0.56979961536075396},{"$f":"IF($C78=0,\"\",INDEX(Data_komoek,MATCH(1,(komnavn=$C78)*(komaar=$F$97),0),15))","v":3.7781500093057897E-2},{"$f":"IF($C78=0,\"\",INDEX(Data_komoek,MATCH(1,(komnavn=$C78)*(komaar=$F$97),0),18))","v":3.2967305664123099E-2},{"$f":"IF($C78=0,\"\",INDEX(Data_komoek,MATCH(1,(komnavn=$C78)*(komaar=$F$97),0),21))","v":0}]
[null,null,null,{"$f":"IF($C79=0,\"\",INDEX(Data_kom2,MATCH(1,(komnavn2=$C79)*(komaar2=D$97),0),4))","v":""},{"$f":"IF($C79=0,\"\",INDEX(Data_kom2,MATCH(1,(komnavn2=$C79)*(komaar2=D$97),0),7))","v":""},{"$f":"IF($C79=0,\"\",INDEX(Data_kom2,MATCH(1,(komnavn2=$C79)*(komaar2=D$97),0),8))","v":""},{"$f":"IF($C79=0,\"\",INDEX(Data_kom2,MATCH(1,(komnavn2=$C79)*(komaar2=D$97),0),11))","v":""},{"$f":"IF($C79=0,\"\",INDEX(Data_kom2,MATCH(1,(komnavn2=$C79)*(komaar2=D$97),0),12))","v":""},{"$f":"IF($C79=0,\"\",INDEX(Data_kom2,MATCH(1,(komnavn2=$C79)*(komaar2=D$97),0),15))","v":""},{"$f":"IF($C79=0,\"\",INDEX(Data_kom2,MATCH(1,(komnavn2=$C79)*(komaar2=D$97),0),16))","v":""},{"$f":"IF($C79=0,\"\",INDEX(Data_kom2,MATCH(1,(komnavn2=$C79)*(komaar2=D$97),0),19))","v":""},{"$f":"IF($C79=0,\"\",INDEX(Data_kom2,MATCH(1,(komnavn2=$C79)*(komaar2=D$97),0),20))","v":""},{"$f":"IF($C79=0,\"\",INDEX(Data_kom2,MATCH(1,(komnavn2=$C79)*(komaar2=D$97),0),23))","v":""},{"$f":"IF($C79=0,\"\",INDEX(Data_kom2,MATCH(1,(komnavn2=$C79)*(komaar2=D$97),0),24))","v":""},{"$f":"IF($C79=0,\"\",INDEX(Data_kom2,MATCH(1,(komnavn2=$C79)*(komaar2=D$97),0),27))","v":""},{"$f":"IF($C79=0,\"\",INDEX(Data_kom2,MATCH(1,(komnavn2=$C79)*(komaar2=D$97),0),28))","v":""},{"$f":"IF($C79=0,\"\",INDEX(Data_kom2,MATCH(1,(komnavn2=$C79)*(komaar2=D$97),0),31))","v":""},{"$f":"IF($C79=0,\"\",INDEX(Data_kom2,MATCH(1,(komnavn2=$C79)*(komaar2=D$97),0),32))","v":""},{"$f":"IF($C79=0,\"\",INDEX(Data_kom2,MATCH(1,(komnavn2=$C79)*(komaar2=D$97),0),35))","v":""},{"$f":"IF($C79=0,\"\",INDEX(Data_kom2,MATCH(1,(komnavn2=$C79)*(komaar2=D$97),0),36))","v":""},{"$f":"IF($C79=0,\"\",INDEX(Data_kom2,MATCH(1,(komnavn2=$C79)*(komaar2=D$97),0),39))","v":""},{"$f":"IF(C91=0,\"\",INDEX(Data_kom2,MATCH(1,(komnavn2=C91)*(komaar2=D$97),0),40))","v":""},{"$f":"IF($C79=0,\"\",INDEX(Data_kom2,MATCH(1,(komnavn2=$C79)*(komaar2=D$97),0),43))","v":""},{"$f":"IF($C79=0,\"\",INDEX(Data_kom2,MATCH(1,(komnavn2=$C79)*(komaar2=D$97),0),44))","v":""},{"$f":"IF($C79=0,\"\",INDEX(Data_kom2,MATCH(1,(komnavn2=$C79)*(komaar2=D$97),0),47))","v":""},{"$f":"IF($C79=0,\"\",INDEX(Data_kom2,MATCH(1,(komnavn2=$C79)*(komaar2=D$97),0),48))","v":""},{"$f":"IF($C79=0,\"\",INDEX(Data_kom2,MATCH(1,(komnavn2=$C79)*(komaar2=D$97),0),51))","v":""},{"$f":"IF($C79=0,\"\",INDEX(Data_kom2,MATCH(1,(komnavn2=$C79)*(komaar2=D$97),0),52))","v":""},{"$f":"IF($C79=0,\"\",INDEX(Data_kom2,MATCH(1,(komnavn2=$C79)*(komaar2=D$97),0),55))","v":""},{"$f":"IF($C79=0,\"\",INDEX(Data_kom2,MATCH(1,(komnavn2=$C79)*(komaar2=D$97),0),56))","v":""},{"$f":"IF($C79=0,\"\",INDEX(Data_kom2,MATCH(1,(komnavn2=$C79)*(komaar2=D$97),0),59))","v":""},{"$f":"IF($C79=0,\"\",INDEX(Data_kom2,MATCH(1,(komnavn2=$C79)*(komaar2=D$97),0),60))","v":""},{"$f":"IF($C79=0,\"\",INDEX(Data_kom2,MATCH(1,(komnavn2=$C79)*(komaar2=D$97),0),63))","v":""},{"$f":"IF($C79=0,\"\",INDEX(Data_kom2,MATCH(1,(komnavn2=$C79)*(komaar2=D$97),0),64))","v":""},{"$f":"IF($C79=0,\"\",INDEX(Data_kom2,MATCH(1,(komnavn2=$C79)*(komaar2=D$97),0),67))","v":""},{"$f":"IF($C79=0,\"\",INDEX(Data_kom2,MATCH(1,(komnavn2=$C79)*(komaar2=D$97),0),68))","v":""},{"$f":"IF($C79=0,\"\",INDEX(Data_kom2,MATCH(1,(komnavn2=$C79)*(komaar2=D$97),0),71))","v":""},{"$f":"IF($C79=0,\"\",INDEX(Data_kom2,MATCH(1,(komnavn2=$C79)*(komaar2=D$97),0),72))","v":""},{"$f":"IF($C79=0,\"\",INDEX(Data_kom2,MATCH(1,(komnavn2=$C79)*(komaar2=D$97),0),75))","v":""},{"$f":"IF($C79=0,\"\",INDEX(Data_komoek,MATCH(1,(komnavn=$C79)*(komaar=$F$85),0),3))","v":""},{"$f":"IF($C79=0,\"\",INDEX(Data_komoek,MATCH(1,(komnavn=$C79)*(komaar=$F$85),0),6))","v":""},{"$f":"IF($C79=0,\"\",INDEX(Data_komoek,MATCH(1,(komnavn=$C79)*(komaar=$F$85),0),9))","v":""},{"$f":"IF($C79=0,\"\",INDEX(Data_komoek,MATCH(1,(komnavn=$C79)*(komaar=$F$85),0),12))","v":""},{"$f":"IF($C79=0,\"\",INDEX(Data_komoek,MATCH(1,(komnavn=$C79)*(komaar=$F$85),0),15))","v":""},{"$f":"IF($C79=0,\"\",INDEX(Data_komoek,MATCH(1,(komnavn=$C79)*(komaar=$F$85),0),18))","v":""},{"$f":"IF($C79=0,\"\",INDEX(Data_komoek,MATCH(1,(komnavn=$C79)*(komaar=$F$85),0),21))","v":""}]
[null,null,null,{"$f":"IF($C80=0,\"\",INDEX(Data_kom2,MATCH(1,(komnavn2=$C80)*(komaar2=D$97),0),4))","v":""},{"$f":"IF($C80=0,\"\",INDEX(Data_kom2,MATCH(1,(komnavn2=$C80)*(komaar2=D$97),0),7))","v":""},{"$f":"IF($C80=0,\"\",INDEX(Data_kom2,MATCH(1,(komnavn2=$C80)*(komaar2=D$97),0),8))","v":""},{"$f":"IF($C80=0,\"\",INDEX(Data_kom2,MATCH(1,(komnavn2=$C80)*(komaar2=D$97),0),11))","v":""},{"$f":"IF($C80=0,\"\",INDEX(Data_kom2,MATCH(1,(komnavn2=$C80)*(komaar2=D$97),0),12))","v":""},{"$f":"IF($C80=0,\"\",INDEX(Data_kom2,MATCH(1,(komnavn2=$C80)*(komaar2=D$97),0),15))","v":""},{"$f":"IF($C80=0,\"\",INDEX(Data_kom2,MATCH(1,(komnavn2=$C80)*(komaar2=D$97),0),16))","v":""},{"$f":"IF($C80=0,\"\",INDEX(Data_kom2,MATCH(1,(komnavn2=$C80)*(komaar2=D$97),0),19))","v":""},{"$f":"IF($C80=0,\"\",INDEX(Data_kom2,MATCH(1,(komnavn2=$C80)*(komaar2=D$97),0),20))","v":""},{"$f":"IF($C80=0,\"\",INDEX(Data_kom2,MATCH(1,(komnavn2=$C80)*(komaar2=D$97),0),23))","v":""},{"$f":"IF($C80=0,\"\",INDEX(Data_kom2,MATCH(1,(komnavn2=$C80)*(komaar2=D$97),0),24))","v":""},{"$f":"IF($C80=0,\"\",INDEX(Data_kom2,MATCH(1,(komnavn2=$C80)*(komaar2=D$97),0),27))","v":""},{"$f":"IF($C80=0,\"\",INDEX(Data_kom2,MATCH(1,(komnavn2=$C80)*(komaar2=D$97),0),28))","v":""},{"$f":"IF($C80=0,\"\",INDEX(Data_kom2,MATCH(1,(komnavn2=$C80)*(komaar2=D$97),0),31))","v":""},{"$f":"IF($C80=0,\"\",INDEX(Data_kom2,MATCH(1,(komnavn2=$C80)*(komaar2=D$97),0),32))","v":""},{"$f":"IF($C80=0,\"\",INDEX(Data_kom2,MATCH(1,(komnavn2=$C80)*(komaar2=D$97),0),35))","v":""},{"$f":"IF($C80=0,\"\",INDEX(Data_kom2,MATCH(1,(komnavn2=$C80)*(komaar2=D$97),0),36))","v":""},{"$f":"IF($C80=0,\"\",INDEX(Data_kom2,MATCH(1,(komnavn2=$C80)*(komaar2=D$97),0),39))","v":""},{"$f":"IF(C92=0,\"\",INDEX(Data_kom2,MATCH(1,(komnavn2=C92)*(komaar2=D$97),0),40))","v":""},{"$f":"IF($C80=0,\"\",INDEX(Data_kom2,MATCH(1,(komnavn2=$C80)*(komaar2=D$97),0),43))","v":""},{"$f":"IF($C80=0,\"\",INDEX(Data_kom2,MATCH(1,(komnavn2=$C80)*(komaar2=D$97),0),44))","v":""},{"$f":"IF($C80=0,\"\",INDEX(Data_kom2,MATCH(1,(komnavn2=$C80)*(komaar2=D$97),0),47))","v":""},{"$f":"IF($C80=0,\"\",INDEX(Data_kom2,MATCH(1,(komnavn2=$C80)*(komaar2=D$97),0),48))","v":""},{"$f":"IF($C80=0,\"\",INDEX(Data_kom2,MATCH(1,(komnavn2=$C80)*(komaar2=D$97),0),51))","v":""},{"$f":"IF($C80=0,\"\",INDEX(Data_kom2,MATCH(1,(komnavn2=$C80)*(komaar2=D$97),0),52))","v":""},{"$f":"IF($C80=0,\"\",INDEX(Data_kom2,MATCH(1,(komnavn2=$C80)*(komaar2=D$97),0),55))","v":""},{"$f":"IF($C80=0,\"\",INDEX(Data_kom2,MATCH(1,(komnavn2=$C80)*(komaar2=D$97),0),56))","v":""},{"$f":"IF($C80=0,\"\",INDEX(Data_kom2,MATCH(1,(komnavn2=$C80)*(komaar2=D$97),0),59))","v":""},{"$f":"IF($C80=0,\"\",INDEX(Data_kom2,MATCH(1,(komnavn2=$C80)*(komaar2=D$97),0),60))","v":""},{"$f":"IF($C80=0,\"\",INDEX(Data_kom2,MATCH(1,(komnavn2=$C80)*(komaar2=D$97),0),63))","v":""},{"$f":"IF($C80=0,\"\",INDEX(Data_kom2,MATCH(1,(komnavn2=$C80)*(komaar2=D$97),0),64))","v":""},{"$f":"IF($C80=0,\"\",INDEX(Data_kom2,MATCH(1,(komnavn2=$C80)*(komaar2=D$97),0),67))","v":""},{"$f":"IF($C80=0,\"\",INDEX(Data_kom2,MATCH(1,(komnavn2=$C80)*(komaar2=D$97),0),68))","v":""},{"$f":"IF($C80=0,\"\",INDEX(Data_kom2,MATCH(1,(komnavn2=$C80)*(komaar2=D$97),0),71))","v":""},{"$f":"IF($C80=0,\"\",INDEX(Data_kom2,MATCH(1,(komnavn2=$C80)*(komaar2=D$97),0),72))","v":""},{"$f":"IF($C80=0,\"\",INDEX(Data_kom2,MATCH(1,(komnavn2=$C80)*(komaar2=D$97),0),75))","v":""},{"$f":"IF($C80=0,\"\",INDEX(Data_komoek,MATCH(1,(komnavn=$C80)*(komaar=$F$85),0),3))","v":""},{"$f":"IF($C80=0,\"\",INDEX(Data_komoek,MATCH(1,(komnavn=$C80)*(komaar=$F$85),0),6))","v":""},{"$f":"IF($C80=0,\"\",INDEX(Data_komoek,MATCH(1,(komnavn=$C80)*(komaar=$F$85),0),9))","v":""},{"$f":"IF($C80=0,\"\",INDEX(Data_komoek,MATCH(1,(komnavn=$C80)*(komaar=$F$85),0),12))","v":""},{"$f":"IF($C80=0,\"\",INDEX(Data_komoek,MATCH(1,(komnavn=$C80)*(komaar=$F$85),0),15))","v":""},{"$f":"IF($C80=0,\"\",INDEX(Data_komoek,MATCH(1,(komnavn=$C80)*(komaar=$F$85),0),18))","v":""},{"$f":"IF($C80=0,\"\",INDEX(Data_komoek,MATCH(1,(komnavn=$C80)*(komaar=$F$85),0),21))","v":""}]
[null,null,null,{"$f":"IF($C81=0,\"\",INDEX(Data_kom2,MATCH(1,(komnavn2=$C81)*(komaar2=D$97),0),4))","v":""},{"$f":"IF($C81=0,\"\",INDEX(Data_kom2,MATCH(1,(komnavn2=$C81)*(komaar2=D$97),0),7))","v":""},{"$f":"IF($C81=0,\"\",INDEX(Data_kom2,MATCH(1,(komnavn2=$C81)*(komaar2=D$97),0),8))","v":""},{"$f":"IF($C81=0,\"\",INDEX(Data_kom2,MATCH(1,(komnavn2=$C81)*(komaar2=D$97),0),11))","v":""},{"$f":"IF($C81=0,\"\",INDEX(Data_kom2,MATCH(1,(komnavn2=$C81)*(komaar2=D$97),0),12))","v":""},{"$f":"IF($C81=0,\"\",INDEX(Data_kom2,MATCH(1,(komnavn2=$C81)*(komaar2=D$97),0),15))","v":""},{"$f":"IF($C81=0,\"\",INDEX(Data_kom2,MATCH(1,(komnavn2=$C81)*(komaar2=D$97),0),16))","v":""},{"$f":"IF($C81=0,\"\",INDEX(Data_kom2,MATCH(1,(komnavn2=$C81)*(komaar2=D$97),0),19))","v":""},{"$f":"IF($C81=0,\"\",INDEX(Data_kom2,MATCH(1,(komnavn2=$C81)*(komaar2=D$97),0),20))","v":""},{"$f":"IF($C81=0,\"\",INDEX(Data_kom2,MATCH(1,(komnavn2=$C81)*(komaar2=D$97),0),23))","v":""},{"$f":"IF($C81=0,\"\",INDEX(Data_kom2,MATCH(1,(komnavn2=$C81)*(komaar2=D$97),0),24))","v":""},{"$f":"IF($C81=0,\"\",INDEX(Data_kom2,MATCH(1,(komnavn2=$C81)*(komaar2=D$97),0),27))","v":""},{"$f":"IF($C81=0,\"\",INDEX(Data_kom2,MATCH(1,(komnavn2=$C81)*(komaar2=D$97),0),28))","v":""},{"$f":"IF($C81=0,\"\",INDEX(Data_kom2,MATCH(1,(komnavn2=$C81)*(komaar2=D$97),0),31))","v":""},{"$f":"IF($C81=0,\"\",INDEX(Data_kom2,MATCH(1,(komnavn2=$C81)*(komaar2=D$97),0),32))","v":""},{"$f":"IF($C81=0,\"\",INDEX(Data_kom2,MATCH(1,(komnavn2=$C81)*(komaar2=D$97),0),35))","v":""},{"$f":"IF($C81=0,\"\",INDEX(Data_kom2,MATCH(1,(komnavn2=$C81)*(komaar2=D$97),0),36))","v":""},{"$f":"IF($C81=0,\"\",INDEX(Data_kom2,MATCH(1,(komnavn2=$C81)*(komaar2=D$97),0),39))","v":""},{"$f":"IF(C93=0,\"\",INDEX(Data_kom2,MATCH(1,(komnavn2=C93)*(komaar2=D$97),0),40))","v":""},{"$f":"IF($C81=0,\"\",INDEX(Data_kom2,MATCH(1,(komnavn2=$C81)*(komaar2=D$97),0),43))","v":""},{"$f":"IF($C81=0,\"\",INDEX(Data_kom2,MATCH(1,(komnavn2=$C81)*(komaar2=D$97),0),44))","v":""},{"$f":"IF($C81=0,\"\",INDEX(Data_kom2,MATCH(1,(komnavn2=$C81)*(komaar2=D$97),0),47))","v":""},{"$f":"IF($C81=0,\"\",INDEX(Data_kom2,MATCH(1,(komnavn2=$C81)*(komaar2=D$97),0),48))","v":""},{"$f":"IF($C81=0,\"\",INDEX(Data_kom2,MATCH(1,(komnavn2=$C81)*(komaar2=D$97),0),51))","v":""},{"$f":"IF($C81=0,\"\",INDEX(Data_kom2,MATCH(1,(komnavn2=$C81)*(komaar2=D$97),0),52))","v":""},{"$f":"IF($C81=0,\"\",INDEX(Data_kom2,MATCH(1,(komnavn2=$C81)*(komaar2=D$97),0),55))","v":""},{"$f":"IF($C81=0,\"\",INDEX(Data_kom2,MATCH(1,(komnavn2=$C81)*(komaar2=D$97),0),56))","v":""},{"$f":"IF($C81=0,\"\",INDEX(Data_kom2,MATCH(1,(komnavn2=$C81)*(komaar2=D$97),0),59))","v":""},{"$f":"IF($C81=0,\"\",INDEX(Data_kom2,MATCH(1,(komnavn2=$C81)*(komaar2=D$97),0),60))","v":""},{"$f":"IF($C81=0,\"\",INDEX(Data_kom2,MATCH(1,(komnavn2=$C81)*(komaar2=D$97),0),63))","v":""},{"$f":"IF($C81=0,\"\",INDEX(Data_kom2,MATCH(1,(komnavn2=$C81)*(komaar2=D$97),0),64))","v":""},{"$f":"IF($C81=0,\"\",INDEX(Data_kom2,MATCH(1,(komnavn2=$C81)*(komaar2=D$97),0),67))","v":""},{"$f":"IF($C81=0,\"\",INDEX(Data_kom2,MATCH(1,(komnavn2=$C81)*(komaar2=D$97),0),68))","v":""},{"$f":"IF($C81=0,\"\",INDEX(Data_kom2,MATCH(1,(komnavn2=$C81)*(komaar2=D$97),0),71))","v":""},{"$f":"IF($C81=0,\"\",INDEX(Data_kom2,MATCH(1,(komnavn2=$C81)*(komaar2=D$97),0),72))","v":""},{"$f":"IF($C81=0,\"\",INDEX(Data_kom2,MATCH(1,(komnavn2=$C81)*(komaar2=D$97),0),75))","v":""},{"$f":"IF($C81=0,\"\",INDEX(Data_komoek,MATCH(1,(komnavn=$C81)*(komaar=$F$85),0),3))","v":""},{"$f":"IF($C81=0,\"\",INDEX(Data_komoek,MATCH(1,(komnavn=$C81)*(komaar=$F$85),0),6))","v":""},{"$f":"IF($C81=0,\"\",INDEX(Data_komoek,MATCH(1,(komnavn=$C81)*(komaar=$F$85),0),9))","v":""},{"$f":"IF($C81=0,\"\",INDEX(Data_komoek,MATCH(1,(komnavn=$C81)*(komaar=$F$85),0),12))","v":""},{"$f":"IF($C81=0,\"\",INDEX(Data_komoek,MATCH(1,(komnavn=$C81)*(komaar=$F$85),0),15))","v":""},{"$f":"IF($C81=0,\"\",INDEX(Data_komoek,MATCH(1,(komnavn=$C81)*(komaar=$F$85),0),18))","v":""},{"$f":"IF($C81=0,\"\",INDEX(Data_komoek,MATCH(1,(komnavn=$C81)*(komaar=$F$85),0),21))","v":""}]
[null,null,null,{"$f":"IF($C82=0,\"\",INDEX(Data_kom2,MATCH(1,(komnavn2=$C82)*(komaar2=D$97),0),4))","v":""},{"$f":"IF($C82=0,\"\",INDEX(Data_kom2,MATCH(1,(komnavn2=$C82)*(komaar2=D$97),0),7))","v":""},{"$f":"IF($C82=0,\"\",INDEX(Data_kom2,MATCH(1,(komnavn2=$C82)*(komaar2=D$97),0),8))","v":""},{"$f":"IF($C82=0,\"\",INDEX(Data_kom2,MATCH(1,(komnavn2=$C82)*(komaar2=D$97),0),11))","v":""},{"$f":"IF($C82=0,\"\",INDEX(Data_kom2,MATCH(1,(komnavn2=$C82)*(komaar2=D$97),0),12))","v":""},{"$f":"IF($C82=0,\"\",INDEX(Data_kom2,MATCH(1,(komnavn2=$C82)*(komaar2=D$97),0),15))","v":""},{"$f":"IF($C82=0,\"\",INDEX(Data_kom2,MATCH(1,(komnavn2=$C82)*(komaar2=D$97),0),16))","v":""},{"$f":"IF($C82=0,\"\",INDEX(Data_kom2,MATCH(1,(komnavn2=$C82)*(komaar2=D$97),0),19))","v":""},{"$f":"IF($C82=0,\"\",INDEX(Data_kom2,MATCH(1,(komnavn2=$C82)*(komaar2=D$97),0),20))","v":""},{"$f":"IF($C82=0,\"\",INDEX(Data_kom2,MATCH(1,(komnavn2=$C82)*(komaar2=D$97),0),23))","v":""},{"$f":"IF($C82=0,\"\",INDEX(Data_kom2,MATCH(1,(komnavn2=$C82)*(komaar2=D$97),0),24))","v":""},{"$f":"IF($C82=0,\"\",INDEX(Data_kom2,MATCH(1,(komnavn2=$C82)*(komaar2=D$97),0),27))","v":""},{"$f":"IF($C82=0,\"\",INDEX(Data_kom2,MATCH(1,(komnavn2=$C82)*(komaar2=D$97),0),28))","v":""},{"$f":"IF($C82=0,\"\",INDEX(Data_kom2,MATCH(1,(komnavn2=$C82)*(komaar2=D$97),0),31))","v":""},{"$f":"IF($C82=0,\"\",INDEX(Data_kom2,MATCH(1,(komnavn2=$C82)*(komaar2=D$97),0),32))","v":""},{"$f":"IF($C82=0,\"\",INDEX(Data_kom2,MATCH(1,(komnavn2=$C82)*(komaar2=D$97),0),35))","v":""},{"$f":"IF($C82=0,\"\",INDEX(Data_kom2,MATCH(1,(komnavn2=$C82)*(komaar2=D$97),0),36))","v":""},{"$f":"IF($C82=0,\"\",INDEX(Data_kom2,MATCH(1,(komnavn2=$C82)*(komaar2=D$97),0),39))","v":""},{"$f":"IF(C94=0,\"\",INDEX(Data_kom2,MATCH(1,(komnavn2=C94)*(komaar2=D$97),0),40))","v":""},{"$f":"IF($C82=0,\"\",INDEX(Data_kom2,MATCH(1,(komnavn2=$C82)*(komaar2=D$97),0),43))","v":""},{"$f":"IF($C82=0,\"\",INDEX(Data_kom2,MATCH(1,(komnavn2=$C82)*(komaar2=D$97),0),44))","v":""},{"$f":"IF($C82=0,\"\",INDEX(Data_kom2,MATCH(1,(komnavn2=$C82)*(komaar2=D$97),0),47))","v":""},{"$f":"IF($C82=0,\"\",INDEX(Data_kom2,MATCH(1,(komnavn2=$C82)*(komaar2=D$97),0),48))","v":""},{"$f":"IF($C82=0,\"\",INDEX(Data_kom2,MATCH(1,(komnavn2=$C82)*(komaar2=D$97),0),51))","v":""},{"$f":"IF($C82=0,\"\",INDEX(Data_kom2,MATCH(1,(komnavn2=$C82)*(komaar2=D$97),0),52))","v":""},{"$f":"IF($C82=0,\"\",INDEX(Data_kom2,MATCH(1,(komnavn2=$C82)*(komaar2=D$97),0),55))","v":""},{"$f":"IF($C82=0,\"\",INDEX(Data_kom2,MATCH(1,(komnavn2=$C82)*(komaar2=D$97),0),56))","v":""},{"$f":"IF($C82=0,\"\",INDEX(Data_kom2,MATCH(1,(komnavn2=$C82)*(komaar2=D$97),0),59))","v":""},{"$f":"IF($C82=0,\"\",INDEX(Data_kom2,MATCH(1,(komnavn2=$C82)*(komaar2=D$97),0),60))","v":""},{"$f":"IF($C82=0,\"\",INDEX(Data_kom2,MATCH(1,(komnavn2=$C82)*(komaar2=D$97),0),63))","v":""},{"$f":"IF($C82=0,\"\",INDEX(Data_kom2,MATCH(1,(komnavn2=$C82)*(komaar2=D$97),0),64))","v":""},{"$f":"IF($C82=0,\"\",INDEX(Data_kom2,MATCH(1,(komnavn2=$C82)*(komaar2=D$97),0),67))","v":""},{"$f":"IF($C82=0,\"\",INDEX(Data_kom2,MATCH(1,(komnavn2=$C82)*(komaar2=D$97),0),68))","v":""},{"$f":"IF($C82=0,\"\",INDEX(Data_kom2,MATCH(1,(komnavn2=$C82)*(komaar2=D$97),0),71))","v":""},{"$f":"IF($C82=0,\"\",INDEX(Data_kom2,MATCH(1,(komnavn2=$C82)*(komaar2=D$97),0),72))","v":""},{"$f":"IF($C82=0,\"\",INDEX(Data_kom2,MATCH(1,(komnavn2=$C82)*(komaar2=D$97),0),75))","v":""},{"$f":"IF($C82=0,\"\",INDEX(Data_komoek,MATCH(1,(komnavn=$C82)*(komaar=$F$85),0),3))","v":""},{"$f":"IF($C82=0,\"\",INDEX(Data_komoek,MATCH(1,(komnavn=$C82)*(komaar=$F$85),0),6))","v":""},{"$f":"IF($C82=0,\"\",INDEX(Data_komoek,MATCH(1,(komnavn=$C82)*(komaar=$F$85),0),9))","v":""},{"$f":"IF($C82=0,\"\",INDEX(Data_komoek,MATCH(1,(komnavn=$C82)*(komaar=$F$85),0),12))","v":""},{"$f":"IF($C82=0,\"\",INDEX(Data_komoek,MATCH(1,(komnavn=$C82)*(komaar=$F$85),0),15))","v":""},{"$f":"IF($C82=0,\"\",INDEX(Data_komoek,MATCH(1,(komnavn=$C82)*(komaar=$F$85),0),18))","v":""},{"$f":"IF($C82=0,\"\",INDEX(Data_komoek,MATCH(1,(komnavn=$C82)*(komaar=$F$85),0),21))","v":""}]
[]
[]
[null,null,null,20222,null,2022]
[null,null,null,"Nøgletal 1: Modtagere af længerevarende botilbud",null,"Nøgletal 2: Modtagere af botilbudslignende tilbud",null,"Nøgletal 3: Modtagere af midlertidigt botilbud",null,"Nøgletal 4: Modtagere af socialpædagogisk støtte",null,"Nøgletal 5: Modtagere af beskyttet beskæftigelse og aktivitets- og samværstilbud",null,"Nøgletal 6: Modtagere af forebyggende indsatser",null,"Nøgletal 7: Flytninger fra botilbud",null,"Nøgletal 7.1: Flytninger fra længerevarende botilbud og lignende til midlertidigt botilbud",null,"Antal institutionsanbragte 0-17 årige pr. forrige kvartal",null,"0-17 årige, der ved sidste opgørelse var institutionsanbragt, men nu er anbragt i anden form",null,"Nøgletal 8: Fra socialpædagogisk støtte og ned af trappen",null,"Nøgletal 9: Fra forebyggende indsatser og ned af trappen",null,"Nøgletal 10: Fra forebyggende indsatser og op af trappen",null,"Nøgletal 11: Uddannelsesgrad",null,"Nøgletal 12: Beskæftigelsesgrad",null,"Nøgletal 12.1: Beskæftigelsesgrad for modtagere af forebyggende indsatser",null,"Nøgletal 12.2: Beskæftigelsesgrad for den øvrige målgruppe",null,"Nøgletal 18: Genindlæggelser",null,"Nøgletal 19: Udgifter til forebyggende indsatser ift. udgifter til støttende indsatser","Udgiftsandel til længerevarende botilbud","Udgiftsandel til botilbudslignende tilbud","Udgiftsandel til midlertidige botilbud","Udgiftsandel til socialpædagogisk støtte","Udgiftsandel til beskyttet beskæftigelse og aktivitets- og samværstilbud","Udgiftsandel til forebyggende indsatser"]
[null,null,null,1,null,2,null,3,null,4,null,5,null,6,null,7,null,"7.1",null,"7.2",null,"7.3",null,8,null,9,null,10,null,11,null,12,null,"12.1",null,"12.2",null,18,null,19,"20.1","20.2","20.3","20.4","20.5","20.6"]
[null,null,{"$f":"'Dine valg'!K8","v":"Allerød"},{"$f":"IF(C112=0,\"\",INDEX(Data_kom2,MATCH(1,(komnavn2=C112)*(komaar2=D$109),0),4))","v":7},{"$f":"IF($C112=0,\"\",INDEX(Data_kom2,MATCH(1,(komnavn2=C112)*(komaar2=D$109),0),7))","v":35},{"$f":"IF(C112=0,\"\",INDEX(Data_kom2,MATCH(1,(komnavn2=C112)*(komaar2=D$109),0),8))","v":6},{"$f":"IF($C112=0,\"\",INDEX(Data_kom2,MATCH(1,(komnavn2=$C112)*(komaar2=D$109),0),11))","v":35},{"$f":"IF(C112=0,\"\",INDEX(Data_kom2,MATCH(1,(komnavn2=C112)*(komaar2=D$109),0),12))","v":4},{"$f":"IF($C112=0,\"\",INDEX(Data_kom2,MATCH(1,(komnavn2=$C112)*(komaar2=D$109),0),15))","v":35},{"$f":"IF(C112=0,\"\",INDEX(Data_kom2,MATCH(1,(komnavn2=C112)*(komaar2=D$109),0),16))","v":18},{"$f":"IF($C112=0,\"\",INDEX(Data_kom2,MATCH(1,(komnavn2=$C112)*(komaar2=D$109),0),19))","v":35},{"$f":"IF(C112=0,\"\",INDEX(Data_kom2,MATCH(1,(komnavn2=C112)*(komaar2=D$109),0),20))","v":0},{"$f":"IF($C112=0,\"\",INDEX(Data_kom2,MATCH(1,(komnavn2=$C112)*(komaar2=D$109),0),23))","v":35},{"$f":"IF(C112=0,\"\",INDEX(Data_kom2,MATCH(1,(komnavn2=C112)*(komaar2=D$109),0),24))","v":0},{"$f":"IF($C112=0,\"\",INDEX(Data_kom2,MATCH(1,(komnavn2=$C112)*(komaar2=D$109),0),27))","v":35},{"$f":"IF(C112=0,\"\",INDEX(Data_kom2,MATCH(1,(komnavn2=C112)*(komaar2=D$109),0),28))","v":0},{"$f":"IF($C112=0,\"\",INDEX(Data_kom2,MATCH(1,(komnavn2=$C112)*(komaar2=D$109),0),31))","v":18},{"$f":"IF(C112=0,\"\",INDEX(Data_kom2,MATCH(1,(komnavn2=C112)*(komaar2=D$109),0),32))","v":0},{"$f":"IF($C112=0,\"\",INDEX(Data_kom2,MATCH(1,(komnavn2=$C112)*(komaar2=D$109),0),35))","v":13},{"$f":"IF(C112=0,\"\",INDEX(Data_kom2,MATCH(1,(komnavn2=C112)*(komaar2=D$109),0),36))","v":0},{"$f":"IF($C112=0,\"\",INDEX(Data_kom2,MATCH(1,(komnavn2=$C112)*(komaar2=D$109),0),39))","v":13},{"$f":"IF(C112=0,\"\",INDEX(Data_kom2,MATCH(1,(komnavn2=C112)*(komaar2=D$109),0),40))","v":0},{"$f":"IF($C112=0,\"\",INDEX(Data_kom2,MATCH(1,(komnavn2=$C112)*(komaar2=D$109),0),43))","v":5},{"$f":"IF($C112=0,\"\",INDEX(Data_kom2,MATCH(1,(komnavn2=$C112)*(komaar2=D$109),0),44))","v":0},{"$f":"IF($C112=0,\"\",INDEX(Data_kom2,MATCH(1,(komnavn2=$C112)*(komaar2=D$109),0),47))","v":17},{"$f":"IF($C112=0,\"\",INDEX(Data_kom2,MATCH(1,(komnavn2=$C112)*(komaar2=D$109),0),48))","v":0},{"$f":"IF($C112=0,\"\",INDEX(Data_kom2,MATCH(1,(komnavn2=$C112)*(komaar2=D$109),0),51))","v":0},{"$f":"IF($C112=0,\"\",INDEX(Data_kom2,MATCH(1,(komnavn2=$C112)*(komaar2=D$109),0),52))","v":0},{"$f":"IF($C112=0,\"\",INDEX(Data_kom2,MATCH(1,(komnavn2=$C112)*(komaar2=D$109),0),55))","v":0},{"$f":"IF($C112=0,\"\",INDEX(Data_kom2,MATCH(1,(komnavn2=$C112)*(komaar2=D$109),0),56))","v":1.2637362637362599E-2},{"$f":"IF($C112=0,\"\",INDEX(Data_kom2,MATCH(1,(komnavn2=$C112)*(komaar2=D$109),0),59))","v":35},{"$f":"IF($C112=0,\"\",INDEX(Data_kom2,MATCH(1,(komnavn2=$C112)*(komaar2=D$109),0),60))","v":0.106043956043956},{"$f":"IF($C112=0,\"\",INDEX(Data_kom2,MATCH(1,(komnavn2=$C112)*(komaar2=D$109),0),63))","v":35},{"$f":"IF($C112=0,\"\",INDEX(Data_kom2,MATCH(1,(komnavn2=$C112)*(komaar2=D$109),0),64))","v":0},{"$f":"IF($C112=0,\"\",INDEX(Data_kom2,MATCH(1,(komnavn2=$C112)*(komaar2=D$109),0),67))","v":0},{"$f":"IF($C112=0,\"\",INDEX(Data_kom2,MATCH(1,(komnavn2=$C112)*(komaar2=D$109),0),68))","v":0.106043956043956},{"$f":"IF($C112=0,\"\",INDEX(Data_kom2,MATCH(1,(komnavn2=$C112)*(komaar2=D$109),0),71))","v":35},{"$f":"IF($C112=0,\"\",INDEX(Data_kom2,MATCH(1,(komnavn2=$C112)*(komaar2=D$109),0),72))","v":0},{"$f":"IF($C112=0,\"\",INDEX(Data_kom2,MATCH(1,(komnavn2=$C112)*(komaar2=D$109),0),75))","v":35}]
[null,null,{"$f":"'Dine valg'!K9","v":"Assens"},{"$f":"IF(C113=0,\"\",INDEX(Data_kom2,MATCH(1,(komnavn2=C113)*(komaar2=D$109),0),4))","v":9},{"$f":"IF($C113=0,\"\",INDEX(Data_kom2,MATCH(1,(komnavn2=C113)*(komaar2=D$109),0),7))","v":244},{"$f":"IF(C113=0,\"\",INDEX(Data_kom2,MATCH(1,(komnavn2=C113)*(komaar2=D$109),0),8))","v":24},{"$f":"IF($C113=0,\"\",INDEX(Data_kom2,MATCH(1,(komnavn2=$C113)*(komaar2=D$109),0),11))","v":244},{"$f":"IF(C113=0,\"\",INDEX(Data_kom2,MATCH(1,(komnavn2=C113)*(komaar2=D$109),0),12))","v":20},{"$f":"IF($C113=0,\"\",INDEX(Data_kom2,MATCH(1,(komnavn2=$C113)*(komaar2=D$109),0),15))","v":244},{"$f":"IF(C113=0,\"\",INDEX(Data_kom2,MATCH(1,(komnavn2=C113)*(komaar2=D$109),0),16))","v":156},{"$f":"IF($C113=0,\"\",INDEX(Data_kom2,MATCH(1,(komnavn2=$C113)*(komaar2=D$109),0),19))","v":244},{"$f":"IF(C113=0,\"\",INDEX(Data_kom2,MATCH(1,(komnavn2=C113)*(komaar2=D$109),0),20))","v":31},{"$f":"IF($C113=0,\"\",INDEX(Data_kom2,MATCH(1,(komnavn2=$C113)*(komaar2=D$109),0),23))","v":244},{"$f":"IF(C113=0,\"\",INDEX(Data_kom2,MATCH(1,(komnavn2=C113)*(komaar2=D$109),0),24))","v":0},{"$f":"IF($C113=0,\"\",INDEX(Data_kom2,MATCH(1,(komnavn2=$C113)*(komaar2=D$109),0),27))","v":244},{"$f":"IF(C113=0,\"\",INDEX(Data_kom2,MATCH(1,(komnavn2=C113)*(komaar2=D$109),0),28))","v":8},{"$f":"IF($C113=0,\"\",INDEX(Data_kom2,MATCH(1,(komnavn2=$C113)*(komaar2=D$109),0),31))","v":55},{"$f":"IF(C113=0,\"\",INDEX(Data_kom2,MATCH(1,(komnavn2=C113)*(komaar2=D$109),0),32))","v":0},{"$f":"IF($C113=0,\"\",INDEX(Data_kom2,MATCH(1,(komnavn2=$C113)*(komaar2=D$109),0),35))","v":33},{"$f":"IF(C113=0,\"\",INDEX(Data_kom2,MATCH(1,(komnavn2=C113)*(komaar2=D$109),0),36))","v":3},{"$f":"IF($C113=0,\"\",INDEX(Data_kom2,MATCH(1,(komnavn2=$C113)*(komaar2=D$109),0),39))","v":33},{"$f":"IF(C113=0,\"\",INDEX(Data_kom2,MATCH(1,(komnavn2=C113)*(komaar2=D$109),0),40))","v":5},{"$f":"IF($C113=0,\"\",INDEX(Data_kom2,MATCH(1,(komnavn2=$C113)*(komaar2=D$109),0),43))","v":22},{"$f":"IF($C113=0,\"\",INDEX(Data_kom2,MATCH(1,(komnavn2=$C113)*(komaar2=D$109),0),44))","v":14},{"$f":"IF($C113=0,\"\",INDEX(Data_kom2,MATCH(1,(komnavn2=$C113)*(komaar2=D$109),0),47))","v":152},{"$f":"IF($C113=0,\"\",INDEX(Data_kom2,MATCH(1,(komnavn2=$C113)*(komaar2=D$109),0),48))","v":0},{"$f":"IF($C113=0,\"\",INDEX(Data_kom2,MATCH(1,(komnavn2=$C113)*(komaar2=D$109),0),51))","v":0},{"$f":"IF($C113=0,\"\",INDEX(Data_kom2,MATCH(1,(komnavn2=$C113)*(komaar2=D$109),0),52))","v":0},{"$f":"IF($C113=0,\"\",INDEX(Data_kom2,MATCH(1,(komnavn2=$C113)*(komaar2=D$109),0),55))","v":0},{"$f":"IF($C113=0,\"\",INDEX(Data_kom2,MATCH(1,(komnavn2=$C113)*(komaar2=D$109),0),56))","v":1.57629255989912E-4},{"$f":"IF($C113=0,\"\",INDEX(Data_kom2,MATCH(1,(komnavn2=$C113)*(komaar2=D$109),0),59))","v":244},{"$f":"IF($C113=0,\"\",INDEX(Data_kom2,MATCH(1,(komnavn2=$C113)*(komaar2=D$109),0),60))","v":5.1860025220680998E-2},{"$f":"IF($C113=0,\"\",INDEX(Data_kom2,MATCH(1,(komnavn2=$C113)*(komaar2=D$109),0),63))","v":244},{"$f":"IF($C113=0,\"\",INDEX(Data_kom2,MATCH(1,(komnavn2=$C113)*(komaar2=D$109),0),64))","v":0},{"$f":"IF($C113=0,\"\",INDEX(Data_kom2,MATCH(1,(komnavn2=$C113)*(komaar2=D$109),0),67))","v":0},{"$f":"IF($C113=0,\"\",INDEX(Data_kom2,MATCH(1,(komnavn2=$C113)*(komaar2=D$109),0),68))","v":5.1860025220680998E-2},{"$f":"IF($C113=0,\"\",INDEX(Data_kom2,MATCH(1,(komnavn2=$C113)*(komaar2=D$109),0),71))","v":244},{"$f":"IF($C113=0,\"\",INDEX(Data_kom2,MATCH(1,(komnavn2=$C113)*(komaar2=D$109),0),72))","v":0.37735849056603799},{"$f":"IF($C113=0,\"\",INDEX(Data_kom2,MATCH(1,(komnavn2=$C113)*(komaar2=D$109),0),75))","v":244}]
[null,null,{"$f":"'Dine valg'!K10","v":"Ballerup"},{"$f":"IF(C114=0,\"\",INDEX(Data_kom2,MATCH(1,(komnavn2=C114)*(komaar2=D$109),0),4))","v":19},{"$f":"IF($C114=0,\"\",INDEX(Data_kom2,MATCH(1,(komnavn2=C114)*(komaar2=D$109),0),7))","v":252},{"$f":"IF(C114=0,\"\",INDEX(Data_kom2,MATCH(1,(komnavn2=C114)*(komaar2=D$109),0),8))","v":18},{"$f":"IF($C114=0,\"\",INDEX(Data_kom2,MATCH(1,(komnavn2=$C114)*(komaar2=D$109),0),11))","v":252},{"$f":"IF(C114=0,\"\",INDEX(Data_kom2,MATCH(1,(komnavn2=C114)*(komaar2=D$109),0),12))","v":43},{"$f":"IF($C114=0,\"\",INDEX(Data_kom2,MATCH(1,(komnavn2=$C114)*(komaar2=D$109),0),15))","v":252},{"$f":"IF(C114=0,\"\",INDEX(Data_kom2,MATCH(1,(komnavn2=C114)*(komaar2=D$109),0),16))","v":154},{"$f":"IF($C114=0,\"\",INDEX(Data_kom2,MATCH(1,(komnavn2=$C114)*(komaar2=D$109),0),19))","v":252},{"$f":"IF(C114=0,\"\",INDEX(Data_kom2,MATCH(1,(komnavn2=C114)*(komaar2=D$109),0),20))","v":12},{"$f":"IF($C114=0,\"\",INDEX(Data_kom2,MATCH(1,(komnavn2=$C114)*(komaar2=D$109),0),23))","v":252},{"$f":"IF(C114=0,\"\",INDEX(Data_kom2,MATCH(1,(komnavn2=C114)*(komaar2=D$109),0),24))","v":0},{"$f":"IF($C114=0,\"\",INDEX(Data_kom2,MATCH(1,(komnavn2=$C114)*(komaar2=D$109),0),27))","v":252},{"$f":"IF(C114=0,\"\",INDEX(Data_kom2,MATCH(1,(komnavn2=C114)*(komaar2=D$109),0),28))","v":7},{"$f":"IF($C114=0,\"\",INDEX(Data_kom2,MATCH(1,(komnavn2=$C114)*(komaar2=D$109),0),31))","v":78},{"$f":"IF(C114=0,\"\",INDEX(Data_kom2,MATCH(1,(komnavn2=C114)*(komaar2=D$109),0),32))","v":0},{"$f":"IF($C114=0,\"\",INDEX(Data_kom2,MATCH(1,(komnavn2=$C114)*(komaar2=D$109),0),35))","v":37},{"$f":"IF(C114=0,\"\",INDEX(Data_kom2,MATCH(1,(komnavn2=C114)*(komaar2=D$109),0),36))","v":0},{"$f":"IF($C114=0,\"\",INDEX(Data_kom2,MATCH(1,(komnavn2=$C114)*(komaar2=D$109),0),39))","v":37},{"$f":"IF(C114=0,\"\",INDEX(Data_kom2,MATCH(1,(komnavn2=C114)*(komaar2=D$109),0),40))","v":0},{"$f":"IF($C114=0,\"\",INDEX(Data_kom2,MATCH(1,(komnavn2=$C114)*(komaar2=D$109),0),43))","v":41},{"$f":"IF($C114=0,\"\",INDEX(Data_kom2,MATCH(1,(komnavn2=$C114)*(komaar2=D$109),0),44))","v":13},{"$f":"IF($C114=0,\"\",INDEX(Data_kom2,MATCH(1,(komnavn2=$C114)*(komaar2=D$109),0),47))","v":140},{"$f":"IF($C114=0,\"\",INDEX(Data_kom2,MATCH(1,(komnavn2=$C114)*(komaar2=D$109),0),48))","v":0},{"$f":"IF($C114=0,\"\",INDEX(Data_kom2,MATCH(1,(komnavn2=$C114)*(komaar2=D$109),0),51))","v":0},{"$f":"IF($C114=0,\"\",INDEX(Data_kom2,MATCH(1,(komnavn2=$C114)*(komaar2=D$109),0),52))","v":0},{"$f":"IF($C114=0,\"\",INDEX(Data_kom2,MATCH(1,(komnavn2=$C114)*(komaar2=D$109),0),55))","v":0},{"$f":"IF($C114=0,\"\",INDEX(Data_kom2,MATCH(1,(komnavn2=$C114)*(komaar2=D$109),0),56))","v":2.2893772893772899E-2},{"$f":"IF($C114=0,\"\",INDEX(Data_kom2,MATCH(1,(komnavn2=$C114)*(komaar2=D$109),0),59))","v":252},{"$f":"IF($C114=0,\"\",INDEX(Data_kom2,MATCH(1,(komnavn2=$C114)*(komaar2=D$109),0),60))","v":5.1282051282051301E-2},{"$f":"IF($C114=0,\"\",INDEX(Data_kom2,MATCH(1,(komnavn2=$C114)*(komaar2=D$109),0),63))","v":252},{"$f":"IF($C114=0,\"\",INDEX(Data_kom2,MATCH(1,(komnavn2=$C114)*(komaar2=D$109),0),64))","v":0},{"$f":"IF($C114=0,\"\",INDEX(Data_kom2,MATCH(1,(komnavn2=$C114)*(komaar2=D$109),0),67))","v":0},{"$f":"IF($C114=0,\"\",INDEX(Data_kom2,MATCH(1,(komnavn2=$C114)*(komaar2=D$109),0),68))","v":5.1282051282051301E-2},{"$f":"IF($C114=0,\"\",INDEX(Data_kom2,MATCH(1,(komnavn2=$C114)*(komaar2=D$109),0),71))","v":252},{"$f":"IF($C114=0,\"\",INDEX(Data_kom2,MATCH(1,(komnavn2=$C114)*(komaar2=D$109),0),72))","v":0.375},{"$f":"IF($C114=0,\"\",INDEX(Data_kom2,MATCH(1,(komnavn2=$C114)*(komaar2=D$109),0),75))","v":252}]
[null,null,{"$f":"'Dine valg'!K11","v":0},{"$f":"IF(C115=0,\"\",INDEX(Data_kom2,MATCH(1,(komnavn2=C115)*(komaar2=D$109),0),4))","v":""},{"$f":"IF($C115=0,\"\",INDEX(Data_kom2,MATCH(1,(komnavn2=C115)*(komaar2=D$109),0),7))","v":""},{"$f":"IF(C115=0,\"\",INDEX(Data_kom2,MATCH(1,(komnavn2=C115)*(komaar2=D$109),0),8))","v":""},{"$f":"IF($C115=0,\"\",INDEX(Data_kom2,MATCH(1,(komnavn2=$C115)*(komaar2=D$109),0),11))","v":""},{"$f":"IF(C115=0,\"\",INDEX(Data_kom2,MATCH(1,(komnavn2=C115)*(komaar2=D$109),0),12))","v":""},{"$f":"IF($C115=0,\"\",INDEX(Data_kom2,MATCH(1,(komnavn2=$C115)*(komaar2=D$109),0),15))","v":""},{"$f":"IF(C115=0,\"\",INDEX(Data_kom2,MATCH(1,(komnavn2=C115)*(komaar2=D$109),0),16))","v":""},{"$f":"IF($C115=0,\"\",INDEX(Data_kom2,MATCH(1,(komnavn2=$C115)*(komaar2=D$109),0),19))","v":""},{"$f":"IF(C115=0,\"\",INDEX(Data_kom2,MATCH(1,(komnavn2=C115)*(komaar2=D$109),0),20))","v":""},{"$f":"IF($C115=0,\"\",INDEX(Data_kom2,MATCH(1,(komnavn2=$C115)*(komaar2=D$109),0),23))","v":""},{"$f":"IF(C115=0,\"\",INDEX(Data_kom2,MATCH(1,(komnavn2=C115)*(komaar2=D$109),0),24))","v":""},{"$f":"IF($C115=0,\"\",INDEX(Data_kom2,MATCH(1,(komnavn2=$C115)*(komaar2=D$109),0),27))","v":""},{"$f":"IF(C115=0,\"\",INDEX(Data_kom2,MATCH(1,(komnavn2=C115)*(komaar2=D$109),0),28))","v":""},{"$f":"IF($C115=0,\"\",INDEX(Data_kom2,MATCH(1,(komnavn2=$C115)*(komaar2=D$109),0),31))","v":""},{"$f":"IF(C115=0,\"\",INDEX(Data_kom2,MATCH(1,(komnavn2=C115)*(komaar2=D$109),0),32))","v":""},{"$f":"IF($C115=0,\"\",INDEX(Data_kom2,MATCH(1,(komnavn2=$C115)*(komaar2=D$109),0),35))","v":""},{"$f":"IF(C115=0,\"\",INDEX(Data_kom2,MATCH(1,(komnavn2=C115)*(komaar2=D$109),0),36))","v":""},{"$f":"IF($C115=0,\"\",INDEX(Data_kom2,MATCH(1,(komnavn2=$C115)*(komaar2=D$109),0),39))","v":""},{"$f":"IF(C115=0,\"\",INDEX(Data_kom2,MATCH(1,(komnavn2=C115)*(komaar2=D$109),0),40))","v":""},{"$f":"IF($C115=0,\"\",INDEX(Data_kom2,MATCH(1,(komnavn2=$C115)*(komaar2=D$109),0),43))","v":""},{"$f":"IF($C115=0,\"\",INDEX(Data_kom2,MATCH(1,(komnavn2=$C115)*(komaar2=D$109),0),44))","v":""},{"$f":"IF($C115=0,\"\",INDEX(Data_kom2,MATCH(1,(komnavn2=$C115)*(komaar2=D$109),0),47))","v":""},{"$f":"IF($C115=0,\"\",INDEX(Data_kom2,MATCH(1,(komnavn2=$C115)*(komaar2=D$109),0),48))","v":""},{"$f":"IF($C115=0,\"\",INDEX(Data_kom2,MATCH(1,(komnavn2=$C115)*(komaar2=D$109),0),51))","v":""},{"$f":"IF($C115=0,\"\",INDEX(Data_kom2,MATCH(1,(komnavn2=$C115)*(komaar2=D$109),0),52))","v":""},{"$f":"IF($C115=0,\"\",INDEX(Data_kom2,MATCH(1,(komnavn2=$C115)*(komaar2=D$109),0),55))","v":""},{"$f":"IF($C115=0,\"\",INDEX(Data_kom2,MATCH(1,(komnavn2=$C115)*(komaar2=D$109),0),56))","v":""},{"$f":"IF($C115=0,\"\",INDEX(Data_kom2,MATCH(1,(komnavn2=$C115)*(komaar2=D$109),0),59))","v":""},{"$f":"IF($C115=0,\"\",INDEX(Data_kom2,MATCH(1,(komnavn2=$C115)*(komaar2=D$109),0),60))","v":""},{"$f":"IF($C115=0,\"\",INDEX(Data_kom2,MATCH(1,(komnavn2=$C115)*(komaar2=D$109),0),63))","v":""},{"$f":"IF($C115=0,\"\",INDEX(Data_kom2,MATCH(1,(komnavn2=$C115)*(komaar2=D$109),0),64))","v":""},{"$f":"IF($C115=0,\"\",INDEX(Data_kom2,MATCH(1,(komnavn2=$C115)*(komaar2=D$109),0),67))","v":""},{"$f":"IF($C115=0,\"\",INDEX(Data_kom2,MATCH(1,(komnavn2=$C115)*(komaar2=D$109),0),68))","v":""},{"$f":"IF($C115=0,\"\",INDEX(Data_kom2,MATCH(1,(komnavn2=$C115)*(komaar2=D$109),0),71))","v":""},{"$f":"IF($C115=0,\"\",INDEX(Data_kom2,MATCH(1,(komnavn2=$C115)*(komaar2=D$109),0),72))","v":""},{"$f":"IF($C115=0,\"\",INDEX(Data_kom2,MATCH(1,(komnavn2=$C115)*(komaar2=D$109),0),75))","v":""}]
[null,null,{"$f":"'Dine valg'!K12","v":0},{"$f":"IF(C116=0,\"\",INDEX(Data_kom2,MATCH(1,(komnavn2=C116)*(komaar2=D$109),0),4))","v":""},{"$f":"IF($C116=0,\"\",INDEX(Data_kom2,MATCH(1,(komnavn2=C116)*(komaar2=D$109),0),7))","v":""},{"$f":"IF(C116=0,\"\",INDEX(Data_kom2,MATCH(1,(komnavn2=C116)*(komaar2=D$109),0),8))","v":""},{"$f":"IF($C116=0,\"\",INDEX(Data_kom2,MATCH(1,(komnavn2=$C116)*(komaar2=D$109),0),11))","v":""},{"$f":"IF(C116=0,\"\",INDEX(Data_kom2,MATCH(1,(komnavn2=C116)*(komaar2=D$109),0),12))","v":""},{"$f":"IF($C116=0,\"\",INDEX(Data_kom2,MATCH(1,(komnavn2=$C116)*(komaar2=D$109),0),15))","v":""},{"$f":"IF(C116=0,\"\",INDEX(Data_kom2,MATCH(1,(komnavn2=C116)*(komaar2=D$109),0),16))","v":""},{"$f":"IF($C116=0,\"\",INDEX(Data_kom2,MATCH(1,(komnavn2=$C116)*(komaar2=D$109),0),19))","v":""},{"$f":"IF(C116=0,\"\",INDEX(Data_kom2,MATCH(1,(komnavn2=C116)*(komaar2=D$109),0),20))","v":""},{"$f":"IF($C116=0,\"\",INDEX(Data_kom2,MATCH(1,(komnavn2=$C116)*(komaar2=D$109),0),23))","v":""},{"$f":"IF(C116=0,\"\",INDEX(Data_kom2,MATCH(1,(komnavn2=C116)*(komaar2=D$109),0),24))","v":""},{"$f":"IF($C116=0,\"\",INDEX(Data_kom2,MATCH(1,(komnavn2=$C116)*(komaar2=D$109),0),27))","v":""},{"$f":"IF(C116=0,\"\",INDEX(Data_kom2,MATCH(1,(komnavn2=C116)*(komaar2=D$109),0),28))","v":""},{"$f":"IF($C116=0,\"\",INDEX(Data_kom2,MATCH(1,(komnavn2=$C116)*(komaar2=D$109),0),31))","v":""},{"$f":"IF(C116=0,\"\",INDEX(Data_kom2,MATCH(1,(komnavn2=C116)*(komaar2=D$109),0),32))","v":""},{"$f":"IF($C116=0,\"\",INDEX(Data_kom2,MATCH(1,(komnavn2=$C116)*(komaar2=D$109),0),35))","v":""},{"$f":"IF(C116=0,\"\",INDEX(Data_kom2,MATCH(1,(komnavn2=C116)*(komaar2=D$109),0),36))","v":""},{"$f":"IF($C116=0,\"\",INDEX(Data_kom2,MATCH(1,(komnavn2=$C116)*(komaar2=D$109),0),39))","v":""},{"$f":"IF(C116=0,\"\",INDEX(Data_kom2,MATCH(1,(komnavn2=C116)*(komaar2=D$109),0),40))","v":""},{"$f":"IF($C116=0,\"\",INDEX(Data_kom2,MATCH(1,(komnavn2=$C116)*(komaar2=D$109),0),43))","v":""},{"$f":"IF($C116=0,\"\",INDEX(Data_kom2,MATCH(1,(komnavn2=$C116)*(komaar2=D$109),0),44))","v":""},{"$f":"IF($C116=0,\"\",INDEX(Data_kom2,MATCH(1,(komnavn2=$C116)*(komaar2=D$109),0),47))","v":""},{"$f":"IF($C116=0,\"\",INDEX(Data_kom2,MATCH(1,(komnavn2=$C116)*(komaar2=D$109),0),48))","v":""},{"$f":"IF($C116=0,\"\",INDEX(Data_kom2,MATCH(1,(komnavn2=$C116)*(komaar2=D$109),0),51))","v":""},{"$f":"IF($C116=0,\"\",INDEX(Data_kom2,MATCH(1,(komnavn2=$C116)*(komaar2=D$109),0),52))","v":""},{"$f":"IF($C116=0,\"\",INDEX(Data_kom2,MATCH(1,(komnavn2=$C116)*(komaar2=D$109),0),55))","v":""},{"$f":"IF($C116=0,\"\",INDEX(Data_kom2,MATCH(1,(komnavn2=$C116)*(komaar2=D$109),0),56))","v":""},{"$f":"IF($C116=0,\"\",INDEX(Data_kom2,MATCH(1,(komnavn2=$C116)*(komaar2=D$109),0),59))","v":""},{"$f":"IF($C116=0,\"\",INDEX(Data_kom2,MATCH(1,(komnavn2=$C116)*(komaar2=D$109),0),60))","v":""},{"$f":"IF($C116=0,\"\",INDEX(Data_kom2,MATCH(1,(komnavn2=$C116)*(komaar2=D$109),0),63))","v":""},{"$f":"IF($C116=0,\"\",INDEX(Data_kom2,MATCH(1,(komnavn2=$C116)*(komaar2=D$109),0),64))","v":""},{"$f":"IF($C116=0,\"\",INDEX(Data_kom2,MATCH(1,(komnavn2=$C116)*(komaar2=D$109),0),67))","v":""},{"$f":"IF($C116=0,\"\",INDEX(Data_kom2,MATCH(1,(komnavn2=$C116)*(komaar2=D$109),0),68))","v":""},{"$f":"IF($C116=0,\"\",INDEX(Data_kom2,MATCH(1,(komnavn2=$C116)*(komaar2=D$109),0),71))","v":""},{"$f":"IF($C116=0,\"\",INDEX(Data_kom2,MATCH(1,(komnavn2=$C116)*(komaar2=D$109),0),72))","v":""},{"$f":"IF($C116=0,\"\",INDEX(Data_kom2,MATCH(1,(komnavn2=$C116)*(komaar2=D$109),0),75))","v":""},null,null,null,null,null,null,{"$f":"IF(C116=0,\"\",INDEX(Data_kom2,MATCH(1,(komnavn2=C116)*(komaar2=D$1),0),14))","v":""}]
[null,null,{"$f":"'Dine valg'!K13","v":0},{"$f":"IF(C117=0,\"\",INDEX(Data_kom2,MATCH(1,(komnavn2=C117)*(komaar2=D$109),0),4))","v":""},{"$f":"IF($C117=0,\"\",INDEX(Data_kom2,MATCH(1,(komnavn2=C117)*(komaar2=D$109),0),7))","v":""},{"$f":"IF(C117=0,\"\",INDEX(Data_kom2,MATCH(1,(komnavn2=C117)*(komaar2=D$109),0),8))","v":""},{"$f":"IF($C117=0,\"\",INDEX(Data_kom2,MATCH(1,(komnavn2=$C117)*(komaar2=D$109),0),11))","v":""},{"$f":"IF(C117=0,\"\",INDEX(Data_kom2,MATCH(1,(komnavn2=C117)*(komaar2=D$109),0),12))","v":""},{"$f":"IF($C117=0,\"\",INDEX(Data_kom2,MATCH(1,(komnavn2=$C117)*(komaar2=D$109),0),15))","v":""},{"$f":"IF(C117=0,\"\",INDEX(Data_kom2,MATCH(1,(komnavn2=C117)*(komaar2=D$109),0),16))","v":""},{"$f":"IF($C117=0,\"\",INDEX(Data_kom2,MATCH(1,(komnavn2=$C117)*(komaar2=D$109),0),19))","v":""},{"$f":"IF(C117=0,\"\",INDEX(Data_kom2,MATCH(1,(komnavn2=C117)*(komaar2=D$109),0),20))","v":""},{"$f":"IF($C117=0,\"\",INDEX(Data_kom2,MATCH(1,(komnavn2=$C117)*(komaar2=D$109),0),23))","v":""},{"$f":"IF(C117=0,\"\",INDEX(Data_kom2,MATCH(1,(komnavn2=C117)*(komaar2=D$109),0),24))","v":""},{"$f":"IF($C117=0,\"\",INDEX(Data_kom2,MATCH(1,(komnavn2=$C117)*(komaar2=D$109),0),27))","v":""},{"$f":"IF(C117=0,\"\",INDEX(Data_kom2,MATCH(1,(komnavn2=C117)*(komaar2=D$109),0),28))","v":""},{"$f":"IF($C117=0,\"\",INDEX(Data_kom2,MATCH(1,(komnavn2=$C117)*(komaar2=D$109),0),31))","v":""},{"$f":"IF(C117=0,\"\",INDEX(Data_kom2,MATCH(1,(komnavn2=C117)*(komaar2=D$109),0),32))","v":""},{"$f":"IF($C117=0,\"\",INDEX(Data_kom2,MATCH(1,(komnavn2=$C117)*(komaar2=D$109),0),35))","v":""},{"$f":"IF(C117=0,\"\",INDEX(Data_kom2,MATCH(1,(komnavn2=C117)*(komaar2=D$109),0),36))","v":""},{"$f":"IF($C117=0,\"\",INDEX(Data_kom2,MATCH(1,(komnavn2=$C117)*(komaar2=D$109),0),39))","v":""},{"$f":"IF(C117=0,\"\",INDEX(Data_kom2,MATCH(1,(komnavn2=C117)*(komaar2=D$109),0),40))","v":""},{"$f":"IF($C117=0,\"\",INDEX(Data_kom2,MATCH(1,(komnavn2=$C117)*(komaar2=D$109),0),43))","v":""},{"$f":"IF($C117=0,\"\",INDEX(Data_kom2,MATCH(1,(komnavn2=$C117)*(komaar2=D$109),0),44))","v":""},{"$f":"IF($C117=0,\"\",INDEX(Data_kom2,MATCH(1,(komnavn2=$C117)*(komaar2=D$109),0),47))","v":""},{"$f":"IF($C117=0,\"\",INDEX(Data_kom2,MATCH(1,(komnavn2=$C117)*(komaar2=D$109),0),48))","v":""},{"$f":"IF($C117=0,\"\",INDEX(Data_kom2,MATCH(1,(komnavn2=$C117)*(komaar2=D$109),0),51))","v":""},{"$f":"IF($C117=0,\"\",INDEX(Data_kom2,MATCH(1,(komnavn2=$C117)*(komaar2=D$109),0),52))","v":""},{"$f":"IF($C117=0,\"\",INDEX(Data_kom2,MATCH(1,(komnavn2=$C117)*(komaar2=D$109),0),55))","v":""},{"$f":"IF($C117=0,\"\",INDEX(Data_kom2,MATCH(1,(komnavn2=$C117)*(komaar2=D$109),0),56))","v":""},{"$f":"IF($C117=0,\"\",INDEX(Data_kom2,MATCH(1,(komnavn2=$C117)*(komaar2=D$109),0),59))","v":""},{"$f":"IF($C117=0,\"\",INDEX(Data_kom2,MATCH(1,(komnavn2=$C117)*(komaar2=D$109),0),60))","v":""},{"$f":"IF($C117=0,\"\",INDEX(Data_kom2,MATCH(1,(komnavn2=$C117)*(komaar2=D$109),0),63))","v":""},{"$f":"IF($C117=0,\"\",INDEX(Data_kom2,MATCH(1,(komnavn2=$C117)*(komaar2=D$109),0),64))","v":""},{"$f":"IF($C117=0,\"\",INDEX(Data_kom2,MATCH(1,(komnavn2=$C117)*(komaar2=D$109),0),67))","v":""},{"$f":"IF($C117=0,\"\",INDEX(Data_kom2,MATCH(1,(komnavn2=$C117)*(komaar2=D$109),0),68))","v":""},{"$f":"IF($C117=0,\"\",INDEX(Data_kom2,MATCH(1,(komnavn2=$C117)*(komaar2=D$109),0),71))","v":""},{"$f":"IF($C117=0,\"\",INDEX(Data_kom2,MATCH(1,(komnavn2=$C117)*(komaar2=D$109),0),72))","v":""},{"$f":"IF($C117=0,\"\",INDEX(Data_kom2,MATCH(1,(komnavn2=$C117)*(komaar2=D$109),0),75))","v":""},null,null,null,null,null,null,{"$f":"IF(C117=0,\"\",INDEX(Data_kom2,MATCH(1,(komnavn2=C117)*(komaar2=D$1),0),14))","v":""}]
[null,null,{"$f":"'Dine valg'!K14","v":0},{"$f":"IF(C118=0,\"\",INDEX(Data_kom2,MATCH(1,(komnavn2=C118)*(komaar2=D$109),0),4))","v":""},{"$f":"IF($C118=0,\"\",INDEX(Data_kom2,MATCH(1,(komnavn2=C118)*(komaar2=D$109),0),7))","v":""},{"$f":"IF(C118=0,\"\",INDEX(Data_kom2,MATCH(1,(komnavn2=C118)*(komaar2=D$109),0),8))","v":""},{"$f":"IF($C118=0,\"\",INDEX(Data_kom2,MATCH(1,(komnavn2=$C118)*(komaar2=D$109),0),11))","v":""},{"$f":"IF(C118=0,\"\",INDEX(Data_kom2,MATCH(1,(komnavn2=C118)*(komaar2=D$109),0),12))","v":""},{"$f":"IF($C118=0,\"\",INDEX(Data_kom2,MATCH(1,(komnavn2=$C118)*(komaar2=D$109),0),15))","v":""},{"$f":"IF(C118=0,\"\",INDEX(Data_kom2,MATCH(1,(komnavn2=C118)*(komaar2=D$109),0),16))","v":""},{"$f":"IF($C118=0,\"\",INDEX(Data_kom2,MATCH(1,(komnavn2=$C118)*(komaar2=D$109),0),19))","v":""},{"$f":"IF(C118=0,\"\",INDEX(Data_kom2,MATCH(1,(komnavn2=C118)*(komaar2=D$109),0),20))","v":""},{"$f":"IF($C118=0,\"\",INDEX(Data_kom2,MATCH(1,(komnavn2=$C118)*(komaar2=D$109),0),23))","v":""},{"$f":"IF(C118=0,\"\",INDEX(Data_kom2,MATCH(1,(komnavn2=C118)*(komaar2=D$109),0),24))","v":""},{"$f":"IF($C118=0,\"\",INDEX(Data_kom2,MATCH(1,(komnavn2=$C118)*(komaar2=D$109),0),27))","v":""},{"$f":"IF(C118=0,\"\",INDEX(Data_kom2,MATCH(1,(komnavn2=C118)*(komaar2=D$109),0),28))","v":""},{"$f":"IF($C118=0,\"\",INDEX(Data_kom2,MATCH(1,(komnavn2=$C118)*(komaar2=D$109),0),31))","v":""},{"$f":"IF(C118=0,\"\",INDEX(Data_kom2,MATCH(1,(komnavn2=C118)*(komaar2=D$109),0),32))","v":""},{"$f":"IF($C118=0,\"\",INDEX(Data_kom2,MATCH(1,(komnavn2=$C118)*(komaar2=D$109),0),35))","v":""},{"$f":"IF(C118=0,\"\",INDEX(Data_kom2,MATCH(1,(komnavn2=C118)*(komaar2=D$109),0),36))","v":""},{"$f":"IF($C118=0,\"\",INDEX(Data_kom2,MATCH(1,(komnavn2=$C118)*(komaar2=D$109),0),39))","v":""},{"$f":"IF(C118=0,\"\",INDEX(Data_kom2,MATCH(1,(komnavn2=C118)*(komaar2=D$109),0),40))","v":""},{"$f":"IF($C118=0,\"\",INDEX(Data_kom2,MATCH(1,(komnavn2=$C118)*(komaar2=D$109),0),43))","v":""},{"$f":"IF($C118=0,\"\",INDEX(Data_kom2,MATCH(1,(komnavn2=$C118)*(komaar2=D$109),0),44))","v":""},{"$f":"IF($C118=0,\"\",INDEX(Data_kom2,MATCH(1,(komnavn2=$C118)*(komaar2=D$109),0),47))","v":""},{"$f":"IF($C118=0,\"\",INDEX(Data_kom2,MATCH(1,(komnavn2=$C118)*(komaar2=D$109),0),48))","v":""},{"$f":"IF($C118=0,\"\",INDEX(Data_kom2,MATCH(1,(komnavn2=$C118)*(komaar2=D$109),0),51))","v":""},{"$f":"IF($C118=0,\"\",INDEX(Data_kom2,MATCH(1,(komnavn2=$C118)*(komaar2=D$109),0),52))","v":""},{"$f":"IF($C118=0,\"\",INDEX(Data_kom2,MATCH(1,(komnavn2=$C118)*(komaar2=D$109),0),55))","v":""},{"$f":"IF($C118=0,\"\",INDEX(Data_kom2,MATCH(1,(komnavn2=$C118)*(komaar2=D$109),0),56))","v":""},{"$f":"IF($C118=0,\"\",INDEX(Data_kom2,MATCH(1,(komnavn2=$C118)*(komaar2=D$109),0),59))","v":""},{"$f":"IF($C118=0,\"\",INDEX(Data_kom2,MATCH(1,(komnavn2=$C118)*(komaar2=D$109),0),60))","v":""},{"$f":"IF($C118=0,\"\",INDEX(Data_kom2,MATCH(1,(komnavn2=$C118)*(komaar2=D$109),0),63))","v":""},{"$f":"IF($C118=0,\"\",INDEX(Data_kom2,MATCH(1,(komnavn2=$C118)*(komaar2=D$109),0),64))","v":""},{"$f":"IF($C118=0,\"\",INDEX(Data_kom2,MATCH(1,(komnavn2=$C118)*(komaar2=D$109),0),67))","v":""},{"$f":"IF($C118=0,\"\",INDEX(Data_kom2,MATCH(1,(komnavn2=$C118)*(komaar2=D$109),0),68))","v":""},{"$f":"IF($C118=0,\"\",INDEX(Data_kom2,MATCH(1,(komnavn2=$C118)*(komaar2=D$109),0),71))","v":""},{"$f":"IF($C118=0,\"\",INDEX(Data_kom2,MATCH(1,(komnavn2=$C118)*(komaar2=D$109),0),72))","v":""},{"$f":"IF($C118=0,\"\",INDEX(Data_kom2,MATCH(1,(komnavn2=$C118)*(komaar2=D$109),0),75))","v":""},null,null,null,null,null,null,{"$f":"IF(C118=0,\"\",INDEX(Data_kom2,MATCH(1,(komnavn2=C118)*(komaar2=D$1),0),14))","v":""}]
[]
[]
[null,null,null,20231]
[null,null,null,"Nøgletal 1: Modtagere af længerevarende botilbud",null,"Nøgletal 2: Modtagere af botilbudslignende tilbud",null,"Nøgletal 3: Modtagere af midlertidigt botilbud",null,"Nøgletal 4: Modtagere af socialpædagogisk støtte",null,"Nøgletal 5: Modtagere af beskyttet beskæftigelse og aktivitets- og samværstilbud",null,"Nøgletal 6: Modtagere af forebyggende indsatser",null,"Nøgletal 7: Flytninger fra botilbud",null,"Nøgletal 7.1: Flytninger fra længerevarende botilbud og lignende til midlertidigt botilbud",null,"Antal institutionsanbragte 0-17 årige pr. forrige kvartal",null,"0-17 årige, der ved sidste opgørelse var institutionsanbragt, men nu er anbragt i anden form",null,"Nøgletal 8: Fra socialpædagogisk støtte og ned af trappen",null,"Nøgletal 9: Fra forebyggende indsatser og ned af trappen",null,"Nøgletal 10: Fra forebyggende indsatser og op af trappen",null,"Nøgletal 11: Uddannelsesgrad",null,"Nøgletal 12: Beskæftigelsesgrad",null,"Nøgletal 12.1: Beskæftigelsesgrad for modtagere af forebyggende indsatser",null,"Nøgletal 12.2: Beskæftigelsesgrad for den øvrige målgruppe",null,"Nøgletal 18: Genindlæggelser",null,"Nøgletal 19: Udgifter til forebyggende indsatser ift. udgifter til støttende indsatser","Udgiftsandel til længerevarende botilbud","Udgiftsandel til botilbudslignende tilbud","Udgiftsandel til midlertidige botilbud","Udgiftsandel til socialpædagogisk støtte","Udgiftsandel til beskyttet beskæftigelse og aktivitets- og samværstilbud","Udgiftsandel til forebyggende indsatser"]
[null,null,null,1,null,2,null,3,null,4,null,5,null,6,null,7,null,"7.1",null,"7.2",null,"7.3",null,8,null,9,null,10,null,11,null,12,null,"12.1",null,"12.2",null,18,null,19,"20.1","20.2","20.3","20.4","20.5","20.6"]
[null,null,null,{"$f":"IF($C112=0,\"\",INDEX(Data_kom2,MATCH(1,(komnavn2=$C112)*(komaar2=D$121),0),4))","v":7},{"$f":"IF($C112=0,\"\",INDEX(Data_kom2,MATCH(1,(komnavn2=$C112)*(komaar2=D$121),0),7))","v":34},{"$f":"IF($C112=0,\"\",INDEX(Data_kom2,MATCH(1,(komnavn2=$C112)*(komaar2=D$121),0),8))","v":5},{"$f":"IF($C112=0,\"\",INDEX(Data_kom2,MATCH(1,(komnavn2=$C112)*(komaar2=D$121),0),11))","v":34},{"$f":"IF($C112=0,\"\",INDEX(Data_kom2,MATCH(1,(komnavn2=$C112)*(komaar2=D$121),0),12))","v":4},{"$f":"IF($C112=0,\"\",INDEX(Data_kom2,MATCH(1,(komnavn2=$C112)*(komaar2=D$121),0),15))","v":34},{"$f":"IF($C112=0,\"\",INDEX(Data_kom2,MATCH(1,(komnavn2=$C112)*(komaar2=D$121),0),17))","v":0},{"$f":"IF($C112=0,\"\",INDEX(Data_kom2,MATCH(1,(komnavn2=$C112)*(komaar2=D$121),0),19))","v":34},{"$f":"IF($C112=0,\"\",INDEX(Data_kom2,MATCH(1,(komnavn2=$C112)*(komaar2=D$121),0),20))","v":0},{"$f":"IF($C112=0,\"\",INDEX(Data_kom2,MATCH(1,(komnavn2=$C112)*(komaar2=D$121),0),23))","v":34},{"$f":"IF($C112=0,\"\",INDEX(Data_kom2,MATCH(1,(komnavn2=$C112)*(komaar2=D$121),0),24))","v":0},{"$f":"IF($C112=0,\"\",INDEX(Data_kom2,MATCH(1,(komnavn2=$C112)*(komaar2=D$121),0),27))","v":34},{"$f":"IF($C112=0,\"\",INDEX(Data_kom2,MATCH(1,(komnavn2=$C112)*(komaar2=D$121),0),28))","v":0},{"$f":"IF($C112=0,\"\",INDEX(Data_kom2,MATCH(1,(komnavn2=$C112)*(komaar2=D$121),0),31))","v":17},{"$f":"IF($C112=0,\"\",INDEX(Data_kom2,MATCH(1,(komnavn2=$C112)*(komaar2=D$121),0),32))","v":0},{"$f":"IF($C112=0,\"\",INDEX(Data_kom2,MATCH(1,(komnavn2=$C112)*(komaar2=D$121),0),35))","v":13},{"$f":"IF($C112=0,\"\",INDEX(Data_kom2,MATCH(1,(komnavn2=$C112)*(komaar2=D$121),0),36))","v":0},{"$f":"IF($C112=0,\"\",INDEX(Data_kom2,MATCH(1,(komnavn2=$C112)*(komaar2=D$121),0),39))","v":13},{"$f":"IF(C112=0,\"\",INDEX(Data_kom2,MATCH(1,(komnavn2=C112)*(komaar2=D$121),0),40))","v":0},{"$f":"IF($C112=0,\"\",INDEX(Data_kom2,MATCH(1,(komnavn2=$C112)*(komaar2=D$121),0),43))","v":4},{"$f":"IF($C112=0,\"\",INDEX(Data_kom2,MATCH(1,(komnavn2=$C112)*(komaar2=D$121),0),44))","v":0},{"$f":"IF($C112=0,\"\",INDEX(Data_kom2,MATCH(1,(komnavn2=$C112)*(komaar2=D$121),0),47))","v":18},{"$f":"IF($C112=0,\"\",INDEX(Data_kom2,MATCH(1,(komnavn2=$C112)*(komaar2=D$121),0),48))","v":0},{"$f":"IF($C112=0,\"\",INDEX(Data_kom2,MATCH(1,(komnavn2=$C112)*(komaar2=D$121),0),51))","v":0},{"$f":"IF($C112=0,\"\",INDEX(Data_kom2,MATCH(1,(komnavn2=$C112)*(komaar2=D$121),0),52))","v":0},{"$f":"IF($C112=0,\"\",INDEX(Data_kom2,MATCH(1,(komnavn2=$C112)*(komaar2=D$121),0),55))","v":0},{"$f":"IF($C112=0,\"\",INDEX(Data_kom2,MATCH(1,(komnavn2=$C112)*(komaar2=D$121),0),56))","v":0},{"$f":"IF($C112=0,\"\",INDEX(Data_kom2,MATCH(1,(komnavn2=$C112)*(komaar2=D$121),0),59))","v":34},{"$f":"IF($C112=0,\"\",INDEX(Data_kom2,MATCH(1,(komnavn2=$C112)*(komaar2=D$121),0),60))","v":0.12443438914027199},{"$f":"IF($C112=0,\"\",INDEX(Data_kom2,MATCH(1,(komnavn2=$C112)*(komaar2=D$121),0),63))","v":34},{"$f":"IF($C112=0,\"\",INDEX(Data_kom2,MATCH(1,(komnavn2=$C112)*(komaar2=D$121),0),64))","v":0},{"$f":"IF($C112=0,\"\",INDEX(Data_kom2,MATCH(1,(komnavn2=$C112)*(komaar2=D$121),0),67))","v":0},{"$f":"IF($C112=0,\"\",INDEX(Data_kom2,MATCH(1,(komnavn2=$C112)*(komaar2=D$121),0),68))","v":0.12443438914027199},{"$f":"IF($C112=0,\"\",INDEX(Data_kom2,MATCH(1,(komnavn2=$C112)*(komaar2=D$121),0),71))","v":34},{"$f":"IF($C112=0,\"\",INDEX(Data_kom2,MATCH(1,(komnavn2=$C112)*(komaar2=D$121),0),72))","v":0.69230769230769196},{"$f":"IF($C112=0,\"\",INDEX(Data_kom2,MATCH(1,(komnavn2=$C112)*(komaar2=D$121),0),75))","v":34},{"$f":"IF($C112=0,\"\",INDEX(Data_komoek,MATCH(1,(komnavn=$C112)*(komaar=$F$121),0),3))","v":{"$error":"#N/A"}},{"$f":"IF($C112=0,\"\",INDEX(Data_komoek,MATCH(1,(komnavn=$C112)*(komaar=$F$121),0),6))","v":{"$error":"#N/A"}},{"$f":"IF($C112=0,\"\",INDEX(Data_komoek,MATCH(1,(komnavn=$C112)*(komaar=$F$121),0),9))","v":{"$error":"#N/A"}},{"$f":"IF($C112=0,\"\",INDEX(Data_komoek,MATCH(1,(komnavn=$C112)*(komaar=$F$121),0),12))","v":{"$error":"#N/A"}},{"$f":"IF($C112=0,\"\",INDEX(Data_komoek,MATCH(1,(komnavn=$C112)*(komaar=$F$121),0),15))","v":{"$error":"#N/A"}},{"$f":"IF($C112=0,\"\",INDEX(Data_komoek,MATCH(1,(komnavn=$C112)*(komaar=$F$121),0),18))","v":{"$error":"#N/A"}},{"$f":"IF($C112=0,\"\",INDEX(Data_komoek,MATCH(1,(komnavn=$C112)*(komaar=$F$121),0),21))","v":{"$error":"#N/A"}}]
[null,null,null,{"$f":"IF($C113=0,\"\",INDEX(Data_kom2,MATCH(1,(komnavn2=$C113)*(komaar2=D$121),0),4))","v":10},{"$f":"IF($C113=0,\"\",INDEX(Data_kom2,MATCH(1,(komnavn2=$C113)*(komaar2=D$121),0),7))","v":263},{"$f":"IF($C113=0,\"\",INDEX(Data_kom2,MATCH(1,(komnavn2=$C113)*(komaar2=D$121),0),8))","v":25},{"$f":"IF($C113=0,\"\",INDEX(Data_kom2,MATCH(1,(komnavn2=$C113)*(komaar2=D$121),0),11))","v":263},{"$f":"IF($C113=0,\"\",INDEX(Data_kom2,MATCH(1,(komnavn2=$C113)*(komaar2=D$121),0),12))","v":23},{"$f":"IF($C113=0,\"\",INDEX(Data_kom2,MATCH(1,(komnavn2=$C113)*(komaar2=D$121),0),15))","v":263},{"$f":"IF($C113=0,\"\",INDEX(Data_kom2,MATCH(1,(komnavn2=$C113)*(komaar2=D$121),0),17))","v":0},{"$f":"IF($C113=0,\"\",INDEX(Data_kom2,MATCH(1,(komnavn2=$C113)*(komaar2=D$121),0),19))","v":263},{"$f":"IF($C113=0,\"\",INDEX(Data_kom2,MATCH(1,(komnavn2=$C113)*(komaar2=D$121),0),20))","v":32},{"$f":"IF($C113=0,\"\",INDEX(Data_kom2,MATCH(1,(komnavn2=$C113)*(komaar2=D$121),0),23))","v":263},{"$f":"IF($C113=0,\"\",INDEX(Data_kom2,MATCH(1,(komnavn2=$C113)*(komaar2=D$121),0),24))","v":0},{"$f":"IF($C113=0,\"\",INDEX(Data_kom2,MATCH(1,(komnavn2=$C113)*(komaar2=D$121),0),27))","v":263},{"$f":"IF($C113=0,\"\",INDEX(Data_kom2,MATCH(1,(komnavn2=$C113)*(komaar2=D$121),0),28))","v":3},{"$f":"IF($C113=0,\"\",INDEX(Data_kom2,MATCH(1,(komnavn2=$C113)*(komaar2=D$121),0),31))","v":53},{"$f":"IF($C113=0,\"\",INDEX(Data_kom2,MATCH(1,(komnavn2=$C113)*(komaar2=D$121),0),32))","v":0},{"$f":"IF($C113=0,\"\",INDEX(Data_kom2,MATCH(1,(komnavn2=$C113)*(komaar2=D$121),0),35))","v":33},{"$f":"IF($C113=0,\"\",INDEX(Data_kom2,MATCH(1,(komnavn2=$C113)*(komaar2=D$121),0),36))","v":0},{"$f":"IF($C113=0,\"\",INDEX(Data_kom2,MATCH(1,(komnavn2=$C113)*(komaar2=D$121),0),39))","v":33},{"$f":"IF(C113=0,\"\",INDEX(Data_kom2,MATCH(1,(komnavn2=C113)*(komaar2=D$121),0),40))","v":0},{"$f":"IF($C113=0,\"\",INDEX(Data_kom2,MATCH(1,(komnavn2=$C113)*(komaar2=D$121),0),43))","v":20},{"$f":"IF($C113=0,\"\",INDEX(Data_kom2,MATCH(1,(komnavn2=$C113)*(komaar2=D$121),0),44))","v":9},{"$f":"IF($C113=0,\"\",INDEX(Data_kom2,MATCH(1,(komnavn2=$C113)*(komaar2=D$121),0),47))","v":156},{"$f":"IF($C113=0,\"\",INDEX(Data_kom2,MATCH(1,(komnavn2=$C113)*(komaar2=D$121),0),48))","v":0},{"$f":"IF($C113=0,\"\",INDEX(Data_kom2,MATCH(1,(komnavn2=$C113)*(komaar2=D$121),0),51))","v":0},{"$f":"IF($C113=0,\"\",INDEX(Data_kom2,MATCH(1,(komnavn2=$C113)*(komaar2=D$121),0),52))","v":0},{"$f":"IF($C113=0,\"\",INDEX(Data_kom2,MATCH(1,(komnavn2=$C113)*(komaar2=D$121),0),55))","v":0},{"$f":"IF($C113=0,\"\",INDEX(Data_kom2,MATCH(1,(komnavn2=$C113)*(komaar2=D$121),0),56))","v":5.7765428487862001E-3},{"$f":"IF($C113=0,\"\",INDEX(Data_kom2,MATCH(1,(komnavn2=$C113)*(komaar2=D$121),0),59))","v":263},{"$f":"IF($C113=0,\"\",INDEX(Data_kom2,MATCH(1,(komnavn2=$C113)*(komaar2=D$121),0),60))","v":5.6083650190114E-2},{"$f":"IF($C113=0,\"\",INDEX(Data_kom2,MATCH(1,(komnavn2=$C113)*(komaar2=D$121),0),63))","v":263},{"$f":"IF($C113=0,\"\",INDEX(Data_kom2,MATCH(1,(komnavn2=$C113)*(komaar2=D$121),0),64))","v":0},{"$f":"IF($C113=0,\"\",INDEX(Data_kom2,MATCH(1,(komnavn2=$C113)*(komaar2=D$121),0),67))","v":0},{"$f":"IF($C113=0,\"\",INDEX(Data_kom2,MATCH(1,(komnavn2=$C113)*(komaar2=D$121),0),68))","v":5.6083650190114E-2},{"$f":"IF($C113=0,\"\",INDEX(Data_kom2,MATCH(1,(komnavn2=$C113)*(komaar2=D$121),0),71))","v":263},{"$f":"IF($C113=0,\"\",INDEX(Data_kom2,MATCH(1,(komnavn2=$C113)*(komaar2=D$121),0),72))","v":0.40816326530612201},{"$f":"IF($C113=0,\"\",INDEX(Data_kom2,MATCH(1,(komnavn2=$C113)*(komaar2=D$121),0),75))","v":263},{"$f":"IF($C113=0,\"\",INDEX(Data_komoek,MATCH(1,(komnavn=$C113)*(komaar=$F$121),0),3))","v":{"$error":"#N/A"}},{"$f":"IF($C113=0,\"\",INDEX(Data_komoek,MATCH(1,(komnavn=$C113)*(komaar=$F$121),0),6))","v":{"$error":"#N/A"}},{"$f":"IF($C113=0,\"\",INDEX(Data_komoek,MATCH(1,(komnavn=$C113)*(komaar=$F$121),0),9))","v":{"$error":"#N/A"}},{"$f":"IF($C113=0,\"\",INDEX(Data_komoek,MATCH(1,(komnavn=$C113)*(komaar=$F$121),0),12))","v":{"$error":"#N/A"}},{"$f":"IF($C113=0,\"\",INDEX(Data_komoek,MATCH(1,(komnavn=$C113)*(komaar=$F$121),0),15))","v":{"$error":"#N/A"}},{"$f":"IF($C113=0,\"\",INDEX(Data_komoek,MATCH(1,(komnavn=$C113)*(komaar=$F$121),0),18))","v":{"$error":"#N/A"}},{"$f":"IF($C113=0,\"\",INDEX(Data_komoek,MATCH(1,(komnavn=$C113)*(komaar=$F$121),0),21))","v":{"$error":"#N/A"}}]
[null,null,null,{"$f":"IF($C114=0,\"\",INDEX(Data_kom2,MATCH(1,(komnavn2=$C114)*(komaar2=D$121),0),4))","v":20},{"$f":"IF($C114=0,\"\",INDEX(Data_kom2,MATCH(1,(komnavn2=$C114)*(komaar2=D$121),0),7))","v":257},{"$f":"IF($C114=0,\"\",INDEX(Data_kom2,MATCH(1,(komnavn2=$C114)*(komaar2=D$121),0),8))","v":17},{"$f":"IF($C114=0,\"\",INDEX(Data_kom2,MATCH(1,(komnavn2=$C114)*(komaar2=D$121),0),11))","v":257},{"$f":"IF($C114=0,\"\",INDEX(Data_kom2,MATCH(1,(komnavn2=$C114)*(komaar2=D$121),0),12))","v":36},{"$f":"IF($C114=0,\"\",INDEX(Data_kom2,MATCH(1,(komnavn2=$C114)*(komaar2=D$121),0),15))","v":257},{"$f":"IF($C114=0,\"\",INDEX(Data_kom2,MATCH(1,(komnavn2=$C114)*(komaar2=D$121),0),17))","v":0},{"$f":"IF($C114=0,\"\",INDEX(Data_kom2,MATCH(1,(komnavn2=$C114)*(komaar2=D$121),0),19))","v":257},{"$f":"IF($C114=0,\"\",INDEX(Data_kom2,MATCH(1,(komnavn2=$C114)*(komaar2=D$121),0),20))","v":12},{"$f":"IF($C114=0,\"\",INDEX(Data_kom2,MATCH(1,(komnavn2=$C114)*(komaar2=D$121),0),23))","v":257},{"$f":"IF($C114=0,\"\",INDEX(Data_kom2,MATCH(1,(komnavn2=$C114)*(komaar2=D$121),0),24))","v":0},{"$f":"IF($C114=0,\"\",INDEX(Data_kom2,MATCH(1,(komnavn2=$C114)*(komaar2=D$121),0),27))","v":257},{"$f":"IF($C114=0,\"\",INDEX(Data_kom2,MATCH(1,(komnavn2=$C114)*(komaar2=D$121),0),28))","v":9},{"$f":"IF($C114=0,\"\",INDEX(Data_kom2,MATCH(1,(komnavn2=$C114)*(komaar2=D$121),0),31))","v":80},{"$f":"IF($C114=0,\"\",INDEX(Data_kom2,MATCH(1,(komnavn2=$C114)*(komaar2=D$121),0),32))","v":0},{"$f":"IF($C114=0,\"\",INDEX(Data_kom2,MATCH(1,(komnavn2=$C114)*(komaar2=D$121),0),35))","v":37},{"$f":"IF($C114=0,\"\",INDEX(Data_kom2,MATCH(1,(komnavn2=$C114)*(komaar2=D$121),0),36))","v":0},{"$f":"IF($C114=0,\"\",INDEX(Data_kom2,MATCH(1,(komnavn2=$C114)*(komaar2=D$121),0),39))","v":37},{"$f":"IF(C114=0,\"\",INDEX(Data_kom2,MATCH(1,(komnavn2=C114)*(komaar2=D$121),0),40))","v":0},{"$f":"IF($C114=0,\"\",INDEX(Data_kom2,MATCH(1,(komnavn2=$C114)*(komaar2=D$121),0),43))","v":43},{"$f":"IF($C114=0,\"\",INDEX(Data_kom2,MATCH(1,(komnavn2=$C114)*(komaar2=D$121),0),44))","v":22},{"$f":"IF($C114=0,\"\",INDEX(Data_kom2,MATCH(1,(komnavn2=$C114)*(komaar2=D$121),0),47))","v":154},{"$f":"IF($C114=0,\"\",INDEX(Data_kom2,MATCH(1,(komnavn2=$C114)*(komaar2=D$121),0),48))","v":0},{"$f":"IF($C114=0,\"\",INDEX(Data_kom2,MATCH(1,(komnavn2=$C114)*(komaar2=D$121),0),51))","v":0},{"$f":"IF($C114=0,\"\",INDEX(Data_kom2,MATCH(1,(komnavn2=$C114)*(komaar2=D$121),0),52))","v":0},{"$f":"IF($C114=0,\"\",INDEX(Data_kom2,MATCH(1,(komnavn2=$C114)*(komaar2=D$121),0),55))","v":0},{"$f":"IF($C114=0,\"\",INDEX(Data_kom2,MATCH(1,(komnavn2=$C114)*(komaar2=D$121),0),56))","v":1.7210416043100901E-2},{"$f":"IF($C114=0,\"\",INDEX(Data_kom2,MATCH(1,(komnavn2=$C114)*(komaar2=D$121),0),59))","v":257},{"$f":"IF($C114=0,\"\",INDEX(Data_kom2,MATCH(1,(komnavn2=$C114)*(komaar2=D$121),0),60))","v":5.08829691709069E-2},{"$f":"IF($C114=0,\"\",INDEX(Data_kom2,MATCH(1,(komnavn2=$C114)*(komaar2=D$121),0),63))","v":257},{"$f":"IF($C114=0,\"\",INDEX(Data_kom2,MATCH(1,(komnavn2=$C114)*(komaar2=D$121),0),64))","v":0},{"$f":"IF($C114=0,\"\",INDEX(Data_kom2,MATCH(1,(komnavn2=$C114)*(komaar2=D$121),0),67))","v":0},{"$f":"IF($C114=0,\"\",INDEX(Data_kom2,MATCH(1,(komnavn2=$C114)*(komaar2=D$121),0),68))","v":5.08829691709069E-2},{"$f":"IF($C114=0,\"\",INDEX(Data_kom2,MATCH(1,(komnavn2=$C114)*(komaar2=D$121),0),71))","v":257},{"$f":"IF($C114=0,\"\",INDEX(Data_kom2,MATCH(1,(komnavn2=$C114)*(komaar2=D$121),0),72))","v":0.26},{"$f":"IF($C114=0,\"\",INDEX(Data_kom2,MATCH(1,(komnavn2=$C114)*(komaar2=D$121),0),75))","v":257},{"$f":"IF($C114=0,\"\",INDEX(Data_komoek,MATCH(1,(komnavn=$C114)*(komaar=$F$121),0),3))","v":{"$error":"#N/A"}},{"$f":"IF($C114=0,\"\",INDEX(Data_komoek,MATCH(1,(komnavn=$C114)*(komaar=$F$121),0),6))","v":{"$error":"#N/A"}},{"$f":"IF($C114=0,\"\",INDEX(Data_komoek,MATCH(1,(komnavn=$C114)*(komaar=$F$121),0),9))","v":{"$error":"#N/A"}},{"$f":"IF($C114=0,\"\",INDEX(Data_komoek,MATCH(1,(komnavn=$C114)*(komaar=$F$121),0),12))","v":{"$error":"#N/A"}},{"$f":"IF($C114=0,\"\",INDEX(Data_komoek,MATCH(1,(komnavn=$C114)*(komaar=$F$121),0),15))","v":{"$error":"#N/A"}},{"$f":"IF($C114=0,\"\",INDEX(Data_komoek,MATCH(1,(komnavn=$C114)*(komaar=$F$121),0),18))","v":{"$error":"#N/A"}},{"$f":"IF($C114=0,\"\",INDEX(Data_komoek,MATCH(1,(komnavn=$C114)*(komaar=$F$121),0),21))","v":{"$error":"#N/A"}}]
[null,null,null,{"$f":"IF($C115=0,\"\",INDEX(Data_kom2,MATCH(1,(komnavn2=$C115)*(komaar2=D$121),0),4))","v":""},{"$f":"IF($C115=0,\"\",INDEX(Data_kom2,MATCH(1,(komnavn2=$C115)*(komaar2=D$121),0),7))","v":""},{"$f":"IF($C115=0,\"\",INDEX(Data_kom2,MATCH(1,(komnavn2=$C115)*(komaar2=D$121),0),8))","v":""},{"$f":"IF($C115=0,\"\",INDEX(Data_kom2,MATCH(1,(komnavn2=$C115)*(komaar2=D$121),0),11))","v":""},{"$f":"IF($C115=0,\"\",INDEX(Data_kom2,MATCH(1,(komnavn2=$C115)*(komaar2=D$121),0),12))","v":""},{"$f":"IF($C115=0,\"\",INDEX(Data_kom2,MATCH(1,(komnavn2=$C115)*(komaar2=D$121),0),15))","v":""},{"$f":"IF($C115=0,\"\",INDEX(Data_kom2,MATCH(1,(komnavn2=$C115)*(komaar2=D$121),0),17))","v":""},{"$f":"IF($C115=0,\"\",INDEX(Data_kom2,MATCH(1,(komnavn2=$C115)*(komaar2=D$121),0),19))","v":""},{"$f":"IF($C115=0,\"\",INDEX(Data_kom2,MATCH(1,(komnavn2=$C115)*(komaar2=D$121),0),20))","v":""},{"$f":"IF($C115=0,\"\",INDEX(Data_kom2,MATCH(1,(komnavn2=$C115)*(komaar2=D$121),0),23))","v":""},{"$f":"IF($C115=0,\"\",INDEX(Data_kom2,MATCH(1,(komnavn2=$C115)*(komaar2=D$121),0),24))","v":""},{"$f":"IF($C115=0,\"\",INDEX(Data_kom2,MATCH(1,(komnavn2=$C115)*(komaar2=D$121),0),27))","v":""},{"$f":"IF($C115=0,\"\",INDEX(Data_kom2,MATCH(1,(komnavn2=$C115)*(komaar2=D$121),0),28))","v":""},{"$f":"IF($C115=0,\"\",INDEX(Data_kom2,MATCH(1,(komnavn2=$C115)*(komaar2=D$121),0),31))","v":""},{"$f":"IF($C115=0,\"\",INDEX(Data_kom2,MATCH(1,(komnavn2=$C115)*(komaar2=D$121),0),32))","v":""},{"$f":"IF($C115=0,\"\",INDEX(Data_kom2,MATCH(1,(komnavn2=$C115)*(komaar2=D$121),0),35))","v":""},{"$f":"IF($C115=0,\"\",INDEX(Data_kom2,MATCH(1,(komnavn2=$C115)*(komaar2=D$121),0),36))","v":""},{"$f":"IF($C115=0,\"\",INDEX(Data_kom2,MATCH(1,(komnavn2=$C115)*(komaar2=D$121),0),39))","v":""},{"$f":"IF(C115=0,\"\",INDEX(Data_kom2,MATCH(1,(komnavn2=C115)*(komaar2=D$121),0),40))","v":""},{"$f":"IF($C115=0,\"\",INDEX(Data_kom2,MATCH(1,(komnavn2=$C115)*(komaar2=D$121),0),43))","v":""},{"$f":"IF($C115=0,\"\",INDEX(Data_kom2,MATCH(1,(komnavn2=$C115)*(komaar2=D$121),0),44))","v":""},{"$f":"IF($C115=0,\"\",INDEX(Data_kom2,MATCH(1,(komnavn2=$C115)*(komaar2=D$121),0),47))","v":""},{"$f":"IF($C115=0,\"\",INDEX(Data_kom2,MATCH(1,(komnavn2=$C115)*(komaar2=D$121),0),48))","v":""},{"$f":"IF($C115=0,\"\",INDEX(Data_kom2,MATCH(1,(komnavn2=$C115)*(komaar2=D$121),0),51))","v":""},{"$f":"IF($C115=0,\"\",INDEX(Data_kom2,MATCH(1,(komnavn2=$C115)*(komaar2=D$121),0),52))","v":""},{"$f":"IF($C115=0,\"\",INDEX(Data_kom2,MATCH(1,(komnavn2=$C115)*(komaar2=D$121),0),55))","v":""},{"$f":"IF($C115=0,\"\",INDEX(Data_kom2,MATCH(1,(komnavn2=$C115)*(komaar2=D$121),0),56))","v":""},{"$f":"IF($C115=0,\"\",INDEX(Data_kom2,MATCH(1,(komnavn2=$C115)*(komaar2=D$121),0),59))","v":""},{"$f":"IF($C115=0,\"\",INDEX(Data_kom2,MATCH(1,(komnavn2=$C115)*(komaar2=D$121),0),60))","v":""},{"$f":"IF($C115=0,\"\",INDEX(Data_kom2,MATCH(1,(komnavn2=$C115)*(komaar2=D$121),0),63))","v":""},{"$f":"IF($C115=0,\"\",INDEX(Data_kom2,MATCH(1,(komnavn2=$C115)*(komaar2=D$121),0),64))","v":""},{"$f":"IF($C115=0,\"\",INDEX(Data_kom2,MATCH(1,(komnavn2=$C115)*(komaar2=D$121),0),67))","v":""},{"$f":"IF($C115=0,\"\",INDEX(Data_kom2,MATCH(1,(komnavn2=$C115)*(komaar2=D$121),0),68))","v":""},{"$f":"IF($C115=0,\"\",INDEX(Data_kom2,MATCH(1,(komnavn2=$C115)*(komaar2=D$121),0),71))","v":""},{"$f":"IF($C115=0,\"\",INDEX(Data_kom2,MATCH(1,(komnavn2=$C115)*(komaar2=D$121),0),72))","v":""},{"$f":"IF($C115=0,\"\",INDEX(Data_kom2,MATCH(1,(komnavn2=$C115)*(komaar2=D$121),0),75))","v":""},{"$f":"IF($C115=0,\"\",INDEX(Data_komoek,MATCH(1,(komnavn=$C115)*(komaar=$F$121),0),3))","v":""},{"$f":"IF($C115=0,\"\",INDEX(Data_komoek,MATCH(1,(komnavn=$C115)*(komaar=$F$121),0),6))","v":""},{"$f":"IF($C115=0,\"\",INDEX(Data_komoek,MATCH(1,(komnavn=$C115)*(komaar=$F$121),0),9))","v":""},{"$f":"IF($C115=0,\"\",INDEX(Data_komoek,MATCH(1,(komnavn=$C115)*(komaar=$F$121),0),12))","v":""},{"$f":"IF($C115=0,\"\",INDEX(Data_komoek,MATCH(1,(komnavn=$C115)*(komaar=$F$121),0),15))","v":""},{"$f":"IF($C115=0,\"\",INDEX(Data_komoek,MATCH(1,(komnavn=$C115)*(komaar=$F$121),0),18))","v":""},{"$f":"IF($C115=0,\"\",INDEX(Data_komoek,MATCH(1,(komnavn=$C115)*(komaar=$F$121),0),21))","v":""}]
[null,null,null,"",{"$f":"IF($C116=0,\"\",INDEX(Data_kom2,MATCH(1,(komnavn2=$C116)*(komaar2=D$121),0),7))","v":""},{"$f":"IF($C116=0,\"\",INDEX(Data_kom2,MATCH(1,(komnavn2=$C116)*(komaar2=D$121),0),8))","v":""},{"$f":"IF($C116=0,\"\",INDEX(Data_kom2,MATCH(1,(komnavn2=$C116)*(komaar2=D$121),0),11))","v":""},{"$f":"IF($C116=0,\"\",INDEX(Data_kom2,MATCH(1,(komnavn2=$C116)*(komaar2=D$121),0),12))","v":""},{"$f":"IF($C116=0,\"\",INDEX(Data_kom2,MATCH(1,(komnavn2=$C116)*(komaar2=D$121),0),15))","v":""},{"$f":"IF($C116=0,\"\",INDEX(Data_kom2,MATCH(1,(komnavn2=$C116)*(komaar2=D$121),0),17))","v":""},{"$f":"IF($C116=0,\"\",INDEX(Data_kom2,MATCH(1,(komnavn2=$C116)*(komaar2=D$121),0),19))","v":""},{"$f":"IF($C116=0,\"\",INDEX(Data_kom2,MATCH(1,(komnavn2=$C116)*(komaar2=D$121),0),20))","v":""},{"$f":"IF($C116=0,\"\",INDEX(Data_kom2,MATCH(1,(komnavn2=$C116)*(komaar2=D$121),0),23))","v":""},{"$f":"IF($C116=0,\"\",INDEX(Data_kom2,MATCH(1,(komnavn2=$C116)*(komaar2=D$121),0),24))","v":""},{"$f":"IF($C116=0,\"\",INDEX(Data_kom2,MATCH(1,(komnavn2=$C116)*(komaar2=D$121),0),27))","v":""},{"$f":"IF($C116=0,\"\",INDEX(Data_kom2,MATCH(1,(komnavn2=$C116)*(komaar2=D$121),0),28))","v":""},{"$f":"IF($C116=0,\"\",INDEX(Data_kom2,MATCH(1,(komnavn2=$C116)*(komaar2=D$121),0),31))","v":""},{"$f":"IF($C116=0,\"\",INDEX(Data_kom2,MATCH(1,(komnavn2=$C116)*(komaar2=D$121),0),32))","v":""},{"$f":"IF($C116=0,\"\",INDEX(Data_kom2,MATCH(1,(komnavn2=$C116)*(komaar2=D$121),0),35))","v":""},{"$f":"IF($C116=0,\"\",INDEX(Data_kom2,MATCH(1,(komnavn2=$C116)*(komaar2=D$121),0),36))","v":""},{"$f":"IF($C116=0,\"\",INDEX(Data_kom2,MATCH(1,(komnavn2=$C116)*(komaar2=D$121),0),39))","v":""},{"$f":"IF(C116=0,\"\",INDEX(Data_kom2,MATCH(1,(komnavn2=C116)*(komaar2=D$121),0),40))","v":""},{"$f":"IF($C116=0,\"\",INDEX(Data_kom2,MATCH(1,(komnavn2=$C116)*(komaar2=D$121),0),43))","v":""},{"$f":"IF($C116=0,\"\",INDEX(Data_kom2,MATCH(1,(komnavn2=$C116)*(komaar2=D$121),0),44))","v":""},{"$f":"IF($C116=0,\"\",INDEX(Data_kom2,MATCH(1,(komnavn2=$C116)*(komaar2=D$121),0),47))","v":""},{"$f":"IF($C116=0,\"\",INDEX(Data_kom2,MATCH(1,(komnavn2=$C116)*(komaar2=D$121),0),48))","v":""},{"$f":"IF($C116=0,\"\",INDEX(Data_kom2,MATCH(1,(komnavn2=$C116)*(komaar2=D$121),0),51))","v":""},{"$f":"IF($C116=0,\"\",INDEX(Data_kom2,MATCH(1,(komnavn2=$C116)*(komaar2=D$121),0),52))","v":""},{"$f":"IF($C116=0,\"\",INDEX(Data_kom2,MATCH(1,(komnavn2=$C116)*(komaar2=D$121),0),55))","v":""},{"$f":"IF($C116=0,\"\",INDEX(Data_kom2,MATCH(1,(komnavn2=$C116)*(komaar2=D$121),0),56))","v":""},{"$f":"IF($C116=0,\"\",INDEX(Data_kom2,MATCH(1,(komnavn2=$C116)*(komaar2=D$121),0),59))","v":""},{"$f":"IF($C116=0,\"\",INDEX(Data_kom2,MATCH(1,(komnavn2=$C116)*(komaar2=D$121),0),60))","v":""},{"$f":"IF($C116=0,\"\",INDEX(Data_kom2,MATCH(1,(komnavn2=$C116)*(komaar2=D$121),0),63))","v":""},{"$f":"IF($C116=0,\"\",INDEX(Data_kom2,MATCH(1,(komnavn2=$C116)*(komaar2=D$121),0),64))","v":""},{"$f":"IF($C116=0,\"\",INDEX(Data_kom2,MATCH(1,(komnavn2=$C116)*(komaar2=D$121),0),67))","v":""},{"$f":"IF($C116=0,\"\",INDEX(Data_kom2,MATCH(1,(komnavn2=$C116)*(komaar2=D$121),0),68))","v":""},{"$f":"IF($C116=0,\"\",INDEX(Data_kom2,MATCH(1,(komnavn2=$C116)*(komaar2=D$121),0),71))","v":""},{"$f":"IF($C116=0,\"\",INDEX(Data_kom2,MATCH(1,(komnavn2=$C116)*(komaar2=D$121),0),72))","v":""},{"$f":"IF($C116=0,\"\",INDEX(Data_kom2,MATCH(1,(komnavn2=$C116)*(komaar2=D$121),0),75))","v":""},{"$f":"IF($C116=0,\"\",INDEX(Data_komoek,MATCH(1,(komnavn=$C116)*(komaar=$F$121),0),3))","v":""},{"$f":"IF($C116=0,\"\",INDEX(Data_komoek,MATCH(1,(komnavn=$C116)*(komaar=$F$121),0),6))","v":""},{"$f":"IF($C116=0,\"\",INDEX(Data_komoek,MATCH(1,(komnavn=$C116)*(komaar=$F$121),0),9))","v":""},{"$f":"IF($C116=0,\"\",INDEX(Data_komoek,MATCH(1,(komnavn=$C116)*(komaar=$F$121),0),12))","v":""},{"$f":"IF($C116=0,\"\",INDEX(Data_komoek,MATCH(1,(komnavn=$C116)*(komaar=$F$121),0),15))","v":""},{"$f":"IF($C116=0,\"\",INDEX(Data_komoek,MATCH(1,(komnavn=$C116)*(komaar=$F$121),0),18))","v":""},{"$f":"IF($C116=0,\"\",INDEX(Data_komoek,MATCH(1,(komnavn=$C116)*(komaar=$F$121),0),21))","v":""}]
[null,null,null,"",{"$f":"IF($C117=0,\"\",INDEX(Data_kom2,MATCH(1,(komnavn2=$C117)*(komaar2=D$121),0),7))","v":""},{"$f":"IF($C117=0,\"\",INDEX(Data_kom2,MATCH(1,(komnavn2=$C117)*(komaar2=D$121),0),8))","v":""},{"$f":"IF($C117=0,\"\",INDEX(Data_kom2,MATCH(1,(komnavn2=$C117)*(komaar2=D$121),0),11))","v":""},{"$f":"IF($C117=0,\"\",INDEX(Data_kom2,MATCH(1,(komnavn2=$C117)*(komaar2=D$121),0),12))","v":""},{"$f":"IF($C117=0,\"\",INDEX(Data_kom2,MATCH(1,(komnavn2=$C117)*(komaar2=D$121),0),15))","v":""},{"$f":"IF($C117=0,\"\",INDEX(Data_kom2,MATCH(1,(komnavn2=$C117)*(komaar2=D$121),0),17))","v":""},{"$f":"IF($C117=0,\"\",INDEX(Data_kom2,MATCH(1,(komnavn2=$C117)*(komaar2=D$121),0),19))","v":""},{"$f":"IF($C117=0,\"\",INDEX(Data_kom2,MATCH(1,(komnavn2=$C117)*(komaar2=D$121),0),20))","v":""},{"$f":"IF($C117=0,\"\",INDEX(Data_kom2,MATCH(1,(komnavn2=$C117)*(komaar2=D$121),0),23))","v":""},{"$f":"IF($C117=0,\"\",INDEX(Data_kom2,MATCH(1,(komnavn2=$C117)*(komaar2=D$121),0),24))","v":""},{"$f":"IF($C117=0,\"\",INDEX(Data_kom2,MATCH(1,(komnavn2=$C117)*(komaar2=D$121),0),27))","v":""},{"$f":"IF($C117=0,\"\",INDEX(Data_kom2,MATCH(1,(komnavn2=$C117)*(komaar2=D$121),0),28))","v":""},{"$f":"IF($C117=0,\"\",INDEX(Data_kom2,MATCH(1,(komnavn2=$C117)*(komaar2=D$121),0),31))","v":""},{"$f":"IF($C117=0,\"\",INDEX(Data_kom2,MATCH(1,(komnavn2=$C117)*(komaar2=D$121),0),32))","v":""},{"$f":"IF($C117=0,\"\",INDEX(Data_kom2,MATCH(1,(komnavn2=$C117)*(komaar2=D$121),0),35))","v":""},{"$f":"IF($C117=0,\"\",INDEX(Data_kom2,MATCH(1,(komnavn2=$C117)*(komaar2=D$121),0),36))","v":""},{"$f":"IF($C117=0,\"\",INDEX(Data_kom2,MATCH(1,(komnavn2=$C117)*(komaar2=D$121),0),39))","v":""},{"$f":"IF(C117=0,\"\",INDEX(Data_kom2,MATCH(1,(komnavn2=C117)*(komaar2=D$121),0),40))","v":""},{"$f":"IF($C117=0,\"\",INDEX(Data_kom2,MATCH(1,(komnavn2=$C117)*(komaar2=D$121),0),43))","v":""},{"$f":"IF($C117=0,\"\",INDEX(Data_kom2,MATCH(1,(komnavn2=$C117)*(komaar2=D$121),0),44))","v":""},{"$f":"IF($C117=0,\"\",INDEX(Data_kom2,MATCH(1,(komnavn2=$C117)*(komaar2=D$121),0),47))","v":""},{"$f":"IF($C117=0,\"\",INDEX(Data_kom2,MATCH(1,(komnavn2=$C117)*(komaar2=D$121),0),48))","v":""},{"$f":"IF($C117=0,\"\",INDEX(Data_kom2,MATCH(1,(komnavn2=$C117)*(komaar2=D$121),0),51))","v":""},{"$f":"IF($C117=0,\"\",INDEX(Data_kom2,MATCH(1,(komnavn2=$C117)*(komaar2=D$121),0),52))","v":""},{"$f":"IF($C117=0,\"\",INDEX(Data_kom2,MATCH(1,(komnavn2=$C117)*(komaar2=D$121),0),55))","v":""},{"$f":"IF($C117=0,\"\",INDEX(Data_kom2,MATCH(1,(komnavn2=$C117)*(komaar2=D$121),0),56))","v":""},{"$f":"IF($C117=0,\"\",INDEX(Data_kom2,MATCH(1,(komnavn2=$C117)*(komaar2=D$121),0),59))","v":""},{"$f":"IF($C117=0,\"\",INDEX(Data_kom2,MATCH(1,(komnavn2=$C117)*(komaar2=D$121),0),60))","v":""},{"$f":"IF($C117=0,\"\",INDEX(Data_kom2,MATCH(1,(komnavn2=$C117)*(komaar2=D$121),0),63))","v":""},{"$f":"IF($C117=0,\"\",INDEX(Data_kom2,MATCH(1,(komnavn2=$C117)*(komaar2=D$121),0),64))","v":""},{"$f":"IF($C117=0,\"\",INDEX(Data_kom2,MATCH(1,(komnavn2=$C117)*(komaar2=D$121),0),67))","v":""},{"$f":"IF($C117=0,\"\",INDEX(Data_kom2,MATCH(1,(komnavn2=$C117)*(komaar2=D$121),0),68))","v":""},{"$f":"IF($C117=0,\"\",INDEX(Data_kom2,MATCH(1,(komnavn2=$C117)*(komaar2=D$121),0),71))","v":""},{"$f":"IF($C117=0,\"\",INDEX(Data_kom2,MATCH(1,(komnavn2=$C117)*(komaar2=D$121),0),72))","v":""},{"$f":"IF($C117=0,\"\",INDEX(Data_kom2,MATCH(1,(komnavn2=$C117)*(komaar2=D$121),0),75))","v":""},{"$f":"IF($C117=0,\"\",INDEX(Data_komoek,MATCH(1,(komnavn=$C117)*(komaar=$F$121),0),3))","v":""},{"$f":"IF($C117=0,\"\",INDEX(Data_komoek,MATCH(1,(komnavn=$C117)*(komaar=$F$121),0),6))","v":""},{"$f":"IF($C117=0,\"\",INDEX(Data_komoek,MATCH(1,(komnavn=$C117)*(komaar=$F$121),0),9))","v":""},{"$f":"IF($C117=0,\"\",INDEX(Data_komoek,MATCH(1,(komnavn=$C117)*(komaar=$F$121),0),12))","v":""},{"$f":"IF($C117=0,\"\",INDEX(Data_komoek,MATCH(1,(komnavn=$C117)*(komaar=$F$121),0),15))","v":""},{"$f":"IF($C117=0,\"\",INDEX(Data_komoek,MATCH(1,(komnavn=$C117)*(komaar=$F$121),0),18))","v":""},{"$f":"IF($C117=0,\"\",INDEX(Data_komoek,MATCH(1,(komnavn=$C117)*(komaar=$F$121),0),21))","v":""}]
[null,null,null,"",{"$f":"IF($C118=0,\"\",INDEX(Data_kom2,MATCH(1,(komnavn2=$C118)*(komaar2=D$121),0),7))","v":""},{"$f":"IF($C118=0,\"\",INDEX(Data_kom2,MATCH(1,(komnavn2=$C118)*(komaar2=D$121),0),8))","v":""},{"$f":"IF($C118=0,\"\",INDEX(Data_kom2,MATCH(1,(komnavn2=$C118)*(komaar2=D$121),0),11))","v":""},{"$f":"IF($C118=0,\"\",INDEX(Data_kom2,MATCH(1,(komnavn2=$C118)*(komaar2=D$121),0),12))","v":""},{"$f":"IF($C118=0,\"\",INDEX(Data_kom2,MATCH(1,(komnavn2=$C118)*(komaar2=D$121),0),15))","v":""},{"$f":"IF($C118=0,\"\",INDEX(Data_kom2,MATCH(1,(komnavn2=$C118)*(komaar2=D$121),0),17))","v":""},{"$f":"IF($C118=0,\"\",INDEX(Data_kom2,MATCH(1,(komnavn2=$C118)*(komaar2=D$121),0),19))","v":""},{"$f":"IF($C118=0,\"\",INDEX(Data_kom2,MATCH(1,(komnavn2=$C118)*(komaar2=D$121),0),20))","v":""},{"$f":"IF($C118=0,\"\",INDEX(Data_kom2,MATCH(1,(komnavn2=$C118)*(komaar2=D$121),0),23))","v":""},{"$f":"IF($C118=0,\"\",INDEX(Data_kom2,MATCH(1,(komnavn2=$C118)*(komaar2=D$121),0),24))","v":""},{"$f":"IF($C118=0,\"\",INDEX(Data_kom2,MATCH(1,(komnavn2=$C118)*(komaar2=D$121),0),27))","v":""},{"$f":"IF($C118=0,\"\",INDEX(Data_kom2,MATCH(1,(komnavn2=$C118)*(komaar2=D$121),0),28))","v":""},{"$f":"IF($C118=0,\"\",INDEX(Data_kom2,MATCH(1,(komnavn2=$C118)*(komaar2=D$121),0),31))","v":""},{"$f":"IF($C118=0,\"\",INDEX(Data_kom2,MATCH(1,(komnavn2=$C118)*(komaar2=D$121),0),32))","v":""},{"$f":"IF($C118=0,\"\",INDEX(Data_kom2,MATCH(1,(komnavn2=$C118)*(komaar2=D$121),0),35))","v":""},{"$f":"IF($C118=0,\"\",INDEX(Data_kom2,MATCH(1,(komnavn2=$C118)*(komaar2=D$121),0),36))","v":""},{"$f":"IF($C118=0,\"\",INDEX(Data_kom2,MATCH(1,(komnavn2=$C118)*(komaar2=D$121),0),39))","v":""},{"$f":"IF(C118=0,\"\",INDEX(Data_kom2,MATCH(1,(komnavn2=C118)*(komaar2=D$121),0),40))","v":""},{"$f":"IF($C118=0,\"\",INDEX(Data_kom2,MATCH(1,(komnavn2=$C118)*(komaar2=D$121),0),43))","v":""},{"$f":"IF($C118=0,\"\",INDEX(Data_kom2,MATCH(1,(komnavn2=$C118)*(komaar2=D$121),0),44))","v":""},{"$f":"IF($C118=0,\"\",INDEX(Data_kom2,MATCH(1,(komnavn2=$C118)*(komaar2=D$121),0),47))","v":""},{"$f":"IF($C118=0,\"\",INDEX(Data_kom2,MATCH(1,(komnavn2=$C118)*(komaar2=D$121),0),48))","v":""},{"$f":"IF($C118=0,\"\",INDEX(Data_kom2,MATCH(1,(komnavn2=$C118)*(komaar2=D$121),0),51))","v":""},{"$f":"IF($C118=0,\"\",INDEX(Data_kom2,MATCH(1,(komnavn2=$C118)*(komaar2=D$121),0),52))","v":""},{"$f":"IF($C118=0,\"\",INDEX(Data_kom2,MATCH(1,(komnavn2=$C118)*(komaar2=D$121),0),55))","v":""},{"$f":"IF($C118=0,\"\",INDEX(Data_kom2,MATCH(1,(komnavn2=$C118)*(komaar2=D$121),0),56))","v":""},{"$f":"IF($C118=0,\"\",INDEX(Data_kom2,MATCH(1,(komnavn2=$C118)*(komaar2=D$121),0),59))","v":""},{"$f":"IF($C118=0,\"\",INDEX(Data_kom2,MATCH(1,(komnavn2=$C118)*(komaar2=D$121),0),60))","v":""},{"$f":"IF($C118=0,\"\",INDEX(Data_kom2,MATCH(1,(komnavn2=$C118)*(komaar2=D$121),0),63))","v":""},{"$f":"IF($C118=0,\"\",INDEX(Data_kom2,MATCH(1,(komnavn2=$C118)*(komaar2=D$121),0),64))","v":""},{"$f":"IF($C118=0,\"\",INDEX(Data_kom2,MATCH(1,(komnavn2=$C118)*(komaar2=D$121),0),67))","v":""},{"$f":"IF($C118=0,\"\",INDEX(Data_kom2,MATCH(1,(komnavn2=$C118)*(komaar2=D$121),0),68))","v":""},{"$f":"IF($C118=0,\"\",INDEX(Data_kom2,MATCH(1,(komnavn2=$C118)*(komaar2=D$121),0),71))","v":""},{"$f":"IF($C118=0,\"\",INDEX(Data_kom2,MATCH(1,(komnavn2=$C118)*(komaar2=D$121),0),72))","v":""},{"$f":"IF($C118=0,\"\",INDEX(Data_kom2,MATCH(1,(komnavn2=$C118)*(komaar2=D$121),0),75))","v":""},{"$f":"IF($C118=0,\"\",INDEX(Data_komoek,MATCH(1,(komnavn=$C118)*(komaar=$F$121),0),3))","v":""},{"$f":"IF($C118=0,\"\",INDEX(Data_komoek,MATCH(1,(komnavn=$C118)*(komaar=$F$121),0),6))","v":""},{"$f":"IF($C118=0,\"\",INDEX(Data_komoek,MATCH(1,(komnavn=$C118)*(komaar=$F$121),0),9))","v":""},{"$f":"IF($C118=0,\"\",INDEX(Data_komoek,MATCH(1,(komnavn=$C118)*(komaar=$F$121),0),12))","v":""},{"$f":"IF($C118=0,\"\",INDEX(Data_komoek,MATCH(1,(komnavn=$C118)*(komaar=$F$121),0),15))","v":""},{"$f":"IF($C118=0,\"\",INDEX(Data_komoek,MATCH(1,(komnavn=$C118)*(komaar=$F$121),0),18))","v":""},{"$f":"IF($C118=0,\"\",INDEX(Data_komoek,MATCH(1,(komnavn=$C118)*(komaar=$F$121),0),21))","v":""}]

{"sheet":"Data","index":10,"n_rows":1169,"n_cols":77,"rows_kept":1169,"cut":false,"hidden":false,"merged":[]}
[]
[]
[null,"Nødvendige data og hjælpeark",null,null,"Rækkenummer"]
[null,null,null,null,4,5,6,7,8,9,10,11,12,13,14,15,16,17,18,19,20,21,22,23,24,25,26,27,28,29,30,31,32,33,34,35,36,37,38,39,40,41,42,43,44,45,46,47,48,49,50,51,52,53,54,55,56,57,58,59,60,61,62,63,64,65,66,67,68,69,70,71,72,73,74,75]
[]
[null,"Variable til brug for nøgletal 1-12 og 18-20",null,null,1,1,1,1,2,2,2,2,3,3,3,3,4,4,4,4,5,5,5,5,6,6,6,6,7,7,7,7,"7.1","7.1","7.1","7.1","7.2","7.2","7.2","7.2","7.3","7.3","7.3","7.3",8,8,8,8,9,9,9,9,10,10,10,10,11,11,11,11,12,12,12,12,"12.1","12.1","12.1","12.1","12.2","12.2","12.2","12.2",18,18,18,18]
[null,"Kommune","Nedslagsdato","År","Før projektperiode","Projektperiode","Tendens","N","Før projektperiode","Projektperiode","Tendens","N","Før projektperiode","Projektperiode","Tendens","N","Før projektperiode","Projektperiode","Tendens","N","Før projektperiode","Projektperiode","Tendens","N","Før projektperiode","Projektperiode","Tendens","N","Før projektperiode","Projektperiode","Tendens","N","Før projektperiode","Projektperiode","Tendens","N","Før projektperiode","Projektperiode","Tendens","N","Før projektperiode","Projektperiode","Tendens","N","Før projektperiode","Projektperiode","Tendens","N","Før projektperiode","Projektperiode","Tendens","N","Før projektperiode","Projektperiode","Tendens","N","Før projektperiode","Projektperiode","Tendens","N","Før projektperiode","Projektperiode","Tendens","N","Før projektperiode","Projektperiode","Tendens","N","Før projektperiode","Projektperiode","Tendens","N","Projektperiode","Tæller","Tendens","N","Region"]
[null,"Albertslund","2018-01-01",20181,13,null,null,87,4,null,null,87,20,null,null,87,46,null,null,87,null,null,null,87,0,null,null,87,null,null,null,null,null,null,null,null,null,null,null,null,null,null,null,null,null,null,null,null,null,null,null,null,null,null,null,null,1.52519893899204E-2,null,null,87,2.9840848806366099E-2,null,null,87,null,null,null,0,2.9840848806366099E-2,null,null,87,null,null,null,87]
[null,"Allerød","2018-01-01",20181,8,null,null,31,3,null,null,31,4,null,null,31,16,null,null,31,0,null,null,31,0,null,null,31,null,null,null,null,null,null,null,null,null,null,null,null,null,null,null,null,null,null,null,null,null,null,null,null,null,null,null,null,2.4193548387096801E-2,null,null,31,0.12406947890818799,null,null,31,null,null,null,0,0.12406947890818799,null,null,31,null,null,null,31]
[null,"Assens","2018-01-01",20181,5,null,null,206,33,null,null,206,21,null,null,206,93,null,null,206,null,null,null,206,0,null,null,206,null,null,null,null,null,null,null,null,null,null,null,null,null,null,null,null,null,null,null,null,null,null,null,null,null,null,null,null,1.3349514563106801E-2,null,null,206,1.03622106049291E-2,null,null,206,null,null,null,0,1.03622106049291E-2,null,null,206,null,null,null,206]
[null,"Ballerup","2018-01-01",20181,21,null,null,258,18,null,null,258,36,null,null,258,161,null,null,258,null,null,null,258,0,null,null,258,null,null,null,null,null,null,null,null,null,null,null,null,null,null,null,null,null,null,null,null,null,null,null,null,null,null,null,null,1.47584973166369E-2,null,null,258,3.5629099582588003E-2,null,null,258,null,null,null,0,3.5629099582588003E-2,null,null,258,null,null,null,258]
[null,"Billund","2018-01-01",20181,null,null,null,135,null,null,null,135,null,null,null,135,123,null,null,135,null,null,null,135,null,null,null,135,null,null,null,null,null,null,null,null,null,null,null,null,null,null,null,null,null,null,null,null,null,null,null,null,null,null,null,null,9.6866096866096898E-3,null,null,135,6.8091168091168094E-2,null,null,135,null,null,null,null,6.8091168091168094E-2,null,null,null,null,null,null,135]
[null,"Bornholm","2018-01-01",20181,null,null,null,242,14,null,null,242,26,null,null,242,196,null,null,242,null,null,null,242,null,null,null,242,null,null,null,null,null,null,null,null,null,null,null,null,null,null,null,null,null,null,null,null,null,null,null,null,null,null,null,null,1.23172282263191E-2,null,null,242,6.4844246662428495E-2,null,null,242,null,null,null,null,6.4844246662428495E-2,null,null,null,null,null,null,242]
[null,"Brøndby","2018-01-01",20181,15,null,null,120,3,null,null,120,13,null,null,120,82,null,null,120,null,null,null,120,0,null,null,120,null,null,null,null,null,null,null,null,null,null,null,null,null,null,null,null,null,null,null,null,null,null,null,null,null,null,null,null,6.2500000000000003E-3,null,null,120,3.5256410256410298E-2,null,null,120,null,null,null,0,3.5256410256410298E-2,null,null,120,null,null,null,120]
[null,"Brønderslev","2018-01-01",20181,15,null,null,198,20,null,null,198,15,null,null,198,138,null,null,198,null,null,null,198,0,null,null,198,null,null,null,null,null,null,null,null,null,null,null,null,null,null,null,null,null,null,null,null,null,null,null,null,null,null,null,null,1.26262626262626E-2,null,null,198,6.3034188034188005E-2,null,null,198,null,null,null,0,6.3034188034188005E-2,null,null,198,null,null,null,198]
[null,"Esbjerg","2018-01-01",20181,23,null,null,364,47,null,null,364,44,null,null,364,193,null,null,364,null,null,null,364,0,null,null,364,null,null,null,null,null,null,null,null,null,null,null,null,null,null,null,null,null,null,null,null,null,null,null,null,null,null,null,null,6.9737954353338997E-3,null,null,364,3.25972104818259E-2,null,null,364,null,null,null,0,3.25972104818259E-2,null,null,364,null,null,null,364]
[null,"Favrskov","2018-01-01",20181,null,null,null,156,22,null,null,156,null,null,null,156,101,null,null,156,16,null,null,156,null,null,null,156,null,null,null,null,null,null,null,null,null,null,null,null,null,null,null,null,null,null,null,null,null,null,null,null,null,null,null,null,6.41025641025641E-3,null,null,156,3.7845167652860001E-2,null,null,156,null,null,null,null,3.7845167652860001E-2,null,null,null,null,null,null,156]
[null,"Faxe","2018-01-01",20181,3,null,null,110,14,null,null,110,14,null,null,110,72,null,null,110,null,null,null,110,0,null,null,110,null,null,null,null,null,null,null,null,null,null,null,null,null,null,null,null,null,null,null,null,null,null,null,null,null,null,null,null,3.8461538461538498E-3,null,null,110,5.48951048951049E-2,null,null,110,null,null,null,0,5.48951048951049E-2,null,null,110,null,null,null,110]
[null,"Fredensborg","2018-01-01",20181,40,null,null,184,7,null,null,184,30,null,null,184,95,null,null,184,9,null,null,184,0,null,null,184,null,null,null,null,null,null,null,null,null,null,null,null,null,null,null,null,null,null,null,null,null,null,null,null,null,null,null,null,2.7696488294314502E-2,null,null,184,5.2153010033444802E-2,null,null,184,null,null,null,0,5.2153010033444802E-2,null,null,184,null,null,null,184]
[null,"Fredericia","2018-01-01",20181,19,null,null,272,0,null,null,272,20,null,null,272,189,null,null,272,44,null,null,272,0,null,null,272,null,null,null,null,null,null,null,null,null,null,null,null,null,null,null,null,null,null,null,null,null,null,null,null,null,null,null,null,1.8382352941176499E-2,null,null,272,4.6097285067873299E-2,null,null,272,null,null,null,0,4.6097285067873299E-2,null,null,272,null,null,null,272]
[null,"Frederiksberg","2018-01-01",20181,44,null,null,239,12,null,null,239,50,null,null,239,122,null,null,239,8,null,null,239,0,null,null,239,null,null,null,null,null,null,null,null,null,null,null,null,null,null,null,null,null,null,null,null,null,null,null,null,null,null,null,null,5.2301255230125503E-3,null,null,239,4.2404248471194103E-2,null,null,239,null,null,null,0,4.2404248471194103E-2,null,null,239,null,null,null,239]
[null,"Frederikshavn","2018-01-01",20181,14,null,null,458,60,null,null,458,25,null,null,458,326,null,null,458,null,null,null,458,0,null,null,458,null,null,null,null,null,null,null,null,null,null,null,null,null,null,null,null,null,null,null,null,null,null,null,null,null,null,null,null,5.7104467584816899E-3,null,null,458,6.4956331877729298E-2,null,null,458,null,null,null,0,6.4956331877729298E-2,null,null,458,null,null,null,458]
[null,"Frederikssund","2018-01-01",20181,19,null,null,272,null,null,null,272,34,null,null,272,204,null,null,272,11,null,null,272,null,null,null,272,null,null,null,null,null,null,null,null,null,null,null,null,null,null,null,null,null,null,null,null,null,null,null,null,null,null,null,null,5.5147058823529799E-2,null,null,272,7.1125565610859698E-2,null,null,272,null,null,null,null,7.13880215725234E-2,null,null,null,null,null,null,272]
[null,"Furesø","2018-01-01",20181,15,null,null,217,10,null,null,217,18,null,null,217,159,null,null,217,null,null,null,217,0,null,null,217,null,null,null,null,null,null,null,null,null,null,null,null,null,null,null,null,null,null,null,null,null,null,null,null,null,null,null,null,9.9255583126550903E-3,null,null,217,3.5891527827011702E-2,null,null,217,null,null,null,0,3.5891527827011702E-2,null,null,217,null,null,null,217]
[null,"Faaborg-Midtfyn","2018-01-01",20181,8,null,null,312,11,null,null,312,12,null,null,312,230,null,null,312,51,null,null,312,0,null,null,312,null,null,null,null,null,null,null,null,null,null,null,null,null,null,null,null,null,null,null,null,null,null,null,null,null,null,null,null,2.4963017751479299E-2,null,null,312,3.4023668639053303E-2,null,null,312,null,null,null,0,3.4023668639053303E-2,null,null,312,null,null,null,312]
[null,"Gentofte","2018-01-01",20181,11,null,null,200,28,null,null,200,30,null,null,200,119,null,null,200,null,null,null,200,0,null,null,200,null,null,null,null,null,null,null,null,null,null,null,null,null,null,null,null,null,null,null,null,null,null,null,null,null,null,null,null,1.6346153846153899E-2,null,null,200,3.2307692307692301E-2,null,null,200,null,null,null,0,3.2307692307692301E-2,null,null,200,null,null,null,200]
[null,"Gladsaxe","2018-01-01",20181,15,null,null,175,23,null,null,175,25,null,null,175,98,null,null,175,14,null,null,175,0,null,null,175,null,null,null,null,null,null,null,null,null,null,null,null,null,null,null,null,null,null,null,null,null,null,null,null,null,null,null,null,6.5934065934065899E-3,null,null,175,5.8791208791208797E-2,null,null,175,null,null,null,0,5.8791208791208797E-2,null,null,175,null,null,null,175]
[null,"Glostrup","2018-01-01",20181,13,null,null,181,12,null,null,181,7,null,null,181,126,null,null,181,14,null,null,181,0,null,null,181,null,null,null,null,null,null,null,null,null,null,null,null,null,null,null,null,null,null,null,null,null,null,null,null,null,null,null,null,2.75180620484488E-2,null,null,181,6.6510837229069295E-2,null,null,181,null,null,null,0,6.6510837229069295E-2,null,null,181,null,null,null,181]
[null,"Greve","2018-01-01",20181,15,null,null,191,7,null,null,191,28,null,null,191,119,null,null,191,22,null,null,191,0,null,null,191,null,null,null,null,null,null,null,null,null,null,null,null,null,null,null,null,null,null,null,null,null,null,null,null,null,null,null,null,4.34957712444623E-2,null,null,191,7.3499798630688701E-2,null,null,191,null,null,null,0,7.3499798630688701E-2,null,null,191,null,null,null,191]
[null,"Gribskov","2018-01-01",20181,7,null,null,98,9,null,null,98,25,null,null,98,52,null,null,98,null,null,null,98,0,null,null,98,null,null,null,null,null,null,null,null,null,null,null,null,null,null,null,null,null,null,null,null,null,null,null,null,null,null,null,null,2.3940345368916802E-2,null,null,98,6.0243328100470998E-2,null,null,98,null,null,null,0,6.0243328100470998E-2,null,null,98,null,null,null,98]
[null,"Guldborgsund","2018-01-01",20181,42,null,null,437,17,null,null,437,43,null,null,437,292,null,null,437,43,null,null,437,0,null,null,437,null,null,null,null,null,null,null,null,null,null,null,null,null,null,null,null,null,null,null,null,null,null,null,null,null,null,null,null,7.2610455905650403E-3,null,null,437,4.1585988382327098E-2,null,null,437,null,null,null,0,4.1585988382327098E-2,null,null,437,null,null,null,437]
[null,"Haderslev","2018-01-01",20181,6,null,null,219,35,null,null,219,10,null,null,219,164,null,null,219,4,null,null,219,0,null,null,219,null,null,null,null,null,null,null,null,null,null,null,null,null,null,null,null,null,null,null,null,null,null,null,null,null,null,null,null,1.20302072356867E-2,null,null,219,9.2202318229715492E-3,null,null,219,null,null,null,0,9.2202318229715492E-3,null,null,219,null,null,null,219]
[null,"Halsnæs","2018-01-01",20181,12,null,null,172,7,null,null,172,15,null,null,172,133,null,null,172,null,null,null,172,0,null,null,172,null,null,null,null,null,null,null,null,null,null,null,null,null,null,null,null,null,null,null,null,null,null,null,null,null,null,null,null,1.54293381037567E-2,null,null,172,5.42262969588551E-2,null,null,172,null,null,null,0,5.42262969588551E-2,null,null,172,null,null,null,172]
[null,"Hedensted","2018-01-01",20181,10,null,null,259,15,null,null,259,17,null,null,259,207,null,null,259,null,null,null,259,0,null,null,259,null,null,null,null,null,null,null,null,null,null,null,null,null,null,null,null,null,null,null,null,null,null,null,null,null,null,null,null,2.3685773685773698E-2,null,null,259,4.23967923967924E-2,null,null,259,null,null,null,0,4.23967923967924E-2,null,null,259,null,null,null,259]
[null,"Helsingør","2018-01-01",20181,30,null,null,252,13,null,null,252,53,null,null,252,111,null,null,252,45,null,null,252,0,null,null,252,null,null,null,null,null,null,null,null,null,null,null,null,null,null,null,null,null,null,null,null,null,null,null,null,null,null,null,null,1.09890109890109E-2,null,null,252,4.9908424908424898E-2,null,null,252,null,null,null,0,4.9908424908424898E-2,null,null,252,null,null,null,252]
[null,"Herlev","2018-01-01",20181,14,null,null,115,7,null,null,115,26,null,null,115,65,null,null,115,null,null,null,115,0,null,null,115,null,null,null,null,null,null,null,null,null,null,null,null,null,null,null,null,null,null,null,null,null,null,null,null,null,null,null,null,2.4247491638796002E-2,null,null,115,4.7826086956521699E-2,null,null,115,null,null,null,0,4.7826086956521699E-2,null,null,115,null,null,null,115]
[null,"Herning","2018-01-01",20181,20,null,null,405,45,null,null,405,28,null,null,405,291,null,null,405,10,null,null,405,0,null,null,405,null,null,null,null,null,null,null,null,null,null,null,null,null,null,null,null,null,null,null,null,null,null,null,null,null,null,null,null,1.1680911680911701E-2,null,null,405,8.8651471984805302E-2,null,null,405,null,null,null,0,8.8651471984805302E-2,null,null,405,null,null,null,405]
[null,"Hillerød","2018-01-01",20181,12,null,null,193,null,null,null,193,20,null,null,193,139,null,null,193,13,null,null,193,0,null,null,193,null,null,null,null,null,null,null,null,null,null,null,null,null,null,null,null,null,null,null,null,null,null,null,null,null,null,null,null,9.1669988043045006E-3,null,null,193,4.48385811080112E-2,null,null,193,null,null,null,0,4.48385811080112E-2,null,null,193,null,null,null,193]
[null,"Hjørring","2018-01-01",20181,20,null,null,436,73,null,null,436,32,null,null,436,301,null,null,436,null,null,null,436,0,null,null,436,null,null,null,null,null,null,null,null,null,null,null,null,null,null,null,null,null,null,null,null,null,null,null,null,null,null,null,null,2.57586450247001E-2,null,null,436,4.78563867325335E-2,null,null,436,null,null,null,0,4.78563867325335E-2,null,null,436,null,null,null,436]
[null,"Holbæk","2018-01-01",20181,null,null,null,267,53,null,null,267,25,null,null,267,178,null,null,267,7,null,null,267,0,null,null,267,null,null,null,null,null,null,null,null,null,null,null,null,null,null,null,null,null,null,null,null,null,null,null,null,null,null,null,null,5.11380005762028E-3,null,null,267,5.5459521751656603E-2,null,null,267,null,null,null,0,5.5459521751656603E-2,null,null,267,null,null,null,267]
[null,"Holstebro","2018-01-01",20181,17,null,null,328,50,null,null,328,37,null,null,328,211,null,null,328,13,null,null,328,0,null,null,328,null,null,null,null,null,null,null,null,null,null,null,null,null,null,null,null,null,null,null,null,null,null,null,null,null,null,null,null,1.47162288930582E-2,null,null,328,5.0422138836773003E-2,null,null,328,null,null,null,0,5.0422138836773003E-2,null,null,328,null,null,null,328]
[null,"Horsens","2018-01-01",20181,32,null,null,445,40,null,null,445,46,null,null,445,298,null,null,445,23,null,null,445,0,null,null,445,null,null,null,null,null,null,null,null,null,null,null,null,null,null,null,null,null,null,null,null,null,null,null,null,null,null,null,null,5.4883318928262799E-3,null,null,445,4.8617113223854799E-2,null,null,445,null,null,null,0,4.8617113223854799E-2,null,null,445,null,null,null,445]
[null,"Hvidovre","2018-01-01",20181,35,null,null,205,15,null,null,205,34,null,null,205,87,null,null,205,null,null,null,205,0,null,null,205,null,null,null,null,null,null,null,null,null,null,null,null,null,null,null,null,null,null,null,null,null,null,null,null,null,null,null,null,5.0656660412758004E-3,null,null,205,4.39024390243902E-2,null,null,205,null,null,null,0,4.39024390243902E-2,null,null,205,null,null,null,205]
[null,"Høje-Taastrup","2018-01-01",20181,13,null,null,225,37,null,null,225,20,null,null,225,142,null,null,225,7,null,null,225,0,null,null,225,null,null,null,null,null,null,null,null,null,null,null,null,null,null,null,null,null,null,null,null,null,null,null,null,null,null,null,null,1.46153846153846E-2,null,null,225,3.9316239316239301E-2,null,null,225,null,null,null,0,3.9316239316239301E-2,null,null,225,null,null,null,225]
[null,"Hørsholm","2018-01-01",20181,10,null,null,71,null,null,null,71,11,null,null,71,45,null,null,71,null,null,null,71,0,null,null,71,null,null,null,null,null,null,null,null,null,null,null,null,null,null,null,null,null,null,null,null,null,null,null,null,null,null,null,null,4.6045503791982698E-3,null,null,71,4.3336944745395498E-2,null,null,71,null,null,null,0,4.3336944745395498E-2,null,null,71,null,null,null,71]
[null,"Ikast-Brande","2018-01-01",20181,5,null,null,161,27,null,null,161,18,null,null,161,105,null,null,161,6,null,null,161,0,null,null,161,null,null,null,null,null,null,null,null,null,null,null,null,null,null,null,null,null,null,null,null,null,null,null,null,null,null,null,null,8.2417582417582402E-3,null,null,161,3.9775441949354999E-2,null,null,161,null,null,null,0,3.9775441949354999E-2,null,null,161,null,null,null,161]
[null,"Ishøj","2018-01-01",20181,13,null,null,119,7,null,null,119,22,null,null,119,66,null,null,119,7,null,null,119,0,null,null,119,null,null,null,null,null,null,null,null,null,null,null,null,null,null,null,null,null,null,null,null,null,null,null,null,null,null,null,null,9.5345830639948295E-3,null,null,119,5.2521008403361401E-2,null,null,119,null,null,null,0,5.2521008403361401E-2,null,null,119,null,null,null,119]
[null,"Jammerbugt","2018-01-01",20181,5,null,null,191,35,null,null,191,12,null,null,191,133,null,null,191,null,null,null,191,0,null,null,191,null,null,null,null,null,null,null,null,null,null,null,null,null,null,null,null,null,null,null,null,null,null,null,null,null,null,null,null,5.2356020942408397E-3,null,null,191,3.5843737414418098E-2,null,null,191,null,null,null,0,3.5843737414418098E-2,null,null,191,null,null,null,191]
[null,"Kalundborg","2018-01-01",20181,44,null,null,469,23,null,null,469,45,null,null,469,340,null,null,469,null,null,null,469,0,null,null,469,null,null,null,null,null,null,null,null,null,null,null,null,null,null,null,null,null,null,null,null,null,null,null,null,null,null,null,null,2.04198786288338E-2,null,null,469,3.4238149909791703E-2,null,null,469,null,null,null,0,3.4238149909791703E-2,null,null,469,null,null,null,469]
[null,"Kerteminde","2018-01-01",20181,4,null,null,108,10,null,null,108,6,null,null,108,64,null,null,108,null,null,null,108,0,null,null,108,null,null,null,null,null,null,null,null,null,null,null,null,null,null,null,null,null,null,null,null,null,null,null,null,null,null,null,null,1.38888888888889E-2,null,null,108,4.30911680911681E-2,null,null,108,null,null,null,0,4.30911680911681E-2,null,null,108,null,null,null,108]
[null,"Kolding","2018-01-01",20181,32,null,null,369,null,null,null,369,34,null,null,369,291,null,null,369,null,null,null,369,null,null,null,369,null,null,null,null,null,null,null,null,null,null,null,null,null,null,null,null,null,null,null,null,null,null,null,null,null,null,null,null,2.4494475713987902E-2,null,null,369,4.9927037731915799E-2,null,null,369,null,null,null,null,4.9927037731915799E-2,null,null,null,null,null,null,369]
[null,"København","2018-01-01",20181,508,null,null,1861,450,null,null,1861,164,null,null,1861,652,null,null,1861,58,null,null,1861,0,null,null,1861,null,null,null,null,null,null,null,null,null,null,null,null,null,null,null,null,null,null,null,null,null,null,null,null,null,null,null,null,1.9024097879549801E-2,null,null,1861,2.7042946306782899E-2,null,null,1861,null,null,null,0,2.7042946306782899E-2,null,null,1861,null,null,null,1861]
[null,"Køge","2018-01-01",20181,42,null,null,319,0,null,null,319,30,null,null,319,230,null,null,319,null,null,null,319,0,null,null,319,null,null,null,null,null,null,null,null,null,null,null,null,null,null,null,null,null,null,null,null,null,null,null,null,null,null,null,null,1.3684591270798199E-2,null,null,319,3.7738123945020498E-2,null,null,319,null,null,null,0,3.7738123945020498E-2,null,null,319,null,null,null,319]
[null,"Langeland","2018-01-01",20181,6,null,null,80,18,null,null,80,9,null,null,80,36,null,null,80,11,null,null,80,0,null,null,80,null,null,null,null,null,null,null,null,null,null,null,null,null,null,null,null,null,null,null,null,null,null,null,null,null,null,null,null,1.8509615384615399E-2,null,null,80,3.5336538461538503E-2,null,null,80,null,null,null,0,3.5336538461538503E-2,null,null,80,null,null,null,80]
[null,"Lejre","2018-01-01",20181,5,null,null,116,12,null,null,116,18,null,null,116,78,null,null,116,3,null,null,116,0,null,null,116,null,null,null,null,null,null,null,null,null,null,null,null,null,null,null,null,null,null,null,null,null,null,null,null,null,null,null,null,8.6206896551724102E-3,null,null,116,9.6651193633952304E-2,null,null,116,null,null,null,0,9.6651193633952304E-2,null,null,116,null,null,null,116]
[null,"Lemvig","2018-01-01",20181,7,null,null,116,13,null,null,116,7,null,null,116,83,null,null,116,null,null,null,116,0,null,null,116,null,null,null,null,null,null,null,null,null,null,null,null,null,null,null,null,null,null,null,null,null,null,null,null,null,null,null,null,1.29310344827586E-2,null,null,116,9.2838196286472205E-2,null,null,116,null,null,null,0,9.2838196286472205E-2,null,null,116,null,null,null,116]
[null,"Lolland","2018-01-01",20181,13,null,null,421,9,null,null,421,29,null,null,421,363,null,null,421,3,null,null,421,0,null,null,421,null,null,null,null,null,null,null,null,null,null,null,null,null,null,null,null,null,null,null,null,null,null,null,null,null,null,null,null,2.66307326877398E-2,null,null,421,3.1472684085510703E-2,null,null,421,null,null,null,0,3.1472684085510703E-2,null,null,421,null,null,null,421]
[null,"Lyngby-Taarbæk","2018-01-01",20181,14,null,null,218,13,null,null,218,11,null,null,218,164,null,null,218,13,null,null,218,0,null,null,218,null,null,null,null,null,null,null,null,null,null,null,null,null,null,null,null,null,null,null,null,null,null,null,null,null,null,null,null,2.2053634438955499E-2,null,null,218,9.8359209597741706E-2,null,null,218,null,null,null,0,9.8359209597741706E-2,null,null,218,null,null,null,218]
[null,"Mariagerfjord","2018-01-01",20181,null,null,null,188,8,null,null,188,13,null,null,188,161,null,null,188,null,null,null,188,null,null,null,188,null,null,null,null,null,null,null,null,null,null,null,null,null,null,null,null,null,null,null,null,null,null,null,null,null,null,null,null,4.4701309328968902E-2,null,null,188,2.2606382978723399E-2,null,null,188,null,null,null,null,2.2606382978723399E-2,null,null,null,null,null,null,188]
[null,"Middelfart","2018-01-01",20181,12,null,null,180,27,null,null,180,5,null,null,180,103,null,null,180,33,null,null,180,0,null,null,180,null,null,null,null,null,null,null,null,null,null,null,null,null,null,null,null,null,null,null,null,null,null,null,null,null,null,null,null,5.2350427350427399E-3,null,null,180,4.2414529914529903E-2,null,null,180,null,null,null,0,4.2414529914529903E-2,null,null,180,null,null,null,180]
[null,"Morsø","2018-01-01",20181,9,null,null,233,25,null,null,233,12,null,null,233,136,null,null,233,51,null,null,233,0,null,null,233,null,null,null,null,null,null,null,null,null,null,null,null,null,null,null,null,null,null,null,null,null,null,null,null,null,null,null,null,3.5655331792670802E-2,null,null,233,5.5711455926048203E-2,null,null,233,null,null,null,0,5.5711455926048203E-2,null,null,233,null,null,null,233]
[null,"Norddjurs","2018-01-01",20181,5,null,null,218,27,null,null,218,0,null,null,218,154,null,null,218,null,null,null,218,0,null,null,218,null,null,null,null,null,null,null,null,null,null,null,null,null,null,null,null,null,null,null,null,null,null,null,null,null,null,null,null,2.5052928722653502E-2,null,null,218,6.2455892731122099E-2,null,null,218,null,null,null,0,6.2455892731122099E-2,null,null,218,null,null,null,218]
[null,"Nordfyns","2018-01-01",20181,null,null,null,105,20,null,null,105,4,null,null,105,62,null,null,105,16,null,null,105,0,null,null,105,null,null,null,null,null,null,null,null,null,null,null,null,null,null,null,null,null,null,null,null,null,null,null,null,null,null,null,null,1.77655677655678E-2,null,null,105,8.2234432234432206E-2,null,null,105,null,null,null,0,8.2234432234432206E-2,null,null,105,null,null,null,105]
[null,"Nyborg","2018-01-01",20181,8,null,null,139,28,null,null,139,4,null,null,139,88,null,null,139,null,null,null,139,0,null,null,139,null,null,null,null,null,null,null,null,null,null,null,null,null,null,null,null,null,null,null,null,null,null,null,null,null,null,null,null,2.0475926950747101E-2,null,null,139,3.3619258439402298E-2,null,null,139,null,null,null,0,3.3619258439402298E-2,null,null,139,null,null,null,139]
[null,"Næstved","2018-01-01",20181,32,null,null,437,36,null,null,437,73,null,null,437,281,null,null,437,12,null,null,437,0,null,null,437,null,null,null,null,null,null,null,null,null,null,null,null,null,null,null,null,null,null,null,null,null,null,null,null,null,null,null,null,4.87150149621546E-2,null,null,437,2.30153142052456E-2,null,null,437,null,null,null,0,2.30153142052456E-2,null,null,437,null,null,null,437]
[null,"Odder","2018-01-01",20181,null,null,null,112,null,null,null,112,9,null,null,112,90,null,null,112,6,null,null,112,null,null,null,112,null,null,null,null,null,null,null,null,null,null,null,null,null,null,null,null,null,null,null,null,null,null,null,null,null,null,null,null,1.33928571428571E-2,null,null,112,9.6840659340659302E-2,null,null,112,null,null,null,null,9.6840659340659302E-2,null,null,null,null,null,null,112]
[null,"Odense","2018-01-01",20181,66,null,null,760,73,null,null,760,59,null,null,760,447,null,null,760,108,null,null,760,0,null,null,760,null,null,null,null,null,null,null,null,null,null,null,null,null,null,null,null,null,null,null,null,null,null,null,null,null,null,null,null,1.8800607287449402E-2,null,null,760,4.0384615384615401E-2,null,null,760,null,null,null,0,4.0384615384615401E-2,null,null,760,null,null,null,760]
[null,"Odsherred","2018-01-01",20181,14,null,null,142,11,null,null,142,13,null,null,142,100,null,null,142,4,null,null,142,0,null,null,142,null,null,null,null,null,null,null,null,null,null,null,null,null,null,null,null,null,null,null,null,null,null,null,null,null,null,null,null,2.0043336944745398E-2,null,null,142,2.7762730227519E-2,null,null,142,null,null,null,0,2.7762730227519E-2,null,null,142,null,null,null,142]
[null,"Randers","2018-01-01",20181,6,null,null,426,42,null,null,426,30,null,null,426,318,null,null,426,null,null,null,426,0,null,null,426,null,null,null,null,null,null,null,null,null,null,null,null,null,null,null,null,null,null,null,null,null,null,null,null,null,null,null,null,2.6182737450343101E-2,null,null,426,5.6924882629107998E-2,null,null,426,null,null,null,0,5.6924882629107998E-2,null,null,426,null,null,null,426]
[null,"Rebild","2018-01-01",20181,null,null,null,95,20,null,null,95,8,null,null,95,60,null,null,95,null,null,null,95,null,null,null,95,null,null,null,null,null,null,null,null,null,null,null,null,null,null,null,null,null,null,null,null,null,null,null,null,null,null,null,null,0,null,null,95,7.4493927125506093E-2,null,null,95,null,null,null,null,7.4493927125506093E-2,null,null,null,null,null,null,95]
[null,"Ringkøbing-Skjern","2018-01-01",20181,13,null,null,499,86,null,null,499,56,null,null,499,309,null,null,499,30,null,null,499,0,null,null,499,null,null,null,null,null,null,null,null,null,null,null,null,null,null,null,null,null,null,null,null,null,null,null,null,null,null,null,null,8.7482657622938199E-3,null,null,499,6.1392014798828401E-2,null,null,499,null,null,null,0,6.1392014798828401E-2,null,null,499,null,null,null,499]
[null,"Ringsted","2018-01-01",20181,3,null,null,122,7,null,null,122,16,null,null,122,91,null,null,122,null,null,null,122,0,null,null,122,null,null,null,null,null,null,null,null,null,null,null,null,null,null,null,null,null,null,null,null,null,null,null,null,null,null,null,null,2.86885245901639E-2,null,null,122,3.0107187894073101E-2,null,null,122,null,null,null,0,3.0107187894073101E-2,null,null,122,null,null,null,122]
[null,"Roskilde","2018-01-01",20181,14,null,null,379,51,null,null,379,55,null,null,379,241,null,null,379,null,null,null,379,0,null,null,379,null,null,null,null,null,null,null,null,null,null,null,null,null,null,null,null,null,null,null,null,null,null,null,null,null,null,null,null,3.2118936472498499E-2,null,null,379,3.3184493606653501E-2,null,null,379,null,null,null,0,3.3184493606653501E-2,null,null,379,null,null,null,379]
[null,"Rudersdal","2018-01-01",20181,null,null,null,190,36,null,null,190,17,null,null,190,129,null,null,190,null,null,null,190,null,null,null,190,null,null,null,null,null,null,null,null,null,null,null,null,null,null,null,null,null,null,null,null,null,null,null,null,null,null,null,null,4.10931174089069E-2,null,null,190,8.8461538461538494E-2,null,null,190,null,null,null,null,8.8461538461538494E-2,null,null,null,null,null,null,190]
[null,"Rødovre","2018-01-01",20181,27,null,null,199,13,null,null,199,21,null,null,199,132,null,null,199,null,null,null,199,0,null,null,199,null,null,null,null,null,null,null,null,null,null,null,null,null,null,null,null,null,null,null,null,null,null,null,null,null,null,null,null,2.1936606107460399E-2,null,null,199,5.4599922690377403E-2,null,null,199,null,null,null,0,5.4599922690377403E-2,null,null,199,null,null,null,199]
[null,"Silkeborg","2018-01-01",20181,15,null,null,590,45,null,null,590,133,null,null,590,360,null,null,590,null,null,null,590,0,null,null,590,null,null,null,null,null,null,null,null,null,null,null,null,null,null,null,null,null,null,null,null,null,null,null,null,null,null,null,null,1.71121251629726E-2,null,null,590,6.1505867014341603E-2,null,null,590,null,null,null,0,6.1505867014341603E-2,null,null,590,null,null,null,590]
[null,"Skanderborg","2018-01-01",20181,3,null,null,356,4,null,null,356,38,null,null,356,292,null,null,356,19,null,null,356,0,null,null,356,null,null,null,null,null,null,null,null,null,null,null,null,null,null,null,null,null,null,null,null,null,null,null,null,null,null,null,null,1.32886776145203E-2,null,null,356,6.0447277441659501E-2,null,null,356,null,null,null,0,6.0447277441659501E-2,null,null,356,null,null,null,356]
[null,"Skive","2018-01-01",20181,null,null,null,169,15,null,null,169,6,null,null,169,134,null,null,169,8,null,null,169,0,null,null,169,null,null,null,null,null,null,null,null,null,null,null,null,null,null,null,null,null,null,null,null,null,null,null,null,null,null,null,null,1.2061902594447E-2,null,null,169,0.118912152935822,null,null,169,null,null,null,0,0.118912152935822,null,null,169,null,null,null,169]
[null,"Slagelse","2018-01-01",20181,17,null,null,270,26,null,null,270,24,null,null,270,197,null,null,270,6,null,null,270,0,null,null,270,null,null,null,null,null,null,null,null,null,null,null,null,null,null,null,null,null,null,null,null,null,null,null,null,null,null,null,null,1.55270655270655E-2,null,null,270,3.71794871794872E-2,null,null,270,null,null,null,0,3.71794871794872E-2,null,null,270,null,null,null,270]
[null,"Solrød","2018-01-01",20181,7,null,null,63,null,null,null,63,14,null,null,63,35,null,null,63,null,null,null,63,null,null,null,63,null,null,null,null,null,null,null,null,null,null,null,null,null,null,null,null,null,null,null,null,null,null,null,null,null,null,null,null,3.8461538461538498E-2,null,null,63,5.8302808302808297E-2,null,null,63,null,null,null,null,5.8302808302808297E-2,null,null,null,null,null,null,63]
[null,"Sorø","2018-01-01",20181,10,null,null,173,19,null,null,173,14,null,null,173,126,null,null,173,4,null,null,173,0,null,null,173,null,null,null,null,null,null,null,null,null,null,null,null,null,null,null,null,null,null,null,null,null,null,null,null,null,null,null,null,2.6345042240996E-2,null,null,173,3.7572254335260097E-2,null,null,173,null,null,null,0,3.7572254335260097E-2,null,null,173,null,null,null,173]
[null,"Stevns","2018-01-01",20181,null,null,null,57,null,null,null,57,11,null,null,57,39,null,null,57,3,null,null,57,null,null,null,57,null,null,null,null,null,null,null,null,null,null,null,null,null,null,null,null,null,null,null,null,null,null,null,null,null,null,null,null,3.2051282051282097E-2,null,null,57,2.5303643724696401E-2,null,null,57,null,null,null,null,2.5303643724696401E-2,null,null,null,null,null,null,57]
[null,"Struer","2018-01-01",20181,null,null,null,117,null,null,null,117,14,null,null,117,88,null,null,117,null,null,null,117,null,null,null,117,null,null,null,null,null,null,null,null,null,null,null,null,null,null,null,null,null,null,null,null,null,null,null,null,null,null,null,null,1.8573307034845499E-2,null,null,117,9.5167652859960594E-2,null,null,117,null,null,null,null,9.5167652859960594E-2,null,null,null,null,null,null,117]
[null,"Svendborg","2018-01-01",20181,30,null,null,368,22,null,null,368,24,null,null,368,242,null,null,368,50,null,null,368,0,null,null,368,null,null,null,null,null,null,null,null,null,null,null,null,null,null,null,null,null,null,null,null,null,null,null,null,null,null,null,null,1.99623745819398E-2,null,null,368,8.0476588628762506E-3,null,null,368,null,null,null,0,8.0476588628762506E-3,null,null,368,null,null,null,368]
[null,"Syddjurs","2018-01-01",20181,3,null,null,132,9,null,null,132,12,null,null,132,84,null,null,132,21,null,null,132,0,null,null,132,null,null,null,null,null,null,null,null,null,null,null,null,null,null,null,null,null,null,null,null,null,null,null,null,null,null,null,null,9.9067599067599096E-3,null,null,132,5.2593240093240103E-2,null,null,132,null,null,null,0,5.2593240093240103E-2,null,null,132,null,null,null,132]
[null,"Sønderborg","2018-01-01",20181,16,null,null,596,77,null,null,596,31,null,null,596,454,null,null,596,14,null,null,596,0,null,null,596,null,null,null,null,null,null,null,null,null,null,null,null,null,null,null,null,null,null,null,null,null,null,null,null,null,null,null,null,2.4038461538461502E-2,null,null,596,5.5982188951987602E-2,null,null,596,null,null,null,0,5.5982188951987602E-2,null,null,596,null,null,null,596]
[null,"Thisted","2018-01-01",20181,null,null,null,123,28,null,null,123,null,null,null,123,79,null,null,123,null,null,null,123,null,null,null,123,null,null,null,null,null,null,null,null,null,null,null,null,null,null,null,null,null,null,null,null,null,null,null,null,null,null,null,null,1.56347717323327E-2,null,null,123,6.0975609756097601E-2,null,null,123,null,null,null,null,6.0975609756097601E-2,null,null,null,null,null,null,123]
[null,"Tønder","2018-01-01",20181,6,null,null,215,21,null,null,215,11,null,null,215,170,null,null,215,4,null,null,215,0,null,null,215,null,null,null,null,null,null,null,null,null,null,null,null,null,null,null,null,null,null,null,null,null,null,null,null,null,null,null,null,8.9445438282647596E-4,null,null,215,3.5778175313058998E-2,null,null,215,null,null,null,0,3.5778175313058998E-2,null,null,215,null,null,null,215]
[null,"Tårnby","2018-01-01",20181,14,null,null,122,null,null,null,122,22,null,null,122,59,null,null,122,23,null,null,122,0,null,null,122,null,null,null,null,null,null,null,null,null,null,null,null,null,null,null,null,null,null,null,null,null,null,null,null,null,null,null,null,3.07377049180328E-2,null,null,122,4.2402269861286299E-2,null,null,122,null,null,null,0,4.2402269861286299E-2,null,null,122,null,null,null,122]
[null,"Varde","2018-01-01",20181,8,null,null,250,5,null,null,250,20,null,null,250,211,null,null,250,6,null,null,250,0,null,null,250,null,null,null,null,null,null,null,null,null,null,null,null,null,null,null,null,null,null,null,null,null,null,null,null,null,null,null,null,8.2307692307692307E-3,null,null,250,6.6384615384615403E-2,null,null,250,null,null,null,0,6.6384615384615403E-2,null,null,250,null,null,null,250]
[null,"Vejen","2018-01-01",20181,10,null,null,200,3,null,null,200,33,null,null,200,128,null,null,200,26,null,null,200,0,null,null,200,null,null,null,null,null,null,null,null,null,null,null,null,null,null,null,null,null,null,null,null,null,null,null,null,null,null,null,null,2.67307692307692E-2,null,null,200,6.0865384615384599E-2,null,null,200,null,null,null,0,6.0865384615384599E-2,null,null,200,null,null,null,200]
[null,"Vejle","2018-01-01",20181,23,null,null,450,32,null,null,450,38,null,null,450,342,null,null,450,15,null,null,450,0,null,null,450,null,null,null,null,null,null,null,null,null,null,null,null,null,null,null,null,null,null,null,null,null,null,null,null,null,null,null,null,2.6623931623931601E-2,null,null,450,4.5940170940170902E-2,null,null,450,null,null,null,0,4.5940170940170902E-2,null,null,450,null,null,null,450]
[null,"Vesthimmerlands","2018-01-01",20181,null,null,null,128,21,null,null,128,14,null,null,128,79,null,null,128,null,null,null,128,null,null,null,128,null,null,null,null,null,null,null,null,null,null,null,null,null,null,null,null,null,null,null,null,null,null,null,null,null,null,null,null,1.23197115384615E-2,null,null,128,2.0132211538461502E-2,null,null,128,null,null,null,null,2.0132211538461502E-2,null,null,null,null,null,null,128]
[null,"Viborg","2018-01-01",20181,10,null,null,618,122,null,null,618,16,null,null,618,312,null,null,618,152,null,null,618,0,null,null,618,null,null,null,null,null,null,null,null,null,null,null,null,null,null,null,null,null,null,null,null,null,null,null,null,null,null,null,null,1.8172765745581299E-2,null,null,618,4.1728902165795403E-2,null,null,618,null,null,null,0,4.1728902165795403E-2,null,null,618,null,null,null,618]
[null,"Vordingborg","2018-01-01",20181,9,null,null,410,31,null,null,410,15,null,null,410,306,null,null,410,45,null,null,410,null,null,null,410,null,null,null,null,null,null,null,null,null,null,null,null,null,null,null,null,null,null,null,null,null,null,null,null,null,null,null,null,1.17729831144465E-2,null,null,410,3.3583489681050703E-2,null,null,410,null,null,null,null,3.36656009027647E-2,null,null,null,null,null,null,410]
[null,"Ærø","2018-01-01",20181]
[null,"Aabenraa","2018-01-01",20181,8,null,null,347,15,null,null,347,20,null,null,347,289,null,null,347,11,null,null,347,0,null,null,347,null,null,null,null,null,null,null,null,null,null,null,null,null,null,null,null,null,null,null,null,null,null,null,null,null,null,null,null,1.81777876302372E-2,null,null,347,7.3597871868765305E-2,null,null,347,null,null,null,0,7.3597871868765305E-2,null,null,347,null,null,null,347]
[null,"Aalborg","2018-01-01",20181,33,null,null,906,166,null,null,906,52,null,null,906,620,null,null,906,35,null,null,906,0,null,null,906,null,null,null,null,null,null,null,null,null,null,null,null,null,null,null,null,null,null,null,null,null,null,null,null,null,null,null,null,6.8135506877228698E-3,null,null,906,2.8230599422652401E-2,null,null,906,null,null,null,0,2.8230599422652401E-2,null,null,906,null,null,null,906]
[null,"Aarhus","2018-01-01",20181,35,null,null,1957,213,null,null,1957,100,null,null,1957,1462,null,null,1957,135,null,null,1957,0,null,null,1957,null,null,null,null,null,null,null,null,null,null,null,null,null,null,null,null,null,null,null,null,null,null,null,null,null,null,null,null,4.5693958570810898E-2,null,null,1957,6.0748398254785597E-2,null,null,1957,null,null,null,0,6.0748398254785597E-2,null,null,1957,null,null,null,1957]
[null,"Albertslund","2018-07-01",20182,13,null,null,94,5,null,null,94,22,null,null,94,50,null,null,94,null,null,null,94,0,null,null,94,null,null,null,37,0,null,null,17,0,null,null,17,null,null,null,20,6,null,null,46,0,null,null,0,0,null,null,0,2.59819967266776E-2,null,null,94,2.1276595744680799E-2,null,null,94,null,null,null,0,2.1276595744680799E-2,null,null,94,null,null,null,94]
[null,"Allerød","2018-07-01",20182,7,null,null,29,4,null,null,29,3,null,null,29,15,null,null,29,0,null,null,29,0,null,null,29,null,null,null,15,0,null,null,11,null,null,null,11,null,null,null,4,3,null,null,16,0,null,null,0,0,null,null,0,8.6206896551724102E-3,null,null,29,5.6366047745358097E-2,null,null,29,null,null,null,0,5.6366047745358097E-2,null,null,29,0.84615384615384603,null,null,29]
[null,"Assens","2018-07-01",20182,5,null,null,200,34,null,null,200,18,null,null,200,83,null,null,200,54,null,null,200,0,null,null,200,5,null,null,59,null,null,null,38,null,null,null,38,null,null,null,21,8,null,null,93,0,null,null,0,0,null,null,0,1.32692307692308E-2,null,null,200,2.35576923076923E-2,null,null,200,null,null,null,0,2.35576923076923E-2,null,null,200,0.28125,null,null,200]
[null,"Ballerup","2018-07-01",20182,22,null,null,242,17,null,null,242,38,null,null,242,145,null,null,242,null,null,null,242,0,null,null,242,null,null,null,75,0,null,null,39,null,null,null,39,null,null,null,36,27,null,null,161,0,null,null,0,0,null,null,0,7.0724729815638899E-3,null,null,242,2.7177368086459E-2,null,null,242,null,null,null,0,2.7177368086459E-2,null,null,242,0.42045454545454602,null,null,242]
[null,"Billund","2018-07-01",20182,null,null,null,137,null,null,null,137,null,null,null,137,127,null,null,137,null,null,null,137,null,null,null,137,3,null,null,null,0,null,null,null,null,null,null,null,null,null,null,null,12,null,null,123,0,null,null,null,0,null,null,null,4.0707467714767003E-3,null,null,137,7.07467714766985E-2,null,null,137,null,null,null,null,7.07467714766985E-2,null,null,null,0.32,null,null,137]
[null,"Bornholm","2018-07-01",20182,0,null,null,229,12,null,null,229,25,null,null,229,185,null,null,229,null,null,null,229,0,null,null,229,5,null,null,null,null,null,null,null,null,null,null,null,null,null,null,26,30,null,null,196,0,null,null,null,0,null,null,null,1.5787705744037601E-2,null,null,229,6.0547531071548498E-2,null,null,229,null,null,null,0,6.0547531071548498E-2,null,null,229,0.53488372093023195,null,null,229]
[null,"Brøndby","2018-07-01",20182,16,null,null,122,3,null,null,122,11,null,null,122,83,null,null,122,null,null,null,122,0,null,null,122,null,null,null,31,0,null,null,18,0,null,null,18,null,null,null,13,11,null,null,82,0,null,null,0,0,null,null,0,4.2559899117276196E-3,null,null,122,3.1052963430012601E-2,null,null,122,null,null,null,0,3.1052963430012601E-2,null,null,122,0.48936170212766,null,null,122]
[null,"Brønderslev","2018-07-01",20182,14,null,null,188,18,null,null,188,16,null,null,188,130,null,null,188,null,null,null,188,0,null,null,188,7,null,null,50,null,null,null,35,null,null,null,35,null,null,null,15,19,null,null,138,0,null,null,0,0,null,null,0,1.67757774140753E-2,null,null,188,7.9889525368248795E-2,null,null,188,null,null,null,0,7.9889525368248795E-2,null,null,188,0.407407407407407,null,null,188]
[null,"Esbjerg","2018-07-01",20182,17,null,null,344,52,null,null,344,49,null,null,344,171,null,null,344,null,null,null,344,0,null,null,344,9,null,null,114,null,null,null,70,null,null,null,70,4,null,null,44,31,null,null,193,0,null,null,0,0,null,null,0,5.8139534883720903E-3,null,null,344,3.8685152057245098E-2,null,null,344,null,null,null,0,3.8685152057245098E-2,null,null,344,0.33974358974358998,null,null,344]
[null,"Favrskov","2018-07-01",20182,null,null,null,125,23,null,null,125,17,null,null,125,82,null,null,125,null,null,null,125,0,null,null,125,null,null,null,null,0,null,null,null,0,null,null,null,null,null,null,null,19,null,null,101,0,null,null,null,0,null,null,null,8.1538461538461504E-3,null,null,125,3.86153846153846E-2,null,null,125,null,null,null,0,3.86153846153846E-2,null,null,125,0.58333333333333304,null,null,125]
[null,"Faxe","2018-07-01",20182,3,null,null,108,14,null,null,108,14,null,null,108,70,null,null,108,null,null,null,108,0,null,null,108,0,null,null,31,0,null,null,17,0,null,null,17,0,null,null,14,8,null,null,72,0,null,null,0,0,null,null,0,2.3148148148148099E-3,null,null,108,4.0954415954415999E-2,null,null,108,null,null,null,0,4.0954415954415999E-2,null,null,108,null,null,null,108]
[null,"Fredensborg","2018-07-01",20182,39,null,null,182,7,null,null,182,27,null,null,182,88,null,null,182,11,null,null,182,3,null,null,182,6,null,null,77,null,null,null,47,null,null,null,47,null,null,null,30,14,null,null,95,0,null,null,0,0,null,null,0,3.4340659340659302E-2,null,null,182,5.5367709213863102E-2,null,null,182,null,null,null,3,5.0709067468844002E-2,null,null,179,0.56321839080459801,null,null,182]
[null,"Fredericia","2018-07-01",20182,21,null,null,268,0,null,null,268,19,null,null,268,180,null,null,268,48,null,null,268,0,null,null,268,5,null,null,39,0,null,null,19,0,null,null,19,5,null,null,20,13,null,null,189,0,null,null,0,0,null,null,0,2.3033869115958699E-2,null,null,268,5.3099885189437403E-2,null,null,268,null,null,null,0,5.3099885189437403E-2,null,null,268,0.39682539682539703,null,null,268]
[null,"Frederiksberg","2018-07-01",20182,41,null,null,235,10,null,null,235,46,null,null,235,127,null,null,235,null,null,null,235,0,null,null,235,17,null,null,106,0,null,null,56,8,null,null,56,9,null,null,50,22,null,null,122,0,null,null,0,0,null,null,0,6.2193126022913299E-3,null,null,235,4.93453355155484E-2,null,null,235,null,null,null,0,4.93453355155484E-2,null,null,235,0.46153846153846201,null,null,235]
[null,"Frederikshavn","2018-07-01",20182,15,null,null,469,61,null,null,469,27,null,null,469,328,null,null,469,null,null,null,469,0,null,null,469,3,null,null,99,0,null,null,74,null,null,null,74,null,null,null,25,28,null,null,326,0,null,null,0,0,null,null,0,4.0183696900114802E-3,null,null,469,6.2038707561095599E-2,null,null,469,null,null,null,0,6.2038707561095599E-2,null,null,469,0.30666666666666698,null,null,469]
[null,"Frederikssund","2018-07-01",20182,18,null,null,262,null,null,null,262,35,null,null,262,195,null,null,262,10,null,null,262,null,null,null,262,4,null,null,null,0,null,null,null,null,null,null,null,null,null,null,34,36,null,null,204,0,null,null,null,0,null,null,null,4.6462125660595703E-2,null,null,262,9.1015854374632901E-2,null,null,262,null,null,null,null,9.1364574123194806E-2,null,null,null,0.33333333333333298,null,null,262]
[null,"Furesø","2018-07-01",20182,15,null,null,223,null,null,null,223,19,null,null,223,166,null,null,223,11,null,null,223,null,null,null,223,null,null,null,43,0,null,null,25,0,null,null,25,null,null,null,18,9,null,null,159,0,null,null,0,0,null,null,0,1.3970334598137299E-2,null,null,223,3.4580889962055897E-2,null,null,223,null,null,null,null,3.4736659736659702E-2,null,null,null,0.41071428571428598,null,null,223]
[null,"Faaborg-Midtfyn","2018-07-01",20182,8,null,null,344,11,null,null,344,15,null,null,344,263,null,null,344,47,null,null,344,0,null,null,344,0,null,null,31,0,null,null,19,0,null,null,19,0,null,null,12,18,null,null,230,0,null,null,0,0,null,null,0,2.4429785330948101E-2,null,null,344,3.5163237924865802E-2,null,null,344,null,null,null,0,3.5163237924865802E-2,null,null,344,0.57142857142857095,null,null,344]
[null,"Gentofte","2018-07-01",20182,10,null,null,204,29,null,null,204,32,null,null,204,123,null,null,204,null,null,null,204,0,null,null,204,null,null,null,69,0,null,null,39,null,null,null,39,null,null,null,30,20,null,null,119,0,null,null,0,0,null,null,0,2.01734539969834E-2,null,null,204,4.0912518853695297E-2,null,null,204,null,null,null,0,4.0912518853695297E-2,null,null,204,0.52,null,null,204]
[null,"Gladsaxe","2018-07-01",20182,22,null,null,176,23,null,null,176,21,null,null,176,96,null,null,176,null,null,null,176,0,null,null,176,4,null,null,63,0,null,null,38,null,null,null,38,null,null,null,25,27,null,null,98,0,null,null,0,0,null,null,0,9.8339160839160805E-4,null,null,176,4.6765734265734299E-2,null,null,176,null,null,null,0,4.6765734265734299E-2,null,null,176,0.46341463414634099,null,null,176]
[null,"Glostrup","2018-07-01",20182,13,null,null,182,12,null,null,182,9,null,null,182,123,null,null,182,16,null,null,182,0,null,null,182,0,null,null,32,0,null,null,25,0,null,null,25,0,null,null,7,11,null,null,126,0,null,null,0,0,null,null,0,2.9691462383770101E-2,null,null,182,6.4666103127641594E-2,null,null,182,null,null,null,0,6.4666103127641594E-2,null,null,182,0.72340425531914898,null,null,182]
[null,"Greve","2018-07-01",20182,15,null,null,205,10,null,null,205,31,null,null,205,125,null,null,205,24,null,null,205,0,null,null,205,null,null,null,50,0,null,null,22,null,null,null,22,0,null,null,28,8,null,null,119,0,null,null,0,0,null,null,0,5.03752345215722E-2,null,null,205,9.1369606003752296E-2,null,null,205,null,null,null,0,9.1369606003752296E-2,null,null,205,0.30232558139534899,null,null,205]
[null,"Gribskov","2018-07-01",20182,7,null,null,104,12,null,null,104,25,null,null,104,55,null,null,104,null,null,null,104,0,null,null,104,null,null,null,41,0,null,null,16,0,null,null,16,null,null,null,25,9,null,null,52,0,null,null,0,0,null,null,0,1.9970414201183399E-2,null,null,104,7.0451183431952696E-2,null,null,104,null,null,null,0,7.0451183431952696E-2,null,null,104,0.6875,null,null,104]
[null,"Guldborgsund","2018-07-01",20182,39,null,null,442,18,null,null,442,45,null,null,442,301,null,null,442,39,null,null,442,0,null,null,442,6,null,null,102,0,null,null,59,3,null,null,59,3,null,null,43,36,null,null,292,0,null,null,0,0,null,null,0,8.9627567003132593E-3,null,null,442,4.6336581970066099E-2,null,null,442,null,null,null,0,4.6336581970066099E-2,null,null,442,0.5,null,null,442]
[null,"Haderslev","2018-07-01",20182,6,null,null,226,33,null,null,226,12,null,null,226,171,null,null,226,4,null,null,226,0,null,null,226,3,null,null,51,0,null,null,41,3,null,null,41,0,null,null,10,19,null,null,164,0,null,null,0,0,null,null,0,1.6678012253233499E-2,null,null,226,6.2117086453369599E-3,null,null,226,null,null,null,0,6.2117086453369599E-3,null,null,226,0.62820512820512797,null,null,226]
[null,"Halsnæs","2018-07-01",20182,12,null,null,174,7,null,null,174,15,null,null,174,136,null,null,174,null,null,null,174,0,null,null,174,null,null,null,34,0,null,null,19,0,null,null,19,null,null,null,15,24,null,null,133,0,null,null,0,0,null,null,0,7.9575596816976093E-3,null,null,174,6.0455349248452701E-2,null,null,174,null,null,null,0,6.0455349248452701E-2,null,null,174,0.39534883720930197,null,null,174]
[null,"Hedensted","2018-07-01",20182,10,null,null,244,15,null,null,244,15,null,null,244,193,null,null,244,8,null,null,244,0,null,null,244,3,null,null,42,0,null,null,25,0,null,null,25,3,null,null,17,37,null,null,207,0,null,null,0,0,null,null,0,1.6787515762925601E-2,null,null,244,5.3278688524591E-2,null,null,244,null,null,null,0,5.3278688524591E-2,null,null,244,null,null,null,244]
[null,"Helsingør","2018-07-01",20182,30,null,null,264,11,null,null,264,59,null,null,264,117,null,null,264,47,null,null,264,0,null,null,264,5,null,null,96,null,null,null,43,null,null,null,43,null,null,null,53,10,null,null,111,0,null,null,0,0,null,null,0,1.01981351981352E-2,null,null,264,5.4414335664335699E-2,null,null,264,null,null,null,0,5.4414335664335699E-2,null,null,264,0.48148148148148201,null,null,264]
[null,"Herlev","2018-07-01",20182,13,null,null,117,7,null,null,117,28,null,null,117,64,null,null,117,null,null,null,117,0,null,null,117,3,null,null,47,0,null,null,21,null,null,null,21,null,null,null,26,6,null,null,65,0,null,null,0,0,null,null,0,1.9723865877712E-2,null,null,117,4.2735042735042701E-2,null,null,117,null,null,null,0,4.2735042735042701E-2,null,null,117,0.29032258064516098,null,null,117]
[null,"Herning","2018-07-01",20182,21,null,null,407,44,null,null,407,26,null,null,407,295,null,null,407,11,null,null,407,0,null,null,407,9,null,null,93,0,null,null,65,5,null,null,65,4,null,null,28,33,null,null,291,0,null,null,0,0,null,null,0,1.2710262710262699E-2,null,null,407,8.8499338499338498E-2,null,null,407,null,null,null,0,8.8499338499338498E-2,null,null,407,0.37662337662337703,null,null,407]
[null,"Hillerød","2018-07-01",20182,14,null,null,205,null,null,null,205,20,null,null,205,153,null,null,205,10,null,null,205,0,null,null,205,null,null,null,null,0,null,null,null,0,null,null,null,null,null,null,20,16,null,null,139,0,null,null,0,0,null,null,0,1.3696060037523499E-2,null,null,205,4.5121951219512201E-2,null,null,205,null,null,null,0,4.5121951219512201E-2,null,null,205,0.51948051948051899,null,null,205]
[null,"Hjørring","2018-07-01",20182,20,null,null,422,70,null,null,422,36,null,null,422,287,null,null,422,null,null,null,422,0,null,null,422,8,null,null,125,null,null,null,93,null,null,null,93,null,null,null,32,46,null,null,301,0,null,null,0,0,null,null,0,2.7798031352533701E-2,null,null,422,4.1332482683193603E-2,null,null,422,null,null,null,0,4.1332482683193603E-2,null,null,422,0.293333333333333,null,null,422]
[null,"Holbæk","2018-07-01",20182,null,null,null,271,52,null,null,271,28,null,null,271,181,null,null,271,7,null,null,271,0,null,null,271,6,null,null,null,null,null,null,null,null,null,null,null,null,null,null,25,8,null,null,178,0,null,null,0,0,null,null,0,4.6125461254612598E-3,null,null,271,5.7976156684643801E-2,null,null,271,null,null,null,0,5.7976156684643801E-2,null,null,271,0.52173913043478304,null,null,271]
[null,"Holstebro","2018-07-01",20182,19,null,null,344,51,null,null,344,35,null,null,344,225,null,null,344,14,null,null,344,0,null,null,344,9,null,null,104,0,null,null,67,3,null,null,67,6,null,null,37,30,null,null,211,0,null,null,0,0,null,null,0,1.02862254025045E-2,null,null,344,4.60084973166369E-2,null,null,344,null,null,null,0,4.60084973166369E-2,null,null,344,0.394736842105263,null,null,344]
[null,"Horsens","2018-07-01",20182,34,null,null,431,44,null,null,431,45,null,null,431,279,null,null,431,26,null,null,431,0,null,null,431,7,null,null,118,0,null,null,72,3,null,null,72,4,null,null,46,39,null,null,298,0,null,null,0,0,null,null,0,6.24665357844012E-3,null,null,431,5.66214527931466E-2,null,null,431,null,null,null,0,5.66214527931466E-2,null,null,431,0.50442477876106195,null,null,431]
[null,"Hvidovre","2018-07-01",20182,36,null,null,206,16,null,null,206,31,null,null,206,89,null,null,206,null,null,null,206,0,null,null,206,6,null,null,84,null,null,null,50,null,null,null,50,null,null,null,34,16,null,null,87,0,null,null,0,0,null,null,0,8.4951456310679609E-3,null,null,206,4.3876026885735601E-2,null,null,206,null,null,null,0,4.3876026885735601E-2,null,null,206,0.35593220338983,null,null,206]
[null,"Høje-Taastrup","2018-07-01",20182,12,null,null,246,39,null,null,246,25,null,null,246,158,null,null,246,6,null,null,246,0,null,null,246,4,null,null,70,null,null,null,50,null,null,null,50,null,null,null,20,19,null,null,142,0,null,null,0,0,null,null,0,1.11006879299562E-2,null,null,246,3.8070669168230098E-2,null,null,246,null,null,null,0,3.8070669168230098E-2,null,null,246,0.54216867469879504,null,null,246]
[null,"Hørsholm","2018-07-01",20182,10,null,null,66,null,null,null,66,11,null,null,66,39,null,null,66,3,null,null,66,0,null,null,66,null,null,null,null,0,null,null,null,0,null,null,null,null,null,null,11,8,null,null,45,0,null,null,0,0,null,null,0,1.0780885780885799E-2,null,null,66,4.6911421911421898E-2,null,null,66,null,null,null,0,4.6911421911421898E-2,null,null,66,0.25,null,null,66]
[null,"Ikast-Brande","2018-07-01",20182,5,null,null,153,26,null,null,153,17,null,null,153,99,null,null,153,6,null,null,153,0,null,null,153,null,null,null,50,0,null,null,32,null,null,null,32,null,null,null,18,8,null,null,105,0,null,null,0,0,null,null,0,6.5359477124183E-3,null,null,153,3.7078934137757702E-2,null,null,153,null,null,null,0,3.7078934137757702E-2,null,null,153,0.64285714285714302,null,null,153]
[null,"Ishøj","2018-07-01",20182,12,null,null,118,7,null,null,118,21,null,null,118,68,null,null,118,6,null,null,118,0,null,null,118,3,null,null,42,0,null,null,20,null,null,null,20,null,null,null,22,4,null,null,66,0,null,null,0,0,null,null,0,2.0371577574967398E-2,null,null,118,4.1558018252933503E-2,null,null,118,null,null,null,0,4.1558018252933503E-2,null,null,118,0.52380952380952395,null,null,118]
[null,"Jammerbugt","2018-07-01",20182,8,null,null,195,31,null,null,195,13,null,null,195,138,null,null,195,null,null,null,195,0,null,null,195,7,null,null,52,null,null,null,40,4,null,null,40,null,null,null,12,13,null,null,133,0,null,null,0,0,null,null,0,5.9171597633136102E-3,null,null,195,3.5897435897435902E-2,null,null,195,null,null,null,0,3.5897435897435902E-2,null,null,195,0.5,null,null,195]
[null,"Kalundborg","2018-07-01",20182,37,null,null,500,34,null,null,500,42,null,null,500,369,null,null,500,null,null,null,500,0,null,null,500,10,null,null,112,0,null,null,67,3,null,null,67,7,null,null,45,36,null,null,340,0,null,null,0,0,null,null,0,1.8576923076923098E-2,null,null,500,4.5269230769230798E-2,null,null,500,null,null,null,0,4.5269230769230798E-2,null,null,500,0.35,null,null,500]
[null,"Kerteminde","2018-07-01",20182,4,null,null,106,11,null,null,106,8,null,null,106,59,null,null,106,null,null,null,106,0,null,null,106,0,null,null,20,0,null,null,14,0,null,null,14,0,null,null,6,13,null,null,64,0,null,null,0,0,null,null,0,1.0522496371552999E-2,null,null,106,2.3403483309143699E-2,null,null,106,null,null,null,0,2.3403483309143699E-2,null,null,106,null,null,null,106]
[null,"Kolding","2018-07-01",20182,30,null,null,351,null,null,null,351,38,null,null,351,266,null,null,351,11,null,null,351,null,null,null,351,3,null,null,null,0,null,null,null,3,null,null,null,0,null,null,34,64,null,null,291,0,null,null,null,0,null,null,null,4.0927021696252501E-2,null,null,351,3.5886478194170499E-2,null,null,351,0.2,null,null,null,3.3514895509115197E-2,null,null,null,0.38823529411764701,null,null,351]
[null,"København","2018-07-01",20182,541,null,null,1930,482,null,null,1930,181,null,null,1930,632,null,null,1930,59,null,null,1930,0,null,null,1930,4,null,null,1122,null,null,null,958,null,null,null,958,null,null,null,164,100,null,null,652,0,null,null,0,0,null,null,0,1.8164607413312099E-2,null,null,1930,2.7620565962534899E-2,null,null,1930,null,null,null,0,2.7620565962534899E-2,null,null,1930,0.49598930481283399,null,null,1930]
[null,"Køge","2018-07-01",20182,43,null,null,327,0,null,null,327,28,null,null,327,239,null,null,327,null,null,null,327,0,null,null,327,9,null,null,72,null,null,null,42,null,null,null,42,null,null,null,30,26,null,null,230,0,null,null,0,0,null,null,0,1.9054340155257601E-2,null,null,327,4.2754645965655098E-2,null,null,327,null,null,null,0,4.2754645965655098E-2,null,null,327,0.394736842105263,null,null,327]
[null,"Langeland","2018-07-01",20182,6,null,null,79,19,null,null,79,12,null,null,79,31,null,null,79,11,null,null,79,0,null,null,79,0,null,null,33,0,null,null,24,0,null,null,24,0,null,null,9,4,null,null,36,0,null,null,0,0,null,null,0,1.6553067185978598E-2,null,null,79,3.6514118792599803E-2,null,null,79,null,null,null,0,3.6514118792599803E-2,null,null,79,0.47058823529411797,null,null,79]
[null,"Lejre","2018-07-01",20182,5,null,null,114,11,null,null,114,18,null,null,114,77,null,null,114,3,null,null,114,0,null,null,114,3,null,null,35,0,null,null,17,null,null,null,17,null,null,null,18,11,null,null,78,0,null,null,0,0,null,null,0,7.9284750337381901E-3,null,null,114,0.118927125506073,null,null,114,null,null,null,0,0.118927125506073,null,null,114,null,null,null,114]
[null,"Lemvig","2018-07-01",20182,7,null,null,121,13,null,null,121,6,null,null,121,89,null,null,121,null,null,null,121,0,null,null,121,null,null,null,27,0,null,null,20,0,null,null,20,null,null,null,7,null,null,null,83,0,null,null,0,0,null,null,0,1.5893197711379502E-2,null,null,121,0.115543547361729,null,null,121,null,null,null,0,0.115543547361729,null,null,121,null,null,null,121]
[null,"Lolland","2018-07-01",20182,13,null,null,426,10,null,null,426,35,null,null,426,361,null,null,426,3,null,null,426,0,null,null,426,6,null,null,51,null,null,null,22,null,null,null,22,null,null,null,29,57,null,null,363,0,null,null,0,0,null,null,0,2.3519321054532302E-2,null,null,426,3.0110148067894499E-2,null,null,426,null,null,null,0,3.0110148067894499E-2,null,null,426,0.31343283582089598,null,null,426]
[null,"Lyngby-Taarbæk","2018-07-01",20182,15,null,null,215,14,null,null,215,11,null,null,215,161,null,null,215,11,null,null,215,0,null,null,215,null,null,null,38,0,null,null,27,0,null,null,27,null,null,null,11,15,null,null,164,0,null,null,0,0,null,null,0,1.94991055456172E-2,null,null,215,9.9016100178890898E-2,null,null,215,null,null,null,0,9.9016100178890898E-2,null,null,215,0.32653061224489799,null,null,215]
[null,"Mariagerfjord","2018-07-01",20182,null,null,null,202,8,null,null,202,16,null,null,202,172,null,null,202,null,null,null,202,null,null,null,202,null,null,null,null,0,null,null,null,0,null,null,null,null,null,null,13,10,null,null,161,0,null,null,null,0,null,null,null,4.4649657273419699E-2,null,null,202,4.3126428027418097E-2,null,null,202,null,null,null,null,4.3126428027418097E-2,null,null,null,0.17241379310344801,null,null,202]
[null,"Middelfart","2018-07-01",20182,11,null,null,179,27,null,null,179,8,null,null,179,94,null,null,179,39,null,null,179,0,null,null,179,4,null,null,44,0,null,null,39,4,null,null,39,0,null,null,5,10,null,null,103,0,null,null,0,0,null,null,0,1.6115169746454699E-3,null,null,179,4.51224752900731E-2,null,null,179,null,null,null,0,4.51224752900731E-2,null,null,179,0.48148148148148201,null,null,179]
[null,"Morsø","2018-07-01",20182,8,null,null,238,27,null,null,238,15,null,null,238,146,null,null,238,42,null,null,238,0,null,null,238,4,null,null,46,0,null,null,34,null,null,null,34,null,null,null,12,15,null,null,136,0,null,null,0,0,null,null,0,4.3552036199095E-2,null,null,238,7.1024563671622506E-2,null,null,238,null,null,null,0,7.1024563671622506E-2,null,null,238,0.269230769230769,null,null,238]
[null,"Norddjurs","2018-07-01",20182,null,null,null,215,29,null,null,215,null,null,null,215,154,null,null,215,26,null,null,215,null,null,null,215,null,null,null,32,0,null,null,32,null,null,null,32,0,null,null,0,13,null,null,154,0,null,null,0,0,null,null,0,1.7889087656529499E-2,null,null,215,5.9123434704830002E-2,null,null,215,null,null,null,null,5.9123434704830002E-2,null,null,null,0.34146341463414598,null,null,215]
[null,"Nordfyns","2018-07-01",20182,null,null,null,118,19,null,null,118,5,null,null,118,77,null,null,118,13,null,null,118,0,null,null,118,null,null,null,null,0,null,null,null,null,null,null,null,0,null,null,4,19,null,null,62,0,null,null,0,0,null,null,0,8.4745762711864406E-3,null,null,118,0.116688396349413,null,null,118,null,null,null,0,0.116688396349413,null,null,118,0.68888888888888899,null,null,118]
[null,"Nyborg","2018-07-01",20182,8,null,null,145,28,null,null,145,6,null,null,145,93,null,null,145,null,null,null,145,0,null,null,145,null,null,null,40,0,null,null,36,null,null,null,36,0,null,null,4,12,null,null,88,0,null,null,0,0,null,null,0,2.2811671087533202E-2,null,null,145,5.8090185676392597E-2,null,null,145,null,null,null,0,5.8090185676392597E-2,null,null,145,0.52941176470588203,null,null,145]
[null,"Næstved","2018-07-01",20182,31,null,null,469,35,null,null,469,75,null,null,469,312,null,null,469,13,null,null,469,0,null,null,469,5,null,null,141,null,null,null,68,null,null,null,68,null,null,null,73,42,null,null,281,0,null,null,0,0,null,null,0,4.6990323109726097E-2,null,null,469,2.47252747252747E-2,null,null,469,null,null,null,0,2.47252747252747E-2,null,null,469,0.4,null,null,469]
[null,"Odder","2018-07-01",20182,null,null,null,106,4,null,null,106,9,null,null,106,88,null,null,106,null,null,null,106,null,null,null,106,null,null,null,null,0,null,null,null,null,null,null,null,0,null,null,9,8,null,null,90,0,null,null,null,0,null,null,null,8.3454281567489092E-3,null,null,106,0.100507982583454,null,null,106,null,null,null,null,0.100507982583454,null,null,null,0.52941176470588203,null,null,106]
[null,"Odense","2018-07-01",20182,65,null,null,778,71,null,null,778,60,null,null,778,464,null,null,778,111,null,null,778,0,null,null,778,14,null,null,198,0,null,null,139,7,null,null,139,7,null,null,59,39,null,null,447,0,null,null,0,0,null,null,0,1.5275855250148299E-2,null,null,778,3.7917737789203099E-2,null,null,778,null,null,null,0,3.7917737789203099E-2,null,null,778,0.56481481481481499,null,null,778]
[null,"Odsherred","2018-07-01",20182,16,null,null,139,null,null,null,139,12,null,null,139,100,null,null,139,null,null,null,139,null,null,null,139,5,null,null,38,null,null,null,25,null,null,null,25,null,null,null,13,13,null,null,100,0,null,null,0,0,null,null,0,8.3010514665190892E-3,null,null,139,2.53182069728832E-2,null,null,139,null,null,null,null,2.53182069728832E-2,null,null,null,0.56000000000000005,null,null,139]
[null,"Randers","2018-07-01",20182,9,null,null,358,45,null,null,358,21,null,null,358,259,null,null,358,null,null,null,358,0,null,null,358,11,null,null,78,null,null,null,48,null,null,null,48,null,null,null,30,80,null,null,318,0,null,null,0,0,null,null,0,2.7879243661366598E-2,null,null,358,5.9196390201976798E-2,null,null,358,null,null,null,0,5.9196390201976798E-2,null,null,358,0.50684931506849296,null,null,358]
[null,"Rebild","2018-07-01",20182,null,null,null,96,21,null,null,96,9,null,null,96,59,null,null,96,null,null,null,96,null,null,null,96,0,null,null,null,0,null,null,null,0,null,null,null,0,null,null,8,11,null,null,60,0,null,null,null,0,null,null,null,7.0112179487179498E-3,null,null,96,8.2932692307692304E-2,null,null,96,null,null,null,null,8.2932692307692304E-2,null,null,null,null,null,null,96]
[null,"Ringkøbing-Skjern","2018-07-01",20182,12,null,null,510,86,null,null,510,54,null,null,510,321,null,null,510,32,null,null,510,0,null,null,510,10,null,null,155,null,null,null,99,null,null,null,99,6,null,null,56,13,null,null,309,0,null,null,0,0,null,null,0,1.14630467571644E-2,null,null,510,6.3423831070889905E-2,null,null,510,null,null,null,0,6.3423831070889905E-2,null,null,510,0.40909090909090901,null,null,510]
[null,"Ringsted","2018-07-01",20182,4,null,null,112,6,null,null,112,15,null,null,112,81,null,null,112,null,null,null,112,0,null,null,112,null,null,null,26,0,null,null,10,null,null,null,10,null,null,null,16,18,null,null,91,0,null,null,0,0,null,null,0,3.3482142857142898E-2,null,null,112,1.7857142857142901E-2,null,null,112,null,null,null,0,1.7857142857142901E-2,null,null,112,0.61538461538461497,null,null,112]
[null,"Roskilde","2018-07-01",20182,15,null,null,389,54,null,null,389,59,null,null,389,243,null,null,389,null,null,null,389,0,null,null,389,9,null,null,120,null,null,null,65,null,null,null,65,null,null,null,55,26,null,null,241,0,null,null,0,0,null,null,0,2.80304528376508E-2,null,null,389,3.9697449080482498E-2,null,null,389,null,null,null,0,3.9697449080482498E-2,null,null,389,0.4,null,null,389]
[null,"Rudersdal","2018-07-01",20182,5,null,null,184,33,null,null,184,17,null,null,184,125,null,null,184,null,null,null,184,0,null,null,184,9,null,null,null,0,null,null,null,5,null,null,null,4,null,null,17,15,null,null,129,0,null,null,null,0,null,null,null,1.8603678929765902E-2,null,null,184,8.5284280936454807E-2,null,null,184,null,null,null,0,8.5284280936454807E-2,null,null,184,0.51063829787234005,null,null,184]
[null,"Rødovre","2018-07-01",20182,27,null,null,201,14,null,null,201,23,null,null,201,131,null,null,201,null,null,null,201,0,null,null,201,null,null,null,61,0,null,null,40,0,null,null,40,null,null,null,21,14,null,null,132,0,null,null,0,0,null,null,0,2.2292384232682701E-2,null,null,201,4.86988136241868E-2,null,null,201,null,null,null,0,4.86988136241868E-2,null,null,201,0.5,null,null,201]
[null,"Silkeborg","2018-07-01",20182,15,null,null,600,43,null,null,600,141,null,null,600,352,null,null,600,null,null,null,600,11,null,null,600,14,null,null,193,null,null,null,60,null,null,null,60,null,null,null,133,38,null,null,360,0,null,null,0,0,null,null,0,1.5256410256410301E-2,null,null,600,6.26923076923077E-2,null,null,600,0.120879120879121,null,null,11,6.13021790496193E-2,null,null,589,0.37931034482758602,null,null,600]
[null,"Skanderborg","2018-07-01",20182,3,null,null,383,4,null,null,383,41,null,null,383,314,null,null,383,21,null,null,383,0,null,null,383,5,null,null,45,null,null,null,7,null,null,null,7,null,null,null,38,16,null,null,292,0,null,null,0,0,null,null,0,1.8527816830688899E-2,null,null,383,6.4269933721630798E-2,null,null,383,null,null,null,0,6.4269933721630798E-2,null,null,383,0.69892473118279597,null,null,383]
[null,"Skive","2018-07-01",20182,null,null,null,194,18,null,null,194,6,null,null,194,149,null,null,194,6,null,null,194,9,null,null,194,0,null,null,null,0,null,null,null,0,null,null,null,0,null,null,6,9,null,null,134,0,null,null,0,0,null,null,0,1.00118953211737E-2,null,null,194,0.13491276764472601,null,null,194,0.200854700854701,null,null,9,0.131704781704782,null,null,185,0.4,null,null,194]
[null,"Slagelse","2018-07-01",20182,15,null,null,311,26,null,null,311,21,null,null,311,219,null,null,311,5,null,null,311,25,null,null,311,6,null,null,67,null,null,null,43,null,null,null,43,null,null,null,24,17,null,null,197,0,null,null,0,0,null,null,0,3.5493445461291101E-2,null,null,311,3.0608459065050699E-2,null,null,311,2.84900284900285E-3,null,null,25,3.3247562296858102E-2,null,null,286,0.41891891891891903,null,null,311]
[null,"Solrød","2018-07-01",20182,7,null,null,68,null,null,null,68,15,null,null,68,40,null,null,68,null,null,null,68,null,null,null,68,null,null,null,null,0,null,null,null,null,null,null,null,0,null,null,14,0,null,null,35,0,null,null,null,0,null,null,null,2.2907239819004499E-2,null,null,68,5.65610859728507E-2,null,null,68,null,null,null,null,5.65610859728507E-2,null,null,null,null,null,null,68]
[null,"Sorø","2018-07-01",20182,8,null,null,168,19,null,null,168,15,null,null,168,122,null,null,168,4,null,null,168,0,null,null,168,5,null,null,43,null,null,null,29,null,null,null,29,null,null,null,14,17,null,null,126,0,null,null,0,0,null,null,0,1.40796703296703E-2,null,null,168,2.9189560439560398E-2,null,null,168,null,null,null,0,2.9189560439560398E-2,null,null,168,0.30434782608695699,null,null,168]
[null,"Stevns","2018-07-01",20182,null,null,null,61,null,null,null,61,12,null,null,61,43,null,null,61,null,null,null,61,0,null,null,61,null,null,null,null,0,null,null,null,null,null,null,null,0,null,null,11,4,null,null,39,0,null,null,null,0,null,null,null,1.38713745271122E-2,null,null,61,3.9407313997477898E-2,null,null,61,null,null,null,0,3.9407313997477898E-2,null,null,61,null,null,null,61]
[null,"Struer","2018-07-01",20182,0,null,null,131,14,null,null,131,12,null,null,131,88,null,null,131,null,null,null,131,14,null,null,131,null,null,null,null,0,null,null,null,0,null,null,null,null,null,null,14,9,null,null,88,0,null,null,null,0,null,null,null,3.0827950675278899E-2,null,null,131,7.23722842043453E-2,null,null,131,0.16758241758241799,null,null,14,6.0979618671926403E-2,null,null,117,0.41935483870967799,null,null,131]
[null,"Svendborg","2018-07-01",20182,29,null,null,339,22,null,null,339,20,null,null,339,219,null,null,339,49,null,null,339,0,null,null,339,9,null,null,76,0,null,null,52,3,null,null,52,6,null,null,24,38,null,null,242,0,null,null,0,0,null,null,0,2.1102791014295401E-2,null,null,339,7.9986385296119799E-3,null,null,339,null,null,null,0,7.9986385296119799E-3,null,null,339,0.52586206896551702,null,null,339]
[null,"Syddjurs","2018-07-01",20182,5,null,null,130,9,null,null,130,10,null,null,130,83,null,null,130,20,null,null,130,0,null,null,130,3,null,null,24,0,null,null,12,null,null,null,12,null,null,null,12,9,null,null,84,0,null,null,0,0,null,null,0,2.15976331360947E-2,null,null,130,4.12721893491124E-2,null,null,130,null,null,null,0,4.12721893491124E-2,null,null,130,0.44444444444444398,null,null,130]
[null,"Sønderborg","2018-07-01",20182,17,null,null,600,73,null,null,600,31,null,null,600,464,null,null,600,12,null,null,600,0,null,null,600,11,null,null,124,0,null,null,93,6,null,null,93,5,null,null,31,52,null,null,454,0,null,null,0,0,null,null,0,2.0993589743589801E-2,null,null,600,5.8301282051277797E-2,null,null,600,null,null,null,0,5.8301282051277797E-2,null,null,600,0.57861635220125796,null,null,600]
[null,"Thisted","2018-07-01",20182,null,null,null,136,28,null,null,136,null,null,null,136,89,null,null,136,16,null,null,136,0,null,null,136,0,null,null,null,0,null,null,null,0,null,null,null,0,null,null,null,0,null,null,79,0,null,null,null,0,null,null,null,1.7675339366515799E-2,null,null,136,4.8783936651583697E-2,null,null,136,null,null,null,0,4.8783936651583697E-2,null,null,136,0.29411764705882398,null,null,136]
[null,"Tønder","2018-07-01",20182,8,null,null,208,21,null,null,208,12,null,null,208,160,null,null,208,4,null,null,208,0,null,null,208,5,null,null,38,null,null,null,27,null,null,null,27,null,null,null,11,30,null,null,170,0,null,null,0,0,null,null,0,9.24556213017752E-5,null,null,208,3.9016272189349097E-2,null,null,208,null,null,null,0,3.9016272189349097E-2,null,null,208,0.54347826086956497,null,null,208]
[null,"Tårnby","2018-07-01",20182,12,null,null,126,null,null,null,126,22,null,null,126,64,null,null,126,24,null,null,126,0,null,null,126,5,null,null,null,null,null,null,null,null,null,null,null,null,null,null,22,null,null,null,59,0,null,null,0,0,null,null,0,2.7319902319902299E-2,null,null,126,6.8528693528693493E-2,null,null,126,null,null,null,0,6.8528693528693493E-2,null,null,126,0.32258064516128998,null,null,126]
[null,"Varde","2018-07-01",20182,7,null,null,248,5,null,null,248,18,null,null,248,212,null,null,248,null,null,null,248,0,null,null,248,5,null,null,33,null,null,null,13,null,null,null,13,null,null,null,20,34,null,null,211,0,null,null,0,0,null,null,0,2.1246898263027302E-2,null,null,248,7.0952233250620403E-2,null,null,248,null,null,null,0,7.0952233250620403E-2,null,null,248,0.17073170731707299,null,null,248]
[null,"Vejen","2018-07-01",20182,12,null,null,213,4,null,null,213,32,null,null,213,137,null,null,213,28,null,null,213,0,null,null,213,3,null,null,46,0,null,null,13,null,null,null,13,null,null,null,33,14,null,null,128,0,null,null,0,0,null,null,0,2.29324665944384E-2,null,null,213,5.2094618996027499E-2,null,null,213,null,null,null,0,5.2094618996027499E-2,null,null,213,0.47826086956521702,null,null,213]
[null,"Vejle","2018-07-01",20182,19,null,null,479,33,null,null,479,40,null,null,479,357,null,null,479,15,null,null,479,15,null,null,479,11,null,null,93,0,null,null,55,3,null,null,55,8,null,null,38,50,null,null,342,0,null,null,0,0,null,null,0,2.9709330335635099E-2,null,null,479,5.38782720411113E-2,null,null,479,0.108974358974359,null,null,15,5.2097148541114101E-2,null,null,464,0.40993788819875798,null,null,479]
[null,"Vesthimmerlands","2018-07-01",20182,null,null,null,107,19,null,null,107,11,null,null,107,65,null,null,107,null,null,null,107,null,null,null,107,9,null,null,null,0,null,null,null,6,null,null,null,3,null,null,14,23,null,null,79,0,null,null,null,0,null,null,null,1.9769949676491701E-2,null,null,107,2.33644859813084E-2,null,null,107,null,null,null,null,2.33644859813084E-2,null,null,null,0.58620689655172398,null,null,107]
[null,"Viborg","2018-07-01",20182,8,null,null,604,122,null,null,604,16,null,null,604,310,null,null,604,142,null,null,604,0,null,null,604,14,null,null,148,null,null,null,132,null,null,null,132,null,null,null,16,50,null,null,312,0,null,null,0,0,null,null,0,9.8700967906265903E-3,null,null,604,4.3205552725420301E-2,null,null,604,null,null,null,0,4.3205552725420301E-2,null,null,604,0.61764705882352899,null,null,604]
[null,"Vordingborg","2018-07-01",20182,9,null,null,439,31,null,null,439,16,null,null,439,332,null,null,439,47,null,null,439,null,null,null,439,0,null,null,55,0,null,null,40,0,null,null,40,0,null,null,15,5,null,null,306,0,null,null,null,0,null,null,null,8.5421412300683407E-3,null,null,439,3.7673033117224503E-2,null,null,439,null,null,null,null,3.6837021426062502E-2,null,null,null,0.60396039603960405,null,null,439]
[null,"Ærø","2018-07-01",20182]
[null,"Aabenraa","2018-07-01",20182,8,null,null,291,13,null,null,291,16,null,null,291,238,null,null,291,12,null,null,291,0,null,null,291,6,null,null,43,0,null,null,23,3,null,null,23,3,null,null,20,69,null,null,289,0,null,null,0,0,null,null,0,1.3481363996827899E-2,null,null,291,7.3883161512027506E-2,null,null,291,null,null,null,0,7.3883161512027506E-2,null,null,291,0.473118279569893,null,null,291]
[null,"Aalborg","2018-07-01",20182,33,null,null,904,161,null,null,904,50,null,null,904,621,null,null,904,39,null,null,904,0,null,null,904,13,null,null,251,0,null,null,199,8,null,null,199,5,null,null,52,59,null,null,620,0,null,null,0,0,null,null,0,5.0842409802586801E-3,null,null,904,2.93779782164738E-2,null,null,904,null,null,null,0,2.93779782164738E-2,null,null,904,0.322981366459627,null,null,904]
[null,"Aarhus","2018-07-01",20182,35,null,null,1997,211,null,null,1997,101,null,null,1997,1527,null,null,1997,110,null,null,1997,0,null,null,1997,21,null,null,348,0,null,null,248,13,null,null,248,8,null,null,100,176,null,null,1462,0,null,null,0,0,null,null,0,4.8813605022919003E-2,null,null,1997,5.6633026462771102E-2,null,null,1997,null,null,null,0,5.6633026462771102E-2,null,null,1997,0.54776119402985102,null,null,1997]
[null,"Albertslund","2019-01-01",20191,13,null,null,96,5,null,null,96,21,null,null,96,53,null,null,96,null,null,null,96,0,null,null,96,null,null,null,40,0,null,null,18,0,null,null,18,null,null,null,22,6,null,null,50,0,null,null,0,0,null,null,0,2.9847756410256401E-2,null,null,96,2.7243589743589699E-2,null,null,96,null,null,null,0,2.7243589743589699E-2,null,null,96,0.371428571428571,null,null,96]
[null,"Allerød","2019-01-01",20191,7,null,null,26,3,null,null,26,3,null,null,26,13,null,null,26,0,null,null,26,0,null,null,26,null,null,null,14,0,null,null,11,null,null,null,11,0,null,null,3,3,null,null,15,0,null,null,0,0,null,null,0,0,null,null,26,9.4674556213017805E-2,null,null,26,null,null,null,0,9.4674556213017805E-2,null,null,26,0.90625,null,null,26]
[null,"Assens","2019-01-01",20191,6,null,null,198,29,null,null,198,20,null,null,198,88,null,null,198,52,null,null,198,0,null,null,198,7,null,null,57,null,null,null,39,null,null,null,39,null,null,null,18,10,null,null,83,0,null,null,0,0,null,null,0,2.21445221445222E-2,null,null,198,2.62237762237762E-2,null,null,198,null,null,null,0,2.62237762237762E-2,null,null,198,0.22222222222222199,null,null,198]
[null,"Ballerup","2019-01-01",20191,22,null,null,260,18,null,null,260,38,null,null,260,161,null,null,260,null,null,null,260,0,null,null,260,4,null,null,77,null,null,null,39,null,null,null,39,null,null,null,38,11,null,null,145,0,null,null,0,0,null,null,0,2.84023668639053E-2,null,null,260,3.7056213017751499E-2,null,null,260,null,null,null,0,3.7056213017751499E-2,null,null,260,0.48780487804878098,null,null,260]
[null,"Billund","2019-01-01",20191,null,null,null,151,null,null,null,151,null,null,null,151,135,null,null,151,null,null,null,151,null,null,null,151,0,null,null,null,0,null,null,null,0,null,null,null,0,null,null,null,15,null,null,127,0,null,null,null,0,null,null,null,1.27356087620988E-3,null,null,151,7.2083545593479403E-2,null,null,151,null,null,null,null,7.2083545593479403E-2,null,null,null,0.29729729729729698,null,null,151]
[null,"Bornholm","2019-01-01",20191,0,null,null,220,12,null,null,220,27,null,null,220,175,null,null,220,null,null,null,220,0,null,null,220,null,null,null,37,0,null,null,12,0,null,null,12,null,null,null,25,20,null,null,185,0,null,null,0,0,null,null,0,1.42482517482517E-2,null,null,220,4.5891608391608399E-2,null,null,220,null,null,null,0,4.5891608391608399E-2,null,null,220,0.49038461538461497,null,null,220]
[null,"Brøndby","2019-01-01",20191,16,null,null,119,7,null,null,119,9,null,null,119,79,null,null,119,null,null,null,119,0,null,null,119,null,null,null,30,0,null,null,19,0,null,null,19,null,null,null,11,8,null,null,83,0,null,null,0,0,null,null,0,9.2113768584356805E-3,null,null,119,3.94311570782159E-2,null,null,119,null,null,null,0,3.94311570782159E-2,null,null,119,0.38775510204081598,null,null,119]
[null,"Brønderslev","2019-01-01",20191,14,null,null,187,15,null,null,187,13,null,null,187,134,null,null,187,null,null,null,187,0,null,null,187,9,null,null,48,0,null,null,32,4,null,null,32,5,null,null,16,15,null,null,130,0,null,null,0,0,null,null,0,2.0876182640888499E-2,null,null,187,7.9699712052653193E-2,null,null,187,null,null,null,0,7.9699712052653193E-2,null,null,187,0.36842105263157898,null,null,187]
[null,"Esbjerg","2019-01-01",20191,15,null,null,348,58,null,null,348,50,null,null,348,170,null,null,348,55,null,null,348,0,null,null,348,8,null,null,118,0,null,null,69,5,null,null,69,3,null,null,49,13,null,null,171,0,null,null,0,0,null,null,0,9.2838196286472198E-3,null,null,348,4.1942970822281198E-2,null,null,348,null,null,null,0,4.1942970822281198E-2,null,null,348,0.36956521739130399,null,null,348]
[null,"Favrskov","2019-01-01",20191,null,null,null,141,22,null,null,141,14,null,null,141,102,null,null,141,null,null,null,141,0,null,null,141,7,null,null,null,null,null,null,null,null,null,null,null,null,null,null,17,14,null,null,82,0,null,null,0,0,null,null,0,8.18330605564648E-3,null,null,141,7.5286415711947705E-2,null,null,141,null,null,null,0,7.5286415711947705E-2,null,null,141,0.5625,null,null,141]
[null,"Faxe","2019-01-01",20191,4,null,null,107,15,null,null,107,17,null,null,107,64,null,null,107,null,null,null,107,0,null,null,107,0,null,null,31,0,null,null,17,0,null,null,17,0,null,null,14,15,null,null,70,0,null,null,0,0,null,null,0,0,null,null,107,5.3019410496045999E-2,null,null,107,null,null,null,0,5.3019410496045999E-2,null,null,107,0.4375,null,null,107]
[null,"Fredensborg","2019-01-01",20191,37,null,null,182,7,null,null,182,24,null,null,182,84,null,null,182,13,null,null,182,12,null,null,182,8,null,null,73,null,null,null,46,null,null,null,46,4,null,null,27,13,null,null,88,null,null,null,3,0,null,null,3,3.78275570583263E-2,null,null,182,5.1352493660186002E-2,null,null,182,7.6923076923076802E-2,null,null,12,4.9547511312217199E-2,null,null,170,0.586666666666667,null,null,182]
[null,"Fredericia","2019-01-01",20191,21,null,null,279,null,null,null,279,null,null,null,279,189,null,null,279,48,null,null,279,null,null,null,279,5,null,null,40,null,null,null,21,null,null,null,21,null,null,null,19,14,null,null,180,0,null,null,0,0,null,null,0,2.75709953129308E-2,null,null,279,5.5279845602426297E-2,null,null,279,null,null,null,null,5.5279845602426297E-2,null,null,null,0.5,null,null,279]
[null,"Frederiksberg","2019-01-01",20191,41,null,null,231,9,null,null,231,55,null,null,231,116,null,null,231,null,null,null,231,0,null,null,231,5,null,null,97,null,null,null,51,null,null,null,51,null,null,null,46,26,null,null,127,0,null,null,0,0,null,null,0,3.8295038295038299E-3,null,null,231,4.1208791208791201E-2,null,null,231,null,null,null,0,4.1208791208791201E-2,null,null,231,0.38356164383561597,null,null,231]
[null,"Frederikshavn","2019-01-01",20191,15,null,null,488,59,null,null,488,30,null,null,488,338,null,null,488,null,null,null,488,0,null,null,488,9,null,null,103,0,null,null,76,5,null,null,76,4,null,null,27,36,null,null,328,0,null,null,0,0,null,null,0,5.87168978562421E-3,null,null,488,5.7889344262295098E-2,null,null,488,null,null,null,0,5.7889344262295098E-2,null,null,488,0.43589743589743601,null,null,488]
[null,"Frederikssund","2019-01-01",20191,17,null,null,241,null,null,null,241,33,null,null,241,179,null,null,241,7,null,null,241,null,null,null,241,4,null,null,null,null,null,null,null,null,null,null,null,null,null,null,35,40,null,null,195,0,null,null,null,0,null,null,null,3.37535908075327E-2,null,null,241,8.1232045962336505E-2,null,null,241,null,null,null,null,8.1570512820512905E-2,null,null,null,0.38461538461538503,null,null,241]
[null,"Furesø","2019-01-01",20191,16,null,null,217,10,null,null,217,19,null,null,217,157,null,null,217,null,null,null,217,0,null,null,217,3,null,null,null,0,null,null,null,null,null,null,null,null,null,null,19,12,null,null,166,null,null,null,null,null,null,null,null,1.8433179723502301E-2,null,null,217,3.61573909961007E-2,null,null,217,null,null,null,0,3.61573909961007E-2,null,null,217,0.53448275862068995,null,null,217]
[null,"Faaborg-Midtfyn","2019-01-01",20191,9,null,null,368,13,null,null,368,19,null,null,368,281,null,null,368,46,null,null,368,0,null,null,368,3,null,null,34,0,null,null,19,null,null,null,19,null,null,null,15,26,null,null,263,0,null,null,0,0,null,null,0,2.7487458193979901E-2,null,null,368,3.29744983277592E-2,null,null,368,null,null,null,0,3.29744983277592E-2,null,null,368,0.39130434782608697,null,null,368]
[null,"Gentofte","2019-01-01",20191,10,null,null,179,25,null,null,179,33,null,null,179,103,null,null,179,8,null,null,179,0,null,null,179,9,null,null,71,null,null,null,39,null,null,null,39,3,null,null,32,32,null,null,123,0,null,null,0,0,null,null,0,2.1809196390201999E-2,null,null,179,2.9222174473571099E-2,null,null,179,null,null,null,0,2.9222174473571099E-2,null,null,179,0.59649122807017496,null,null,179]
[null,"Gladsaxe","2019-01-01",20191,23,null,null,178,26,null,null,178,22,null,null,178,91,null,null,178,16,null,null,178,0,null,null,178,5,null,null,66,null,null,null,45,null,null,null,45,null,null,null,21,18,null,null,96,0,null,null,0,0,null,null,0,5.6179775280898901E-3,null,null,178,4.0298184961106299E-2,null,null,178,null,null,null,0,4.0298184961106299E-2,null,null,178,0.28947368421052599,null,null,178]
[null,"Glostrup","2019-01-01",20191,14,null,null,180,15,null,null,180,11,null,null,180,112,null,null,180,19,null,null,180,0,null,null,180,null,null,null,34,0,null,null,25,0,null,null,25,null,null,null,9,16,null,null,123,0,null,null,0,0,null,null,0,2.3504273504273501E-2,null,null,180,6.15384615384615E-2,null,null,180,null,null,null,0,6.15384615384615E-2,null,null,180,0.634920634920635,null,null,180]
[null,"Greve","2019-01-01",20191,16,null,null,221,10,null,null,221,29,null,null,221,141,null,null,221,25,null,null,221,0,null,null,221,4,null,null,56,0,null,null,25,0,null,null,25,4,null,null,31,10,null,null,125,0,null,null,0,0,null,null,0,4.0985033066480998E-2,null,null,221,8.6756004176818696E-2,null,null,221,null,null,null,0,8.6756004176818696E-2,null,null,221,0.54411764705882304,null,null,221]
[null,"Gribskov","2019-01-01",20191,7,null,null,95,12,null,null,95,24,null,null,95,48,null,null,95,null,null,null,95,0,null,null,95,4,null,null,44,0,null,null,19,0,null,null,19,4,null,null,25,12,null,null,55,0,null,null,0,0,null,null,0,2.77327935222672E-2,null,null,95,7.7125506072874495E-2,null,null,95,null,null,null,0,7.7125506072874495E-2,null,null,95,null,null,null,95]
[null,"Guldborgsund","2019-01-01",20191,35,null,null,447,18,null,null,447,43,null,null,447,313,null,null,447,38,null,null,447,0,null,null,447,11,null,null,102,0,null,null,57,5,null,null,57,6,null,null,45,32,null,null,301,0,null,null,0,0,null,null,0,1.65203923593185E-2,null,null,447,4.6678712786095297E-2,null,null,447,null,null,null,0,4.6678712786095297E-2,null,null,447,0.45454545454545497,null,null,447]
[null,"Haderslev","2019-01-01",20191,6,null,null,220,33,null,null,220,14,null,null,220,164,null,null,220,3,null,null,220,0,null,null,220,4,null,null,51,0,null,null,39,null,null,null,39,null,null,null,12,41,null,null,171,0,null,null,0,0,null,null,0,2.36888111888112E-2,null,null,220,1.38111888111888E-2,null,null,220,null,null,null,0,1.38111888111888E-2,null,null,220,0.44262295081967201,null,null,220]
[null,"Halsnæs","2019-01-01",20191,12,null,null,163,6,null,null,163,18,null,null,163,123,null,null,163,null,null,null,163,0,null,null,163,3,null,null,34,0,null,null,19,null,null,null,19,null,null,null,15,32,null,null,136,0,null,null,0,0,null,null,0,6.2529495044832501E-3,null,null,163,4.6602170835299703E-2,null,null,163,null,null,null,0,4.6602170835299703E-2,null,null,163,0.512820512820513,null,null,163]
[null,"Hedensted","2019-01-01",20191,12,null,null,235,15,null,null,235,9,null,null,235,187,null,null,235,9,null,null,235,0,null,null,235,5,null,null,40,0,null,null,25,0,null,null,25,5,null,null,15,34,null,null,193,0,null,null,0,0,null,null,0,4.3371522094926302E-3,null,null,235,5.0245499181666202E-2,null,null,235,null,null,null,0,5.0245499181666202E-2,null,null,235,0.24324324324324301,null,null,235]
[null,"Helsingør","2019-01-01",20191,30,null,null,260,12,null,null,260,56,null,null,260,126,null,null,260,36,null,null,260,0,null,null,260,11,null,null,100,null,null,null,41,null,null,null,41,null,null,null,59,14,null,null,117,0,null,null,0,0,null,null,0,1.19082840236686E-2,null,null,260,5.0961538461538503E-2,null,null,260,null,null,null,0,5.0961538461538503E-2,null,null,260,0.50961538461538503,null,null,260]
[null,"Herlev","2019-01-01",20191,13,null,null,116,7,null,null,116,28,null,null,116,63,null,null,116,null,null,null,116,0,null,null,116,null,null,null,48,0,null,null,20,null,null,null,20,null,null,null,28,10,null,null,64,0,null,null,0,0,null,null,0,9.11803713527852E-3,null,null,116,3.0172413793103502E-2,null,null,116,null,null,null,0,3.0172413793103502E-2,null,null,116,0.45714285714285702,null,null,116]
[null,"Herning","2019-01-01",20191,22,null,null,390,43,null,null,390,28,null,null,390,276,null,null,390,10,null,null,390,0,null,null,390,5,null,null,91,null,null,null,65,null,null,null,65,null,null,null,26,56,null,null,295,0,null,null,0,0,null,null,0,1.39546351084813E-2,null,null,390,6.5581854043392507E-2,null,null,390,null,null,null,0,6.5581854043392507E-2,null,null,390,0.38823529411764701,null,null,390]
[null,"Hillerød","2019-01-01",20191,14,null,null,253,null,null,null,253,20,null,null,253,197,null,null,253,7,null,null,253,7,null,null,253,null,null,null,null,0,null,null,null,0,null,null,null,null,null,null,20,36,null,null,153,0,null,null,0,0,null,null,0,1.61143204621465E-2,null,null,253,4.3934326543022199E-2,null,null,253,0,null,null,7,4.5184490306441498E-2,null,null,246,0.69924812030075201,null,null,253]
[null,"Hjørring","2019-01-01",20191,17,null,null,416,70,null,null,416,38,null,null,416,282,null,null,416,null,null,null,416,0,null,null,416,12,null,null,126,null,null,null,90,null,null,null,90,null,null,null,36,39,null,null,287,0,null,null,0,0,null,null,0,3.1296227810650903E-2,null,null,416,4.7753328402366901E-2,null,null,416,null,null,null,0,4.7753328402366901E-2,null,null,416,0.37804878048780499,null,null,416]
[null,"Holbæk","2019-01-01",20191,null,null,null,283,49,null,null,283,29,null,null,283,189,null,null,283,null,null,null,283,null,null,null,283,10,null,null,null,null,null,null,null,null,null,null,null,null,null,null,28,11,null,null,181,0,null,null,0,0,null,null,0,9.3775482468061999E-3,null,null,283,5.3207393313400402E-2,null,null,283,null,null,null,null,5.3207393313400402E-2,null,null,null,0.42857142857142899,null,null,283]
[null,"Holstebro","2019-01-01",20191,23,null,null,353,52,null,null,353,34,null,null,353,227,null,null,353,null,null,null,353,null,null,null,353,8,null,null,105,0,null,null,70,3,null,null,70,5,null,null,35,39,null,null,225,0,null,null,0,0,null,null,0,9.0978426672477693E-3,null,null,353,5.4096753105251701E-2,null,null,353,null,null,null,null,5.3309226386149502E-2,null,null,null,0.52873563218390796,null,null,353]
[null,"Horsens","2019-01-01",20191,35,null,null,432,47,null,null,432,48,null,null,432,269,null,null,432,29,null,null,432,0,null,null,432,4,null,null,123,0,null,null,78,null,null,null,78,null,null,null,45,35,null,null,279,0,null,null,0,0,null,null,0,1.1529558404558399E-2,null,null,432,4.8744658119658099E-2,null,null,432,null,null,null,0,4.8744658119658099E-2,null,null,432,0.511811023622047,null,null,432]
[null,"Hvidovre","2019-01-01",20191,35,null,null,211,17,null,null,211,31,null,null,211,93,null,null,211,35,null,null,211,0,null,null,211,5,null,null,83,null,null,null,52,null,null,null,52,null,null,null,31,12,null,null,89,0,null,null,0,0,null,null,0,8.3849799489609904E-3,null,null,211,4.06489245351805E-2,null,null,211,null,null,null,0,4.06489245351805E-2,null,null,211,0.569620253164557,null,null,211]
[null,"Høje-Taastrup","2019-01-01",20191,13,null,null,233,36,null,null,233,22,null,null,233,153,null,null,233,3,null,null,233,0,null,null,233,7,null,null,76,0,null,null,51,3,null,null,51,4,null,null,25,26,null,null,158,0,null,null,0,0,null,null,0,1.68372400132057E-2,null,null,233,4.4899306701881803E-2,null,null,233,null,null,null,0,4.4899306701881803E-2,null,null,233,0.4,null,null,233]
[null,"Hørsholm","2019-01-01",20191,9,null,null,65,null,null,null,65,11,null,null,65,40,null,null,65,null,null,null,65,null,null,null,65,null,null,null,null,0,null,null,null,null,null,null,null,null,null,null,11,3,null,null,39,0,null,null,0,0,null,null,0,5.6213017751479298E-3,null,null,65,5.1479289940828399E-2,null,null,65,null,null,null,null,5.1479289940828399E-2,null,null,null,0.5,null,null,65]
[null,"Ikast-Brande","2019-01-01",20191,null,null,null,144,29,null,null,144,15,null,null,144,92,null,null,144,null,null,null,144,null,null,null,144,3,null,null,48,0,null,null,31,0,null,null,31,3,null,null,17,12,null,null,99,0,null,null,0,0,null,null,0,9.3482905982905998E-3,null,null,144,4.6340811965812002E-2,null,null,144,null,null,null,null,4.6340811965812002E-2,null,null,null,0.375,null,null,144]
[null,"Ishøj","2019-01-01",20191,13,null,null,118,7,null,null,118,20,null,null,118,66,null,null,118,7,null,null,118,0,null,null,118,3,null,null,40,0,null,null,19,0,null,null,19,3,null,null,21,8,null,null,68,0,null,null,0,0,null,null,0,2.1838331160365099E-2,null,null,118,3.29204693611473E-2,null,null,118,null,null,null,0,3.29204693611473E-2,null,null,118,0.32,null,null,118]
[null,"Jammerbugt","2019-01-01",20191,7,null,null,191,33,null,null,191,14,null,null,191,132,null,null,191,null,null,null,191,0,null,null,191,0,null,null,52,0,null,null,39,0,null,null,39,0,null,null,13,22,null,null,138,0,null,null,0,0,null,null,0,7.6520338300442997E-3,null,null,191,4.5106725734998E-2,null,null,191,null,null,null,0,4.5106725734998E-2,null,null,191,0.26470588235294101,null,null,191]
[null,"Kalundborg","2019-01-01",20191,33,null,null,480,38,null,null,480,45,null,null,480,346,null,null,480,15,null,null,480,0,null,null,480,6,null,null,113,null,null,null,71,null,null,null,71,null,null,null,42,58,null,null,369,0,null,null,0,0,null,null,0,1.5705128205128201E-2,null,null,480,4.99599358974359E-2,null,null,480,null,null,null,0,4.99599358974359E-2,null,null,480,0.52380952380952395,null,null,480]
[null,"Kerteminde","2019-01-01",20191,4,null,null,99,10,null,null,99,6,null,null,99,58,null,null,99,null,null,null,99,0,null,null,99,3,null,null,23,0,null,null,15,null,null,null,15,null,null,null,8,7,null,null,59,0,null,null,0,0,null,null,0,2.2533022533022501E-2,null,null,99,3.1468531468531499E-2,null,null,99,null,null,null,0,3.1468531468531499E-2,null,null,99,null,null,null,99]
[null,"Kolding","2019-01-01",20191,30,null,null,349,null,null,null,349,39,null,null,349,244,null,null,349,null,null,null,349,20,null,null,349,null,null,null,null,0,null,null,null,0,null,null,null,null,null,null,38,50,null,null,266,4,null,null,null,0,null,null,null,4.3971787524796101E-2,null,null,349,3.7249283667621799E-2,null,null,349,8.8461538461538494E-2,null,null,20,3.4136076689268199E-2,null,null,329,0.53097345132743401,null,null,349]
[null,"København","2019-01-01",20191,545,null,null,1918,484,null,null,1918,183,null,null,1918,622,null,null,1918,46,null,null,1918,0,null,null,1918,1886,null,null,61,null,null,null,1023,null,null,null,1023,17,null,null,181,99,null,null,632,0,null,null,0,0,null,null,0,1.9651880965749598E-2,null,null,1918,2.6249298147108399E-2,null,null,1918,null,null,null,0,2.6249298147108399E-2,null,null,1918,0.50251256281406997,null,null,1918]
[null,"Køge","2019-01-01",20191,34,null,null,310,3,null,null,310,28,null,null,310,228,null,null,310,null,null,null,310,0,null,null,310,11,null,null,71,0,null,null,43,6,null,null,43,5,null,null,28,34,null,null,239,0,null,null,0,0,null,null,0,1.7555831265508699E-2,null,null,310,5.1923076923076898E-2,null,null,310,null,null,null,0,5.1923076923076898E-2,null,null,310,0.46,null,null,310]
[null,"Langeland","2019-01-01",20191,6,null,null,83,19,null,null,83,11,null,null,83,36,null,null,83,11,null,null,83,0,null,null,83,null,null,null,37,0,null,null,25,0,null,null,25,null,null,null,12,null,null,null,31,0,null,null,0,0,null,null,0,1.5060240963855401E-2,null,null,83,3.5449490268767397E-2,null,null,83,null,null,null,0,3.5449490268767397E-2,null,null,83,null,null,null,83]
[null,"Lejre","2019-01-01",20191,7,null,null,110,11,null,null,110,15,null,null,110,74,null,null,110,3,null,null,110,0,null,null,110,null,null,null,34,0,null,null,16,0,null,null,16,null,null,null,18,8,null,null,77,0,null,null,0,0,null,null,0,5.9440559440559404E-3,null,null,110,0.100699300699301,null,null,110,null,null,null,0,0.100699300699301,null,null,110,null,null,null,110]
[null,"Lemvig","2019-01-01",20191,7,null,null,113,12,null,null,113,4,null,null,113,84,null,null,113,null,null,null,113,0,null,null,113,3,null,null,26,0,null,null,20,null,null,null,20,null,null,null,6,8,null,null,89,0,null,null,0,0,null,null,0,1.3444520081688199E-2,null,null,113,0.12066031313818899,null,null,113,null,null,null,0,0.12066031313818899,null,null,113,null,null,null,113]
[null,"Lolland","2019-01-01",20191,13,null,null,464,8,null,null,464,42,null,null,464,391,null,null,464,6,null,null,464,0,null,null,464,7,null,null,58,null,null,null,23,null,null,null,23,null,null,null,35,40,null,null,361,0,null,null,0,0,null,null,0,1.70755968169761E-2,null,null,464,4.5424403183023897E-2,null,null,464,null,null,null,0,4.5424403183023897E-2,null,null,464,0.38805970149253699,null,null,464]
[null,"Lyngby-Taarbæk","2019-01-01",20191,18,null,null,208,14,null,null,208,11,null,null,208,149,null,null,208,12,null,null,208,0,null,null,208,null,null,null,40,null,null,null,29,0,null,null,29,null,null,null,11,19,null,null,161,0,null,null,0,0,null,null,0,1.6457100591716001E-2,null,null,208,0.102903106508876,null,null,208,null,null,null,0,0.102903106508876,null,null,208,0.546875,null,null,208]
[null,"Mariagerfjord","2019-01-01",20191,null,null,null,207,7,null,null,207,16,null,null,207,179,null,null,207,null,null,null,207,null,null,null,207,4,null,null,null,null,null,null,null,null,null,null,null,null,null,null,16,9,null,null,172,0,null,null,null,0,null,null,null,4.4314381270903001E-2,null,null,207,5.0353028613898197E-2,null,null,207,null,null,null,null,5.0353028613898197E-2,null,null,null,null,null,null,207]
[null,"Middelfart","2019-01-01",20191,11,null,null,186,25,null,null,186,8,null,null,186,100,null,null,186,null,null,null,186,0,null,null,186,3,null,null,46,0,null,null,38,null,null,null,38,null,null,null,8,5,null,null,94,0,null,null,0,0,null,null,0,1.2303556658395399E-2,null,null,186,4.4665012406947903E-2,null,null,186,null,null,null,0,4.4906444906444902E-2,null,null,186,0.39583333333333298,null,null,186]
[null,"Morsø","2019-01-01",20191,8,null,null,241,26,null,null,241,18,null,null,241,149,null,null,241,40,null,null,241,0,null,null,241,3,null,null,50,0,null,null,35,null,null,null,35,null,null,null,15,23,null,null,146,0,null,null,0,0,null,null,0,5.8809447813597197E-2,null,null,241,7.67634854771784E-2,null,null,241,null,null,null,0,7.67634854771784E-2,null,null,241,null,null,null,241]
[null,"Norddjurs","2019-01-01",20191,5,null,null,212,29,null,null,212,0,null,null,212,159,null,null,212,19,null,null,212,0,null,null,212,null,null,null,null,0,null,null,null,0,null,null,null,null,null,null,null,5,null,null,154,0,null,null,null,0,null,null,null,2.3494194484760499E-2,null,null,212,5.3156748911465899E-2,null,null,212,null,null,null,0,5.3156748911465899E-2,null,null,212,0.53125,null,null,212]
[null,"Nordfyns","2019-01-01",20191,null,null,null,123,18,null,null,123,6,null,null,123,78,null,null,123,17,null,null,123,0,null,null,123,null,null,null,null,0,null,null,null,null,null,null,null,0,null,null,5,7,null,null,77,0,null,null,0,0,null,null,0,8.1300813008130107E-3,null,null,123,0.11257035647279599,null,null,123,null,null,null,0,0.11257035647279599,null,null,123,0.70689655172413801,null,null,123]
[null,"Nyborg","2019-01-01",20191,8,null,null,152,27,null,null,152,7,null,null,152,102,null,null,152,null,null,null,152,0,null,null,152,null,null,null,42,0,null,null,36,null,null,null,36,0,null,null,6,11,null,null,93,0,null,null,0,0,null,null,0,2.2140688259109299E-2,null,null,152,4.4660931174089098E-2,null,null,152,null,null,null,0,4.4660931174089098E-2,null,null,152,0.63636363636363602,null,null,152]
[null,"Næstved","2019-01-01",20191,29,null,null,489,33,null,null,489,76,null,null,489,333,null,null,489,14,null,null,489,0,null,null,489,14,null,null,141,0,null,null,66,5,null,null,66,9,null,null,75,42,null,null,312,0,null,null,0,0,null,null,0,4.6641497561743003E-2,null,null,489,2.8826490482932201E-2,null,null,489,null,null,null,0,2.8826490482932201E-2,null,null,489,0.54135338345864703,null,null,489]
[null,"Odder","2019-01-01",20191,null,null,null,106,3,null,null,106,9,null,null,106,88,null,null,106,3,null,null,106,0,null,null,106,null,null,null,null,0,null,null,null,null,null,null,null,0,null,null,9,10,null,null,88,0,null,null,null,0,null,null,null,0,null,null,106,0.114840348330914,null,null,106,null,null,null,0,0.114840348330914,null,null,106,0.67567567567567599,null,null,106]
[null,"Odense","2019-01-01",20191,66,null,null,792,72,null,null,792,60,null,null,792,472,null,null,792,114,null,null,792,0,null,null,792,12,null,null,196,0,null,null,136,6,null,null,136,6,null,null,60,40,null,null,464,0,null,null,0,0,null,null,0,1.7094017094017099E-2,null,null,792,3.6883255633255597E-2,null,null,792,null,null,null,0,3.6883255633255597E-2,null,null,792,0.53619302949061698,null,null,792]
[null,"Odsherred","2019-01-01",20191,16,null,null,125,7,null,null,125,16,null,null,125,83,null,null,125,3,null,null,125,0,null,null,125,null,null,null,null,null,null,null,null,0,null,null,null,0,null,null,12,22,null,null,100,0,null,null,null,0,null,null,null,1.27692307692308E-2,null,null,125,2.36923076923077E-2,null,null,125,null,null,null,0,2.36923076923077E-2,null,null,125,0.54,null,null,125]
[null,"Randers","2019-01-01",20191,8,null,null,323,46,null,null,323,19,null,null,323,225,null,null,323,22,null,null,323,0,null,null,323,3,null,null,75,0,null,null,54,null,null,null,54,null,null,null,21,46,null,null,259,0,null,null,0,0,null,null,0,2.8161467015956201E-2,null,null,323,6.3824720171469396E-2,null,null,323,null,null,null,0,6.3824720171469396E-2,null,null,323,0.58620689655172398,null,null,323]
[null,"Rebild","2019-01-01",20191,null,null,null,96,20,null,null,96,10,null,null,96,59,null,null,96,null,null,null,96,null,null,null,96,null,null,null,null,0,null,null,null,null,null,null,null,0,null,null,9,8,null,null,59,0,null,null,null,0,null,null,null,2.60416666666667E-3,null,null,96,8.7540064102564097E-2,null,null,96,null,null,null,null,8.7540064102564097E-2,null,null,null,null,null,null,96]
[null,"Ringkøbing-Skjern","2019-01-01",20191,12,null,null,485,81,null,null,485,51,null,null,485,307,null,null,485,28,null,null,485,0,null,null,485,19,null,null,152,0,null,null,98,7,null,null,98,12,null,null,54,23,null,null,321,0,null,null,0,0,null,null,0,8.2077716098334693E-3,null,null,485,7.6011102299762101E-2,null,null,485,null,null,null,0,7.6011102299762101E-2,null,null,485,0.65573770491803296,null,null,485]
[null,"Ringsted","2019-01-01",20191,5,null,null,115,6,null,null,115,16,null,null,115,83,null,null,115,null,null,null,115,0,null,null,115,0,null,null,25,0,null,null,10,0,null,null,10,0,null,null,15,8,null,null,81,0,null,null,0,0,null,null,0,4.3645484949832801E-2,null,null,115,1.7391304347826101E-2,null,null,115,null,null,null,0,1.7391304347826101E-2,null,null,115,0.46875,null,null,115]
[null,"Roskilde","2019-01-01",20191,14,null,null,373,54,null,null,373,58,null,null,373,216,null,null,373,null,null,null,373,12,null,null,373,8,null,null,128,null,null,null,69,null,null,null,69,null,null,null,59,38,null,null,243,0,null,null,0,0,null,null,0,3.08826562177732E-2,null,null,373,4.2998556403382203E-2,null,null,373,0.233974358974359,null,null,12,3.6650330279139103E-2,null,null,361,0.36641221374045801,null,null,373]
[null,"Rudersdal","2019-01-01",20191,6,null,null,179,32,null,null,179,14,null,null,179,122,null,null,179,null,null,null,179,null,null,null,179,8,null,null,55,0,null,null,38,4,null,null,38,4,null,null,17,18,null,null,125,0,null,null,0,0,null,null,0,2.9007305543618401E-2,null,null,179,9.0996991834980695E-2,null,null,179,null,null,null,null,9.1508210890233393E-2,null,null,null,0.41666666666666702,null,null,179]
[null,"Rødovre","2019-01-01",20191,25,null,null,198,17,null,null,198,23,null,null,198,126,null,null,198,4,null,null,198,0,null,null,198,4,null,null,64,null,null,null,41,null,null,null,41,null,null,null,23,15,null,null,131,0,null,null,0,0,null,null,0,1.10722610722611E-2,null,null,198,5.2253302253302297E-2,null,null,198,null,null,null,0,5.2253302253302297E-2,null,null,198,0.43181818181818199,null,null,198]
[null,"Silkeborg","2019-01-01",20191,16,null,null,616,44,null,null,616,220,null,null,616,274,null,null,616,null,null,null,616,25,null,null,616,17,null,null,199,null,null,null,58,null,null,null,58,14,null,null,141,48,null,null,352,null,null,null,11,null,null,null,11,2.4756493506493501E-2,null,null,616,6.6496003996003999E-2,null,null,616,0.110742705570292,null,null,25,6.4310051107325406E-2,null,null,591,0.35,null,null,616]
[null,"Skanderborg","2019-01-01",20191,3,null,null,420,12,null,null,420,37,null,null,420,347,null,null,420,21,null,null,420,0,null,null,420,5,null,null,48,null,null,null,7,null,null,null,7,null,null,null,41,19,null,null,314,0,null,null,0,0,null,null,0,2.2893772893772899E-2,null,null,420,8.1181318681318698E-2,null,null,420,null,null,null,0,8.1181318681318698E-2,null,null,420,0.56435643564356397,null,null,420]
[null,"Skive","2019-01-01",20191,null,null,null,190,20,null,null,190,6,null,null,190,139,null,null,190,6,null,null,190,14,null,null,190,null,null,null,null,0,null,null,null,null,null,null,null,0,null,null,6,21,null,null,149,9,null,null,9,0,null,null,9,3.5425101214574899E-3,null,null,190,0.11356275303643899,null,null,190,7.1428571428571397E-2,null,null,14,0.116914335664337,null,null,176,0.36363636363636398,null,null,190]
[null,"Slagelse","2019-01-01",20191,15,null,null,362,26,null,null,362,22,null,null,362,233,null,null,362,null,null,null,362,59,null,null,362,5,null,null,62,null,null,null,41,null,null,null,41,null,null,null,21,15,null,null,219,null,null,null,25,null,null,null,25,3.0014874628134298E-2,null,null,362,4.3720781980450499E-2,null,null,362,0.102998696219035,null,null,59,3.21782178217822E-2,null,null,303,0.57723577235772405,null,null,362]
[null,"Solrød","2019-01-01",20191,7,null,null,70,null,null,null,70,14,null,null,70,43,null,null,70,null,null,null,70,null,null,null,70,null,null,null,null,0,null,null,null,0,null,null,null,null,null,null,15,0,null,null,40,0,null,null,null,0,null,null,null,1.2637362637362599E-2,null,null,70,5.5219780219780197E-2,null,null,70,null,null,null,null,5.5219780219780197E-2,null,null,null,null,null,null,70]
[null,"Sorø","2019-01-01",20191,9,null,null,170,19,null,null,170,16,null,null,170,119,null,null,170,null,null,null,170,0,null,null,170,null,null,null,42,0,null,null,27,0,null,null,27,null,null,null,15,14,null,null,122,0,null,null,0,0,null,null,0,3.8348416289592797E-2,null,null,170,2.8393665158370999E-2,null,null,170,null,null,null,0,2.8393665158370999E-2,null,null,170,0.52,null,null,170]
[null,"Stevns","2019-01-01",20191,null,null,null,67,3,null,null,67,13,null,null,67,48,null,null,67,null,null,null,67,0,null,null,67,null,null,null,null,0,null,null,null,0,null,null,null,null,null,null,12,null,null,null,43,0,null,null,0,0,null,null,0,1.49253731343284E-2,null,null,67,6.2284730195178002E-2,null,null,67,null,null,null,0,6.2284730195178002E-2,null,null,67,null,null,null,67]
[null,"Struer","2019-01-01",20191,null,null,null,118,14,null,null,118,11,null,null,118,53,null,null,118,null,null,null,118,37,null,null,118,3,null,null,26,0,null,null,14,0,null,null,14,3,null,null,12,37,null,null,88,6,null,null,14,0,null,null,14,2.1675358539765301E-2,null,null,118,5.5736636245110799E-2,null,null,118,0.12681912681912699,null,null,37,2.32668566001899E-2,null,null,81,0.38095238095238099,null,null,118]
[null,"Svendborg","2019-01-01",20191,29,null,null,343,18,null,null,343,24,null,null,343,223,null,null,343,49,null,null,343,0,null,null,343,5,null,null,71,null,null,null,51,null,null,null,51,null,null,null,20,18,null,null,219,0,null,null,0,0,null,null,0,1.9174702848172201E-2,null,null,343,1.49697241533976E-2,null,null,343,null,null,null,0,1.49697241533976E-2,null,null,343,0.57608695652173902,null,null,343]
[null,"Syddjurs","2019-01-01",20191,4,null,null,150,11,null,null,150,14,null,null,150,98,null,null,150,20,null,null,150,0,null,null,150,null,null,null,24,null,null,null,14,0,null,null,14,null,null,null,10,12,null,null,83,0,null,null,0,0,null,null,0,2.66666666666667E-2,null,null,150,3.3589743589743599E-2,null,null,150,null,null,null,0,3.3589743589743599E-2,null,null,150,0.57575757575757602,null,null,150]
[null,"Sønderborg","2019-01-01",20191,18,null,null,614,64,null,null,614,32,null,null,614,484,null,null,614,12,null,null,614,0,null,null,614,19,null,null,121,0,null,null,90,14,null,null,90,5,null,null,31,51,null,null,464,0,null,null,0,0,null,null,0,1.7163618140816801E-2,null,null,614,5.4967426710097703E-2,null,null,614,null,null,null,0,5.4967426710097703E-2,null,null,614,0.53614457831325302,null,null,614]
[null,"Thisted","2019-01-01",20191,null,null,null,142,29,null,null,142,null,null,null,142,96,null,null,142,14,null,null,142,0,null,null,142,null,null,null,null,0,null,null,null,null,null,null,null,0,null,null,null,null,null,null,89,0,null,null,0,0,null,null,0,1.5167930660888399E-2,null,null,142,4.1170097508125697E-2,null,null,142,null,null,null,0,4.1170097508125697E-2,null,null,142,null,null,null,142]
[null,"Tønder","2019-01-01",20191,7,null,null,212,21,null,null,212,10,null,null,212,170,null,null,212,null,null,null,212,0,null,null,212,5,null,null,41,null,null,null,29,null,null,null,29,null,null,null,12,32,null,null,160,0,null,null,0,0,null,null,0,1.9049346879535599E-2,null,null,212,6.6854136429608205E-2,null,null,212,null,null,null,0,6.6854136429608205E-2,null,null,212,0.47540983606557402,null,null,212]
[null,"Tårnby","2019-01-01",20191,12,null,null,130,4,null,null,130,21,null,null,130,66,null,null,130,null,null,null,130,0,null,null,130,null,null,null,null,0,null,null,null,null,null,null,null,null,null,null,22,3,null,null,64,0,null,null,0,0,null,null,0,3.3284023668639098E-2,null,null,130,6.2721893491124295E-2,null,null,130,null,null,null,0,6.2721893491124295E-2,null,null,130,0.434782608695652,null,null,130]
[null,"Varde","2019-01-01",20191,7,null,null,230,4,null,null,230,13,null,null,230,202,null,null,230,null,null,null,230,0,null,null,230,7,null,null,30,null,null,null,12,null,null,null,12,null,null,null,18,44,null,null,212,0,null,null,0,0,null,null,0,1.4297658862876299E-2,null,null,230,6.7725752508361201E-2,null,null,230,null,null,null,0,6.7725752508361201E-2,null,null,230,0.296296296296296,null,null,230]
[null,"Vejen","2019-01-01",20191,11,null,null,222,null,null,null,222,33,null,null,222,149,null,null,222,25,null,null,222,null,null,null,222,4,null,null,48,null,null,null,16,null,null,null,16,null,null,null,32,16,null,null,137,0,null,null,0,0,null,null,0,2.1136521136521098E-2,null,null,222,3.8981288981286603E-2,null,null,222,null,null,null,null,3.93356643356619E-2,null,null,null,0.55813953488372103,null,null,222]
[null,"Vejle","2019-01-01",20191,17,null,null,455,31,null,null,455,42,null,null,455,326,null,null,455,16,null,null,455,23,null,null,455,13,null,null,92,null,null,null,52,null,null,null,52,8,null,null,40,64,null,null,357,null,null,null,15,null,null,null,15,3.5841081994928199E-2,null,null,455,5.85376162299239E-2,null,null,455,8.5384615384615406E-2,null,null,23,5.69767441860465E-2,null,null,432,0.40875912408759102,null,null,455]
[null,"Vesthimmerlands","2019-01-01",20191,10,null,null,100,16,null,null,100,11,null,null,100,60,null,null,100,3,null,null,100,0,null,null,100,6,null,null,null,null,null,null,null,null,null,null,null,null,null,null,11,13,null,null,65,0,null,null,null,0,null,null,null,2.3461538461538499E-2,null,null,100,0.02,null,null,100,null,null,null,0,0.02,null,null,100,0.53333333333333299,null,null,100]
[null,"Viborg","2019-01-01",20191,8,null,null,630,125,null,null,630,18,null,null,630,305,null,null,630,144,null,null,630,25,null,null,630,13,null,null,146,0,null,null,130,10,null,null,130,3,null,null,16,35,null,null,310,0,null,null,0,0,null,null,0,1.6117216117216102E-2,null,null,630,5.0213675213675202E-2,null,null,630,4.3846153846153903E-2,null,null,25,5.0476795931341398E-2,null,null,605,0.57894736842105299,null,null,630]
[null,"Vordingborg","2019-01-01",20191,8,null,null,460,34,null,null,460,19,null,null,460,343,null,null,460,51,null,null,460,null,null,null,460,null,null,null,56,0,null,null,40,null,null,null,40,null,null,null,16,28,null,null,332,0,null,null,null,0,null,null,null,1.07859531772575E-2,null,null,460,3.5284280936454797E-2,null,null,460,null,null,null,null,3.3685268979386597E-2,null,null,null,0.58252427184466005,null,null,460]
[null,"Ærø","2019-01-01",20191]
[null,"Aabenraa","2019-01-01",20191,7,null,null,239,8,null,null,239,15,null,null,239,194,null,null,239,10,null,null,239,0,null,null,239,7,null,null,37,null,null,null,21,null,null,null,21,null,null,null,16,66,null,null,238,0,null,null,0,0,null,null,0,1.5690376569037701E-2,null,null,239,7.7566784679755404E-2,null,null,239,null,null,null,0,7.7566784679755404E-2,null,null,239,0.51249999999999996,null,null,239]
[null,"Aalborg","2019-01-01",20191,33,null,null,886,159,null,null,886,48,null,null,886,603,null,null,886,43,null,null,886,0,null,null,886,12,null,null,244,null,null,null,194,null,null,null,194,4,null,null,50,57,null,null,621,0,null,null,0,0,null,null,0,4.3193262719222096E-3,null,null,886,3.0951554089251598E-2,null,null,886,null,null,null,0,3.0951554089251598E-2,null,null,886,0.27131782945736399,null,null,886]
[null,"Aarhus","2019-01-01",20191,35,null,null,2012,212,null,null,2012,103,null,null,2012,1544,null,null,2012,104,null,null,2012,0,null,null,2012,28,null,null,347,0,null,null,246,11,null,null,246,17,null,null,101,192,null,null,1527,0,null,null,0,0,null,null,0,4.4492659428047102E-2,null,null,2012,6.0578834684202498E-2,null,null,2012,null,null,null,0,6.0578834684202498E-2,null,null,2012,0.54735376044568196,null,null,2012]
[null,"Albertslund","2019-07-01",20192,12,null,null,94,5,null,null,94,22,null,null,94,51,null,null,94,null,null,null,94,0,null,null,94,null,null,null,39,0,null,null,18,null,null,null,18,null,null,null,21,9,null,null,53,0,null,null,0,0,null,null,0,1.7798690671031101E-2,null,null,94,4.7258592471358399E-2,null,null,94,null,null,null,0,4.7258592471358399E-2,null,null,94,0.47826086956521702,null,null,94]
[null,"Allerød","2019-07-01",20192,7,null,null,26,null,null,null,26,null,null,null,26,13,null,null,26,null,null,null,26,null,null,null,26,null,null,null,13,0,null,null,10,0,null,null,10,null,null,null,3,null,null,null,13,0,null,null,0,0,null,null,0,0,null,null,26,0.128698224852071,null,null,26,null,null,null,null,0.128698224852071,null,null,null,0.81481481481481499,null,null,26]
[null,"Assens","2019-07-01",20192,5,null,null,196,24,null,null,196,24,null,null,196,91,null,null,196,49,null,null,196,0,null,null,196,8,null,null,55,null,null,null,35,5,null,null,35,null,null,null,20,13,null,null,88,0,null,null,0,0,null,null,0,9.4191522762951396E-3,null,null,196,3.5419937205651501E-2,null,null,196,null,null,null,0,3.5419937205651501E-2,null,null,196,0.37777777777777799,null,null,196]
[null,"Ballerup","2019-07-01",20192,21,null,null,268,17,null,null,268,35,null,null,268,169,null,null,268,20,null,null,268,0,null,null,268,8,null,null,78,0,null,null,40,4,null,null,40,4,null,null,38,25,null,null,161,0,null,null,0,0,null,null,0,2.9563719862227299E-2,null,null,268,5.1592996555683099E-2,null,null,268,null,null,null,0,5.1592996555683099E-2,null,null,268,0.67058823529411804,null,null,268]
[null,"Billund","2019-07-01",20192,null,null,null,162,0,null,null,162,15,null,null,162,144,null,null,162,null,null,null,162,0,null,null,162,null,null,null,null,0,null,null,null,0,null,null,null,null,null,null,null,10,null,null,135,0,null,null,null,0,null,null,null,6.17283950617284E-3,null,null,162,6.8613485280151904E-2,null,null,162,null,null,null,0,6.8613485280151904E-2,null,null,162,0.57446808510638303,null,null,162]
[null,"Bornholm","2019-07-01",20192,0,null,null,215,12,null,null,215,27,null,null,215,171,null,null,215,null,null,null,215,0,null,null,215,null,null,null,39,0,null,null,12,0,null,null,12,null,null,null,27,19,null,null,175,0,null,null,0,0,null,null,0,7.6923076923076901E-3,null,null,215,3.8998211091234303E-2,null,null,215,null,null,null,0,3.8998211091234303E-2,null,null,215,0.60185185185185197,null,null,215]
[null,"Brøndby","2019-07-01",20192,16,null,null,116,7,null,null,116,9,null,null,116,75,null,null,116,null,null,null,116,0,null,null,116,3,null,null,32,0,null,null,23,null,null,null,23,null,null,null,9,9,null,null,79,0,null,null,0,0,null,null,0,3.14986737400531E-3,null,null,116,4.4761273209549098E-2,null,null,116,null,null,null,0,4.4761273209549098E-2,null,null,116,0.407407407407407,null,null,116]
[null,"Brønderslev","2019-07-01",20192,13,null,null,177,16,null,null,177,11,null,null,177,128,null,null,177,null,null,null,177,0,null,null,177,3,null,null,42,0,null,null,29,null,null,null,29,null,null,null,13,22,null,null,134,0,null,null,0,0,null,null,0,2.3142112125163001E-2,null,null,177,6.0625814863102999E-2,null,null,177,null,null,null,0,6.0625814863102999E-2,null,null,177,0.33333333333333298,null,null,177]
[null,"Esbjerg","2019-07-01",20192,13,null,null,331,51,null,null,331,50,null,null,331,158,null,null,331,59,null,null,331,0,null,null,331,14,null,null,123,null,null,null,73,null,null,null,73,5,null,null,50,22,null,null,170,0,null,null,0,0,null,null,0,7.6690680920288197E-3,null,null,331,5.0836625610039501E-2,null,null,331,null,null,null,0,5.0836625610039501E-2,null,null,331,0.39259259259259299,null,null,331]
[null,"Favrskov","2019-07-01",20192,null,null,null,141,24,null,null,141,12,null,null,141,100,null,null,141,null,null,null,141,null,null,null,141,4,null,null,null,0,null,null,null,0,null,null,null,4,null,null,14,6,null,null,102,0,null,null,0,0,null,null,0,1.36388434260775E-4,null,null,141,8.6743044189852694E-2,null,null,141,null,null,null,null,8.6743044189852694E-2,null,null,null,0.44444444444444398,null,null,141]
[null,"Faxe","2019-07-01",20192,5,null,null,112,15,null,null,112,18,null,null,112,68,null,null,112,6,null,null,112,0,null,null,112,3,null,null,36,0,null,null,19,null,null,null,19,null,null,null,17,9,null,null,64,0,null,null,0,0,null,null,0,0,null,null,112,5.5116758241758199E-2,null,null,112,null,null,null,0,5.5116758241758199E-2,null,null,112,0.35,null,null,112]
[null,"Fredensborg","2019-07-01",20192,36,null,null,178,5,null,null,178,25,null,null,178,79,null,null,178,14,null,null,178,14,null,null,178,5,null,null,68,null,null,null,44,null,null,null,44,null,null,null,24,12,null,null,84,null,null,null,12,null,null,null,12,3.4248055315471003E-2,null,null,178,5.1534140017286102E-2,null,null,178,6.5934065934066005E-2,null,null,14,5.0304878048780498E-2,null,null,164,0.62820512820512797,null,null,178]
[null,"Fredericia","2019-07-01",20192,null,null,null,287,null,null,null,287,22,null,null,287,185,null,null,287,56,null,null,287,null,null,null,287,4,null,null,null,null,null,null,null,null,null,null,null,null,null,null,null,18,null,null,189,0,null,null,null,0,null,null,null,2.3787188421334801E-2,null,null,287,5.7692307692307702E-2,null,null,287,null,null,null,null,5.7692307692307702E-2,null,null,null,0.376811594202899,null,null,287]
[null,"Frederiksberg","2019-07-01",20192,39,null,null,229,11,null,null,229,49,null,null,229,119,null,null,229,null,null,null,229,0,null,null,229,13,null,null,105,null,null,null,50,null,null,null,50,null,null,null,55,24,null,null,116,0,null,null,0,0,null,null,0,1.4192139737991299E-2,null,null,229,2.9811891165603E-2,null,null,229,null,null,null,0,2.9811891165603E-2,null,null,229,0.47945205479452002,null,null,229]
[null,"Frederikshavn","2019-07-01",20192,14,null,null,497,60,null,null,497,29,null,null,497,346,null,null,497,null,null,null,497,0,null,null,497,6,null,null,104,0,null,null,74,3,null,null,74,3,null,null,30,39,null,null,338,0,null,null,0,0,null,null,0,8.8608574524067507E-3,null,null,497,6.3070732084816603E-2,null,null,497,null,null,null,0,6.3070732084816603E-2,null,null,497,0.38888888888888901,null,null,497]
[null,"Frederikssund","2019-07-01",20192,20,null,null,192,null,null,null,192,37,null,null,192,124,null,null,192,6,null,null,192,null,null,null,192,3,null,null,null,0,null,null,null,0,null,null,null,3,null,null,33,66,null,null,179,0,null,null,null,0,null,null,null,2.9447115384615401E-2,null,null,192,7.3217147435897398E-2,null,null,192,null,null,null,null,7.3600483286347204E-2,null,null,null,0.47169811320754701,null,null,192]
[null,"Furesø","2019-07-01",20192,17,null,null,219,9,null,null,219,22,null,null,219,154,null,null,219,null,null,null,219,0,null,null,219,6,null,null,45,null,null,null,26,null,null,null,26,null,null,null,19,6,null,null,157,0,null,null,0,0,null,null,0,2.2128556375131701E-2,null,null,219,4.6364594309799799E-2,null,null,219,null,null,null,0,4.6364594309799799E-2,null,null,219,0.492307692307692,null,null,219]
[null,"Faaborg-Midtfyn","2019-07-01",20192,10,null,null,371,13,null,null,371,17,null,null,371,290,null,null,371,41,null,null,371,0,null,null,371,4,null,null,41,null,null,null,22,null,null,null,22,null,null,null,19,33,null,null,281,0,null,null,0,0,null,null,0,2.244453659548E-2,null,null,371,3.7528509226622403E-2,null,null,371,null,null,null,0,3.7528509226622403E-2,null,null,371,0.4375,null,null,371]
[null,"Gentofte","2019-07-01",20192,8,null,null,180,26,null,null,180,34,null,null,180,100,null,null,180,8,null,null,180,4,null,null,180,8,null,null,68,null,null,null,35,null,null,null,35,null,null,null,33,17,null,null,103,0,null,null,0,0,null,null,0,1.48504273504274E-2,null,null,180,3.7927350427350202E-2,null,null,180,null,null,null,4,3.6931818181818003E-2,null,null,176,0.51063829787234005,null,null,180]
[null,"Gladsaxe","2019-07-01",20192,23,null,null,163,26,null,null,163,22,null,null,163,79,null,null,163,13,null,null,163,0,null,null,163,5,null,null,71,null,null,null,49,null,null,null,49,null,null,null,22,19,null,null,91,0,null,null,0,0,null,null,0,1.1680037753657399E-2,null,null,163,5.0259556394525701E-2,null,null,163,null,null,null,0,5.0259556394525701E-2,null,null,163,0.55102040816326503,null,null,163]
[null,"Glostrup","2019-07-01",20192,14,null,null,188,17,null,null,188,12,null,null,188,118,null,null,188,18,null,null,188,0,null,null,188,null,null,null,40,0,null,null,29,0,null,null,29,null,null,null,11,10,null,null,112,0,null,null,0,0,null,null,0,2.08674304418985E-2,null,null,188,7.7025368248772499E-2,null,null,188,null,null,null,0,7.7025368248772499E-2,null,null,188,0.752941176470588,null,null,188]
[null,"Greve","2019-07-01",20192,16,null,null,211,null,null,null,211,27,null,null,211,133,null,null,211,22,null,null,211,null,null,null,211,6,null,null,55,null,null,null,26,null,null,null,26,null,null,null,29,16,null,null,141,0,null,null,0,0,null,null,0,3.1443674808606201E-2,null,null,211,8.9227123587313203E-2,null,null,211,null,null,null,null,8.8332719911667301E-2,null,null,null,0.54716981132075504,null,null,211]
[null,"Gribskov","2019-07-01",20192,7,null,null,103,11,null,null,103,24,null,null,103,57,null,null,103,null,null,null,103,0,null,null,103,3,null,null,43,0,null,null,19,null,null,null,19,null,null,null,24,5,null,null,48,0,null,null,0,0,null,null,0,3.8088125466766203E-2,null,null,103,7.7669902912621394E-2,null,null,103,null,null,null,0,7.7669902912621394E-2,null,null,103,0.5,null,null,103]
[null,"Guldborgsund","2019-07-01",20192,36,null,null,444,18,null,null,444,48,null,null,444,304,null,null,444,38,null,null,444,0,null,null,444,4,null,null,96,0,null,null,53,null,null,null,53,null,null,null,43,44,null,null,313,0,null,null,0,0,null,null,0,2.45148995148993E-2,null,null,444,4.2966042966042998E-2,null,null,444,null,null,null,0,4.2966042966042998E-2,null,null,444,0.41509433962264197,null,null,444]
[null,"Haderslev","2019-07-01",20192,7,null,null,212,28,null,null,212,16,null,null,212,158,null,null,212,3,null,null,212,0,null,null,212,6,null,null,53,null,null,null,39,null,null,null,39,null,null,null,14,33,null,null,164,0,null,null,0,0,null,null,0,1.46044992743106E-2,null,null,212,1.7507256894049399E-2,null,null,212,null,null,null,0,1.7507256894049399E-2,null,null,212,0.49152542372881403,null,null,212]
[null,"Halsnæs","2019-07-01",20192,12,null,null,173,6,null,null,173,17,null,null,173,134,null,null,173,null,null,null,173,0,null,null,173,null,null,null,36,0,null,null,18,null,null,null,18,null,null,null,18,9,null,null,123,0,null,null,0,0,null,null,0,6.7807914628723901E-3,null,null,173,3.8683859493108E-2,null,null,173,null,null,null,0,3.8683859493108E-2,null,null,173,0.194444444444444,null,null,173]
[null,"Hedensted","2019-07-01",20192,11,null,null,226,14,null,null,226,11,null,null,226,177,null,null,226,8,null,null,226,null,null,null,226,null,null,null,36,0,null,null,27,null,null,null,27,0,null,null,9,30,null,null,187,0,null,null,0,0,null,null,0,5.6160653505786199E-3,null,null,226,4.65452688904016E-2,null,null,226,null,null,null,null,4.67521367521367E-2,null,null,null,0.40540540540540498,null,null,226]
[null,"Helsingør","2019-07-01",20192,31,null,null,241,12,null,null,241,55,null,null,241,133,null,null,241,null,null,null,241,0,null,null,241,6,null,null,98,0,null,null,42,0,null,null,42,6,null,null,56,19,null,null,126,0,null,null,0,0,null,null,0,1.7874241940631998E-2,null,null,241,5.1308649856367697E-2,null,null,241,null,null,null,0,5.1308649856367697E-2,null,null,241,0.54081632653061196,null,null,241]
[null,"Herlev","2019-07-01",20192,14,null,null,116,7,null,null,116,28,null,null,116,62,null,null,116,null,null,null,116,0,null,null,116,null,null,null,48,0,null,null,20,0,null,null,20,null,null,null,28,4,null,null,63,0,null,null,0,0,null,null,0,6.7970822281167098E-3,null,null,116,2.8183023872679E-2,null,null,116,null,null,null,0,2.8183023872679E-2,null,null,116,0.30769230769230799,null,null,116]
[null,"Herning","2019-07-01",20192,22,null,null,374,42,null,null,374,30,null,null,374,258,null,null,374,10,null,null,374,0,null,null,374,8,null,null,93,0,null,null,65,3,null,null,65,5,null,null,28,47,null,null,276,0,null,null,0,0,null,null,0,1.4705882352941201E-2,null,null,374,5.8772110242698503E-2,null,null,374,null,null,null,0,5.8772110242698503E-2,null,null,374,0.5,null,null,374]
[null,"Hillerød","2019-07-01",20192,14,null,null,256,null,null,null,256,21,null,null,256,186,null,null,256,10,null,null,256,17,null,null,256,3,null,null,null,0,null,null,null,null,null,null,null,null,null,null,20,22,null,null,197,4,null,null,7,0,null,null,7,2.1634615384618201E-2,null,null,256,4.5597956730769197E-2,null,null,256,6.4479638009049794E-2,null,null,17,4.4254908271644702E-2,null,null,239,0.64102564102564097,null,null,256]
[null,"Hjørring","2019-07-01",20192,15,null,null,386,74,null,null,386,33,null,null,386,250,null,null,386,11,null,null,386,0,null,null,386,12,null,null,125,0,null,null,87,5,null,null,87,7,null,null,38,59,null,null,282,0,null,null,0,0,null,null,0,1.7686329214826602E-2,null,null,386,5.2710243124750901E-2,null,null,386,null,null,null,0,5.2710243124750901E-2,null,null,386,0.36486486486486502,null,null,386]
[null,"Holbæk","2019-07-01",20192,null,null,null,287,48,null,null,287,29,null,null,287,195,null,null,287,null,null,null,287,null,null,null,287,5,null,null,null,null,null,null,null,null,null,null,null,null,null,null,29,13,null,null,189,0,null,null,null,0,null,null,null,2.2514071294559099E-2,null,null,287,5.1125703564728002E-2,null,null,287,null,null,null,null,5.1125703564728002E-2,null,null,null,0.41791044776119401,null,null,287]
[null,"Holstebro","2019-07-01",20192,25,null,null,355,53,null,null,355,30,null,null,355,228,null,null,355,null,null,null,355,null,null,null,355,11,null,null,109,0,null,null,75,5,null,null,75,6,null,null,34,29,null,null,227,0,null,null,null,0,null,null,null,1.4084507042253501E-2,null,null,355,4.7183098591549302E-2,null,null,355,null,null,null,null,4.5925038134669902E-2,null,null,null,0.59550561797752799,null,null,355]
[null,"Horsens","2019-07-01",20192,32,null,null,421,49,null,null,421,43,null,null,421,264,null,null,421,29,null,null,421,0,null,null,421,11,null,null,130,0,null,null,82,3,null,null,82,8,null,null,48,34,null,null,269,0,null,null,0,0,null,null,0,1.18308057737986E-2,null,null,421,5.2302210853279699E-2,null,null,421,null,null,null,0,5.2302210853279699E-2,null,null,421,0.57516339869280997,null,null,421]
[null,"Hvidovre","2019-07-01",20192,33,null,null,215,19,null,null,215,34,null,null,215,93,null,null,215,36,null,null,215,0,null,null,215,4,null,null,83,0,null,null,52,null,null,null,52,null,null,null,31,9,null,null,93,0,null,null,0,0,null,null,0,1.4669051878354201E-2,null,null,215,3.58676207513417E-2,null,null,215,null,null,null,0,3.58676207513417E-2,null,null,215,0.52873563218390796,null,null,215]
[null,"Høje-Taastrup","2019-07-01",20192,14,null,null,243,33,null,null,243,22,null,null,243,160,null,null,243,4,null,null,243,4,null,null,243,9,null,null,71,0,null,null,49,5,null,null,49,4,null,null,22,23,null,null,153,0,null,null,0,0,null,null,0,2.1209243431465699E-2,null,null,243,6.1174422285533402E-2,null,null,243,null,null,null,4,6.2117798519472203E-2,null,null,239,0.530864197530864,null,null,243]
[null,"Hørsholm","2019-07-01",20192,8,null,null,62,null,null,null,62,10,null,null,62,41,null,null,62,null,null,null,62,0,null,null,62,null,null,null,null,0,null,null,null,null,null,null,null,null,null,null,11,null,null,null,40,0,null,null,null,0,null,null,null,0,null,null,62,3.3498759305210901E-2,null,null,62,null,null,null,0,3.3498759305210901E-2,null,null,62,0.44,null,null,62]
[null,"Ikast-Brande","2019-07-01",20192,6,null,null,141,31,null,null,141,13,null,null,141,87,null,null,141,null,null,null,141,null,null,null,141,3,null,null,null,0,null,null,null,null,null,null,null,null,null,null,15,10,null,null,92,0,null,null,null,0,null,null,null,1.2547735951991301E-2,null,null,141,3.5324604473540702E-2,null,null,141,null,null,null,null,3.6092530657748097E-2,null,null,null,0.60869565217391297,null,null,141]
[null,"Ishøj","2019-07-01",20192,14,null,null,124,7,null,null,124,18,null,null,124,68,null,null,124,7,null,null,124,5,null,null,124,null,null,null,40,0,null,null,20,0,null,null,20,null,null,null,20,4,null,null,66,0,null,null,0,0,null,null,0,2.6985111662531001E-2,null,null,124,3.5825062034739397E-2,null,null,124,0.19230769230769201,null,null,5,2.9250161603102801E-2,null,null,119,0.483870967741936,null,null,124]
[null,"Jammerbugt","2019-07-01",20192,7,null,null,205,34,null,null,205,15,null,null,205,141,null,null,205,null,null,null,205,0,null,null,205,4,null,null,54,null,null,null,40,null,null,null,40,null,null,null,14,13,null,null,132,0,null,null,0,0,null,null,0,1.33208255159475E-2,null,null,205,5.35647279549719E-2,null,null,205,null,null,null,0,5.35647279549719E-2,null,null,205,0.44680851063829802,null,null,205]
[null,"Kalundborg","2019-07-01",20192,28,null,null,470,45,null,null,470,48,null,null,470,332,null,null,470,14,null,null,470,0,null,null,470,7,null,null,116,0,null,null,71,3,null,null,71,4,null,null,45,46,null,null,346,0,null,null,0,0,null,null,0,1.7798690671031101E-2,null,null,470,5.0900163666121101E-2,null,null,470,null,null,null,0,5.0900163666121101E-2,null,null,470,0.34328358208955201,null,null,470]
[null,"Kerteminde","2019-07-01",20192,null,null,null,91,10,null,null,91,8,null,null,91,52,null,null,91,15,null,null,91,null,null,null,91,3,null,null,20,0,null,null,14,null,null,null,14,null,null,null,6,14,null,null,58,0,null,null,0,0,null,null,0,2.3034657650042301E-2,null,null,91,5.32544378698225E-2,null,null,91,null,null,null,null,4.4079515989628303E-2,null,null,null,0.78571428571428603,null,null,91]
[null,"Kolding","2019-07-01",20192,28,null,null,327,null,null,null,327,33,null,null,327,222,null,null,327,null,null,null,327,30,null,null,327,16,null,null,null,null,null,null,null,null,null,null,null,null,null,null,39,57,null,null,244,14,null,null,20,6,null,null,20,3.6991296165608097E-2,null,null,327,3.8108680310515203E-2,null,null,327,3.8461538461538498E-2,null,null,30,3.8071725571725598E-2,null,null,297,0.48031496062992102,null,null,327]
[null,"København","2019-07-01",20192,520,null,null,1905,491,null,null,1905,187,null,null,1905,628,null,null,1905,43,null,null,1905,0,null,null,1905,54,null,null,1212,null,null,null,1029,null,null,null,1029,13,null,null,183,119,null,null,622,0,null,null,0,0,null,null,0,1.9382192610539101E-2,null,null,1905,2.7710478497880098E-2,null,null,1905,null,null,null,0,2.7710478497880098E-2,null,null,1905,0.53856041131105403,null,null,1905]
[null,"Køge","2019-07-01",20192,33,null,null,304,3,null,null,304,31,null,null,304,220,null,null,304,14,null,null,304,0,null,null,304,3,null,null,65,0,null,null,37,null,null,null,37,null,null,null,28,24,null,null,228,0,null,null,0,0,null,null,0,6.0728744939271299E-3,null,null,304,5.2758097165991898E-2,null,null,304,null,null,null,0,5.2758097165991898E-2,null,null,304,0.214285714285714,null,null,304]
[null,"Langeland","2019-07-01",20192,6,null,null,84,20,null,null,84,11,null,null,84,34,null,null,84,13,null,null,84,0,null,null,84,0,null,null,36,0,null,null,25,0,null,null,25,0,null,null,11,null,null,null,36,0,null,null,0,0,null,null,0,1.1904761904761901E-2,null,null,84,4.4642857142857102E-2,null,null,84,null,null,null,0,4.4642857142857102E-2,null,null,84,0.3,null,null,84]
[null,"Lejre","2019-07-01",20192,10,null,null,112,11,null,null,112,12,null,null,112,74,null,null,112,null,null,null,112,null,null,null,112,3,null,null,33,0,null,null,18,0,null,null,18,3,null,null,15,8,null,null,74,0,null,null,0,0,null,null,0,3.2623626373626401E-3,null,null,112,0.109031593406594,null,null,112,null,null,null,null,0.110013860013861,null,null,null,null,null,null,112]
[null,"Lemvig","2019-07-01",20192,8,null,null,118,12,null,null,118,5,null,null,118,87,null,null,118,null,null,null,118,null,null,null,118,0,null,null,23,0,null,null,19,0,null,null,19,0,null,null,4,6,null,null,84,0,null,null,0,0,null,null,0,5.05215123859192E-3,null,null,118,0.12874837027379399,null,null,118,null,null,null,null,0.12984878369493799,null,null,null,null,null,null,118]
[null,"Lolland","2019-07-01",20192,12,null,null,464,8,null,null,464,40,null,null,464,395,null,null,464,6,null,null,464,0,null,null,464,15,null,null,63,null,null,null,21,null,null,null,21,null,null,null,42,63,null,null,391,0,null,null,0,0,null,null,0,1.85261936339523E-2,null,null,464,4.65434350132626E-2,null,null,464,null,null,null,0,4.65434350132626E-2,null,null,464,0.53749999999999998,null,null,464]
[null,"Lyngby-Taarbæk","2019-07-01",20192,19,null,null,214,11,null,null,214,12,null,null,214,153,null,null,214,15,null,null,214,0,null,null,214,3,null,null,43,0,null,null,32,3,null,null,32,0,null,null,11,11,null,null,149,0,null,null,0,0,null,null,0,2.0309130122214199E-2,null,null,214,9.0941768511862003E-2,null,null,214,null,null,null,0,9.0941768511862003E-2,null,null,214,0.52631578947368396,null,null,214]
[null,"Mariagerfjord","2019-07-01",20192,null,null,null,229,7,null,null,229,14,null,null,229,204,null,null,229,null,null,null,229,0,null,null,229,3,null,null,null,0,null,null,null,null,null,null,null,null,null,null,16,10,null,null,179,0,null,null,null,0,null,null,null,4.4507893852869698E-2,null,null,229,5.1813906617400103E-2,null,null,229,null,null,null,0,5.1813906617400103E-2,null,null,229,null,null,null,229]
[null,"Middelfart","2019-07-01",20192,9,null,null,179,24,null,null,179,11,null,null,179,113,null,null,179,19,null,null,179,null,null,null,179,4,null,null,44,null,null,null,36,null,null,null,36,null,null,null,8,9,null,null,100,0,null,null,0,0,null,null,0,1.83712935109583E-2,null,null,179,5.2750322303394999E-2,null,null,179,null,null,null,null,5.3649475524475597E-2,null,null,null,0.47887323943662002,null,null,179]
[null,"Morsø","2019-07-01",20192,10,null,null,267,29,null,null,267,23,null,null,267,169,null,null,267,36,null,null,267,0,null,null,267,5,null,null,52,0,null,null,34,0,null,null,34,5,null,null,18,12,null,null,149,0,null,null,0,0,null,null,0,5.7620282339383502E-2,null,null,267,8.0596369922212599E-2,null,null,267,null,null,null,0,8.0596369922212599E-2,null,null,267,0.148148148148148,null,null,267]
[null,"Norddjurs","2019-07-01",20192,5,null,null,204,28,null,null,204,0,null,null,204,153,null,null,204,18,null,null,204,0,null,null,204,null,null,null,34,0,null,null,34,null,null,null,34,0,null,null,0,16,null,null,159,0,null,null,0,0,null,null,0,2.60180995475113E-2,null,null,204,5.5335595776772301E-2,null,null,204,null,null,null,0,5.5335595776772301E-2,null,null,204,0.407407407407407,null,null,204]
[null,"Nordfyns","2019-07-01",20192,null,null,null,102,19,null,null,102,5,null,null,102,57,null,null,102,17,null,null,102,0,null,null,102,null,null,null,null,0,null,null,null,0,null,null,null,null,null,null,6,35,null,null,78,0,null,null,0,0,null,null,0,1.9796380090497698E-2,null,null,102,7.6357466063348395E-2,null,null,102,null,null,null,0,7.6357466063348395E-2,null,null,102,0.51724137931034497,null,null,102]
[null,"Nyborg","2019-07-01",20192,9,null,null,161,28,null,null,161,6,null,null,161,109,null,null,161,6,null,null,161,null,null,null,161,null,null,null,42,0,null,null,35,null,null,null,35,0,null,null,7,16,null,null,102,0,null,null,0,0,null,null,0,3.7028189202102303E-2,null,null,161,6.4859053989488796E-2,null,null,161,null,null,null,null,6.1320754716981202E-2,null,null,null,0.45454545454545497,null,null,161]
[null,"Næstved","2019-07-01",20192,27,null,null,456,36,null,null,456,80,null,null,456,296,null,null,456,13,null,null,456,0,null,null,456,11,null,null,138,0,null,null,62,3,null,null,62,8,null,null,76,68,null,null,333,0,null,null,0,0,null,null,0,3.1081309041835401E-2,null,null,456,3.0111336032388698E-2,null,null,456,null,null,null,0,3.0111336032388698E-2,null,null,456,0.528169014084507,null,null,456]
[null,"Odder","2019-07-01",20192,null,null,null,114,null,null,null,114,9,null,null,114,97,null,null,114,3,null,null,114,null,null,null,114,null,null,null,null,0,null,null,null,0,null,null,null,null,null,null,9,5,null,null,88,0,null,null,0,0,null,null,0,4.2172739541160601E-3,null,null,114,0.101889338731444,null,null,114,null,null,null,null,0.101889338731444,null,null,null,0.230769230769231,null,null,114]
[null,"Odense","2019-07-01",20192,59,null,null,782,75,null,null,782,62,null,null,782,461,null,null,782,114,null,null,782,0,null,null,782,15,null,null,198,0,null,null,138,8,null,null,138,7,null,null,60,55,null,null,472,0,null,null,0,0,null,null,0,2.2009639976391899E-2,null,null,782,3.8559905567578198E-2,null,null,782,null,null,null,0,3.8559905567578198E-2,null,null,782,0.48710601719197699,null,null,782]
[null,"Odsherred","2019-07-01",20192,15,null,null,121,null,null,null,121,13,null,null,121,80,null,null,121,null,null,null,121,null,null,null,121,4,null,null,39,null,null,null,23,null,null,null,23,null,null,null,16,8,null,null,83,0,null,null,0,0,null,null,0,1.08073744437381E-2,null,null,121,1.2873490146217401E-2,null,null,121,null,null,null,null,1.2873490146217401E-2,null,null,null,0.74,null,null,121]
[null,"Randers","2019-07-01",20192,7,null,null,274,48,null,null,274,19,null,null,274,184,null,null,274,13,null,null,274,0,null,null,274,7,null,null,73,0,null,null,54,3,null,null,54,4,null,null,19,47,null,null,225,0,null,null,0,0,null,null,0,1.9722066254913E-2,null,null,274,5.3551375631667501E-2,null,null,274,null,null,null,0,5.3551375631667501E-2,null,null,274,0.56666666666666698,null,null,274]
[null,"Rebild","2019-07-01",20192,null,null,null,101,22,null,null,101,9,null,null,101,63,null,null,101,null,null,null,101,null,null,null,101,null,null,null,null,0,null,null,null,0,null,null,null,null,null,null,10,9,null,null,59,0,null,null,null,0,null,null,null,5.7121096725057099E-3,null,null,101,6.72124904798172E-2,null,null,101,null,null,null,null,6.72124904798172E-2,null,null,null,null,null,null,101]
[null,"Ringkøbing-Skjern","2019-07-01",20192,12,null,null,485,75,null,null,485,52,null,null,485,313,null,null,485,27,null,null,485,0,null,null,485,15,null,null,144,0,null,null,93,7,null,null,93,8,null,null,51,13,null,null,307,0,null,null,0,0,null,null,0,5.1546391752577301E-3,null,null,485,8.7906423473433803E-2,null,null,485,null,null,null,0,8.7906423473433803E-2,null,null,485,0.46052631578947401,null,null,485]
[null,"Ringsted","2019-07-01",20192,6,null,null,115,6,null,null,115,13,null,null,115,86,null,null,115,null,null,null,115,0,null,null,115,null,null,null,27,0,null,null,11,null,null,null,11,null,null,null,16,9,null,null,83,0,null,null,0,0,null,null,0,3.6287625418060201E-2,null,null,115,2.15719063545151E-2,null,null,115,null,null,null,0,2.15719063545151E-2,null,null,115,0.66666666666666696,null,null,115]
[null,"Roskilde","2019-07-01",20192,13,null,null,387,54,null,null,387,60,null,null,387,186,null,null,387,null,null,null,387,57,null,null,387,8,null,null,126,0,null,null,68,3,null,null,68,5,null,null,58,37,null,null,216,5,null,null,12,0,null,null,12,3.23991254223812E-2,null,null,387,5.6201550387596902E-2,null,null,387,0.162280701754386,null,null,57,3.7878787878787901E-2,null,null,330,0.46153846153846201,null,null,387]
[null,"Rudersdal","2019-07-01",20192,6,null,null,180,32,null,null,180,14,null,null,180,120,null,null,180,3,null,null,180,5,null,null,180,3,null,null,52,0,null,null,38,null,null,null,38,null,null,null,14,16,null,null,122,null,null,null,null,null,null,null,null,2.45726495726496E-2,null,null,180,8.6431623931623902E-2,null,null,180,0,null,null,5,8.8901098901098902E-2,null,null,175,0.36585365853658502,null,null,180]
[null,"Rødovre","2019-07-01",20192,24,null,null,199,16,null,null,199,24,null,null,199,129,null,null,199,3,null,null,199,0,null,null,199,4,null,null,65,null,null,null,42,null,null,null,42,null,null,null,23,10,null,null,126,0,null,null,0,0,null,null,0,1.8940858136838001E-2,null,null,199,5.8755315036722003E-2,null,null,199,null,null,null,0,5.8755315036722003E-2,null,null,199,0.48648648648648701,null,null,199]
[null,"Silkeborg","2019-07-01",20192,15,null,null,623,39,null,null,623,224,null,null,623,270,null,null,623,null,null,null,623,32,null,null,623,32,null,null,280,3,null,null,60,4,null,null,60,25,null,null,220,30,null,null,274,15,null,null,25,3,null,null,25,2.0650697616989701E-2,null,null,623,6.8650450672922594E-2,null,null,623,0.10384615384615301,null,null,32,6.6555468341182603E-2,null,null,591,0.32258064516128998,null,null,623]
[null,"Skanderborg","2019-07-01",20192,4,null,null,428,14,null,null,428,39,null,null,428,349,null,null,428,22,null,null,428,0,null,null,428,6,null,null,52,0,null,null,15,0,null,null,15,6,null,null,37,38,null,null,347,0,null,null,0,0,null,null,0,1.5815959741193399E-2,null,null,428,8.8605319913731106E-2,null,null,428,null,null,null,0,8.8605319913731106E-2,null,null,428,0.402985074626866,null,null,428]
[null,"Skive","2019-07-01",20192,0,null,null,209,16,null,null,209,9,null,null,209,158,null,null,209,4,null,null,209,18,null,null,209,7,null,null,null,null,null,null,null,null,null,null,null,0,null,null,6,13,null,null,139,6,null,null,14,5,null,null,14,4.6006624953993398E-3,null,null,209,0.111796098638204,null,null,209,0.128205128205128,null,null,18,0.110249697946033,null,null,191,0.58536585365853699,null,null,209]
[null,"Slagelse","2019-07-01",20192,15,null,null,369,26,null,null,369,25,null,null,369,217,null,null,369,null,null,null,369,78,null,null,369,4,null,null,63,null,null,null,41,null,null,null,41,null,null,null,22,30,null,null,233,52,null,null,59,null,null,null,59,2.10548259328747E-2,null,null,369,3.6741713570981903E-2,null,null,369,4.80769230769231E-2,null,null,78,3.3703409992069798E-2,null,null,291,0.55454545454545501,null,null,369]
[null,"Solrød","2019-07-01",20192,8,null,null,73,null,null,null,73,13,null,null,73,46,null,null,73,null,null,null,73,null,null,null,73,null,null,null,null,0,null,null,null,0,null,null,null,null,null,null,14,0,null,null,43,0,null,null,null,0,null,null,null,1.29083245521602E-2,null,null,73,6.3487881981032696E-2,null,null,73,null,null,null,null,6.3487881981032696E-2,null,null,null,null,null,null,73]
[null,"Sorø","2019-07-01",20192,11,null,null,184,17,null,null,184,17,null,null,184,129,null,null,184,10,null,null,184,0,null,null,184,null,null,null,44,0,null,null,28,null,null,null,28,null,null,null,16,5,null,null,119,0,null,null,0,0,null,null,0,3.8879598662207401E-2,null,null,184,4.28511705685619E-2,null,null,184,null,null,null,0,4.28511705685619E-2,null,null,184,0.38461538461538503,null,null,184]
[null,"Stevns","2019-07-01",20192,null,null,null,70,3,null,null,70,12,null,null,70,52,null,null,70,null,null,null,70,0,null,null,70,null,null,null,null,0,null,null,null,0,null,null,null,null,null,null,13,null,null,null,48,0,null,null,0,0,null,null,0,1.4285714285714299E-2,null,null,70,6.5384615384615402E-2,null,null,70,null,null,null,0,6.5384615384615402E-2,null,null,70,null,null,null,70]
[null,"Struer","2019-07-01",20192,null,null,null,96,13,null,null,96,10,null,null,96,46,null,null,96,null,null,null,96,23,null,null,96,4,null,null,null,null,null,null,null,null,null,null,null,null,null,null,11,8,null,null,53,25,null,null,37,0,null,null,37,0,null,null,96,5.4286858974358997E-2,null,null,96,0.146321070234114,null,null,23,2.52897787144362E-2,null,null,73,0.44186046511627902,null,null,96]
[null,"Svendborg","2019-07-01",20192,25,null,null,348,19,null,null,348,25,null,null,348,224,null,null,348,55,null,null,348,0,null,null,348,3,null,null,71,0,null,null,47,3,null,null,47,0,null,null,24,31,null,null,223,0,null,null,0,0,null,null,0,2.9840848806366001E-2,null,null,348,1.56940760389036E-2,null,null,348,null,null,null,0,1.56940760389036E-2,null,null,348,0.55038759689922501,null,null,348]
[null,"Syddjurs","2019-07-01",20192,5,null,null,175,10,null,null,175,15,null,null,175,123,null,null,175,19,null,null,175,0,null,null,175,null,null,null,29,0,null,null,15,null,null,null,15,0,null,null,14,14,null,null,98,0,null,null,0,0,null,null,0,2.6153846153846201E-2,null,null,175,6.8681318681318701E-2,null,null,175,null,null,null,0,6.8681318681318701E-2,null,null,175,0.40476190476190499,null,null,175]
[null,"Sønderborg","2019-07-01",20192,19,null,null,591,61,null,null,591,34,null,null,591,461,null,null,591,13,null,null,591,0,null,null,591,11,null,null,114,null,null,null,82,null,null,null,82,4,null,null,32,64,null,null,484,0,null,null,0,0,null,null,0,1.4349863334634901E-2,null,null,591,5.4698685409345298E-2,null,null,591,null,null,null,0,5.4698685409345298E-2,null,null,591,0.50993377483443703,null,null,591]
[null,"Thisted","2019-07-01",20192,null,null,null,157,30,null,null,157,null,null,null,157,106,null,null,157,16,null,null,157,null,null,null,157,0,null,null,null,0,null,null,null,0,null,null,null,0,null,null,null,0,null,null,96,0,null,null,0,0,null,null,0,1.5556099951004401E-2,null,null,157,4.4096031357177899E-2,null,null,157,null,null,null,null,4.4096031357177899E-2,null,null,null,null,null,null,157]
[null,"Tønder","2019-07-01",20192,7,null,null,205,19,null,null,205,12,null,null,205,163,null,null,205,null,null,null,205,0,null,null,205,3,null,null,38,0,null,null,28,null,null,null,28,null,null,null,10,41,null,null,170,0,null,null,0,0,null,null,0,3.1519699812382701E-2,null,null,205,4.8686679174484097E-2,null,null,205,null,null,null,0,4.8686679174484097E-2,null,null,205,0.42857142857142899,null,null,205]
[null,"Tårnby","2019-07-01",20192,12,null,null,146,4,null,null,146,23,null,null,146,67,null,null,146,null,null,null,146,0,null,null,146,null,null,null,37,0,null,null,16,null,null,null,16,0,null,null,21,7,null,null,66,0,null,null,0,0,null,null,0,2.2128556375131701E-2,null,null,146,6.1380400421496298E-2,null,null,146,null,null,null,0,6.1380400421496298E-2,null,null,146,0.44444444444444398,null,null,146]
[null,"Varde","2019-07-01",20192,7,null,null,234,4,null,null,234,11,null,null,234,208,null,null,234,null,null,null,234,null,null,null,234,4,null,null,24,0,null,null,11,0,null,null,11,4,null,null,13,34,null,null,202,0,null,null,0,0,null,null,0,2.8763971071663402E-3,null,null,234,7.1581196581196604E-2,null,null,234,null,null,null,null,6.8669527896995694E-2,null,null,null,0.16326530612244899,null,null,234]
[null,"Vejen","2019-07-01",20192,11,null,null,235,null,null,null,235,33,null,null,235,159,null,null,235,28,null,null,235,null,null,null,235,8,null,null,null,0,null,null,null,3,null,null,null,5,null,null,33,12,null,null,149,0,null,null,null,0,null,null,null,2.69230769230769E-2,null,null,235,4.3617021276595801E-2,null,null,235,null,null,null,null,4.4181034482758598E-2,null,null,null,0.36585365853658502,null,null,235]
[null,"Vejle","2019-07-01",20192,17,null,null,449,32,null,null,449,46,null,null,449,307,null,null,449,16,null,null,449,31,null,null,449,7,null,null,90,0,null,null,48,0,null,null,48,7,null,null,42,55,null,null,326,20,null,null,23,null,null,null,23,3.5163611444235097E-2,null,null,449,5.7306835703268902E-2,null,null,449,0.120793269230769,null,null,31,5.2434975096841002E-2,null,null,418,0.46385542168674698,null,null,449]
[null,"Vesthimmerlands","2019-07-01",20192,null,null,null,92,13,null,null,92,11,null,null,92,55,null,null,92,null,null,null,92,null,null,null,92,6,null,null,37,null,null,null,26,null,null,null,26,null,null,null,11,13,null,null,60,0,null,null,0,0,null,null,0,2.57107023411371E-2,null,null,92,1.0869565217391301E-2,null,null,92,null,null,null,null,1.0869565217391301E-2,null,null,null,0.41666666666666702,null,null,92]
[null,"Viborg","2019-07-01",20192,11,null,null,629,129,null,null,629,18,null,null,629,294,null,null,629,132,null,null,629,41,null,null,629,19,null,null,151,0,null,null,133,14,null,null,133,5,null,null,18,45,null,null,305,12,null,null,25,3,null,null,25,1.7854959031429599E-2,null,null,629,5.0721536015653698E-2,null,null,629,5.2655677655677698E-2,null,null,41,5.0583147687065899E-2,null,null,588,0.570175438596491,null,null,629]
[null,"Vordingborg","2019-07-01",20192,9,null,null,450,34,null,null,450,24,null,null,450,332,null,null,450,44,null,null,450,null,null,null,450,null,null,null,61,0,null,null,42,null,null,null,42,0,null,null,19,41,null,null,343,0,null,null,null,0,null,null,null,8.6324786324786292E-3,null,null,450,4.1111111111111098E-2,null,null,450,null,null,null,null,4.0388898406715799E-2,null,null,null,0.54954954954955004,null,null,450]
[null,"Ærø","2019-07-01",20192]
[null,"Aabenraa","2019-07-01",20192,7,null,null,203,4,null,null,203,16,null,null,203,163,null,null,203,7,null,null,203,0,null,null,203,5,null,null,30,null,null,null,15,null,null,null,15,null,null,null,15,52,null,null,194,0,null,null,0,0,null,null,0,1.1936339522546399E-2,null,null,203,7.4838954149299003E-2,null,null,203,null,null,null,0,7.4838954149299003E-2,null,null,203,0.40909090909090901,null,null,203]
[null,"Aalborg","2019-07-01",20192,32,null,null,867,154,null,null,867,49,null,null,867,589,null,null,867,43,null,null,867,0,null,null,867,13,null,null,240,0,null,null,192,10,null,null,192,3,null,null,48,51,null,null,603,0,null,null,0,0,null,null,0,3.9038239730281202E-3,null,null,867,2.9811019430396601E-2,null,null,867,null,null,null,0,2.9811019430396601E-2,null,null,867,0.35,null,null,867]
[null,"Aarhus","2019-07-01",20192,36,null,null,2113,214,null,null,2113,106,null,null,2113,1582,null,null,2113,111,null,null,2113,52,null,null,2113,26,null,null,350,null,null,null,247,null,null,null,247,12,null,null,103,220,null,null,1544,0,null,null,0,0,null,null,0,4.8054170155448002E-2,null,null,2113,6.6911791474025303E-2,null,null,2113,0.195636094674556,null,null,52,6.3664016720785296E-2,null,null,2061,0.55407407407407405,null,null,2113]
[null,"Albertslund","2020-01-01",20201,12,null,null,90,5,null,null,90,23,null,null,90,45,null,null,90,null,null,null,90,0,null,null,90,null,null,null,39,0,null,null,17,null,null,null,17,null,null,null,22,12,null,null,51,0,null,null,0,0,null,null,0,3.2264957264957303E-2,null,null,90,6.1752136752136803E-2,null,null,90,null,null,null,0,6.1752136752136803E-2,null,null,90,0.483870967741936,null,null,90]
[null,"Allerød","2020-01-01",20201,8,null,null,30,null,null,null,30,null,null,null,30,15,null,null,30,null,null,null,30,null,null,null,30,null,null,null,null,0,null,null,null,0,null,null,null,null,null,null,null,0,null,null,13,0,null,null,null,0,null,null,null,0,null,null,30,0.15064102564102599,null,null,30,null,null,null,null,0.15064102564102599,null,null,null,0.83333333333333304,null,null,30]
[null,"Assens","2020-01-01",20201,6,null,null,204,23,null,null,204,22,null,null,204,105,null,null,204,45,null,null,204,0,null,null,204,5,null,null,53,null,null,null,29,null,null,null,29,null,null,null,24,6,null,null,91,0,null,null,0,0,null,null,0,1.17835595776772E-2,null,null,204,4.1195324283559598E-2,null,null,204,null,null,null,0,4.1195324283559598E-2,null,null,204,0.39534883720930197,null,null,204]
[null,"Ballerup","2020-01-01",20201,22,null,null,253,17,null,null,253,36,null,null,253,152,null,null,253,20,null,null,253,0,null,null,253,4,null,null,73,0,null,null,38,null,null,null,38,null,null,null,35,25,null,null,169,0,null,null,0,0,null,null,0,2.27272727272727E-2,null,null,253,5.8072362420188497E-2,null,null,253,null,null,null,0,5.8072362420188497E-2,null,null,253,0.44262295081967201,null,null,253]
[null,"Billund","2020-01-01",20201,null,null,null,164,0,null,null,164,16,null,null,164,144,null,null,164,null,null,null,164,0,null,null,164,3,null,null,null,0,null,null,null,0,null,null,null,3,null,null,15,23,null,null,144,0,null,null,0,0,null,null,0,3.0487804878048799E-3,null,null,164,8.7593808630393996E-2,null,null,164,null,null,null,0,8.7593808630393996E-2,null,null,164,0.38461538461538503,null,null,164]
[null,"Bornholm","2020-01-01",20201,null,null,null,209,13,null,null,209,22,null,null,209,169,null,null,209,null,null,null,209,null,null,null,209,4,null,null,39,0,null,null,12,0,null,null,12,4,null,null,27,14,null,null,171,0,null,null,0,0,null,null,0,1.17776959882223E-2,null,null,209,3.8737578211262398E-2,null,null,209,null,null,null,null,3.7154592979835699E-2,null,null,null,0.550561797752809,null,null,209]
[null,"Brøndby","2020-01-01",20201,16,null,null,120,4,null,null,120,9,null,null,120,83,null,null,120,null,null,null,120,0,null,null,120,5,null,null,32,null,null,null,23,null,null,null,23,null,null,null,9,10,null,null,75,0,null,null,0,0,null,null,0,1.6025641025641001E-4,null,null,120,4.3429487179487199E-2,null,null,120,null,null,null,0,4.3429487179487199E-2,null,null,120,0.55357142857142905,null,null,120]
[null,"Brønderslev","2020-01-01",20201,13,null,null,182,15,null,null,182,10,null,null,182,130,null,null,182,null,null,null,182,4,null,null,182,4,null,null,40,0,null,null,29,null,null,null,29,null,null,null,11,26,null,null,128,0,null,null,0,0,null,null,0,3.0325443786982199E-2,null,null,182,4.4695688926458199E-2,null,null,182,null,null,null,4,4.0838375108037998E-2,null,null,178,0.157894736842105,null,null,182]
[null,"Esbjerg","2020-01-01",20201,14,null,null,471,47,null,null,471,50,null,null,471,256,null,null,471,null,null,null,471,46,null,null,471,9,null,null,114,0,null,null,64,5,null,null,64,4,null,null,50,32,null,null,158,0,null,null,0,0,null,null,0,1.3187979748489301E-2,null,null,471,7.1043606075452695E-2,null,null,471,9.1243862520458296E-2,null,null,46,6.88044267053705E-2,null,null,425,0.39354838709677398,null,null,471]
[null,"Favrskov","2020-01-01",20201,null,null,null,145,24,null,null,145,12,null,null,145,104,null,null,145,null,null,null,145,null,null,null,145,0,null,null,null,0,null,null,null,0,null,null,null,0,null,null,12,6,null,null,100,0,null,null,null,0,null,null,null,7.9575596816976093E-3,null,null,145,0.11246684350132601,null,null,145,null,null,null,null,0.11246684350132601,null,null,null,0.57142857142857095,null,null,145]
[null,"Faxe","2020-01-01",20201,7,null,null,148,16,null,null,148,24,null,null,148,95,null,null,148,6,null,null,148,0,null,null,148,null,null,null,38,0,null,null,20,null,null,null,20,null,null,null,18,3,null,null,68,0,null,null,0,0,null,null,0,6.6268191268191298E-3,null,null,148,6.0291060291060301E-2,null,null,148,null,null,null,0,6.0291060291060301E-2,null,null,148,0.4,null,null,148]
[null,"Fredensborg","2020-01-01",20201,36,null,null,172,5,null,null,172,26,null,null,172,75,null,null,172,14,null,null,172,12,null,null,172,0,null,null,66,0,null,null,41,0,null,null,41,0,null,null,25,8,null,null,79,6,null,null,14,0,null,null,14,3.7567084078712003E-2,null,null,172,4.7517889087657E-2,null,null,172,8.3333333333333301E-2,null,null,12,4.48317307692312E-2,null,null,160,0.47169811320754701,null,null,172]
[null,"Fredericia","2020-01-01",20201,null,null,null,286,null,null,null,286,27,null,null,286,172,null,null,286,61,null,null,286,null,null,null,286,6,null,null,null,null,null,null,null,null,null,null,null,null,null,null,22,20,null,null,185,0,null,null,null,0,null,null,null,1.5196342119419001E-2,null,null,286,6.7374932759548201E-2,null,null,286,null,null,null,null,6.7374932759548201E-2,null,null,null,0.52112676056338003,null,null,286]
[null,"Frederiksberg","2020-01-01",20201,37,null,null,243,10,null,null,243,57,null,null,243,127,null,null,243,8,null,null,243,0,null,null,243,7,null,null,99,0,null,null,50,3,null,null,50,4,null,null,49,20,null,null,119,0,null,null,0,0,null,null,0,1.40075973409307E-2,null,null,243,2.74612219056664E-2,null,null,243,null,null,null,0,2.74612219056664E-2,null,null,243,0.27777777777777801,null,null,243]
[null,"Frederikshavn","2020-01-01",20201,14,null,null,480,60,null,null,480,26,null,null,480,342,null,null,480,34,null,null,480,null,null,null,480,5,null,null,103,null,null,null,74,null,null,null,74,null,null,null,29,38,null,null,346,0,null,null,0,0,null,null,0,8.4935897435897498E-3,null,null,480,6.3060897435897406E-2,null,null,480,null,null,null,null,6.3324750563244298E-2,null,null,null,0.34782608695652201,null,null,480]
[null,"Frederikssund","2020-01-01",20201,18,null,null,191,4,null,null,191,35,null,null,191,113,null,null,191,9,null,null,191,12,null,null,191,8,null,null,null,null,null,null,null,null,null,null,null,null,null,null,37,38,null,null,124,0,null,null,null,0,null,null,null,4.4804671768022601E-2,null,null,191,9.1421667337897694E-2,null,null,191,0,null,null,12,9.7550494198538895E-2,null,null,179,0.36363636363636398,null,null,191]
[null,"Furesø","2020-01-01",20201,15,null,null,213,8,null,null,213,24,null,null,213,152,null,null,213,14,null,null,213,0,null,null,213,4,null,null,48,null,null,null,26,null,null,null,26,null,null,null,22,14,null,null,154,0,null,null,0,0,null,null,0,1.7876489707475601E-2,null,null,213,5.6247742867461203E-2,null,null,213,null,null,null,0,5.6247742867461203E-2,null,null,213,0.70175438596491202,null,null,213]
[null,"Faaborg-Midtfyn","2020-01-01",20201,null,null,null,386,14,null,null,386,25,null,null,386,299,null,null,386,36,null,null,386,null,null,null,386,null,null,null,40,0,null,null,23,null,null,null,23,0,null,null,17,36,null,null,290,0,null,null,0,0,null,null,0,1.6939019529693101E-2,null,null,386,3.8112793941809497E-2,null,null,386,null,null,null,null,3.8211788211788202E-2,null,null,null,0.55294117647058805,null,null,386]
[null,"Gentofte","2020-01-01",20201,15,null,null,175,24,null,null,175,35,null,null,175,87,null,null,175,null,null,null,175,4,null,null,175,6,null,null,68,null,null,null,34,null,null,null,34,null,null,null,34,24,null,null,100,null,null,null,4,null,null,null,4,3.2857142857142897E-2,null,null,175,5.7802197802197801E-2,null,null,175,null,null,null,4,5.2519118308592003E-2,null,null,171,0.28947368421052599,null,null,175]
[null,"Gladsaxe","2020-01-01",20201,20,null,null,152,16,null,null,152,25,null,null,152,78,null,null,152,13,null,null,152,0,null,null,152,16,null,null,71,0,null,null,49,13,null,null,49,3,null,null,22,17,null,null,79,0,null,null,0,0,null,null,0,8.9827935222672097E-3,null,null,152,5.7565789473684202E-2,null,null,152,null,null,null,0,5.7565789473684202E-2,null,null,152,0.41176470588235298,null,null,152]
[null,"Glostrup","2020-01-01",20201,15,null,null,181,17,null,null,181,15,null,null,181,104,null,null,181,20,null,null,181,0,null,null,181,0,null,null,43,0,null,null,31,0,null,null,31,0,null,null,12,21,null,null,118,0,null,null,0,0,null,null,0,1.6680832979175501E-2,null,null,181,8.7760305992350199E-2,null,null,181,null,null,null,0,8.7760305992350199E-2,null,null,181,0.217391304347826,null,null,181]
[null,"Greve","2020-01-01",20201,17,null,null,198,12,null,null,198,25,null,null,198,111,null,null,198,null,null,null,198,6,null,null,198,4,null,null,null,0,null,null,null,0,null,null,null,4,null,null,27,23,null,null,133,0,null,null,null,0,null,null,null,2.2047397047396999E-2,null,null,198,7.9739704739704806E-2,null,null,198,0.125,null,null,6,7.8325320512820498E-2,null,null,192,0.162790697674419,null,null,198]
[null,"Gribskov","2020-01-01",20201,8,null,null,107,10,null,null,107,21,null,null,107,64,null,null,107,null,null,null,107,0,null,null,107,3,null,null,42,0,null,null,18,0,null,null,18,3,null,null,24,7,null,null,57,0,null,null,0,0,null,null,0,4.24155283968368E-2,null,null,107,4.7627606038820998E-2,null,null,107,null,null,null,0,4.7627606038820998E-2,null,null,107,null,null,null,107]
[null,"Guldborgsund","2020-01-01",20201,34,null,null,452,17,null,null,452,46,null,null,452,320,null,null,452,35,null,null,452,0,null,null,452,14,null,null,102,0,null,null,54,6,null,null,54,8,null,null,48,28,null,null,304,0,null,null,0,0,null,null,0,2.7612321307011599E-2,null,null,452,4.4375425459496298E-2,null,null,452,null,null,null,0,4.4375425459496298E-2,null,null,452,0.50943396226415105,null,null,452]
[null,"Haderslev","2020-01-01",20201,7,null,null,201,27,null,null,201,17,null,null,201,147,null,null,201,3,null,null,201,0,null,null,201,null,null,null,51,0,null,null,35,null,null,null,35,null,null,null,16,23,null,null,158,0,null,null,0,0,null,null,0,5.3578262533486402E-3,null,null,201,1.3203214695752001E-2,null,null,201,null,null,null,0,1.3203214695752001E-2,null,null,201,0.44927536231884102,null,null,201]
[null,"Halsnæs","2020-01-01",20201,10,null,null,159,8,null,null,159,16,null,null,159,118,null,null,159,null,null,null,159,3,null,null,159,3,null,null,35,0,null,null,18,null,null,null,18,null,null,null,17,28,null,null,134,0,null,null,0,0,null,null,0,0,null,null,159,3.8703434929850102E-2,null,null,159,null,null,null,3,3.83382642998027E-2,null,null,156,0.225806451612903,null,null,159]
[null,"Hedensted","2020-01-01",20201,11,null,null,200,14,null,null,200,12,null,null,200,152,null,null,200,7,null,null,200,null,null,null,200,null,null,null,36,0,null,null,25,0,null,null,25,null,null,null,11,35,null,null,177,0,null,null,null,0,null,null,null,5.0000000000000001E-3,null,null,200,5.0576923076923103E-2,null,null,200,null,null,null,null,5.0831078469269403E-2,null,null,null,0.47499999999999998,null,null,200]
[null,"Helsingør","2020-01-01",20201,34,null,null,246,14,null,null,246,57,null,null,246,132,null,null,246,null,null,null,246,0,null,null,246,7,null,null,98,0,null,null,43,3,null,null,43,4,null,null,55,23,null,null,133,0,null,null,0,0,null,null,0,1.6103814884302702E-2,null,null,246,4.6044402751719803E-2,null,null,246,null,null,null,0,4.6044402751719803E-2,null,null,246,0.37096774193548399,null,null,246]
[null,"Herlev","2020-01-01",20201,15,null,null,116,7,null,null,116,27,null,null,116,61,null,null,116,null,null,null,116,0,null,null,116,3,null,null,49,0,null,null,21,0,null,null,21,3,null,null,28,9,null,null,62,0,null,null,0,0,null,null,0,1.29310344827586E-2,null,null,116,3.2824933687002601E-2,null,null,116,null,null,null,0,3.2824933687002601E-2,null,null,116,0.476190476190476,null,null,116]
[null,"Herning","2020-01-01",20201,22,null,null,363,42,null,null,363,30,null,null,363,249,null,null,363,9,null,null,363,null,null,null,363,6,null,null,94,null,null,null,64,null,null,null,64,null,null,null,30,46,null,null,258,0,null,null,0,0,null,null,0,1.6952744225471501E-2,null,null,363,5.0540368722186903E-2,null,null,363,null,null,null,null,5.0679983000424998E-2,null,null,null,0.45600000000000002,null,null,363]
[null,"Hillerød","2020-01-01",20201,15,null,null,235,null,null,null,235,25,null,null,235,175,null,null,235,10,null,null,235,null,null,null,235,0,null,null,null,0,null,null,null,0,null,null,null,0,null,null,21,25,null,null,186,null,null,null,17,null,null,null,17,2.26677577741408E-2,null,null,235,5.8183306055646498E-2,null,null,235,null,null,null,null,5.8682733575437497E-2,null,null,null,0.644859813084112,null,null,235]
[null,"Hjørring","2020-01-01",20201,16,null,null,384,73,null,null,384,35,null,null,384,246,null,null,384,10,null,null,384,0,null,null,384,8,null,null,122,0,null,null,89,4,null,null,89,4,null,null,33,33,null,null,250,0,null,null,0,0,null,null,0,2.37880608974359E-2,null,null,384,5.9395032051282E-2,null,null,384,null,null,null,0,5.9395032051282E-2,null,null,384,0.24324324324324301,null,null,384]
[null,"Holbæk","2020-01-01",20201,null,null,null,290,50,null,null,290,27,null,null,290,196,null,null,290,14,null,null,290,0,null,null,290,7,null,null,null,null,null,null,null,null,null,null,null,null,null,null,29,25,null,null,195,0,null,null,null,0,null,null,null,1.0676392572944299E-2,null,null,290,4.63527851458886E-2,null,null,290,null,null,null,0,4.63527851458886E-2,null,null,290,0.40816326530612201,null,null,290]
[null,"Holstebro","2020-01-01",20201,22,null,null,325,55,null,null,325,19,null,null,325,206,null,null,325,19,null,null,325,4,null,null,325,16,null,null,108,null,null,null,78,null,null,null,78,10,null,null,30,34,null,null,228,0,null,null,null,0,null,null,null,1.66272189349112E-2,null,null,325,4.3846153846153903E-2,null,null,325,null,null,null,4,4.18763479511143E-2,null,null,321,0.54807692307692302,null,null,325]
[null,"Horsens","2020-01-01",20201,33,null,null,416,47,null,null,416,43,null,null,416,257,null,null,416,32,null,null,416,0,null,null,416,7,null,null,124,0,null,null,81,3,null,null,81,4,null,null,43,25,null,null,264,0,null,null,0,0,null,null,0,1.30362426035503E-2,null,null,416,5.0110946745562102E-2,null,null,416,null,null,null,0,5.0110946745562102E-2,null,null,416,0.51200000000000001,null,null,416]
[null,"Hvidovre","2020-01-01",20201,30,null,null,226,19,null,null,226,36,null,null,226,97,null,null,226,null,null,null,226,0,null,null,226,9,null,null,86,0,null,null,52,3,null,null,52,6,null,null,34,14,null,null,93,0,null,null,0,0,null,null,0,2.2634445200816901E-2,null,null,226,3.41218515997277E-2,null,null,226,null,null,null,0,3.41218515997277E-2,null,null,226,0.36206896551724099,null,null,226]
[null,"Høje-Taastrup","2020-01-01",20201,14,null,null,269,35,null,null,269,20,null,null,269,157,null,null,269,3,null,null,269,34,null,null,269,4,null,null,69,null,null,null,47,null,null,null,47,null,null,null,22,27,null,null,160,4,null,null,4,0,null,null,4,2.8452959679725501E-2,null,null,269,7.0989419502430595E-2,null,null,269,0.16911764705882401,null,null,34,5.6792144026186597E-2,null,null,235,0.484375,null,null,269]
[null,"Hørsholm","2020-01-01",20201,8,null,null,63,null,null,null,63,12,null,null,63,40,null,null,63,null,null,null,63,0,null,null,63,0,null,null,null,0,null,null,null,0,null,null,null,0,null,null,10,4,null,null,41,0,null,null,0,0,null,null,0,2.4420024420024398E-3,null,null,63,4.5177045177045197E-2,null,null,63,null,null,null,0,4.5177045177045197E-2,null,null,63,null,null,null,63]
[null,"Ikast-Brande","2020-01-01",20201,null,null,null,134,32,null,null,134,6,null,null,134,75,null,null,134,null,null,null,134,14,null,null,134,9,null,null,50,null,null,null,37,null,null,null,37,null,null,null,13,20,null,null,87,0,null,null,null,0,null,null,null,7.4626865671641798E-3,null,null,134,4.6211251435132002E-2,null,null,134,0.13324175824175799,null,null,14,3.6057692307692298E-2,null,null,120,0.6,null,null,134]
[null,"Ishøj","2020-01-01",20201,17,null,null,137,7,null,null,137,23,null,null,137,61,null,null,137,6,null,null,137,18,null,null,137,0,null,null,39,0,null,null,21,0,null,null,21,0,null,null,18,10,null,null,68,0,null,null,5,0,null,null,5,2.7231892195395801E-2,null,null,137,5.4884896125771999E-2,null,null,137,4.2735042735042701E-2,null,null,18,5.67226890756303E-2,null,null,119,0.31034482758620702,null,null,137]
[null,"Jammerbugt","2020-01-01",20201,6,null,null,197,36,null,null,197,13,null,null,197,134,null,null,197,null,null,null,197,0,null,null,197,3,null,null,56,0,null,null,41,null,null,null,41,null,null,null,15,27,null,null,141,0,null,null,0,0,null,null,0,1.01522842639594E-2,null,null,197,6.6575556423272203E-2,null,null,197,null,null,null,0,6.6575556423272203E-2,null,null,197,null,null,null,197]
[null,"Kalundborg","2020-01-01",20201,21,null,null,476,47,null,null,476,56,null,null,476,334,null,null,476,15,null,null,476,0,null,null,476,9,null,null,121,0,null,null,73,5,null,null,73,4,null,null,48,40,null,null,332,0,null,null,0,0,null,null,0,2.1614414996767899E-2,null,null,476,4.95313510019392E-2,null,null,476,null,null,null,0,4.95313510019392E-2,null,null,476,0.34,null,null,476]
[null,"Kerteminde","2020-01-01",20201,null,null,null,107,11,null,null,107,11,null,null,107,63,null,null,107,17,null,null,107,0,null,null,107,null,null,null,null,0,null,null,null,null,null,null,null,0,null,null,8,9,null,null,52,null,null,null,null,null,null,null,null,2.08483105679367E-2,null,null,107,3.1991373112868399E-2,null,null,107,null,null,null,0,3.1991373112868399E-2,null,null,107,0.628571428571429,null,null,107]
[null,"Kolding","2020-01-01",20201,26,null,null,325,0,null,null,325,32,null,null,325,217,null,null,325,14,null,null,325,36,null,null,325,10,null,null,null,0,null,null,null,3,null,null,null,7,null,null,33,31,null,null,222,null,null,null,30,null,null,null,30,3.0710059171597599E-2,null,null,325,6.0236686390532597E-2,null,null,325,0.122141372141372,null,null,36,5.2283653846153799E-2,null,null,289,0.472727272727273,null,null,325]
[null,"København","2020-01-01",20201,496,null,null,1871,498,null,null,1871,189,null,null,1871,606,null,null,1871,45,null,null,1871,4,null,null,1871,74,null,null,1198,null,null,null,1011,null,null,null,1011,19,null,null,187,140,null,null,628,0,null,null,0,0,null,null,0,1.5797804547136501E-2,null,null,1871,3.0012745138346401E-2,null,null,1871,null,null,null,4,2.9376622306456299E-2,null,null,1867,0.444104134762634,null,null,1871]
[null,"Køge","2020-01-01",20201,33,null,null,300,4,null,null,300,34,null,null,300,215,null,null,300,null,null,null,300,0,null,null,300,6,null,null,67,null,null,null,36,null,null,null,36,null,null,null,31,22,null,null,220,0,null,null,0,0,null,null,0,1.46153846153846E-2,null,null,300,5.2564102564102599E-2,null,null,300,null,null,null,0,5.2564102564102599E-2,null,null,300,0.36842105263157898,null,null,300]
[null,"Langeland","2020-01-01",20201,5,null,null,90,19,null,null,90,16,null,null,90,38,null,null,90,12,null,null,90,0,null,null,90,null,null,null,37,0,null,null,26,null,null,null,26,0,null,null,11,null,null,null,34,0,null,null,0,0,null,null,0,1.1111111111111099E-2,null,null,90,6.0256410256410299E-2,null,null,90,null,null,null,0,6.0256410256410299E-2,null,null,90,null,null,null,90]
[null,"Lejre","2020-01-01",20201,10,null,null,107,12,null,null,107,11,null,null,107,66,null,null,107,null,null,null,107,3,null,null,107,null,null,null,33,0,null,null,21,0,null,null,21,null,null,null,12,14,null,null,74,null,null,null,null,null,null,null,null,6.2904385334295598E-3,null,null,107,9.9388928828181206E-2,null,null,107,null,null,null,3,0.101701183431953,null,null,104,0.42105263157894701,null,null,107]
[null,"Lemvig","2020-01-01",20201,8,null,null,117,13,null,null,117,null,null,null,117,86,null,null,117,4,null,null,117,null,null,null,117,null,null,null,25,0,null,null,20,null,null,null,20,null,null,null,5,6,null,null,87,0,null,null,null,0,null,null,null,4.2735042735042696E-3,null,null,117,0.13099934253780399,null,null,117,null,null,null,null,0.13212864721485401,null,null,null,null,null,null,117]
[null,"Lolland","2020-01-01",20201,11,null,null,473,8,null,null,473,38,null,null,473,409,null,null,473,3,null,null,473,0,null,null,473,10,null,null,60,null,null,null,20,null,null,null,20,null,null,null,40,54,null,null,395,0,null,null,0,0,null,null,0,1.8173686778337899E-2,null,null,473,4.62676858025695E-2,null,null,473,null,null,null,0,4.62676858025695E-2,null,null,473,0.38571428571428601,null,null,473]
[null,"Lyngby-Taarbæk","2020-01-01",20201,18,null,null,225,27,null,null,225,19,null,null,225,144,null,null,225,null,null,null,225,0,null,null,225,10,null,null,42,null,null,null,30,null,null,null,30,4,null,null,12,16,null,null,153,0,null,null,0,0,null,null,0,1.46153846153846E-2,null,null,225,9.2307692307692299E-2,null,null,225,null,null,null,0,9.2307692307692299E-2,null,null,225,0.67901234567901203,null,null,225]
[null,"Mariagerfjord","2020-01-01",20201,null,null,null,248,7,null,null,248,16,null,null,248,220,null,null,248,null,null,null,248,0,null,null,248,null,null,null,null,0,null,null,null,null,null,null,null,0,null,null,14,10,null,null,204,0,null,null,0,0,null,null,0,3.4351736972704702E-2,null,null,248,6.5679280397022297E-2,null,null,248,null,null,null,0,6.5679280397022297E-2,null,null,248,0.46153846153846201,null,null,248]
[null,"Middelfart","2020-01-01",20201,8,null,null,182,24,null,null,182,9,null,null,182,117,null,null,182,20,null,null,182,4,null,null,182,3,null,null,44,0,null,null,33,null,null,null,33,null,null,null,11,9,null,null,113,null,null,null,null,null,null,null,null,1.1094674556213E-2,null,null,182,4.5012679628064302E-2,null,null,182,null,null,null,4,4.6024200518582602E-2,null,null,178,0.45901639344262302,null,null,182]
[null,"Morsø","2020-01-01",20201,10,null,null,258,29,null,null,258,24,null,null,258,163,null,null,258,32,null,null,258,0,null,null,258,7,null,null,62,null,null,null,39,null,null,null,39,null,null,null,23,17,null,null,169,0,null,null,0,0,null,null,0,4.0772212283840203E-2,null,null,258,7.4463327370304103E-2,null,null,258,null,null,null,0,7.4463327370304103E-2,null,null,258,null,null,null,258]
[null,"Norddjurs","2020-01-01",20201,null,null,null,219,28,null,null,219,null,null,null,219,167,null,null,219,17,null,null,219,null,null,null,219,null,null,null,33,0,null,null,33,null,null,null,33,0,null,null,0,13,null,null,153,0,null,null,0,0,null,null,0,1.29083245521602E-2,null,null,219,5.1984545135230098E-2,null,null,219,null,null,null,null,5.1984545135230098E-2,null,null,null,0.32142857142857101,null,null,219]
[null,"Nordfyns","2020-01-01",20201,null,null,null,97,18,null,null,97,7,null,null,97,48,null,null,97,19,null,null,97,0,null,null,97,null,null,null,null,0,null,null,null,null,null,null,null,0,null,null,5,10,null,null,57,0,null,null,0,0,null,null,0,2.59714512291832E-2,null,null,97,7.9698651863600298E-2,null,null,97,null,null,null,0,7.9698651863600298E-2,null,null,97,0.52777777777777801,null,null,97]
[null,"Nyborg","2020-01-01",20201,9,null,null,167,29,null,null,167,null,null,null,167,117,null,null,167,5,null,null,167,null,null,null,167,null,null,null,43,0,null,null,37,null,null,null,37,0,null,null,6,14,null,null,109,null,null,null,null,null,null,null,null,3.04007369875633E-2,null,null,167,6.1377245508981999E-2,null,null,167,null,null,null,null,6.01251158480074E-2,null,null,null,0.58181818181818201,null,null,167]
[null,"Næstved","2020-01-01",20201,25,null,null,472,33,null,null,472,75,null,null,472,319,null,null,472,16,null,null,472,0,null,null,472,18,null,null,143,0,null,null,63,7,null,null,63,11,null,null,80,32,null,null,296,0,null,null,0,0,null,null,0,2.9375814863102999E-2,null,null,472,3.1820404172099102E-2,null,null,472,null,null,null,0,3.1820404172099102E-2,null,null,472,0.39534883720930197,null,null,472]
[null,"Odder","2020-01-01",20201,null,null,null,122,null,null,null,122,7,null,null,122,105,null,null,122,4,null,null,122,null,null,null,122,null,null,null,null,0,null,null,null,0,null,null,null,null,null,null,9,6,null,null,97,0,null,null,null,0,null,null,null,8.8272383354350593E-3,null,null,122,7.2194199243379595E-2,null,null,122,null,null,null,null,7.2194199243379595E-2,null,null,null,0.46428571428571402,null,null,122]
[null,"Odense","2020-01-01",20201,61,null,null,739,61,null,null,739,55,null,null,739,440,null,null,739,112,null,null,739,0,null,null,739,34,null,null,196,0,null,null,134,18,null,null,134,16,null,null,62,76,null,null,461,0,null,null,0,0,null,null,0,1.7409180805662498E-2,null,null,739,3.7889039242219202E-2,null,null,739,null,null,null,0,3.7889039242219202E-2,null,null,739,0.526984126984127,null,null,739]
[null,"Odsherred","2020-01-01",20201,13,null,null,129,11,null,null,129,13,null,null,129,88,null,null,129,null,null,null,129,null,null,null,129,4,null,null,null,null,null,null,null,null,null,null,null,null,null,null,13,7,null,null,80,0,null,null,null,0,null,null,null,7.7519379844961196E-3,null,null,129,1.5056648777579E-2,null,null,129,null,null,null,null,1.5174278846153799E-2,null,null,null,0.55555555555555602,null,null,129]
[null,"Randers","2020-01-01",20201,7,null,null,254,48,null,null,254,18,null,null,254,169,null,null,254,9,null,null,254,0,null,null,254,3,null,null,74,0,null,null,55,null,null,null,55,null,null,null,19,27,null,null,184,0,null,null,0,0,null,null,0,1.7867958812840701E-2,null,null,254,4.39884918231375E-2,null,null,254,null,null,null,0,4.39884918231375E-2,null,null,254,0.56923076923076898,null,null,254]
[null,"Rebild","2020-01-01",20201,null,null,null,102,19,null,null,102,10,null,null,102,66,null,null,102,null,null,null,102,null,null,null,102,3,null,null,null,0,null,null,null,3,null,null,null,0,null,null,9,7,null,null,63,0,null,null,null,0,null,null,null,1.01809954751131E-2,null,null,102,5.5618401206636497E-2,null,null,102,null,null,null,null,5.5618401206636497E-2,null,null,null,null,null,null,102]
[null,"Ringkøbing-Skjern","2020-01-01",20201,11,null,null,465,70,null,null,465,39,null,null,465,309,null,null,465,30,null,null,465,0,null,null,465,25,null,null,139,0,null,null,87,8,null,null,87,17,null,null,52,28,null,null,313,0,null,null,0,0,null,null,0,6.1207609594706404E-3,null,null,465,8.1761786600496295E-2,null,null,465,null,null,null,0,8.1761786600496295E-2,null,null,465,0.5,null,null,465]
[null,"Ringsted","2020-01-01",20201,6,null,null,123,6,null,null,123,10,null,null,123,97,null,null,123,null,null,null,123,0,null,null,123,3,null,null,25,0,null,null,12,0,null,null,12,3,null,null,13,9,null,null,86,0,null,null,0,0,null,null,0,4.0650406504064998E-2,null,null,123,1.4383989993746101E-2,null,null,123,null,null,null,0,1.4383989993746101E-2,null,null,123,0.52,null,null,123]
[null,"Roskilde","2020-01-01",20201,13,null,null,381,52,null,null,381,55,null,null,381,177,null,null,381,null,null,null,381,67,null,null,381,17,null,null,127,0,null,null,67,3,null,null,67,14,null,null,60,20,null,null,186,22,null,null,57,3,null,null,57,3.0890369473046599E-2,null,null,381,5.5521905915606802E-2,null,null,381,0.116515837104072,null,null,67,4.2270828213320198E-2,null,null,314,0.44347826086956499,null,null,381]
[null,"Rudersdal","2020-01-01",20201,null,null,null,165,34,null,null,165,13,null,null,165,103,null,null,165,null,null,null,165,7,null,null,165,4,null,null,52,null,null,null,38,null,null,null,38,null,null,null,14,21,null,null,120,null,null,null,5,null,null,null,5,1.9580419580419599E-2,null,null,165,7.8787878787878796E-2,null,null,165,8.2417582417582402E-3,null,null,7,8.1913339824732298E-2,null,null,158,0.38461538461538503,null,null,165]
[null,"Rødovre","2020-01-01",20201,24,null,null,206,14,null,null,206,24,null,null,206,135,null,null,206,3,null,null,206,3,null,null,206,null,null,null,64,0,null,null,40,null,null,null,40,0,null,null,24,12,null,null,129,0,null,null,0,0,null,null,0,1.45631067961165E-2,null,null,206,5.8252427184466E-2,null,null,206,null,null,null,3,5.9113300492610897E-2,null,null,203,0.314285714285714,null,null,206]
[null,"Silkeborg","2020-01-01",20201,13,null,null,621,39,null,null,621,218,null,null,621,290,null,null,621,null,null,null,621,21,null,null,621,40,null,null,278,null,null,null,54,null,null,null,54,36,null,null,224,36,null,null,270,18,null,null,32,3,null,null,32,1.9695280564845801E-2,null,null,621,7.0667657624179397E-2,null,null,621,6.02006688963211E-2,null,null,21,7.1070234113712397E-2,null,null,600,0.43137254901960798,null,null,621]
[null,"Skanderborg","2020-01-01",20201,4,null,null,422,18,null,null,422,36,null,null,422,345,null,null,422,19,null,null,422,0,null,null,422,7,null,null,57,null,null,null,18,null,null,null,18,null,null,null,39,26,null,null,349,0,null,null,0,0,null,null,0,1.4628144367480901E-2,null,null,422,9.3055049216186694E-2,null,null,422,null,null,null,0,9.3055049216186694E-2,null,null,422,0.26785714285714302,null,null,422]
[null,"Skive","2020-01-01",20201,null,null,null,213,17,null,null,213,9,null,null,213,152,null,null,213,5,null,null,213,25,null,null,213,null,null,null,25,0,null,null,16,null,null,null,16,0,null,null,9,21,null,null,158,8,null,null,18,7,null,null,18,9.2091007583949593E-3,null,null,213,0.10996749729144099,null,null,213,0.124615384615385,null,null,25,0.10801963993453401,null,null,188,0.24390243902438999,null,null,213]
[null,"Slagelse","2020-01-01",20201,14,null,null,383,32,null,null,383,23,null,null,383,211,null,null,383,null,null,null,383,95,null,null,383,7,null,null,66,0,null,null,41,3,null,null,41,4,null,null,25,42,null,null,217,59,null,null,78,11,null,null,78,3.7909218718618201E-2,null,null,383,4.7951395862623002E-2,null,null,383,7.8744939271255102E-2,null,null,95,3.7793803418803402E-2,null,null,288,0.54347826086956497,null,null,383]
[null,"Solrød","2020-01-01",20201,8,null,null,73,4,null,null,73,9,null,null,73,48,null,null,73,null,null,null,73,null,null,null,73,5,null,null,null,null,null,null,null,null,null,null,null,null,null,null,13,0,null,null,46,0,null,null,null,0,null,null,null,1.3435194942044299E-2,null,null,73,8.9041095890410996E-2,null,null,73,null,null,null,null,9.0277777777777804E-2,null,null,null,0.70588235294117596,null,null,73]
[null,"Sorø","2020-01-01",20201,11,null,null,180,18,null,null,180,17,null,null,180,128,null,null,180,null,null,null,180,0,null,null,180,3,null,null,45,0,null,null,28,null,null,null,28,null,null,null,17,17,null,null,129,0,null,null,0,0,null,null,0,4.1987179487179498E-2,null,null,180,2.7991452991453E-2,null,null,180,null,null,null,0,2.7991452991453E-2,null,null,180,0.28947368421052599,null,null,180]
[null,"Stevns","2020-01-01",20201,null,null,null,73,3,null,null,73,12,null,null,73,55,null,null,73,null,null,null,73,0,null,null,73,null,null,null,null,0,null,null,null,0,null,null,null,null,null,null,12,5,null,null,52,0,null,null,0,0,null,null,0,1.3698630136986301E-2,null,null,73,8.5616438356164407E-2,null,null,73,null,null,null,0,8.5616438356164407E-2,null,null,73,null,null,null,73]
[null,"Struer","2020-01-01",20201,null,null,null,86,14,null,null,86,9,null,null,86,35,null,null,86,null,null,null,86,24,null,null,86,null,null,null,null,0,null,null,null,0,null,null,null,null,null,null,10,13,null,null,46,14,null,null,23,0,null,null,23,1.6547406082289801E-2,null,null,86,5.0089445438282601E-2,null,null,86,0.104967948717949,null,null,24,2.8846153846153799E-2,null,null,62,0.26315789473684198,null,null,86]
[null,"Svendborg","2020-01-01",20201,21,null,null,336,19,null,null,336,25,null,null,336,218,null,null,336,53,null,null,336,0,null,null,336,7,null,null,69,null,null,null,44,null,null,null,44,null,null,null,25,27,null,null,224,0,null,null,0,0,null,null,0,2.2206959706959701E-2,null,null,336,1.2820512820512799E-2,null,null,336,null,null,null,0,1.2820512820512799E-2,null,null,336,0.47,null,null,336]
[null,"Syddjurs","2020-01-01",20201,6,null,null,168,14,null,null,168,13,null,null,168,113,null,null,168,19,null,null,168,0,null,null,168,3,null,null,30,0,null,null,15,0,null,null,15,3,null,null,15,15,null,null,123,0,null,null,0,0,null,null,0,2.09478021978022E-2,null,null,168,6.2957875457875498E-2,null,null,168,null,null,null,0,6.2957875457875498E-2,null,null,168,0.42424242424242398,null,null,168]
[null,"Sønderborg","2020-01-01",20201,19,null,null,612,59,null,null,612,36,null,null,612,480,null,null,612,15,null,null,612,0,null,null,612,10,null,null,114,null,null,null,80,null,null,null,80,5,null,null,34,46,null,null,461,0,null,null,0,0,null,null,0,1.2443438914027201E-2,null,null,612,5.7001005530417301E-2,null,null,612,null,null,null,0,5.7001005530417301E-2,null,null,612,0.48322147651006703,null,null,612]
[null,"Thisted","2020-01-01",20201,null,null,null,167,32,null,null,167,null,null,null,167,111,null,null,167,18,null,null,167,null,null,null,167,0,null,null,null,0,null,null,null,0,null,null,null,0,null,null,null,null,null,null,106,0,null,null,null,0,null,null,null,1.3012436665131299E-2,null,null,167,4.4449562413634298E-2,null,null,167,null,null,null,null,4.4449562413634298E-2,null,null,null,null,null,null,167]
[null,"Tønder","2020-01-01",20201,7,null,null,206,18,null,null,206,17,null,null,206,155,null,null,206,3,null,null,206,3,null,null,206,3,null,null,38,0,null,null,26,null,null,null,26,null,null,null,12,32,null,null,163,0,null,null,0,0,null,null,0,3.5567587752053799E-2,null,null,206,3.9208364451082903E-2,null,null,206,null,null,null,3,3.9787798408488097E-2,null,null,203,0.52941176470588203,null,null,206]
[null,"Tårnby","2020-01-01",20201,13,null,null,150,3,null,null,150,19,null,null,150,66,null,null,150,null,null,null,150,0,null,null,150,6,null,null,39,null,null,null,16,null,null,null,16,null,null,null,23,7,null,null,67,0,null,null,0,0,null,null,0,3.4487179487179498E-2,null,null,150,6.2435897435897503E-2,null,null,150,null,null,null,0,6.2435897435897503E-2,null,null,150,0.33333333333333298,null,null,150]
[null,"Varde","2020-01-01",20201,8,null,null,228,4,null,null,228,12,null,null,228,193,null,null,228,null,null,null,228,5,null,null,228,null,null,null,22,0,null,null,11,0,null,null,11,null,null,null,11,39,null,null,208,null,null,null,null,null,null,null,null,4.7233468286099903E-3,null,null,228,7.1018893387314402E-2,null,null,228,6.5384615384615402E-2,null,null,5,7.1145222490513998E-2,null,null,223,0.14000000000000001,null,null,228]
[null,"Vejen","2020-01-01",20201,11,null,null,227,3,null,null,227,33,null,null,227,141,null,null,227,29,null,null,227,10,null,null,227,5,null,null,null,null,null,null,null,null,null,null,null,null,null,null,33,32,null,null,159,0,null,null,null,0,null,null,null,2.53303964757709E-2,null,null,227,4.9474754320569303E-2,null,null,227,3.5256410256410298E-2,null,null,10,5.0268336314847901E-2,null,null,217,null,null,null,227]
[null,"Vejle","2020-01-01",20201,17,null,null,424,31,null,null,424,47,null,null,424,290,null,null,424,16,null,null,424,23,null,null,424,9,null,null,95,null,null,null,49,null,null,null,49,null,null,null,46,53,null,null,307,27,null,null,31,4,null,null,31,3.4424891146589302E-2,null,null,424,4.9346879535558802E-2,null,null,424,1.42140468227425E-2,null,null,23,5.1361979666219103E-2,null,null,401,0.39560439560439598,null,null,424]
[null,"Vesthimmerlands","2020-01-01",20201,null,null,null,90,13,null,null,90,11,null,null,90,56,null,null,90,null,null,null,90,null,null,null,90,5,null,null,null,null,null,null,null,null,null,null,null,null,null,null,11,6,null,null,55,0,null,null,null,0,null,null,null,1.8376068376068401E-2,null,null,90,1.6880341880342199E-2,null,null,90,null,null,null,null,1.6880341880342199E-2,null,null,null,null,null,null,90]
[null,"Viborg","2020-01-01",20201,11,null,null,648,137,null,null,648,18,null,null,648,306,null,null,648,138,null,null,648,34,null,null,648,8,null,null,158,null,null,null,140,null,null,null,140,null,null,null,18,28,null,null,294,20,null,null,41,8,null,null,41,2.2495251661918299E-2,null,null,648,5.7840693257359903E-2,null,null,648,8.54700854700855E-2,null,null,34,5.6215434891905502E-2,null,null,614,0.528795811518325,null,null,648]
[null,"Vordingborg","2020-01-01",20201,9,null,null,438,35,null,null,438,22,null,null,438,313,null,null,438,50,null,null,438,null,null,null,438,8,null,null,67,null,null,null,43,null,null,null,43,null,null,null,24,51,null,null,332,0,null,null,null,0,null,null,null,1.2820512820512799E-2,null,null,438,3.8593256059009498E-2,null,null,438,null,null,null,null,3.7625418060200699E-2,null,null,null,0.50476190476190497,null,null,438]
[null,"Ærø","2020-01-01",20201]
[null,"Aabenraa","2020-01-01",20201,8,null,null,164,4,null,null,164,12,null,null,164,127,null,null,164,3,null,null,164,4,null,null,164,4,null,null,27,0,null,null,11,0,null,null,11,4,null,null,16,42,null,null,163,0,null,null,0,0,null,null,0,8.7945590994371499E-3,null,null,164,5.4057223264540301E-2,null,null,164,null,null,null,4,5.5408653846153802E-2,null,null,160,null,null,null,164]
[null,"Aalborg","2020-01-01",20201,31,null,null,862,159,null,null,862,53,null,null,862,573,null,null,862,46,null,null,862,0,null,null,862,8,null,null,235,0,null,null,186,4,null,null,186,4,null,null,49,40,null,null,589,0,null,null,0,0,null,null,0,3.8149205782616498E-3,null,null,862,2.65928966625022E-2,null,null,862,null,null,null,0,2.65928966625022E-2,null,null,862,0.386861313868613,null,null,862]
[null,"Aarhus","2020-01-01",20201,40,null,null,2152,212,null,null,2152,106,null,null,2152,1578,null,null,2152,136,null,null,2152,66,null,null,2152,22,null,null,356,0,null,null,250,12,null,null,250,10,null,null,106,236,null,null,1582,40,null,null,52,5,null,null,52,4.3680297397769498E-2,null,null,2152,6.8049399485273096E-2,null,null,2152,0.101107226107226,null,null,66,6.7003466332325401E-2,null,null,2086,0.56814921090387405,null,null,2152]
[null,"Albertslund","2020-07-01",20202,12,null,null,96,5,null,null,96,25,null,null,96,50,null,null,96,null,null,null,96,0,null,null,96,null,null,null,40,0,null,null,17,null,null,null,17,null,null,null,23,8,null,null,45,0,null,null,0,0,null,null,0,5.8092948717948699E-2,null,null,96,6.4703525641025605E-2,null,null,96,null,null,null,0,6.4703525641025605E-2,null,null,96,0.36585365853658502,null,null,96]
[null,"Allerød","2020-07-01",20202,8,null,null,32,null,null,null,32,null,null,null,32,16,null,null,32,null,null,null,32,null,null,null,32,0,null,null,null,0,null,null,null,0,null,null,null,0,null,null,null,null,null,null,15,0,null,null,null,0,null,null,null,0,null,null,32,0.14603365384615399,null,null,32,null,null,null,null,0.14603365384615399,null,null,null,0.75,null,null,32]
[null,"Assens","2020-07-01",20202,6,null,null,217,23,null,null,217,23,null,null,217,122,null,null,217,40,null,null,217,0,null,null,217,null,null,null,51,0,null,null,29,null,null,null,29,null,null,null,22,9,null,null,105,0,null,null,0,0,null,null,0,1.2318326834455899E-2,null,null,217,4.3690180786955003E-2,null,null,217,null,null,null,0,4.3690180786955003E-2,null,null,217,0.60493827160493796,null,null,217]
[null,"Ballerup","2020-07-01",20202,23,null,null,243,18,null,null,243,41,null,null,243,145,null,null,243,10,null,null,243,0,null,null,243,null,null,null,75,0,null,null,39,0,null,null,39,null,null,null,36,20,null,null,152,0,null,null,0,0,null,null,0,2.1842355175688499E-2,null,null,243,4.6771130104463397E-2,null,null,243,null,null,null,0,4.6771130104463397E-2,null,null,243,0.46296296296296302,null,null,243]
[null,"Billund","2020-07-01",20202,null,null,null,169,0,null,null,169,12,null,null,169,148,null,null,169,4,null,null,169,null,null,null,169,4,null,null,null,0,null,null,null,0,null,null,null,4,null,null,16,12,null,null,144,0,null,null,0,0,null,null,0,5.9171597633136102E-3,null,null,169,8.4774692762858497E-2,null,null,169,null,null,null,null,8.5789958544449596E-2,null,null,null,0.55882352941176505,null,null,169]
[null,"Bornholm","2020-07-01",20202,null,null,null,207,13,null,null,207,22,null,null,207,168,null,null,207,null,null,null,207,null,null,null,207,null,null,null,null,0,null,null,null,0,null,null,null,null,null,null,22,14,null,null,169,3,null,null,null,0,null,null,null,1.37495354886659E-2,null,null,207,4.0226681531029401E-2,null,null,207,null,null,null,null,4.0421956684092597E-2,null,null,null,0.42424242424242398,null,null,207]
[null,"Brøndby","2020-07-01",20202,15,null,null,125,4,null,null,125,10,null,null,125,89,null,null,125,null,null,null,125,0,null,null,125,null,null,null,29,0,null,null,20,null,null,null,20,null,null,null,9,8,null,null,83,0,null,null,0,0,null,null,0,1.6E-2,null,null,125,4.3076923076923103E-2,null,null,125,null,null,null,0,4.3076923076923103E-2,null,null,125,0.47692307692307701,null,null,125]
[null,"Brønderslev","2020-07-01",20202,13,null,null,182,15,null,null,182,11,null,null,182,122,null,null,182,10,null,null,182,7,null,null,182,3,null,null,38,0,null,null,28,null,null,null,28,null,null,null,10,29,null,null,130,null,null,null,4,null,null,null,4,2.2189349112426E-2,null,null,182,4.30050718512257E-2,null,null,182,0,null,null,7,4.4982316534040702E-2,null,null,175,0.217391304347826,null,null,182]
[null,"Esbjerg","2020-07-01",20202,14,null,null,630,45,null,null,630,50,null,null,630,271,null,null,630,null,null,null,630,190,null,null,630,14,null,null,111,null,null,null,61,null,null,null,61,10,null,null,50,17,null,null,256,0,null,null,46,0,null,null,46,2.64652014652015E-2,null,null,630,8.5500610500610502E-2,null,null,630,0.123233908948195,null,null,190,6.8459766040411194E-2,null,null,440,0.42783505154639201,null,null,630]
[null,"Favrskov","2020-07-01",20202,null,null,null,142,23,null,null,142,14,null,null,142,100,null,null,142,null,null,null,142,null,null,null,142,null,null,null,null,0,null,null,null,null,null,null,null,0,null,null,12,11,null,null,104,0,null,null,null,0,null,null,null,1.36782231852654E-2,null,null,142,0.118499458288191,null,null,142,null,null,null,null,0.118499458288191,null,null,null,0.70370370370370405,null,null,142]
[null,"Faxe","2020-07-01",20202,8,null,null,177,16,null,null,177,33,null,null,177,112,null,null,177,null,null,null,177,0,null,null,177,null,null,null,47,0,null,null,23,0,null,null,23,null,null,null,24,7,null,null,95,0,null,null,0,0,null,null,0,8.9091699261190805E-3,null,null,177,5.84528465884398E-2,null,null,177,null,null,null,0,5.84528465884398E-2,null,null,177,0.35294117647058798,null,null,177]
[null,"Fredensborg","2020-07-01",20202,35,null,null,161,5,null,null,161,26,null,null,161,67,null,null,161,14,null,null,161,10,null,null,161,null,null,null,67,0,null,null,41,null,null,null,41,0,null,null,26,8,null,null,75,5,null,null,12,0,null,null,12,3.1414237935977099E-2,null,null,161,4.2881032011466799E-2,null,null,161,1.7307692307692302E-2,null,null,10,4.4574630667345898E-2,null,null,151,0.4375,null,null,161]
[null,"Fredericia","2020-07-01",20202,null,null,null,287,null,null,null,287,26,null,null,287,169,null,null,287,66,null,null,287,null,null,null,287,4,null,null,null,0,null,null,null,0,null,null,null,4,null,null,27,17,null,null,172,0,null,null,null,0,null,null,null,1.28651835968909E-2,null,null,287,6.6537121415170195E-2,null,null,287,null,null,null,null,6.6537121415170195E-2,null,null,null,0.35294117647058798,null,null,287]
[null,"Frederiksberg","2020-07-01",20202,37,null,null,258,11,null,null,258,63,null,null,258,134,null,null,258,8,null,null,258,null,null,null,258,5,null,null,104,0,null,null,47,0,null,null,47,5,null,null,57,22,null,null,127,0,null,null,0,0,null,null,0,1.05843768634466E-2,null,null,258,2.5193798449612399E-2,null,null,258,null,null,null,null,2.5291828793774299E-2,null,null,null,0.28395061728395099,null,null,258]
[null,"Frederikshavn","2020-07-01",20202,13,null,null,483,56,null,null,483,23,null,null,483,344,null,null,483,null,null,null,483,10,null,null,483,9,null,null,100,0,null,null,74,6,null,null,74,3,null,null,26,31,null,null,342,0,null,null,null,0,null,null,null,6.0519190953973604E-3,null,null,483,6.1952540213409797E-2,null,null,483,0.109615384615385,null,null,10,6.0944869084404003E-2,null,null,473,0.16326530612244899,null,null,483]
[null,"Frederikssund","2020-07-01",20202,18,null,null,182,4,null,null,182,37,null,null,182,109,null,null,182,9,null,null,182,5,null,null,182,5,null,null,57,null,null,null,22,null,null,null,22,null,null,null,35,24,null,null,113,7,null,null,12,0,null,null,12,4.69146238377008E-2,null,null,182,8.1466610312764101E-2,null,null,182,0,null,null,5,8.3767926988266003E-2,null,null,177,0.51923076923076905,null,null,182]
[null,"Furesø","2020-07-01",20202,14,null,null,216,8,null,null,216,30,null,null,216,144,null,null,216,13,null,null,216,7,null,null,216,null,null,null,47,null,null,null,23,0,null,null,23,null,null,null,24,14,null,null,152,0,null,null,0,0,null,null,0,3.1695156695160501E-2,null,null,216,6.67735042735043E-2,null,null,216,6.5934065934065894E-2,null,null,7,6.68016194331984E-2,null,null,209,0.46153846153846201,null,null,216]
[null,"Faaborg-Midtfyn","2020-07-01",20202,11,null,null,383,14,null,null,383,27,null,null,383,289,null,null,383,null,null,null,383,12,null,null,383,5,null,null,null,null,null,null,null,null,null,null,null,null,null,null,25,40,null,null,299,0,null,null,null,0,null,null,null,2.6310504117292601E-2,null,null,383,4.0319341233179401E-2,null,null,383,2.0833333333333301E-2,null,null,12,4.0949616421314498E-2,null,null,371,0.46250000000000002,null,null,383]
[null,"Gentofte","2020-07-01",20202,11,null,null,170,23,null,null,170,32,null,null,170,89,null,null,170,null,null,null,170,6,null,null,170,11,null,null,74,null,null,null,39,null,null,null,39,5,null,null,35,15,null,null,87,null,null,null,4,0,null,null,4,2.9185520361990899E-2,null,null,170,6.34615384615385E-2,null,null,170,0.230769230769231,null,null,6,5.73405253283302E-2,null,null,164,0.36363636363636398,null,null,170]
[null,"Gladsaxe","2020-07-01",20202,20,null,null,148,16,null,null,148,23,null,null,148,73,null,null,148,13,null,null,148,3,null,null,148,6,null,null,61,0,null,null,36,3,null,null,36,3,null,null,25,15,null,null,78,0,null,null,0,0,null,null,0,2.7286902286902301E-3,null,null,148,3.9760914760914798E-2,null,null,148,null,null,null,3,4.0583554376657803E-2,null,null,145,0.45454545454545497,null,null,148]
[null,"Glostrup","2020-07-01",20202,14,null,null,166,17,null,null,166,19,null,null,166,82,null,null,166,25,null,null,166,0,null,null,166,3,null,null,47,0,null,null,32,null,null,null,32,null,null,null,15,30,null,null,104,0,null,null,0,0,null,null,0,1.8188137164040798E-2,null,null,166,8.3989805375347601E-2,null,null,166,null,null,null,0,8.3989805375347601E-2,null,null,166,0.33333333333333298,null,null,166]
[null,"Greve","2020-07-01",20202,17,null,null,194,12,null,null,194,25,null,null,194,114,null,null,194,null,null,null,194,4,null,null,194,0,null,null,54,0,null,null,29,0,null,null,29,0,null,null,25,11,null,null,111,3,null,null,6,null,null,null,6,2.02220459952419E-2,null,null,194,9.2089611419508305E-2,null,null,194,null,null,null,4,8.8765182186234803E-2,null,null,190,0.35555555555555601,null,null,194]
[null,"Gribskov","2020-07-01",20202,9,null,null,120,10,null,null,120,20,null,null,120,78,null,null,120,null,null,null,120,0,null,null,120,null,null,null,39,0,null,null,18,0,null,null,18,null,null,null,21,3,null,null,64,0,null,null,0,0,null,null,0,3.7019230769230901E-2,null,null,120,4.8397435897435899E-2,null,null,120,null,null,null,0,4.8397435897435899E-2,null,null,120,null,null,null,120]
[null,"Guldborgsund","2020-07-01",20202,33,null,null,472,16,null,null,472,47,null,null,472,345,null,null,472,31,null,null,472,0,null,null,472,11,null,null,97,0,null,null,51,5,null,null,51,6,null,null,46,28,null,null,320,0,null,null,0,0,null,null,0,2.97832464146024E-2,null,null,472,3.9072685788787503E-2,null,null,472,null,null,null,0,3.9072685788787503E-2,null,null,472,0.50495049504950495,null,null,472]
[null,"Haderslev","2020-07-01",20202,7,null,null,196,26,null,null,196,17,null,null,196,143,null,null,196,3,null,null,196,0,null,null,196,4,null,null,51,0,null,null,34,null,null,null,34,null,null,null,17,13,null,null,147,0,null,null,0,0,null,null,0,2.1585557299842999E-3,null,null,196,1.9034536891679801E-2,null,null,196,null,null,null,0,1.9034536891679801E-2,null,null,196,0.62790697674418605,null,null,196]
[null,"Halsnæs","2020-07-01",20202,9,null,null,174,10,null,null,174,19,null,null,174,113,null,null,174,null,null,null,174,19,null,null,174,null,null,null,34,0,null,null,18,null,null,null,18,null,null,null,16,16,null,null,118,null,null,null,3,0,null,null,3,9.0627763041556206E-3,null,null,174,4.5424403183023897E-2,null,null,174,0.16396761133603199,null,null,19,3.0893300248139001E-2,null,null,155,0.34,null,null,174]
[null,"Hedensted","2020-07-01",20202,11,null,null,189,14,null,null,189,13,null,null,189,141,null,null,189,7,null,null,189,0,null,null,189,null,null,null,37,0,null,null,25,null,null,null,25,null,null,null,12,20,null,null,152,null,null,null,null,null,null,null,null,1.0582010582010601E-2,null,null,189,5.5352055352055403E-2,null,null,189,null,null,null,0,5.5352055352055403E-2,null,null,189,0.625,null,null,189]
[null,"Helsingør","2020-07-01",20202,33,null,null,238,14,null,null,238,60,null,null,238,124,null,null,238,null,null,null,238,0,null,null,238,7,null,null,105,null,null,null,48,null,null,null,48,null,null,null,57,20,null,null,132,0,null,null,0,0,null,null,0,2.2543632837750498E-2,null,null,238,4.0562378797672903E-2,null,null,238,null,null,null,0,4.0562378797672903E-2,null,null,238,0.45070422535211302,null,null,238]
[null,"Herlev","2020-07-01",20202,16,null,null,115,6,null,null,115,27,null,null,115,60,null,null,115,null,null,null,115,0,null,null,115,3,null,null,49,0,null,null,22,null,null,null,22,null,null,null,27,13,null,null,61,0,null,null,0,0,null,null,0,2.5250836120401299E-2,null,null,115,1.88963210702341E-2,null,null,115,null,null,null,0,1.88963210702341E-2,null,null,115,0.36363636363636398,null,null,115]
[null,"Herning","2020-07-01",20202,21,null,null,383,41,null,null,383,26,null,null,383,262,null,null,383,11,null,null,383,13,null,null,383,10,null,null,94,0,null,null,64,3,null,null,64,7,null,null,30,33,null,null,249,0,null,null,null,0,null,null,null,1.3155252058646301E-2,null,null,383,5.02108857200241E-2,null,null,383,1.18343195266272E-2,null,null,13,5.1559251559251597E-2,null,null,370,0.33620689655172398,null,null,383]
[null,"Hillerød","2020-07-01",20202,15,null,null,235,null,null,null,235,25,null,null,235,164,null,null,235,9,null,null,235,14,null,null,235,null,null,null,null,0,null,null,null,0,null,null,null,null,null,null,25,22,null,null,175,null,null,null,null,null,null,null,null,2.7332242225859199E-2,null,null,235,5.8837970540098199E-2,null,null,235,9.75274725274725E-2,null,null,14,5.6387051862165E-2,null,null,221,0.67741935483870996,null,null,235]
[null,"Hjørring","2020-07-01",20202,17,null,null,401,75,null,null,401,37,null,null,401,256,null,null,401,8,null,null,401,4,null,null,401,8,null,null,124,null,null,null,89,null,null,null,89,null,null,null,35,20,null,null,246,0,null,null,0,0,null,null,0,2.4362171494341101E-2,null,null,401,5.0402839056205601E-2,null,null,401,null,null,null,4,5.0910676225537702E-2,null,null,397,0.37837837837837801,null,null,401]
[null,"Holbæk","2020-07-01",20202,null,null,null,327,54,null,null,327,29,null,null,327,226,null,null,327,13,null,null,327,null,null,null,327,9,null,null,null,0,null,null,null,4,null,null,null,5,null,null,27,21,null,null,196,0,null,null,0,0,null,null,0,9.8212185368148699E-3,null,null,327,4.8341566690190602E-2,null,null,327,null,null,null,null,4.8489853704577597E-2,null,null,null,0.36538461538461497,null,null,327]
[null,"Holstebro","2020-07-01",20202,22,null,null,311,57,null,null,311,17,null,null,311,192,null,null,311,18,null,null,311,5,null,null,311,6,null,null,96,null,null,null,77,null,null,null,77,null,null,null,19,16,null,null,206,null,null,null,4,0,null,null,4,1.1563195646796901E-2,null,null,311,5.0457581004204798E-2,null,null,311,0.16538461538461499,null,null,5,4.8579688285570702E-2,null,null,306,0.71428571428571397,null,null,311]
[null,"Horsens","2020-07-01",20202,35,null,null,411,50,null,null,411,42,null,null,411,244,null,null,411,37,null,null,411,0,null,null,411,6,null,null,123,0,null,null,80,3,null,null,80,3,null,null,43,30,null,null,257,0,null,null,0,0,null,null,0,5.0533408197641801E-3,null,null,411,5.2592176679767899E-2,null,null,411,null,null,null,0,5.2592176679767899E-2,null,null,411,0.41509433962264197,null,null,411]
[null,"Hvidovre","2020-07-01",20202,29,null,null,222,19,null,null,222,36,null,null,222,96,null,null,222,null,null,null,222,0,null,null,222,6,null,null,85,null,null,null,49,null,null,null,49,null,null,null,36,17,null,null,97,0,null,null,0,0,null,null,0,2.3735273735273701E-2,null,null,222,3.3697158697158697E-2,null,null,222,null,null,null,0,3.3697158697158697E-2,null,null,222,0.39682539682539703,null,null,222]
[null,"Høje-Taastrup","2020-07-01",20202,15,null,null,241,36,null,null,241,18,null,null,241,150,null,null,241,4,null,null,241,13,null,null,241,5,null,null,69,null,null,null,49,null,null,null,49,null,null,null,20,23,null,null,157,null,null,null,34,null,null,null,34,2.9205234599425499E-2,null,null,241,7.1656559208426507E-2,null,null,241,0.25887573964497002,null,null,13,6.0981781376518197E-2,null,null,228,0.41071428571428598,null,null,241]
[null,"Hørsholm","2020-07-01",20202,9,null,null,67,null,null,null,67,13,null,null,67,41,null,null,67,null,null,null,67,0,null,null,67,null,null,null,null,0,null,null,null,0,null,null,null,null,null,null,12,null,null,null,40,0,null,null,0,0,null,null,0,2.0952927669345599E-2,null,null,67,7.5774971297359398E-2,null,null,67,null,null,null,0,7.5774971297359398E-2,null,null,67,null,null,null,67]
[null,"Ikast-Brande","2020-07-01",20202,null,null,null,142,32,null,null,142,6,null,null,142,71,null,null,142,null,null,null,142,27,null,null,142,null,null,null,null,0,null,null,null,null,null,null,null,0,null,null,6,8,null,null,75,0,null,null,14,0,null,null,14,0,null,null,142,6.2973997833152801E-2,null,null,142,9.8290598290598302E-2,null,null,27,5.46822742474916E-2,null,null,115,0.74666666666666703,null,null,142]
[null,"Ishøj","2020-07-01",20202,17,null,null,140,7,null,null,140,23,null,null,140,62,null,null,140,8,null,null,140,17,null,null,140,null,null,null,47,0,null,null,24,0,null,null,24,null,null,null,23,3,null,null,61,null,null,null,18,null,null,null,18,2.0467032967032998E-2,null,null,140,5.8379120879120901E-2,null,null,140,0,null,null,17,6.6447779862414E-2,null,null,123,0.38235294117647101,null,null,140]
[null,"Jammerbugt","2020-07-01",20202,8,null,null,175,33,null,null,175,13,null,null,175,112,null,null,175,null,null,null,175,0,null,null,175,6,null,null,55,null,null,null,42,3,null,null,42,null,null,null,13,29,null,null,134,0,null,null,0,0,null,null,0,9.8901098901098901E-4,null,null,175,7.4835164835164794E-2,null,null,175,null,null,null,0,7.4835164835164794E-2,null,null,175,0.33333333333333298,null,null,175]
[null,"Kalundborg","2020-07-01",20202,18,null,null,498,50,null,null,498,64,null,null,498,349,null,null,498,14,null,null,498,0,null,null,498,6,null,null,124,null,null,null,68,null,null,null,68,null,null,null,56,30,null,null,334,0,null,null,0,0,null,null,0,2.42508495520544E-2,null,null,498,4.5721346926166202E-2,null,null,498,null,null,null,0,4.5721346926166202E-2,null,null,498,0.39215686274509798,null,null,498]
[null,"Kerteminde","2020-07-01",20202,null,null,null,106,9,null,null,106,10,null,null,106,72,null,null,106,10,null,null,106,null,null,null,106,3,null,null,null,0,null,null,null,null,null,null,null,null,null,null,11,5,null,null,63,0,null,null,0,0,null,null,0,5.6240928882438299E-3,null,null,106,3.5014513788098701E-2,null,null,106,null,null,null,null,3.5347985347985403E-2,null,null,null,null,null,null,106]
[null,"Kolding","2020-07-01",20202,29,null,null,311,0,null,null,311,24,null,null,311,213,null,null,311,13,null,null,311,32,null,null,311,6,null,null,58,0,null,null,26,0,null,null,26,6,null,null,32,44,null,null,217,null,null,null,36,null,null,null,36,4.0440267128369997E-2,null,null,311,6.8389809547365801E-2,null,null,311,0.10396634615384601,null,null,32,6.4309346567411094E-2,null,null,279,0.35416666666666702,null,null,311]
[null,"København","2020-07-01",20202,511,null,null,1886,488,null,null,1886,196,null,null,1886,595,null,null,1886,46,null,null,1886,16,null,null,null,null,null,null,1183,null,null,null,994,null,null,null,994,20,null,null,189,115,null,null,606,0,null,null,4,null,null,null,4,1.8129537482665801E-2,null,null,1886,2.6164450607716799E-2,null,null,1886,0.15384615384615399,null,null,16,2.5071986836692699E-2,null,null,1870,0.48682385575589499,null,null,1886]
[null,"Køge","2020-07-01",20202,34,null,null,262,4,null,null,262,31,null,null,262,180,null,null,262,null,null,null,262,0,null,null,262,8,null,null,71,null,null,null,37,null,null,null,37,null,null,null,34,49,null,null,215,0,null,null,0,0,null,null,0,9.2483852025836803E-3,null,null,262,4.9618320610687001E-2,null,null,262,null,null,null,0,4.9618320610687001E-2,null,null,262,0.32142857142857101,null,null,262]
[null,"Langeland","2020-07-01",20202,5,null,null,82,17,null,null,82,14,null,null,82,36,null,null,82,10,null,null,82,0,null,null,82,5,null,null,40,null,null,null,24,null,null,null,24,null,null,null,16,3,null,null,38,0,null,null,0,0,null,null,0,0,null,null,82,4.80769230769231E-2,null,null,82,null,null,null,0,4.80769230769231E-2,null,null,82,null,null,null,82]
[null,"Lejre","2020-07-01",20202,9,null,null,109,13,null,null,109,12,null,null,109,67,null,null,109,null,null,null,109,3,null,null,109,null,null,null,33,0,null,null,22,null,null,null,22,null,null,null,11,null,null,null,66,null,null,null,3,0,null,null,3,1.16443189837685E-2,null,null,109,9.3507410021171494E-2,null,null,109,null,null,null,3,9.6153846153846201E-2,null,null,106,0.19047619047619099,null,null,109]
[null,"Lemvig","2020-07-01",20202,8,null,null,115,12,null,null,115,5,null,null,115,84,null,null,115,null,null,null,115,null,null,null,115,null,null,null,null,0,null,null,21,null,null,null,21,0,null,null,null,10,null,null,86,0,null,null,null,0,null,null,null,4.3478260869565201E-3,null,null,115,0.13879598662207401,null,null,115,null,null,null,null,0.14001349527665299,null,null,null,0.33333333333333298,null,null,115]
[null,"Lolland","2020-07-01",20202,11,null,null,492,8,null,null,492,37,null,null,492,429,null,null,492,4,null,null,492,0,null,null,492,9,null,null,57,0,null,null,19,0,null,null,19,9,null,null,38,44,null,null,409,0,null,null,0,0,null,null,0,1.6768292682926799E-2,null,null,492,6.1874609130706699E-2,null,null,492,null,null,null,0,6.1874609130706699E-2,null,null,492,0.30588235294117599,null,null,492]
[null,"Lyngby-Taarbæk","2020-07-01",20202,15,null,null,214,31,null,null,214,21,null,null,214,131,null,null,214,null,null,null,214,0,null,null,214,3,null,null,64,0,null,null,45,null,null,null,45,null,null,null,19,22,null,null,144,0,null,null,0,0,null,null,0,1.8062544931703801E-2,null,null,214,9.4176851186196994E-2,null,null,214,null,null,null,0,9.4176851186196994E-2,null,null,214,0.42857142857142899,null,null,214]
[null,"Mariagerfjord","2020-07-01",20202,3,null,null,255,7,null,null,255,17,null,null,255,225,null,null,255,null,null,null,255,0,null,null,255,null,null,null,null,0,null,null,null,0,null,null,null,null,null,null,16,16,null,null,220,0,null,null,0,0,null,null,0,2.0965309200603299E-2,null,null,255,6.9230769230769304E-2,null,null,255,null,null,null,0,6.9230769230769304E-2,null,null,255,0.33333333333333298,null,null,255]
[null,"Middelfart","2020-07-01",20202,null,null,null,161,23,null,null,161,12,null,null,161,97,null,null,161,21,null,null,161,null,null,null,161,null,null,null,41,0,null,null,32,null,null,null,32,0,null,null,9,25,null,null,117,4,null,null,4,0,null,null,4,1.2422360248447201E-2,null,null,161,3.8580984233158103E-2,null,null,161,null,null,null,null,3.8822115384615399E-2,null,null,null,0.51111111111111096,null,null,161]
[null,"Morsø","2020-07-01",20202,10,null,null,234,29,null,null,234,24,null,null,234,140,null,null,234,31,null,null,234,0,null,null,234,null,null,null,63,0,null,null,39,0,null,null,39,null,null,null,24,26,null,null,163,0,null,null,0,0,null,null,0,2.6134122287968398E-2,null,null,234,8.1607495069033503E-2,null,null,234,null,null,null,0,8.1607495069033503E-2,null,null,234,0.173913043478261,null,null,234]
[null,"Norddjurs","2020-07-01",20202,5,null,null,229,27,null,null,229,4,null,null,229,171,null,null,229,null,null,null,229,4,null,null,229,null,null,null,null,0,null,null,null,null,null,null,null,0,null,null,null,5,null,null,167,0,null,null,null,0,null,null,null,1.5031911320120901E-2,null,null,229,5.2905609674168602E-2,null,null,229,null,null,null,4,5.3846153846153801E-2,null,null,225,0.58536585365853699,null,null,229]
[null,"Nordfyns","2020-07-01",20202,3,null,null,99,19,null,null,99,7,null,null,99,50,null,null,99,17,null,null,99,0,null,null,99,0,null,null,null,0,null,null,null,0,null,null,null,0,null,null,7,4,null,null,48,0,null,null,0,0,null,null,0,2.21445221445222E-2,null,null,99,6.3714063714063698E-2,null,null,99,null,null,null,0,6.3714063714063698E-2,null,null,99,null,null,null,99]
[null,"Nyborg","2020-07-01",20202,9,null,null,170,27,null,null,170,6,null,null,170,119,null,null,170,6,null,null,170,null,null,null,170,3,null,null,null,0,null,null,38,3,null,null,38,0,null,null,null,19,null,null,117,0,null,null,null,0,null,null,null,1.4140271493212699E-2,null,null,170,4.5475113122171999E-2,null,null,170,null,null,null,null,4.2467948717948699E-2,null,null,null,0.5,null,null,170]
[null,"Næstved","2020-07-01",20202,24,null,null,459,33,null,null,459,77,null,null,459,303,null,null,459,17,null,null,459,0,null,null,459,10,null,null,133,null,null,null,58,null,null,null,58,null,null,null,75,50,null,null,319,0,null,null,0,0,null,null,0,1.9859225741578699E-2,null,null,459,3.2302664655605801E-2,null,null,459,null,null,null,0,3.2302664655605801E-2,null,null,459,0.4609375,null,null,459]
[null,"Odder","2020-07-01",20202,null,null,null,117,null,null,null,117,6,null,null,117,101,null,null,117,5,null,null,117,null,null,null,117,null,null,null,null,0,null,null,null,null,null,null,null,null,null,null,7,12,null,null,105,0,null,null,null,0,null,null,null,1.4792899408283999E-3,null,null,117,6.4924391847468801E-2,null,null,117,null,null,null,null,6.4924391847468801E-2,null,null,null,null,null,null,117]
[null,"Odense","2020-07-01",20202,61,null,null,758,60,null,null,758,57,null,null,758,465,null,null,758,105,null,null,758,0,null,null,758,11,null,null,177,0,null,null,122,4,null,null,122,7,null,null,55,35,null,null,440,0,null,null,0,0,null,null,0,1.15435356200528E-2,null,null,758,3.1636898721331401E-2,null,null,758,null,null,null,0,3.1636898721331401E-2,null,null,758,0.556962025316456,null,null,758]
[null,"Odsherred","2020-07-01",20202,13,null,null,135,11,null,null,135,14,null,null,135,85,null,null,135,4,null,null,135,8,null,null,135,3,null,null,37,0,null,null,24,null,null,null,24,null,null,null,13,18,null,null,88,0,null,null,null,0,null,null,null,1.25356125356125E-2,null,null,135,3.1766381766381802E-2,null,null,135,5.0480769230769197E-2,null,null,8,3.0587522713506999E-2,null,null,127,0.55932203389830504,null,null,135]
[null,"Randers","2020-07-01",20202,6,null,null,229,44,null,null,229,19,null,null,229,150,null,null,229,null,null,null,229,0,null,null,229,7,null,null,73,null,null,null,55,null,null,null,55,null,null,null,18,28,null,null,169,0,null,null,0,0,null,null,0,1.7719180382935799E-2,null,null,229,3.1575411488075203E-2,null,null,229,null,null,null,0,3.1575411488075203E-2,null,null,229,0.60919540229885105,null,null,229]
[null,"Rebild","2020-07-01",20202,null,null,null,96,18,null,null,96,10,null,null,96,61,null,null,96,null,null,null,96,null,null,null,96,4,null,null,null,null,null,null,null,null,null,null,null,null,null,null,10,20,null,null,66,0,null,null,null,0,null,null,null,2.0232371794871799E-2,null,null,96,4.6875E-2,null,null,96,null,null,null,null,4.6875E-2,null,null,null,null,null,null,96]
[null,"Ringkøbing-Skjern","2020-07-01",20202,14,null,null,454,68,null,null,454,46,null,null,454,292,null,null,454,28,null,null,454,0,null,null,454,7,null,null,120,null,null,null,81,null,null,null,81,null,null,null,39,34,null,null,309,0,null,null,0,0,null,null,0,4.2782107760081303E-3,null,null,454,8.1540155879362905E-2,null,null,454,null,null,null,0,8.1540155879362905E-2,null,null,454,0.43661971830985902,null,null,454]
[null,"Ringsted","2020-07-01",20202,7,null,null,140,7,null,null,140,12,null,null,140,110,null,null,140,null,null,null,140,0,null,null,140,0,null,null,22,0,null,null,12,0,null,null,12,0,null,null,10,7,null,null,97,0,null,null,0,0,null,null,0,4.7939560439560498E-2,null,null,140,3.1868131868131901E-2,null,null,140,null,null,null,0,3.1868131868131901E-2,null,null,140,0.63157894736842102,null,null,140]
[null,"Roskilde","2020-07-01",20202,15,null,null,390,53,null,null,390,57,null,null,390,181,null,null,390,null,null,null,390,67,null,null,390,12,null,null,120,0,null,null,65,4,null,null,65,8,null,null,55,13,null,null,177,34,null,null,67,3,null,null,67,3.2297830374753402E-2,null,null,390,5.3353057199211198E-2,null,null,390,7.8358208955223899E-2,null,null,67,4.8166230054775001E-2,null,null,323,0.41803278688524598,null,null,390]
[null,"Rudersdal","2020-07-01",20202,6,null,null,159,32,null,null,159,12,null,null,159,101,null,null,159,3,null,null,159,5,null,null,159,5,null,null,null,null,null,null,null,null,null,null,null,null,null,null,13,19,null,null,103,null,null,null,7,null,null,null,7,2.95113691340106E-2,null,null,159,8.7203676826318299E-2,null,null,159,0.19230769230769201,null,null,5,8.3791208791208799E-2,null,null,154,0.32352941176470601,null,null,159]
[null,"Rødovre","2020-07-01",20202,20,null,null,216,15,null,null,216,26,null,null,216,147,null,null,216,3,null,null,216,null,null,null,216,6,null,null,62,null,null,null,38,null,null,null,38,null,null,null,24,9,null,null,135,3,null,null,3,0,null,null,3,1.2375356125356099E-2,null,null,216,6.0185185185185203E-2,null,null,216,null,null,null,null,6.0747663551401897E-2,null,null,null,0.27272727272727298,null,null,216]
[null,"Silkeborg","2020-07-01",20202,16,null,null,610,36,null,null,610,189,null,null,610,328,null,null,610,22,null,null,610,15,null,null,610,40,null,null,270,null,null,null,52,null,null,null,52,35,null,null,218,28,null,null,290,14,null,null,21,4,null,null,21,2.4180327868852498E-2,null,null,610,7.7553593947036606E-2,null,null,610,0.12980769230769201,null,null,15,7.6146076146076103E-2,null,null,595,0.51428571428571401,null,null,610]
[null,"Skanderborg","2020-07-01",20202,4,null,null,404,20,null,null,404,30,null,null,404,324,null,null,404,19,null,null,404,7,null,null,404,9,null,null,58,null,null,null,22,null,null,null,22,null,null,null,36,45,null,null,345,0,null,null,0,0,null,null,0,1.31378522467631E-2,null,null,404,9.2202970297031506E-2,null,null,404,0,null,null,7,9.3828715365241205E-2,null,null,397,0.39655172413793099,null,null,404]
[null,"Skive","2020-07-01",20202,null,null,null,207,17,null,null,207,9,null,null,207,151,null,null,207,5,null,null,207,20,null,null,207,null,null,null,null,0,null,null,null,null,null,null,null,0,null,null,9,20,null,null,152,13,null,null,25,5,null,null,25,1.94165737643998E-2,null,null,207,0.120308435525827,null,null,207,0.14903846153846201,null,null,20,0.117235705471,null,null,187,0.39130434782608697,null,null,207]
[null,"Slagelse","2020-07-01",20202,14,null,null,361,30,null,null,361,24,null,null,361,211,null,null,361,null,null,null,361,75,null,null,361,7,null,null,69,null,null,null,46,null,null,null,46,4,null,null,23,27,null,null,211,87,null,null,95,3,null,null,95,2.93522267206478E-2,null,null,361,5.1672704027274703E-2,null,null,361,0.10282051282051299,null,null,75,3.82598171059709E-2,null,null,286,0.42857142857142899,null,null,361]
[null,"Solrød","2020-07-01",20202,8,null,null,76,null,null,null,76,9,null,null,76,49,null,null,76,null,null,null,76,4,null,null,76,0,null,null,21,0,null,null,12,0,null,null,12,0,null,null,9,0,null,null,48,null,null,null,null,null,null,null,null,5.3137651821862399E-3,null,null,76,0.10627530364372501,null,null,76,null,null,null,4,0.112179487179487,null,null,72,null,null,null,76]
[null,"Sorø","2020-07-01",20202,11,null,null,183,16,null,null,183,18,null,null,183,133,null,null,183,null,null,null,183,null,null,null,183,3,null,null,46,0,null,null,29,3,null,null,29,0,null,null,17,13,null,null,128,0,null,null,0,0,null,null,0,2.9844472467423298E-2,null,null,183,3.2576712904581799E-2,null,null,183,null,null,null,null,2.9480135249366001E-2,null,null,null,0.53846153846153799,null,null,183]
[null,"Stevns","2020-07-01",20202,null,null,null,81,4,null,null,81,13,null,null,81,60,null,null,81,null,null,null,81,0,null,null,81,0,null,null,null,0,null,null,null,0,null,null,null,0,null,null,12,3,null,null,55,0,null,null,0,0,null,null,0,1.11585944919278E-2,null,null,81,8.26210826210826E-2,null,null,81,null,null,null,0,8.26210826210826E-2,null,null,81,null,null,null,81]
[null,"Struer","2020-07-01",20202,null,null,null,96,14,null,null,96,9,null,null,96,34,null,null,96,null,null,null,96,34,null,null,96,0,null,null,null,0,null,null,null,0,null,null,null,0,null,null,9,3,null,null,35,8,null,null,24,null,null,null,24,2.8245192307692301E-2,null,null,96,5.5488782051282097E-2,null,null,96,9.5054945054945106E-2,null,null,34,3.2786885245901599E-2,null,null,62,0.46428571428571402,null,null,96]
[null,"Svendborg","2020-07-01",20202,21,null,null,335,19,null,null,335,24,null,null,335,218,null,null,335,53,null,null,335,0,null,null,335,3,null,null,65,0,null,null,40,0,null,null,40,3,null,null,25,21,null,null,218,0,null,null,0,0,null,null,0,2.2388059701492501E-2,null,null,335,1.00459242250287E-2,null,null,335,null,null,null,0,1.00459242250287E-2,null,null,335,0.40697674418604701,null,null,335]
[null,"Syddjurs","2020-07-01",20202,7,null,null,166,13,null,null,166,12,null,null,166,113,null,null,166,18,null,null,166,0,null,null,166,3,null,null,33,0,null,null,20,null,null,null,20,null,null,null,13,14,null,null,113,0,null,null,0,0,null,null,0,1.7724745134383699E-2,null,null,166,5.3637627432808199E-2,null,null,166,null,null,null,0,5.3637627432808199E-2,null,null,166,0.39285714285714302,null,null,166]
[null,"Sønderborg","2020-07-01",20202,19,null,null,621,58,null,null,621,36,null,null,621,488,null,null,621,14,null,null,621,0,null,null,621,14,null,null,114,0,null,null,78,5,null,null,78,9,null,null,36,51,null,null,480,0,null,null,0,0,null,null,0,1.37805029109377E-2,null,null,621,7.1225071225071199E-2,null,null,621,null,null,null,0,7.1225071225071199E-2,null,null,621,0.43046357615893999,null,null,621]
[null,"Thisted","2020-07-01",20202,null,null,null,176,33,null,null,176,null,null,null,176,117,null,null,176,18,null,null,176,null,null,null,176,0,null,null,null,0,null,null,null,0,null,null,null,0,null,null,null,0,null,null,111,0,null,null,null,0,null,null,null,5.2447552447552502E-3,null,null,176,4.9934440559440602E-2,null,null,176,null,null,null,null,4.9934440559440602E-2,null,null,null,null,null,null,176]
[null,"Tønder","2020-07-01",20202,7,null,null,207,21,null,null,207,16,null,null,207,149,null,null,207,3,null,null,207,8,null,null,207,3,null,null,42,0,null,null,25,0,null,null,25,3,null,null,17,31,null,null,155,null,null,null,3,0,null,null,3,1.8487551096246699E-2,null,null,207,5.6763285024154599E-2,null,null,207,0.125,null,null,8,5.4020100502512602E-2,null,null,199,0.43076923076923102,null,null,207]
[null,"Tårnby","2020-07-01",20202,14,null,null,109,3,null,null,109,18,null,null,109,48,null,null,109,22,null,null,109,null,null,null,109,3,null,null,35,0,null,null,16,0,null,null,16,3,null,null,19,26,null,null,66,0,null,null,0,0,null,null,0,2.7522935779816501E-2,null,null,109,3.3697953422724101E-2,null,null,109,null,null,null,null,3.4327821710999303E-2,null,null,null,0.69047619047619002,null,null,109]
[null,"Varde","2020-07-01",20202,9,null,null,230,4,null,null,230,10,null,null,230,169,null,null,230,null,null,null,230,32,null,null,230,3,null,null,24,0,null,null,12,0,null,null,12,3,null,null,12,32,null,null,193,0,null,null,5,0,null,null,5,8.4448160535117098E-3,null,null,230,8.0100334448160504E-2,null,null,230,8.2932692307692304E-2,null,null,32,7.9642579642579703E-2,null,null,198,0.305084745762712,null,null,230]
[null,"Vejen","2020-07-01",20202,11,null,null,252,3,null,null,252,33,null,null,252,162,null,null,252,22,null,null,252,21,null,null,252,4,null,null,47,null,null,null,14,null,null,null,14,null,null,null,33,18,null,null,141,0,null,null,10,0,null,null,10,3.32722832722833E-2,null,null,252,6.6391941391941406E-2,null,null,252,0.129598662207358,null,null,21,6.0043668122270799E-2,null,null,231,0.29166666666666702,null,null,252]
[null,"Vejle","2020-07-01",20202,19,null,null,451,32,null,null,451,42,null,null,451,312,null,null,451,17,null,null,451,29,null,null,451,7,null,null,95,0,null,null,48,0,null,null,48,7,null,null,47,30,null,null,290,null,null,null,23,null,null,null,23,2.7033941668088E-2,null,null,451,7.3511853999661494E-2,null,null,451,0.11936339522546401,null,null,29,7.0360918702153399E-2,null,null,422,0.44628099173553698,null,null,451]
[null,"Vesthimmerlands","2020-07-01",20202,7,null,null,87,14,null,null,87,15,null,null,87,48,null,null,87,null,null,null,87,null,null,null,87,null,null,null,null,null,null,null,null,0,null,null,null,0,null,null,11,7,null,null,56,0,null,null,null,0,null,null,null,1.81255526083112E-2,null,null,87,1.4146772767462399E-2,null,null,87,null,null,null,null,1.43112701252236E-2,null,null,null,0.25,null,null,87]
[null,"Viborg","2020-07-01",20202,13,null,null,644,130,null,null,644,17,null,null,644,306,null,null,644,145,null,null,644,29,null,null,644,15,null,null,166,0,null,null,148,11,null,null,148,4,null,null,18,41,null,null,306,12,null,null,34,4,null,null,34,2.3829431438127099E-2,null,null,644,5.8677735308169901E-2,null,null,644,0.121995192307692,null,null,29,5.5367018602312502E-2,null,null,615,0.59876543209876498,null,null,644]
[null,"Vordingborg","2020-07-01",20202,9,null,null,425,35,null,null,425,19,null,null,425,304,null,null,425,49,null,null,425,null,null,null,425,5,null,null,66,null,null,null,44,null,null,null,44,null,null,null,22,37,null,null,313,0,null,null,null,0,null,null,null,1.5701357466063399E-2,null,null,425,3.5972850678733001E-2,null,null,425,null,null,null,null,3.4787735849056603E-2,null,null,null,0.51724137931034497,null,null,425]
[null,"Ærø","2020-07-01",20202]
[null,"Aabenraa","2020-07-01",20202,7,null,null,129,4,null,null,129,11,null,null,129,94,null,null,129,3,null,null,129,4,null,null,129,3,null,null,24,0,null,null,12,null,null,null,12,null,null,null,12,37,null,null,127,null,null,null,4,null,null,null,4,1.55038759689923E-2,null,null,129,4.5915324985092397E-2,null,null,129,null,null,null,4,4.6153846153846198E-2,null,null,125,0.60465116279069797,null,null,129]
[null,"Aalborg","2020-07-01",20202,null,null,null,840,156,null,null,840,52,null,null,840,554,null,null,840,49,null,null,840,null,null,null,840,16,null,null,243,0,null,null,190,9,null,null,190,7,null,null,53,36,null,null,573,0,null,null,0,0,null,null,0,5.2426739926739897E-3,null,null,840,2.7014652014651998E-2,null,null,840,null,null,null,null,2.70468506463739E-2,null,null,null,0.25531914893617003,null,null,840]
[null,"Aarhus","2020-07-01",20202,42,null,null,2148,215,null,null,2148,108,null,null,2148,1523,null,null,2148,130,null,null,2148,117,null,null,2148,26,null,null,358,null,null,null,252,null,null,null,252,14,null,null,106,209,null,null,1578,46,null,null,66,7,null,null,66,4.4101847872797501E-2,null,null,2148,6.5445494914768698E-2,null,null,2148,0.13444960212201601,null,null,117,6.1506284070260403E-2,null,null,2031,0.64295302013422795,null,null,2148]
[null,"Albertslund","2021-01-01",20211,11,null,null,98,5,null,null,98,24,null,null,98,54,null,null,98,null,null,null,98,0,null,null,98,3,null,null,42,0,null,null,17,null,null,null,17,null,null,null,25,8,null,null,50,0,null,null,0,0,null,null,0,4.0227629513343799E-2,null,null,98,6.8877551020408101E-2,null,null,98,null,null,null,0,6.8877551020408101E-2,null,null,98,0.4375,null,null,98]
[null,"Allerød","2021-01-01",20211,7,null,null,34,6,null,null,34,null,null,null,34,17,null,null,34,null,null,null,34,null,null,null,34,null,null,null,null,0,null,null,null,null,null,null,null,0,null,null,null,null,null,null,16,0,null,null,null,0,null,null,null,0,null,null,34,0.135180995475113,null,null,34,null,null,null,null,0.135180995475113,null,null,null,null,null,null,34]
[null,"Assens","2021-01-01",20211,8,null,null,215,23,null,null,215,19,null,null,215,123,null,null,215,39,null,null,215,0,null,null,215,4,null,null,52,null,null,null,29,null,null,null,29,null,null,null,23,10,null,null,122,0,null,null,0,0,null,null,0,1.5295169946332701E-2,null,null,215,3.6225402504472301E-2,null,null,215,null,null,null,0,3.6225402504472301E-2,null,null,215,0.57627118644067798,null,null,215]
[null,"Ballerup","2021-01-01",20211,21,null,null,247,19,null,null,247,42,null,null,247,148,null,null,247,10,null,null,247,0,null,null,247,6,null,null,82,null,null,null,41,null,null,null,41,null,null,null,41,13,null,null,145,0,null,null,0,0,null,null,0,2.9897228277795101E-2,null,null,247,4.49236997819994E-2,null,null,247,null,null,null,0,4.49236997819994E-2,null,null,247,0.41666666666666702,null,null,247]
[null,"Billund","2021-01-01",20211,null,null,null,179,null,null,null,179,14,null,null,179,155,null,null,179,4,null,null,179,null,null,null,179,0,null,null,null,0,null,null,null,0,null,null,null,0,null,null,12,13,null,null,148,null,null,null,null,null,null,null,null,8.4873227331327909E-3,null,null,179,8.9600343790287904E-2,null,null,179,null,null,null,null,9.0069534984789201E-2,null,null,null,0.52380952380952395,null,null,179]
[null,"Bornholm","2021-01-01",20211,null,null,null,210,null,null,null,210,22,null,null,210,172,null,null,210,null,null,null,210,null,null,null,210,3,null,null,null,0,null,null,null,null,null,null,null,null,null,null,22,7,null,null,168,null,null,null,null,null,null,null,null,1.36446886446886E-2,null,null,210,4.5146520146520201E-2,null,null,210,null,null,null,null,4.5146520146520201E-2,null,null,null,0.38333333333333303,null,null,210]
[null,"Brøndby","2021-01-01",20211,15,null,null,113,3,null,null,113,9,null,null,113,81,null,null,113,null,null,null,113,0,null,null,113,null,null,null,29,0,null,null,19,null,null,null,19,null,null,null,10,16,null,null,89,0,null,null,0,0,null,null,0,2.1443158611300198E-2,null,null,113,4.03335602450633E-2,null,null,113,null,null,null,0,4.03335602450633E-2,null,null,113,0.42553191489361702,null,null,113]
[null,"Brønderslev","2021-01-01",20211,12,null,null,187,13,null,null,187,6,null,null,187,124,null,null,187,12,null,null,187,17,null,null,187,8,null,null,39,0,null,null,28,4,null,null,28,4,null,null,11,18,null,null,122,null,null,null,7,null,null,null,7,1.7482517482517501E-2,null,null,187,3.9078568490333199E-2,null,null,187,3.1674208144796399E-2,null,null,17,3.9819004524886903E-2,null,null,170,0.35483870967741898,null,null,187]
[null,"Esbjerg","2021-01-01",20211,14,null,null,651,41,null,null,651,48,null,null,651,280,null,null,651,null,null,null,651,207,null,null,651,17,null,null,109,0,null,null,59,7,null,null,59,10,null,null,50,33,null,null,271,92,null,null,190,12,null,null,190,2.59068888101146E-2,null,null,651,9.0216235377525697E-2,null,null,651,0.114194139194139,null,null,207,7.8798185941043097E-2,null,null,444,0.53181818181818197,null,null,651]
[null,"Favrskov","2021-01-01",20211,3,null,null,144,22,null,null,144,15,null,null,144,101,null,null,144,null,null,null,144,0,null,null,144,null,null,null,null,0,null,null,null,null,null,null,null,null,null,null,14,5,null,null,100,0,null,null,null,0,null,null,null,7.6121794871794896E-3,null,null,144,0.126869658119658,null,null,144,null,null,null,0,0.126869658119658,null,null,144,0.71428571428571397,null,null,144]
[null,"Faxe","2021-01-01",20211,9,null,null,187,15,null,null,187,29,null,null,187,128,null,null,187,null,null,null,187,0,null,null,187,5,null,null,57,0,null,null,24,0,null,null,24,5,null,null,33,13,null,null,112,0,null,null,0,0,null,null,0,3.9078568490333197E-3,null,null,187,6.1600164541340999E-2,null,null,187,null,null,null,0,6.1600164541340999E-2,null,null,187,0.42857142857142899,null,null,187]
[null,"Fredensborg","2021-01-01",20211,32,null,null,159,5,null,null,159,24,null,null,159,57,null,null,159,13,null,null,159,24,null,null,159,5,null,null,66,null,null,null,40,null,null,null,40,null,null,null,26,11,null,null,67,null,null,null,10,null,null,null,10,3.6768263183357498E-2,null,null,159,3.9429124334784703E-2,null,null,159,1.8429487179487201E-2,null,null,24,4.3162393162393203E-2,null,null,135,0.64583333333333304,null,null,159]
[null,"Fredericia","2021-01-01",20211,null,null,null,285,null,null,null,285,30,null,null,285,160,null,null,285,71,null,null,285,null,null,null,285,3,null,null,null,0,null,null,null,null,null,null,null,null,null,null,26,27,null,null,169,0,null,null,null,0,null,null,null,6.2078272604588402E-3,null,null,285,6.5654520917678802E-2,null,null,285,null,null,null,null,6.5654520917678802E-2,null,null,null,0.407407407407407,null,null,285]
[null,"Frederiksberg","2021-01-01",20211,35,null,null,253,13,null,null,253,61,null,null,253,131,null,null,253,6,null,null,253,3,null,null,253,11,null,null,111,null,null,null,48,null,null,null,48,null,null,null,63,22,null,null,134,null,null,null,null,null,null,null,null,9.1973244147157199E-3,null,null,253,3.1164487686226799E-2,null,null,253,null,null,null,3,2.7538461538461501E-2,null,null,250,0.41071428571428598,null,null,253]
[null,"Frederikshavn","2021-01-01",20211,13,null,null,491,57,null,null,491,21,null,null,491,356,null,null,491,null,null,null,491,9,null,null,491,7,null,null,92,0,null,null,69,4,null,null,69,3,null,null,23,26,null,null,344,4,null,null,10,3,null,null,10,6.2666457778474101E-3,null,null,491,5.4598151339495499E-2,null,null,491,0,null,null,9,5.5617618895627198E-2,null,null,482,0.24637681159420299,null,null,491]
[null,"Frederikssund","2021-01-01",20211,18,null,null,181,4,null,null,181,34,null,null,181,112,null,null,181,8,null,null,181,5,null,null,181,5,null,null,59,0,null,null,22,0,null,null,22,5,null,null,37,19,null,null,109,null,null,null,5,0,null,null,5,2.79430514237144E-2,null,null,181,7.9898002549936301E-2,null,null,181,0,null,null,5,8.2167832167832203E-2,null,null,176,0.45833333333333298,null,null,181]
[null,"Furesø","2021-01-01",20211,14,null,null,216,8,null,null,216,30,null,null,216,143,null,null,216,null,null,null,216,13,null,null,216,5,null,null,52,0,null,null,22,0,null,null,22,5,null,null,30,12,null,null,144,null,null,null,7,null,null,null,7,3.4188034188034198E-2,null,null,216,7.8703703703703706E-2,null,null,216,9.3195266272189395E-2,null,null,13,7.7775672603258794E-2,null,null,203,0.48571428571428599,null,null,216]
[null,"Faaborg-Midtfyn","2021-01-01",20211,11,null,null,373,14,null,null,373,28,null,null,373,270,null,null,373,null,null,null,373,15,null,null,373,6,null,null,52,null,null,null,25,null,null,null,25,null,null,null,27,34,null,null,289,3,null,null,12,0,null,null,12,2.34584450402145E-2,null,null,373,4.7071561146628201E-2,null,null,373,9.4871794871794896E-2,null,null,15,4.5068758057584903E-2,null,null,358,0.47222222222222199,null,null,373]
[null,"Gentofte","2021-01-01",20211,11,null,null,174,24,null,null,174,32,null,null,174,86,null,null,174,null,null,null,174,14,null,null,174,6,null,null,66,null,null,null,34,null,null,null,34,null,null,null,32,13,null,null,89,null,null,null,6,null,null,null,6,2.7188328912466801E-2,null,null,174,6.7197170645446502E-2,null,null,174,9.6153846153846104E-2,null,null,14,6.4663461538461503E-2,null,null,160,0.565217391304348,null,null,174]
[null,"Gladsaxe","2021-01-01",20211,21,null,null,163,15,null,null,163,23,null,null,163,76,null,null,163,15,null,null,163,13,null,null,163,5,null,null,59,null,null,null,36,null,null,null,36,null,null,null,23,12,null,null,73,null,null,null,3,0,null,null,3,3.1972628598395503E-2,null,null,163,4.74280320906088E-2,null,null,163,9.3195266272189298E-2,null,null,13,4.3461538461538503E-2,null,null,150,0.53658536585365901,null,null,163]
[null,"Glostrup","2021-01-01",20211,14,null,null,163,18,null,null,163,15,null,null,163,82,null,null,163,26,null,null,163,0,null,null,163,6,null,null,50,null,null,null,31,null,null,null,31,null,null,null,19,18,null,null,82,0,null,null,0,0,null,null,0,3.2562529495044797E-2,null,null,163,5.7456347333647899E-2,null,null,163,null,null,null,0,5.7456347333647899E-2,null,null,163,0.65306122448979598,null,null,163]
[null,"Greve","2021-01-01",20211,17,null,null,180,null,null,null,180,28,null,null,180,101,null,null,180,20,null,null,180,null,null,null,180,null,null,null,54,0,null,null,29,0,null,null,29,null,null,null,25,22,null,null,114,null,null,null,4,0,null,null,4,2.3076923076923099E-2,null,null,180,8.9423076923076897E-2,null,null,180,null,null,null,null,8.3945548833189304E-2,null,null,null,0.29545454545454602,null,null,180]
[null,"Gribskov","2021-01-01",20211,9,null,null,133,11,null,null,133,22,null,null,133,87,null,null,133,null,null,null,133,0,null,null,133,null,null,null,39,0,null,null,19,0,null,null,19,null,null,null,20,3,null,null,78,0,null,null,0,0,null,null,0,3.4557547715442498E-2,null,null,133,5.5668016194332003E-2,null,null,133,null,null,null,0,5.5668016194332003E-2,null,null,133,null,null,null,133]
[null,"Guldborgsund","2021-01-01",20211,37,null,null,473,14,null,null,473,44,null,null,473,345,null,null,473,null,null,null,473,0,null,null,473,9,null,null,96,null,null,null,49,null,null,null,49,null,null,null,47,41,null,null,345,0,null,null,0,0,null,null,0,2.01252236135957E-2,null,null,473,4.1714099853634702E-2,null,null,473,null,null,null,0,4.1714099853634702E-2,null,null,473,0.45360824742268002,null,null,473]
[null,"Haderslev","2021-01-01",20211,6,null,null,192,26,null,null,192,18,null,null,192,139,null,null,192,3,null,null,192,0,null,null,192,null,null,null,50,0,null,null,33,null,null,null,33,null,null,null,17,19,null,null,143,0,null,null,0,0,null,null,0,6.8108974358974403E-3,null,null,192,2.93469551282051E-2,null,null,192,null,null,null,0,2.93469551282051E-2,null,null,192,0.42857142857142899,null,null,192]
[null,"Halsnæs","2021-01-01",20211,9,null,null,154,10,null,null,154,20,null,null,154,99,null,null,154,null,null,null,154,13,null,null,154,null,null,null,38,0,null,null,19,null,null,null,19,null,null,null,19,17,null,null,113,14,null,null,19,null,null,null,19,6.9930069930072896E-3,null,null,154,4.1583416583416598E-2,null,null,154,0.15088757396449701,null,null,13,3.1505728314238902E-2,null,null,141,0.41463414634146301,null,null,154]
[null,"Hedensted","2021-01-01",20211,11,null,null,203,14,null,null,203,14,null,null,203,137,null,null,203,8,null,null,203,16,null,null,203,null,null,null,38,0,null,null,25,0,null,null,25,null,null,null,13,15,null,null,141,0,null,null,0,0,null,null,0,1.5536187949981101E-2,null,null,203,7.7207275483137494E-2,null,null,203,0.18028846153846201,null,null,16,6.8387494858083098E-2,null,null,187,0.45454545454545497,null,null,203]
[null,"Helsingør","2021-01-01",20211,33,null,null,218,13,null,null,218,57,null,null,218,104,null,null,218,8,null,null,218,null,null,null,218,8,null,null,107,null,null,null,47,null,null,null,47,null,null,null,60,30,null,null,124,0,null,null,0,0,null,null,0,1.87896965419901E-2,null,null,218,4.1196189131968902E-2,null,null,218,null,null,null,null,3.6948005698005701E-2,null,null,null,0.58333333333333304,null,null,218]
[null,"Herlev","2021-01-01",20211,15,null,null,124,6,null,null,124,28,null,null,124,70,null,null,124,null,null,null,124,0,null,null,124,3,null,null,49,null,null,null,22,0,null,null,22,null,null,null,27,4,null,null,60,0,null,null,0,0,null,null,0,3.3808933002481403E-2,null,null,124,2.3418114143920601E-2,null,null,124,null,null,null,0,2.3418114143920601E-2,null,null,124,0.45833333333333298,null,null,124]
[null,"Herning","2021-01-01",20211,20,null,null,386,39,null,null,386,24,null,null,386,267,null,null,386,12,null,null,386,17,null,null,386,8,null,null,88,0,null,null,62,4,null,null,62,4,null,null,26,28,null,null,262,8,null,null,13,null,null,null,13,9.5157433240334807E-3,null,null,386,5.3656835392586699E-2,null,null,386,5.3167420814479602E-2,null,null,17,5.3679382947675602E-2,null,null,369,0.48666666666666702,null,null,386]
[null,"Hillerød","2021-01-01",20211,15,null,null,238,null,null,null,238,26,null,null,238,160,null,null,238,9,null,null,238,20,null,null,238,3,null,null,null,0,null,null,null,0,null,null,null,3,null,null,25,23,null,null,164,11,null,null,14,3,null,null,14,2.5290885585003201E-2,null,null,238,5.1551389786683902E-2,null,null,238,8.2692307692307704E-2,null,null,20,4.86944248412138E-2,null,null,218,0.63917525773195905,null,null,238]
[null,"Hjørring","2021-01-01",20211,18,null,null,448,75,null,null,448,30,null,null,448,276,null,null,448,9,null,null,448,36,null,null,448,13,null,null,129,0,null,null,92,4,null,null,92,9,null,null,37,15,null,null,256,0,null,null,4,null,null,null,4,3.3310439560439602E-2,null,null,448,5.6833791208791201E-2,null,null,448,0.102564102564103,null,null,36,5.2837938760268599E-2,null,null,412,0.38372093023255799,null,null,448]
[null,"Holbæk","2021-01-01",20211,null,null,null,357,58,null,null,357,35,null,null,357,244,null,null,357,10,null,null,357,7,null,null,357,null,null,null,null,0,null,null,null,0,null,null,null,null,null,null,29,17,null,null,226,null,null,null,null,null,null,null,null,2.9196293902176301E-2,null,null,357,4.5518207282913198E-2,null,null,357,3.2967032967033003E-2,null,null,7,4.5769230769230798E-2,null,null,350,0.45161290322580599,null,null,357]
[null,"Holstebro","2021-01-01",20211,19,null,null,275,53,null,null,275,12,null,null,275,170,null,null,275,18,null,null,275,3,null,null,275,14,null,null,96,null,null,null,79,null,null,null,79,6,null,null,17,22,null,null,192,null,null,null,5,0,null,null,5,5.9440559440559404E-3,null,null,275,5.53846153846154E-2,null,null,275,null,null,null,3,5.2036199095022599E-2,null,null,272,0.63513513513513498,null,null,275]
[null,"Horsens","2021-01-01",20211,37,null,null,462,51,null,null,462,37,null,null,462,248,null,null,462,48,null,null,462,38,null,null,462,10,null,null,127,null,null,null,85,null,null,null,85,null,null,null,42,22,null,null,244,0,null,null,0,0,null,null,0,1.502664002664E-2,null,null,462,4.9450549450549497E-2,null,null,462,3.3771106941838602E-2,null,null,38,5.0977526036908499E-2,null,null,424,0.41880341880341898,null,null,462]
[null,"Hvidovre","2021-01-01",20211,30,null,null,236,19,null,null,236,33,null,null,236,109,null,null,236,null,null,null,236,0,null,null,236,6,null,null,84,null,null,null,48,null,null,null,48,null,null,null,36,13,null,null,96,0,null,null,0,0,null,null,0,2.1430899608865701E-2,null,null,236,2.66460234680574E-2,null,null,236,null,null,null,0,2.66460234680574E-2,null,null,236,0.41176470588235298,null,null,236]
[null,"Høje-Taastrup","2021-01-01",20211,15,null,null,252,32,null,null,252,18,null,null,252,153,null,null,252,3,null,null,252,21,null,null,252,6,null,null,69,null,null,null,51,null,null,null,51,null,null,null,18,18,null,null,150,null,null,null,13,null,null,null,13,2.5946275946275899E-2,null,null,252,6.1660561660561698E-2,null,null,252,1.8315018315018299E-2,null,null,21,6.56010656010656E-2,null,null,231,0.269230769230769,null,null,252]
[null,"Hørsholm","2021-01-01",20211,10,null,null,64,null,null,null,64,15,null,null,64,34,null,null,64,null,null,null,64,null,null,null,64,0,null,null,null,0,null,null,null,0,null,null,null,0,null,null,13,6,null,null,41,0,null,null,0,0,null,null,0,3.0949519230769201E-2,null,null,64,7.1213942307692304E-2,null,null,64,null,null,null,null,7.1213942307692304E-2,null,null,null,null,null,null,64]
[null,"Ikast-Brande","2021-01-01",20211,null,null,null,139,31,null,null,139,9,null,null,139,65,null,null,139,null,null,null,139,30,null,null,139,7,null,null,null,null,null,null,null,null,null,null,null,null,null,null,6,12,null,null,71,4,null,null,27,null,null,null,27,7.1942446043165497E-3,null,null,139,8.1627006087437698E-2,null,null,139,0.14935897435897399,null,null,30,6.2985179957656998E-2,null,null,109,0.68965517241379304,null,null,139]
[null,"Ishøj","2021-01-01",20211,17,null,null,141,7,null,null,141,22,null,null,141,61,null,null,141,8,null,null,141,20,null,null,141,3,null,null,47,0,null,null,24,0,null,null,24,3,null,null,23,5,null,null,62,null,null,null,17,0,null,null,17,2.6322967812329501E-2,null,null,141,6.5193671576650306E-2,null,null,141,8.6538461538461606E-2,null,null,20,6.16656071201526E-2,null,null,121,0.4,null,null,141]
[null,"Jammerbugt","2021-01-01",20211,6,null,null,174,34,null,null,174,13,null,null,174,112,null,null,174,null,null,null,174,0,null,null,174,7,null,null,54,null,null,null,41,4,null,null,41,null,null,null,13,13,null,null,112,0,null,null,0,0,null,null,0,2.8735632183907998E-3,null,null,174,5.5702917771883298E-2,null,null,174,null,null,null,0,5.5702917771883298E-2,null,null,174,0.33333333333333298,null,null,174]
[null,"Kalundborg","2021-01-01",20211,18,null,null,500,49,null,null,500,69,null,null,500,347,null,null,500,14,null,null,500,0,null,null,500,9,null,null,132,0,null,null,68,3,null,null,68,6,null,null,64,44,null,null,349,0,null,null,0,0,null,null,0,2.33846153846154E-2,null,null,500,5.57692307692308E-2,null,null,500,null,null,null,0,5.57692307692308E-2,null,null,500,0.41509433962264197,null,null,500]
[null,"Kerteminde","2021-01-01",20211,3,null,null,113,9,null,null,113,10,null,null,113,78,null,null,113,10,null,null,113,null,null,null,113,null,null,null,null,0,null,null,null,0,null,null,null,null,null,null,10,7,null,null,72,null,null,null,null,null,null,null,null,1.6507828454731099E-2,null,null,113,3.5228046289993202E-2,null,null,113,null,null,null,null,3.5542582417582402E-2,null,null,null,0.65217391304347805,null,null,113]
[null,"Kolding","2021-01-01",20211,30,null,null,350,0,null,null,350,15,null,null,350,262,null,null,350,13,null,null,350,30,null,null,350,11,null,null,53,null,null,null,29,null,null,null,29,null,null,null,24,34,null,null,213,null,null,null,32,null,null,null,32,3.5274725274725298E-2,null,null,350,7.97252747252747E-2,null,null,350,0.10545905707196,null,null,30,7.7224499638292796E-2,null,null,320,0.41304347826087001,null,null,350]
[null,"København","2021-01-01",20211,511,null,null,1931,490,null,null,1931,219,null,null,1931,622,null,null,1931,45,null,null,1931,16,null,null,1931,51,null,null,1195,3,null,null,999,36,null,null,999,12,null,null,196,101,null,null,595,10,null,null,16,null,null,null,16,2.21686650997889E-2,null,null,1931,3.2247141775883399E-2,null,null,1931,0.13581730769230799,null,null,16,3.1381803575015098E-2,null,null,1915,0.46935724962630798,null,null,1931]
[null,"Køge","2021-01-01",20211,34,null,null,249,4,null,null,249,34,null,null,249,164,null,null,249,10,null,null,249,0,null,null,249,null,null,null,69,0,null,null,38,null,null,null,38,null,null,null,31,23,null,null,180,0,null,null,0,0,null,null,0,8.4955205437133204E-3,null,null,249,5.0818659252394198E-2,null,null,249,null,null,null,0,5.0818659252394198E-2,null,null,249,0.44444444444444398,null,null,249]
[null,"Langeland","2021-01-01",20211,5,null,null,91,17,null,null,91,17,null,null,91,41,null,null,91,11,null,null,91,0,null,null,91,null,null,null,36,0,null,null,22,0,null,null,22,null,null,null,14,null,null,null,36,0,null,null,0,0,null,null,0,0,null,null,91,4.3322062552831803E-2,null,null,91,null,null,null,0,4.3322062552831803E-2,null,null,91,null,null,null,91]
[null,"Lejre","2021-01-01",20211,10,null,null,110,13,null,null,110,11,null,null,110,65,null,null,110,null,null,null,110,5,null,null,110,0,null,null,34,0,null,null,22,0,null,null,22,0,null,null,12,6,null,null,67,null,null,null,3,0,null,null,3,9.0909090909090905E-3,null,null,110,7.5874125874125897E-2,null,null,110,0.115384615384615,null,null,5,7.3992673992673993E-2,null,null,105,0.33333333333333298,null,null,110]
[null,"Lemvig","2021-01-01",20211,8,null,null,112,12,null,null,112,7,null,null,112,80,null,null,112,null,null,null,112,0,null,null,112,null,null,null,25,0,null,null,20,null,null,null,20,0,null,null,5,9,null,null,84,null,null,null,null,null,null,null,null,0,null,null,112,0.12534340659340701,null,null,112,null,null,null,0,0.12534340659340701,null,null,112,0.4,null,null,112]
[null,"Lolland","2021-01-01",20211,12,null,null,483,8,null,null,483,41,null,null,483,414,null,null,483,5,null,null,483,0,null,null,483,6,null,null,56,null,null,null,19,null,null,null,19,null,null,null,37,67,null,null,429,0,null,null,0,0,null,null,0,2.62780697563306E-2,null,null,483,6.6690555820990594E-2,null,null,483,null,null,null,0,6.6690555820990594E-2,null,null,483,0.55172413793103403,null,null,483]
[null,"Lyngby-Taarbæk","2021-01-01",20211,14,null,null,210,31,null,null,210,22,null,null,210,125,null,null,210,null,null,null,210,0,null,null,210,7,null,null,67,null,null,null,46,null,null,null,46,null,null,null,21,17,null,null,131,0,null,null,0,0,null,null,0,2.49084249084249E-2,null,null,210,8.52564102564103E-2,null,null,210,null,null,null,0,8.52564102564103E-2,null,null,210,0.53521126760563398,null,null,210]
[null,"Mariagerfjord","2021-01-01",20211,3,null,null,247,6,null,null,247,19,null,null,247,215,null,null,247,null,null,null,247,0,null,null,247,null,null,null,27,0,null,null,10,null,null,null,10,null,null,null,17,26,null,null,225,0,null,null,0,0,null,null,0,1.7206477732793501E-2,null,null,247,6.5088757396449703E-2,null,null,247,null,null,null,0,6.5088757396449703E-2,null,null,247,0.46875,null,null,247]
[null,"Middelfart","2021-01-01",20211,7,null,null,152,22,null,null,152,14,null,null,152,77,null,null,152,20,null,null,152,12,null,null,152,null,null,null,null,0,null,null,null,null,null,null,null,0,null,null,12,24,null,null,97,0,null,null,null,0,null,null,null,1.8092105263157899E-2,null,null,152,4.56730769230769E-2,null,null,152,0.12980769230769201,null,null,12,3.8461538461538498E-2,null,null,140,0.55769230769230804,null,null,152]
[null,"Morsø","2021-01-01",20211,10,null,null,158,27,null,null,158,25,null,null,158,79,null,null,158,17,null,null,158,0,null,null,158,7,null,null,63,null,null,null,39,null,null,null,39,null,null,null,24,69,null,null,140,0,null,null,0,0,null,null,0,3.1645569620253199E-3,null,null,158,5.7327166504381702E-2,null,null,158,null,null,null,0,5.7327166504381702E-2,null,null,158,null,null,null,158]
[null,"Norddjurs","2021-01-01",20211,6,null,null,236,26,null,null,236,3,null,null,236,178,null,null,236,20,null,null,236,null,null,null,236,4,null,null,36,0,null,null,32,null,null,null,32,null,null,null,4,13,null,null,171,null,null,null,4,null,null,null,4,1.6460234680573699E-2,null,null,236,5.4025423728813603E-2,null,null,236,null,null,null,null,5.4487179487179502E-2,null,null,null,0.66071428571428603,null,null,236]
[null,"Nordfyns","2021-01-01",20211,3,null,null,99,19,null,null,99,8,null,null,99,52,null,null,99,14,null,null,99,0,null,null,99,null,null,null,29,0,null,null,22,0,null,null,22,null,null,null,7,7,null,null,50,0,null,null,0,0,null,null,0,3.0108780108780101E-2,null,null,99,5.3224553224553203E-2,null,null,99,null,null,null,0,5.3224553224553203E-2,null,null,99,null,null,null,99]
[null,"Nyborg","2021-01-01",20211,9,null,null,168,27,null,null,168,7,null,null,168,107,null,null,168,null,null,null,168,13,null,null,168,0,null,null,42,0,null,null,36,0,null,null,36,0,null,null,6,24,null,null,119,null,null,null,null,null,null,null,null,9.0430402930402904E-3,null,null,168,4.7161172161172202E-2,null,null,168,0.106508875739645,null,null,13,4.2183622828784101E-2,null,null,155,0.43396226415094302,null,null,168]
[null,"Næstved","2021-01-01",20211,25,null,null,483,30,null,null,483,80,null,null,483,328,null,null,483,15,null,null,483,0,null,null,483,11,null,null,134,0,null,null,57,3,null,null,57,8,null,null,77,37,null,null,303,0,null,null,0,0,null,null,0,2.36900780379041E-2,null,null,483,3.4201305940436397E-2,null,null,483,null,null,null,0,3.4201305940436397E-2,null,null,483,0.376,null,null,483]
[null,"Odder","2021-01-01",20211,null,null,null,121,null,null,null,121,4,null,null,121,105,null,null,121,7,null,null,121,null,null,null,121,null,null,null,null,0,null,null,null,0,null,null,null,null,null,null,6,8,null,null,101,0,null,null,null,0,null,null,null,0,null,null,121,8.0101716465352801E-2,null,null,121,null,null,null,null,8.0101716465352801E-2,null,null,null,0.23529411764705899,null,null,121]
[null,"Odense","2021-01-01",20211,60,null,null,788,60,null,null,788,62,null,null,788,487,null,null,788,109,null,null,788,0,null,null,788,11,null,null,178,0,null,null,121,4,null,null,121,7,null,null,57,35,null,null,465,0,null,null,0,0,null,null,0,7.8094494338149202E-3,null,null,788,3.5166926981647799E-2,null,null,788,null,null,null,0,3.5166926981647799E-2,null,null,788,0.56571428571428595,null,null,788]
[null,"Odsherred","2021-01-01",20211,14,null,null,141,11,null,null,141,13,null,null,141,88,null,null,141,3,null,null,141,12,null,null,141,3,null,null,38,0,null,null,24,null,null,null,24,null,null,null,14,8,null,null,85,4,null,null,8,null,null,null,8,6.6830332787779596E-3,null,null,141,2.8232405891980401E-2,null,null,141,9.4551282051282007E-2,null,null,12,2.2063208109719699E-2,null,null,129,0.527272727272727,null,null,141]
[null,"Randers","2021-01-01",20211,6,null,null,210,41,null,null,210,19,null,null,210,136,null,null,210,null,null,null,210,0,null,null,210,6,null,null,69,null,null,null,50,null,null,null,50,null,null,null,19,22,null,null,150,0,null,null,0,0,null,null,0,1.2637362637362599E-2,null,null,210,3.9835164835164798E-2,null,null,210,null,null,null,0,3.9835164835164798E-2,null,null,210,0.61627906976744196,null,null,210]
[null,"Rebild","2021-01-01",20211,null,null,null,104,17,null,null,104,9,null,null,104,71,null,null,104,null,null,null,104,null,null,null,104,null,null,null,null,0,null,null,null,null,null,null,null,null,null,null,10,9,null,null,61,0,null,null,null,0,null,null,null,9.6153846153846194E-3,null,null,104,3.0325443786981598E-2,null,null,104,null,null,null,null,3.0325443786981598E-2,null,null,null,null,null,null,104]
[null,"Ringkøbing-Skjern","2021-01-01",20211,14,null,null,455,67,null,null,455,43,null,null,455,271,null,null,455,33,null,null,455,21,null,null,455,10,null,null,128,null,null,null,82,null,null,null,82,null,null,null,46,32,null,null,292,0,null,null,0,0,null,null,0,5.1986475063398197E-3,null,null,455,8.4277261200338099E-2,null,null,455,9.7985347985347998E-2,null,null,21,8.3613966678482796E-2,null,null,434,0.42857142857142899,null,null,455]
[null,"Ringsted","2021-01-01",20211,5,null,null,140,8,null,null,140,13,null,null,140,109,null,null,140,null,null,null,140,0,null,null,140,null,null,null,26,0,null,null,14,null,null,null,14,null,null,null,12,17,null,null,110,0,null,null,0,0,null,null,0,2.5000000000000001E-2,null,null,140,2.69230769230769E-2,null,null,140,null,null,null,0,2.69230769230769E-2,null,null,140,0.67391304347826098,null,null,140]
[null,"Roskilde","2021-01-01",20211,16,null,null,404,53,null,null,404,55,null,null,404,202,null,null,404,15,null,null,404,63,null,null,404,12,null,null,125,null,null,null,68,null,null,null,68,null,null,null,57,15,null,null,181,33,null,null,67,8,null,null,67,3.4986671744097503E-2,null,null,404,4.7696115765422702E-2,null,null,404,0.103174603174603,null,null,63,3.74464245431987E-2,null,null,341,0.35199999999999998,null,null,404]
[null,"Rudersdal","2021-01-01",20211,6,null,null,154,32,null,null,154,12,null,null,154,99,null,null,154,null,null,null,154,null,null,null,154,5,null,null,50,null,null,null,38,null,null,null,38,null,null,null,12,17,null,null,101,5,null,null,5,0,null,null,5,1.26123876123876E-2,null,null,154,7.75474525474526E-2,null,null,154,null,null,null,null,7.8567813765182196E-2,null,null,null,0.4375,null,null,154]
[null,"Rødovre","2021-01-01",20211,18,null,null,235,13,null,null,235,31,null,null,235,168,null,null,235,null,null,null,235,0,null,null,235,8,null,null,61,null,null,null,35,null,null,null,35,3,null,null,26,5,null,null,147,null,null,null,null,null,null,null,null,1.1783960720130699E-2,null,null,235,5.9574468085108002E-2,null,null,235,null,null,null,0,5.9574468085108002E-2,null,null,235,0.40384615384615402,null,null,235]
[null,"Silkeborg","2021-01-01",20211,21,null,null,652,37,null,null,652,173,null,null,652,359,null,null,652,21,null,null,652,35,null,null,652,25,null,null,241,null,null,null,52,null,null,null,52,null,null,null,189,38,null,null,328,6,null,null,15,null,null,null,15,1.9348749410099099E-2,null,null,652,7.1938414346389798E-2,null,null,652,0.14369658119658099,null,null,35,6.7744755244755303E-2,null,null,617,0.35,null,null,652]
[null,"Skanderborg","2021-01-01",20211,4,null,null,391,22,null,null,391,28,null,null,391,308,null,null,391,19,null,null,391,10,null,null,391,4,null,null,54,0,null,null,24,0,null,null,24,4,null,null,30,32,null,null,324,7,null,null,7,0,null,null,7,8.3612040133779295E-3,null,null,391,9.0153452685422006E-2,null,null,391,5.1923076923076898E-2,null,null,10,9.1156874621441605E-2,null,null,381,0.42622950819672101,null,null,391]
[null,"Skive","2021-01-01",20211,null,null,null,208,18,null,null,208,7,null,null,208,148,null,null,208,7,null,null,208,22,null,null,208,null,null,null,null,0,null,null,null,0,null,null,null,null,null,null,9,20,null,null,151,12,null,null,20,5,null,null,20,1.57174556213018E-2,null,null,208,0.12814349112426099,null,null,208,0.125874125874126,null,null,22,0.12841191066997501,null,null,186,0.29787234042553201,null,null,208]
[null,"Slagelse","2021-01-01",20211,14,null,null,379,29,null,null,379,24,null,null,379,223,null,null,379,null,null,null,379,83,null,null,379,6,null,null,68,0,null,null,44,3,null,null,44,3,null,null,24,19,null,null,211,58,null,null,75,4,null,null,75,2.9937081388268699E-2,null,null,379,4.7493403693931402E-2,null,null,379,7.7838827838827798E-2,null,null,83,3.8852672750977799E-2,null,null,296,0.38317757009345799,null,null,379]
[null,"Solrød","2021-01-01",20211,8,null,null,81,null,null,null,81,8,null,null,81,54,null,null,81,null,null,null,81,5,null,null,81,null,null,null,null,0,null,null,null,0,null,null,null,null,null,null,9,0,null,null,49,null,null,null,4,null,null,null,4,9.0218423551756896E-3,null,null,81,0.123219373219373,null,null,81,0.134615384615385,null,null,5,0.12246963562752999,null,null,76,null,null,null,81]
[null,"Sorø","2021-01-01",20211,11,null,null,178,16,null,null,178,19,null,null,178,120,null,null,178,5,null,null,178,7,null,null,178,3,null,null,45,0,null,null,27,null,null,null,27,null,null,null,18,23,null,null,133,null,null,null,null,null,null,null,null,9.3993085566119305E-3,null,null,178,3.1871218668971503E-2,null,null,178,0.27197802197802201,null,null,7,2.2042285200179999E-2,null,null,171,0.29411764705882398,null,null,178]
[null,"Stevns","2021-01-01",20211,null,null,null,90,5,null,null,90,13,null,null,90,69,null,null,90,null,null,null,90,0,null,null,90,null,null,null,null,0,null,null,null,0,null,null,null,null,null,null,13,4,null,null,60,0,null,null,0,0,null,null,0,1.68803418803419E-2,null,null,90,8.9316239316239304E-2,null,null,90,null,null,null,0,8.9316239316239304E-2,null,null,90,null,null,null,90]
[null,"Struer","2021-01-01",20211,null,null,null,67,13,null,null,67,8,null,null,67,28,null,null,67,null,null,null,67,13,null,null,67,null,null,null,null,0,null,null,null,null,null,null,null,0,null,null,9,9,null,null,34,24,null,null,34,null,null,null,34,3.64523536165327E-2,null,null,67,5.2525832376578603E-2,null,null,67,9.1715976331360999E-2,null,null,13,4.30911680911681E-2,null,null,54,0.33333333333333298,null,null,67]
[null,"Svendborg","2021-01-01",20211,18,null,null,324,18,null,null,324,26,null,null,324,208,null,null,324,54,null,null,324,0,null,null,324,6,null,null,64,null,null,null,40,null,null,null,40,null,null,null,24,33,null,null,218,0,null,null,0,0,null,null,0,1.45417853751187E-2,null,null,324,1.0327635327635301E-2,null,null,324,null,null,null,0,1.0327635327635301E-2,null,null,324,0.45333333333333298,null,null,324]
[null,"Syddjurs","2021-01-01",20211,6,null,null,164,11,null,null,164,11,null,null,164,116,null,null,164,17,null,null,164,0,null,null,164,4,null,null,32,null,null,null,20,null,null,null,20,null,null,null,12,13,null,null,113,0,null,null,0,0,null,null,0,7.7392120075046901E-3,null,null,164,7.8447467166979395E-2,null,null,164,null,null,null,0,7.8447467166979395E-2,null,null,164,0.50943396226415105,null,null,164]
[null,"Sønderborg","2021-01-01",20211,22,null,null,630,64,null,null,630,35,null,null,630,492,null,null,630,12,null,null,630,0,null,null,630,6,null,null,113,null,null,null,77,null,null,null,77,null,null,null,36,51,null,null,488,0,null,null,0,0,null,null,0,1.7338217338217301E-2,null,null,630,8.0128205128205093E-2,null,null,630,null,null,null,0,8.0128205128205093E-2,null,null,630,0.483606557377049,null,null,630]
[null,"Thisted","2021-01-01",20211,null,null,null,198,33,null,null,198,null,null,null,198,133,null,null,198,23,null,null,198,null,null,null,198,0,null,null,null,0,null,null,null,0,null,null,null,0,null,null,null,0,null,null,117,0,null,null,null,0,null,null,null,6.7987567987567998E-3,null,null,198,4.6231546231546197E-2,null,null,198,null,null,null,null,4.6231546231546197E-2,null,null,null,0.17647058823529399,null,null,198]
[null,"Tønder","2021-01-01",20211,7,null,null,221,21,null,null,221,15,null,null,221,164,null,null,221,4,null,null,221,5,null,null,221,4,null,null,44,0,null,null,28,null,null,null,28,null,null,null,16,31,null,null,149,null,null,null,8,null,null,null,8,9.0497737556561094E-3,null,null,221,4.8642533936651598E-2,null,null,221,0.1,null,null,5,4.7453703703703699E-2,null,null,216,0.57627118644067798,null,null,221]
[null,"Tårnby","2021-01-01",20211,14,null,null,126,4,null,null,126,20,null,null,126,59,null,null,126,null,null,null,126,4,null,null,126,null,null,null,35,0,null,null,17,0,null,null,17,null,null,null,18,3,null,null,48,null,null,null,null,null,null,null,null,2.5793650793650799E-2,null,null,126,2.5183150183150201E-2,null,null,126,null,null,null,4,2.0649432534678401E-2,null,null,122,0.5,null,null,126]
[null,"Varde","2021-01-01",20211,9,null,null,226,4,null,null,226,10,null,null,226,169,null,null,226,null,null,null,226,28,null,null,226,null,null,null,23,0,null,null,13,0,null,null,13,null,null,null,10,22,null,null,169,17,null,null,32,9,null,null,32,3.2334921715452699E-3,null,null,226,6.7562968005445895E-2,null,null,226,0,null,null,28,7.7117327117327106E-2,null,null,198,0.43076923076923102,null,null,226]
[null,"Vejen","2021-01-01",20211,13,null,null,229,3,null,null,229,29,null,null,229,154,null,null,229,23,null,null,229,7,null,null,229,5,null,null,47,null,null,null,14,null,null,null,14,null,null,null,33,31,null,null,162,17,null,null,21,null,null,null,21,7.2220356063150797E-3,null,null,229,7.0036949949613694E-2,null,null,229,0.14010989010989,null,null,7,6.7827442827442797E-2,null,null,222,0.13636363636363599,null,null,229]
[null,"Vejle","2021-01-01",20211,17,null,null,492,29,null,null,492,41,null,null,492,353,null,null,492,16,null,null,492,36,null,null,492,12,null,null,93,0,null,null,51,5,null,null,51,7,null,null,42,33,null,null,312,null,null,null,29,null,null,null,29,2.82989368355222E-2,null,null,492,6.8050343964978097E-2,null,null,492,2.7027027027027001E-2,null,null,36,7.1386306001690603E-2,null,null,456,0.44954128440367003,null,null,492]
[null,"Vesthimmerlands","2021-01-01",20211,7,null,null,100,15,null,null,100,14,null,null,100,60,null,null,100,null,null,null,100,null,null,null,100,4,null,null,36,0,null,null,21,0,null,null,21,4,null,null,15,3,null,null,48,null,null,null,null,null,null,null,null,2.5961538461538501E-2,null,null,100,2.3653846153846199E-2,null,null,100,null,null,null,null,2.3892773892773899E-2,null,null,null,0.34782608695652201,null,null,100]
[null,"Viborg","2021-01-01",20211,11,null,null,668,128,null,null,668,16,null,null,668,310,null,null,668,160,null,null,668,39,null,null,668,12,null,null,160,null,null,null,143,null,null,null,143,null,null,null,17,34,null,null,306,14,null,null,29,null,null,null,29,2.52475817595578E-2,null,null,668,6.3363657300783097E-2,null,null,668,5.8586762075134198E-2,null,null,39,6.3692307692307701E-2,null,null,629,0.37313432835820898,null,null,668]
[null,"Vordingborg","2021-01-01",20211,10,null,null,423,34,null,null,423,22,null,null,423,296,null,null,423,48,null,null,423,6,null,null,423,null,null,null,63,0,null,null,44,0,null,null,44,null,null,null,19,45,null,null,304,0,null,null,null,0,null,null,null,6.86488452445899E-3,null,null,423,3.1187488634297201E-2,null,null,423,8.0128205128205093E-2,null,null,6,3.0483305663161799E-2,null,null,417,0.33333333333333298,null,null,423]
[null,"Ærø","2021-01-01",20211]
[null,"Aabenraa","2021-01-01",20211,8,null,null,112,4,null,null,112,9,null,null,112,72,null,null,112,null,null,null,112,12,null,null,112,null,null,null,22,0,null,null,11,0,null,null,11,null,null,null,11,27,null,null,94,null,null,null,4,null,null,null,4,1.9059065934065901E-2,null,null,112,6.6620879120879106E-2,null,null,112,4.9679487179487197E-2,null,null,12,6.8653846153846204E-2,null,null,100,0.5625,null,null,112]
[null,"Aalborg","2021-01-01",20211,27,null,null,806,151,null,null,806,50,null,null,806,529,null,null,806,49,null,null,806,0,null,null,806,15,null,null,null,0,null,null,null,11,null,null,null,4,null,null,52,40,null,null,554,null,null,null,null,null,null,null,null,4.1038366100400797E-3,null,null,806,3.2878411910670001E-2,null,null,806,null,null,null,0,3.2878411910670001E-2,null,null,806,0.36363636363636398,null,null,806]
[null,"Aarhus","2021-01-01",20211,38,null,null,2165,219,null,null,2165,114,null,null,2165,1522,null,null,2165,136,null,null,2165,123,null,null,2165,22,null,null,365,0,null,null,257,15,null,null,257,7,null,null,108,196,null,null,1523,86,null,null,117,11,null,null,117,4.9955587138035197E-2,null,null,2165,6.4354236987031493E-2,null,null,2165,0.12867417135709799,null,null,123,6.0479921645445599E-2,null,null,2042,0.59264305177111698,null,null,2165]
[null,"Albertslund","2021-07-01",20212,10,null,null,101,4,null,null,101,26,null,null,101,57,null,null,101,null,null,null,101,0,null,null,101,3,null,null,40,0,null,null,16,null,null,null,16,null,null,null,24,5,null,null,54,0,null,null,0,0,null,null,0,4.3412033511043398E-2,null,null,101,7.3305407463823302E-2,null,null,101,null,null,null,0,7.3305407463823302E-2,null,null,101,0.63461538461538503,null,null,101]
[null,"Allerød","2021-07-01",20212,7,null,null,36,6,null,null,36,4,null,null,36,19,null,null,36,0,null,null,36,0,null,null,36,0,null,null,null,0,null,null,13,0,null,null,13,0,null,null,null,null,null,null,17,0,null,null,null,0,null,null,null,2.2435897435897401E-2,null,null,36,9.9893162393162399E-2,null,null,36,null,null,null,0,9.9893162393162399E-2,null,null,36,0.75,null,null,36]
[null,"Assens","2021-07-01",20212,9,null,null,230,23,null,null,230,23,null,null,230,135,null,null,230,36,null,null,230,0,null,null,230,3,null,null,50,0,null,null,31,null,null,null,31,null,null,null,19,15,null,null,123,0,null,null,0,0,null,null,0,4.7658862876254196E-3,null,null,230,4.2642140468227403E-2,null,null,230,null,null,null,0,4.2642140468227403E-2,null,null,230,0.320754716981132,null,null,230]
[null,"Ballerup","2021-07-01",20212,19,null,null,250,19,null,null,250,42,null,null,250,151,null,null,250,11,null,null,250,0,null,null,250,5,null,null,82,null,null,null,40,null,null,null,40,null,null,null,42,20,null,null,148,0,null,null,0,0,null,null,0,3.3000000000000002E-2,null,null,250,4.4538461538461499E-2,null,null,250,null,null,null,0,4.4538461538461499E-2,null,null,250,0.38461538461538503,null,null,250]
[null,"Billund","2021-07-01",20212,null,null,null,186,3,null,null,186,13,null,null,186,164,null,null,186,3,null,null,186,0,null,null,186,5,null,null,null,0,null,null,null,0,null,null,null,5,null,null,14,16,null,null,155,null,null,null,null,null,null,null,null,7.3407775020678202E-3,null,null,186,9.2638544251447505E-2,null,null,186,null,null,null,0,9.2638544251447505E-2,null,null,186,0.45454545454545497,null,null,186]
[null,"Bornholm","2021-07-01",20212,null,null,null,209,null,null,null,209,22,null,null,209,172,null,null,209,null,null,null,209,null,null,null,209,null,null,null,null,0,null,null,null,0,null,null,null,null,null,null,22,11,null,null,172,0,null,null,null,0,null,null,null,1.1133603238866399E-2,null,null,209,5.67721751932301E-2,null,null,209,null,null,null,null,5.67721751932301E-2,null,null,null,0.375,null,null,209]
[null,"Brøndby","2021-07-01",20212,14,null,null,108,null,null,null,108,13,null,null,108,74,null,null,108,4,null,null,108,0,null,null,108,null,null,null,27,0,null,null,18,null,null,null,18,0,null,null,9,12,null,null,81,0,null,null,0,0,null,null,0,2.6531339031338998E-2,null,null,108,4.1488603988604003E-2,null,null,108,null,null,null,0,4.1488603988604003E-2,null,null,108,0.48571428571428599,null,null,108]
[null,"Brønderslev","2021-07-01",20212,11,null,null,186,11,null,null,186,8,null,null,186,125,null,null,186,null,null,null,186,16,null,null,186,4,null,null,31,null,null,null,25,null,null,null,25,null,null,null,6,20,null,null,124,9,null,null,17,null,null,null,17,1.6645988420182001E-2,null,null,186,5.7071960297766802E-2,null,null,186,0.13009049773755699,null,null,16,4.9726900318616298E-2,null,null,170,0.22222222222222199,null,null,186]
[null,"Esbjerg","2021-07-01",20212,13,null,null,473,40,null,null,473,44,null,null,473,242,null,null,473,null,null,null,473,78,null,null,473,10,null,null,103,0,null,null,55,4,null,null,55,6,null,null,48,39,null,null,280,129,null,null,207,0,null,null,207,1.01642543503009E-2,null,null,473,8.92014961782404E-2,null,null,473,0.15064102564102599,null,null,78,7.7069133398247294E-2,null,null,395,0.55357142857142905,null,null,473]
[null,"Favrskov","2021-07-01",20212,5,null,null,158,20,null,null,158,13,null,null,158,117,null,null,158,null,null,null,158,0,null,null,158,4,null,null,40,null,null,null,25,null,null,null,25,null,null,null,15,3,null,null,101,0,null,null,0,0,null,null,0,7.4245374878286301E-3,null,null,158,0.108325219084713,null,null,158,null,null,null,0,0.108325219084713,null,null,158,0.69230769230769196,null,null,158]
[null,"Faxe","2021-07-01",20212,8,null,null,204,15,null,null,204,27,null,null,204,147,null,null,204,null,null,null,204,0,null,null,204,7,null,null,53,null,null,null,24,null,null,null,24,null,null,null,29,16,null,null,128,0,null,null,0,0,null,null,0,0,null,null,204,6.8815987933634998E-2,null,null,204,null,null,null,0,6.8815987933634998E-2,null,null,204,0.41935483870967799,null,null,204]
[null,"Fredensborg","2021-07-01",20212,31,null,null,153,4,null,null,153,24,null,null,153,57,null,null,153,12,null,null,153,21,null,null,153,null,null,null,61,0,null,null,37,null,null,null,37,0,null,null,24,5,null,null,57,6,null,null,24,4,null,null,24,3.2302664655605703E-2,null,null,153,4.3237807943690303E-2,null,null,153,4.3040293040292998E-2,null,null,21,4.3269230769230803E-2,null,null,132,0.42424242424242398,null,null,153]
[null,"Fredericia","2021-07-01",20212,null,null,null,285,null,null,null,285,31,null,null,285,150,null,null,285,79,null,null,285,null,null,null,285,6,null,null,null,0,null,null,null,0,null,null,null,6,null,null,30,18,null,null,160,0,null,null,null,0,null,null,null,7.4898785425101203E-3,null,null,285,6.1470985155195702E-2,null,null,285,null,null,null,null,6.1470985155195702E-2,null,null,null,0.54166666666666696,null,null,285]
[null,"Frederiksberg","2021-07-01",20212,33,null,null,250,13,null,null,250,62,null,null,250,130,null,null,250,6,null,null,250,null,null,null,250,8,null,null,109,null,null,null,48,null,null,null,48,null,null,null,61,23,null,null,131,3,null,null,3,0,null,null,3,1.8384615384615399E-2,null,null,250,2.5076923076923101E-2,null,null,250,null,null,null,null,2.5046526054590599E-2,null,null,null,0.341772151898734,null,null,250]
[null,"Frederikshavn","2021-07-01",20212,13,null,null,509,58,null,null,509,19,null,null,509,371,null,null,509,null,null,null,509,12,null,null,509,5,null,null,91,null,null,null,70,null,null,null,70,null,null,null,21,37,null,null,356,3,null,null,9,3,null,null,9,8.8408644400785903E-3,null,null,509,4.9493728275653598E-2,null,null,509,4.1666666666666699E-2,null,null,12,4.9682711654542598E-2,null,null,497,0.20689655172413801,null,null,509]
[null,"Frederikssund","2021-07-01",20212,16,null,null,175,4,null,null,175,36,null,null,175,109,null,null,175,7,null,null,175,3,null,null,175,6,null,null,56,null,null,null,22,null,null,null,22,null,null,null,34,21,null,null,112,5,null,null,5,0,null,null,5,1.5384615384615399E-2,null,null,175,0.10142857142857099,null,null,175,null,null,null,3,0.103197674418605,null,null,172,0.69662921348314599,null,null,175]
[null,"Furesø","2021-07-01",20212,13,null,null,224,8,null,null,224,28,null,null,224,150,null,null,224,null,null,null,224,18,null,null,224,5,null,null,52,null,null,null,22,null,null,null,22,null,null,null,30,10,null,null,143,4,null,null,13,5,null,null,13,2.4038461538461502E-2,null,null,224,7.3918269230769204E-2,null,null,224,7.2649572649572697E-2,null,null,18,7.40291262135922E-2,null,null,206,0.44444444444444398,null,null,224]
[null,"Faaborg-Midtfyn","2021-07-01",20212,12,null,null,392,14,null,null,392,23,null,null,392,286,null,null,392,null,null,null,392,20,null,null,392,7,null,null,53,0,null,null,25,0,null,null,25,7,null,null,28,26,null,null,270,0,null,null,15,3,null,null,15,2.5215855572998401E-2,null,null,392,4.8812794348508597E-2,null,null,392,6.25E-2,null,null,20,4.80769230769231E-2,null,null,372,0.42666666666666703,null,null,392]
[null,"Gentofte","2021-07-01",20212,11,null,null,162,24,null,null,162,30,null,null,162,87,null,null,162,6,null,null,162,4,null,null,162,4,null,null,67,0,null,null,35,0,null,null,35,4,null,null,32,12,null,null,86,14,null,null,14,0,null,null,14,4.3209876543209902E-2,null,null,162,7.0037986704651903E-2,null,null,162,null,null,null,4,7.1811100292111602E-2,null,null,158,0.20833333333333301,null,null,162]
[null,"Gladsaxe","2021-07-01",20212,21,null,null,145,null,null,null,145,19,null,null,145,78,null,null,145,13,null,null,145,null,null,null,145,9,null,null,59,0,null,null,36,3,null,null,36,6,null,null,23,13,null,null,76,null,null,null,13,null,null,null,13,1.9496021220159199E-2,null,null,145,3.4880636604774501E-2,null,null,145,null,null,null,null,3.5122863247863297E-2,null,null,null,0.57333333333333303,null,null,145]
[null,"Glostrup","2021-07-01",20212,18,null,null,181,19,null,null,181,18,null,null,181,86,null,null,181,32,null,null,181,0,null,null,181,null,null,null,47,0,null,null,32,0,null,null,32,null,null,null,15,14,null,null,82,0,null,null,0,0,null,null,0,2.0080747981300499E-2,null,null,181,4.6217594560136001E-2,null,null,181,null,null,null,0,4.6217594560136001E-2,null,null,181,0.52777777777777801,null,null,181]
[null,"Greve","2021-07-01",20212,18,null,null,186,null,null,null,186,29,null,null,186,107,null,null,186,19,null,null,186,null,null,null,186,0,null,null,null,0,null,null,null,0,null,null,null,0,null,null,28,5,null,null,101,null,null,null,null,null,null,null,null,8.9950372208436706E-3,null,null,186,9.1294458229942102E-2,null,null,186,null,null,null,null,9.1787941787941807E-2,null,null,null,0.46551724137931,null,null,186]
[null,"Gribskov","2021-07-01",20212,9,null,null,147,10,null,null,147,25,null,null,147,98,null,null,147,null,null,null,147,null,null,null,147,null,null,null,42,0,null,null,20,null,null,null,20,null,null,null,22,9,null,null,87,0,null,null,0,0,null,null,0,4.5525902668759798E-2,null,null,147,6.2663526949241197E-2,null,null,147,null,null,null,null,6.3092729188619606E-2,null,null,null,null,null,null,147]
[null,"Guldborgsund","2021-07-01",20212,35,null,null,487,15,null,null,487,44,null,null,487,360,null,null,487,null,null,null,487,0,null,null,487,9,null,null,95,0,null,null,51,3,null,null,51,6,null,null,44,35,null,null,345,0,null,null,0,0,null,null,0,1.85199810456484E-2,null,null,487,4.19365029221292E-2,null,null,487,null,null,null,0,4.19365029221292E-2,null,null,487,0.57692307692307698,null,null,487]
[null,"Haderslev","2021-07-01",20212,7,null,null,197,26,null,null,197,19,null,null,197,142,null,null,197,3,null,null,197,0,null,null,197,3,null,null,50,0,null,null,32,0,null,null,32,3,null,null,18,14,null,null,139,0,null,null,0,0,null,null,0,9.9570480281140194E-3,null,null,197,4.0023428348301401E-2,null,null,197,null,null,null,0,4.0023428348301401E-2,null,null,197,0.66666666666666696,null,null,197]
[null,"Halsnæs","2021-07-01",20212,9,null,null,134,8,null,null,134,18,null,null,134,91,null,null,134,null,null,null,134,5,null,null,134,5,null,null,39,null,null,null,19,null,null,null,19,null,null,null,20,11,null,null,99,null,null,null,13,null,null,null,13,9.6153846153846107E-3,null,null,134,3.1142365097589001E-2,null,null,134,0.134615384615385,null,null,5,2.7131782945736399E-2,null,null,129,0.42424242424242398,null,null,134]
[null,"Hedensted","2021-07-01",20212,11,null,null,207,14,null,null,207,13,null,null,207,140,null,null,207,8,null,null,207,18,null,null,207,null,null,null,39,0,null,null,25,0,null,null,25,null,null,null,14,14,null,null,137,8,null,null,16,3,null,null,16,1.09624674842066E-2,null,null,207,6.5124489037532499E-2,null,null,207,0.103632478632479,null,null,18,6.1457061457061403E-2,null,null,189,0.46031746031746001,null,null,207]
[null,"Helsingør","2021-07-01",20212,31,null,null,203,12,null,null,203,52,null,null,203,95,null,null,203,7,null,null,203,6,null,null,203,13,null,null,103,null,null,null,46,null,null,null,46,10,null,null,57,22,null,null,104,null,null,null,null,null,null,null,null,1.4588859416443599E-2,null,null,203,2.8135657446002299E-2,null,null,203,3.2051282051281998E-3,null,null,6,2.8894962905115201E-2,null,null,197,0.38095238095238099,null,null,203]
[null,"Herlev","2021-07-01",20212,15,null,null,127,6,null,null,127,28,null,null,127,75,null,null,127,null,null,null,127,0,null,null,127,null,null,null,49,0,null,null,21,0,null,null,21,null,null,null,28,14,null,null,70,0,null,null,0,0,null,null,0,3.1496062992125998E-2,null,null,127,3.7855844942459103E-2,null,null,127,null,null,null,0,3.7855844942459103E-2,null,null,127,0.27272727272727298,null,null,127]
[null,"Herning","2021-07-01",20212,19,null,null,391,37,null,null,391,23,null,null,391,280,null,null,391,12,null,null,391,16,null,null,391,6,null,null,83,null,null,null,59,null,null,null,59,null,null,null,24,33,null,null,267,12,null,null,17,null,null,null,17,1.7755262640173099E-2,null,null,391,6.3200865630533204E-2,null,null,391,0.23317307692307701,null,null,16,5.5948717948717898E-2,null,null,375,0.61111111111111105,null,null,391]
[null,"Hillerød","2021-07-01",20212,13,null,null,257,null,null,null,257,28,null,null,257,168,null,null,257,7,null,null,257,33,null,null,257,3,null,null,null,0,null,null,null,null,null,null,null,null,null,null,26,22,null,null,160,17,null,null,20,3,null,null,20,5.1780903920981697E-2,null,null,257,5.6869200838072398E-2,null,null,257,0.16375291375291401,null,null,33,4.1122939560439602E-2,null,null,224,0.57575757575757602,null,null,257]
[null,"Hjørring","2021-07-01",20212,19,null,null,495,68,null,null,495,46,null,null,495,297,null,null,495,11,null,null,495,50,null,null,495,8,null,null,123,null,null,null,93,null,null,null,93,0,null,null,30,20,null,null,276,20,null,null,36,null,null,null,36,3.6674436674436699E-2,null,null,495,6.1266511266511302E-2,null,null,495,0.158846153846153,null,null,50,5.0302506482281802E-2,null,null,445,0.44047619047619102,null,null,495]
[null,"Holbæk","2021-07-01",20212,null,null,null,357,57,null,null,357,41,null,null,357,243,null,null,357,8,null,null,357,4,null,null,357,5,null,null,null,null,null,null,null,null,null,null,null,null,null,null,35,34,null,null,244,null,null,null,7,null,null,null,7,3.2967032967033003E-2,null,null,357,4.2609351432880797E-2,null,null,357,null,null,null,4,4.30921769448682E-2,null,null,353,0.33928571428571402,null,null,357]
[null,"Holstebro","2021-07-01",20212,18,null,null,246,49,null,null,246,10,null,null,246,150,null,null,246,19,null,null,246,0,null,null,246,10,null,null,84,null,null,null,72,null,null,null,72,null,null,null,12,20,null,null,170,3,null,null,3,0,null,null,3,4.5340838023764903E-3,null,null,246,5.14383989993746E-2,null,null,246,null,null,null,0,5.14383989993746E-2,null,null,246,0.64150943396226401,null,null,246]
[null,"Horsens","2021-07-01",20212,36,null,null,479,52,null,null,479,36,null,null,479,247,null,null,479,47,null,null,479,57,null,null,479,14,null,null,125,0,null,null,88,6,null,null,88,8,null,null,37,19,null,null,248,12,null,null,38,11,null,null,38,1.0197526898988301E-2,null,null,479,4.5848723301750403E-2,null,null,479,4.2307692307692303E-2,null,null,57,4.6355792179181197E-2,null,null,422,0.44067796610169502,null,null,479]
[null,"Hvidovre","2021-07-01",20212,30,null,null,251,17,null,null,251,29,null,null,251,133,null,null,251,39,null,null,251,0,null,null,251,10,null,null,82,0,null,null,49,4,null,null,49,6,null,null,33,14,null,null,109,0,null,null,0,0,null,null,0,3.9380937787312303E-2,null,null,251,4.1219736438859997E-2,null,null,251,null,null,null,0,4.1219736438859997E-2,null,null,251,0.26984126984126999,null,null,251]
[null,"Høje-Taastrup","2021-07-01",20212,14,null,null,260,33,null,null,260,16,null,null,260,152,null,null,260,4,null,null,260,31,null,null,260,5,null,null,65,null,null,null,47,null,null,null,47,null,null,null,18,21,null,null,153,null,null,null,21,null,null,null,21,3.6094674556212999E-2,null,null,260,7.0414201183432001E-2,null,null,260,6.5504807692307696E-2,null,null,31,7.1103238866396801E-2,null,null,229,0.28571428571428598,null,null,260]
[null,"Hørsholm","2021-07-01",20212,10,null,null,65,null,null,null,65,15,null,null,65,35,null,null,65,null,null,null,65,null,null,null,65,null,null,null,null,0,null,null,null,0,null,null,null,null,null,null,15,0,null,null,34,0,null,null,null,0,null,null,null,3.0769230769230799E-2,null,null,65,6.2426035502958603E-2,null,null,65,null,null,null,null,6.2426035502958603E-2,null,null,null,null,null,null,65]
[null,"Ikast-Brande","2021-07-01",20212,null,null,null,141,30,null,null,141,10,null,null,141,74,null,null,141,null,null,null,141,22,null,null,141,6,null,null,null,null,null,null,null,null,null,null,null,null,null,null,9,4,null,null,65,10,null,null,30,4,null,null,30,1.41843971631206E-2,null,null,141,7.8559738134206303E-2,null,null,141,0.18094405594405599,null,null,22,5.9631544925662597E-2,null,null,119,0.65,null,null,141]
[null,"Ishøj","2021-07-01",20212,16,null,null,146,7,null,null,146,22,null,null,146,64,null,null,146,8,null,null,146,23,null,null,146,3,null,null,46,0,null,null,24,null,null,null,24,null,null,null,22,3,null,null,61,4,null,null,20,null,null,null,20,4.7681770284509997E-2,null,null,146,6.8888303477344606E-2,null,null,146,9.3645484949832797E-2,null,null,23,6.4258911819887396E-2,null,null,123,0.35714285714285698,null,null,146]
[null,"Jammerbugt","2021-07-01",20212,5,null,null,171,31,null,null,171,11,null,null,171,106,null,null,171,null,null,null,171,9,null,null,171,6,null,null,53,null,null,null,40,null,null,null,40,null,null,null,13,14,null,null,112,0,null,null,0,0,null,null,0,5.8479532163742704E-3,null,null,171,7.3211875843454802E-2,null,null,171,9.4017094017094002E-2,null,null,9,7.2056030389363701E-2,null,null,162,0.314285714285714,null,null,171]
[null,"Kalundborg","2021-07-01",20212,18,null,null,536,51,null,null,536,69,null,null,536,379,null,null,536,15,null,null,536,0,null,null,536,8,null,null,136,null,null,null,67,null,null,null,67,null,null,null,69,23,null,null,347,0,null,null,0,0,null,null,0,2.3285017221584398E-2,null,null,536,6.3935132032146999E-2,null,null,536,null,null,null,0,6.3935132032146999E-2,null,null,536,0.31147540983606598,null,null,536]
[null,"Kerteminde","2021-07-01",20212,3,null,null,109,9,null,null,109,8,null,null,109,74,null,null,109,null,null,null,109,4,null,null,109,3,null,null,22,0,null,null,12,0,null,null,12,3,null,null,10,12,null,null,78,null,null,null,null,null,null,null,null,1.32321806633733E-2,null,null,109,5.3810868031051499E-2,null,null,109,null,null,null,4,5.42124542124542E-2,null,null,105,0.57142857142857095,null,null,109]
[null,"Kolding","2021-07-01",20212,30,null,null,353,null,null,null,353,15,null,null,353,264,null,null,353,null,null,null,353,29,null,null,353,4,null,null,45,0,null,null,30,null,null,null,30,null,null,null,15,39,null,null,262,23,null,null,30,7,null,null,30,3.7208542166049297E-2,null,null,353,7.3382000435824796E-2,null,null,353,3.5256410256410298E-2,null,null,29,7.69230769230769E-2,null,null,324,0.5,null,null,353]
[null,"København","2021-07-01",20212,501,null,null,2033,497,null,null,2033,250,null,null,2033,714,null,null,2033,38,null,null,2033,12,null,null,2033,56,null,null,1220,5,null,null,1001,36,null,null,1001,15,null,null,219,106,null,null,622,7,null,null,16,4,null,null,16,2.5644178743047401E-2,null,null,2033,3.63331945968444E-2,null,null,2033,0.184294871794872,null,null,12,3.5454649259696297E-2,null,null,2021,0.43188405797101398,null,null,2033]
[null,"Køge","2021-07-01",20212,33,null,null,253,5,null,null,253,39,null,null,253,163,null,null,253,10,null,null,253,0,null,null,253,3,null,null,72,0,null,null,38,null,null,null,38,null,null,null,34,16,null,null,164,0,null,null,0,0,null,null,0,1.06415323806628E-2,null,null,253,5.9668592277288102E-2,null,null,253,null,null,null,0,5.9668592277288102E-2,null,null,253,0.35294117647058798,null,null,253]
[null,"Langeland","2021-07-01",20212,5,null,null,88,17,null,null,88,19,null,null,88,38,null,null,88,9,null,null,88,0,null,null,88,null,null,null,39,0,null,null,22,null,null,null,22,null,null,null,17,8,null,null,41,0,null,null,0,0,null,null,0,1.13636363636364E-2,null,null,88,4.56730769230769E-2,null,null,88,null,null,null,0,4.56730769230769E-2,null,null,88,null,null,null,88]
[null,"Lejre","2021-07-01",20212,11,null,null,117,13,null,null,117,12,null,null,117,69,null,null,117,4,null,null,117,5,null,null,117,0,null,null,34,0,null,null,23,0,null,null,23,0,null,null,11,8,null,null,65,null,null,null,5,null,null,null,5,1.18343195266272E-2,null,null,117,8.0539119000657494E-2,null,null,117,0,null,null,5,8.4134615384615405E-2,null,null,112,null,null,null,117]
[null,"Lemvig","2021-07-01",20212,7,null,null,117,13,null,null,117,6,null,null,117,85,null,null,117,null,null,null,117,null,null,null,117,3,null,null,27,0,null,null,20,null,null,null,20,null,null,null,7,9,null,null,80,0,null,null,0,0,null,null,0,1.0519395134779799E-2,null,null,117,0.118836291913215,null,null,117,null,null,null,null,0.111240053050398,null,null,null,0.25,null,null,117]
[null,"Lolland","2021-07-01",20212,13,null,null,467,8,null,null,467,42,null,null,467,395,null,null,467,6,null,null,467,0,null,null,467,7,null,null,61,null,null,null,20,null,null,null,20,null,null,null,41,70,null,null,414,0,null,null,0,0,null,null,0,3.4467138856860501E-2,null,null,467,7.1775654752100099E-2,null,null,467,null,null,null,0,7.1775654752100099E-2,null,null,467,0.58064516129032295,null,null,467]
[null,"Lyngby-Taarbæk","2021-07-01",20212,15,null,null,219,31,null,null,219,25,null,null,219,126,null,null,219,null,null,null,219,0,null,null,219,3,null,null,67,0,null,null,45,0,null,null,45,3,null,null,22,15,null,null,125,0,null,null,0,0,null,null,0,2.1513874253600299E-2,null,null,219,8.0084299262381503E-2,null,null,219,null,null,null,0,8.0084299262381503E-2,null,null,219,0.407407407407407,null,null,219]
[null,"Mariagerfjord","2021-07-01",20212,null,null,null,252,6,null,null,252,20,null,null,252,221,null,null,252,null,null,null,252,null,null,null,252,3,null,null,28,0,null,null,9,0,null,null,9,3,null,null,19,15,null,null,215,0,null,null,0,0,null,null,0,1.6559829059829102E-2,null,null,252,7.3641636141636199E-2,null,null,252,null,null,null,null,7.3641636141636199E-2,null,null,null,0.35135135135135098,null,null,252]
[null,"Middelfart","2021-07-01",20212,7,null,null,149,22,null,null,149,17,null,null,149,74,null,null,149,20,null,null,149,9,null,null,149,0,null,null,43,0,null,null,29,0,null,null,29,0,null,null,14,9,null,null,77,9,null,null,12,3,null,null,12,1.67785234899329E-2,null,null,149,3.02013422818792E-2,null,null,149,1.7094017094017099E-2,null,null,9,3.1043956043956E-2,null,null,140,0.54347826086956497,null,null,149]
[null,"Morsø","2021-07-01",20212,10,null,null,160,26,null,null,160,25,null,null,160,82,null,null,160,17,null,null,160,0,null,null,160,4,null,null,62,null,null,null,37,null,null,null,37,null,null,null,25,15,null,null,79,0,null,null,0,0,null,null,0,0,null,null,160,5.2764423076923E-2,null,null,160,null,null,null,0,5.2764423076923E-2,null,null,160,0.217391304347826,null,null,160]
[null,"Norddjurs","2021-07-01",20212,6,null,null,253,25,null,null,253,null,null,null,253,189,null,null,253,25,null,null,253,5,null,null,253,null,null,null,35,0,null,null,32,null,null,null,32,null,null,null,3,8,null,null,178,null,null,null,null,null,null,null,null,1.5050167224080299E-2,null,null,253,4.9483125570082102E-2,null,null,253,0.2,null,null,5,4.6448511166253099E-2,null,null,248,0.625,null,null,253]
[null,"Nordfyns","2021-07-01",20212,3,null,null,106,20,null,null,106,9,null,null,106,51,null,null,106,14,null,null,106,6,null,null,106,0,null,null,30,0,null,null,22,0,null,null,22,0,null,null,8,10,null,null,52,0,null,null,0,0,null,null,0,2.5580551523947798E-2,null,null,106,3.6647314949201697E-2,null,null,106,0,null,null,6,3.8846153846153801E-2,null,null,100,null,null,null,106]
[null,"Nyborg","2021-07-01",20212,9,null,null,163,28,null,null,163,12,null,null,163,97,null,null,163,null,null,null,163,12,null,null,163,null,null,null,43,null,null,null,36,null,null,null,36,0,null,null,7,16,null,null,107,5,null,null,13,0,null,null,13,2.0410571024068E-2,null,null,163,3.6219915054270899E-2,null,null,163,3.2544378698224803E-2,null,null,12,3.6538461538461499E-2,null,null,151,0.6,null,null,163]
[null,"Næstved","2021-07-01",20212,23,null,null,497,30,null,null,497,88,null,null,497,337,null,null,497,15,null,null,497,0,null,null,497,17,null,null,135,null,null,null,55,null,null,null,55,9,null,null,80,46,null,null,328,0,null,null,0,0,null,null,0,2.2364958984677299E-2,null,null,497,3.4630862095651201E-2,null,null,497,null,null,null,0,3.4630862095651201E-2,null,null,497,0.50714285714285701,null,null,497]
[null,"Odder","2021-07-01",20212,null,null,null,122,null,null,null,122,3,null,null,122,103,null,null,122,8,null,null,122,3,null,null,122,null,null,null,null,0,null,null,null,0,null,null,null,null,null,null,4,11,null,null,105,0,null,null,null,0,null,null,null,4.5712484237074398E-3,null,null,122,8.6380832282471606E-2,null,null,122,null,null,null,3,7.5791855203619904E-2,null,null,119,0.46153846153846201,null,null,122]
[null,"Odense","2021-07-01",20212,60,null,null,783,64,null,null,783,57,null,null,783,484,null,null,783,108,null,null,783,0,null,null,783,12,null,null,182,null,null,null,120,null,null,null,120,null,null,null,62,56,null,null,487,0,null,null,0,0,null,null,0,7.22074860005894E-3,null,null,783,3.6300225955398398E-2,null,null,783,null,null,null,0,3.6300225955398398E-2,null,null,783,0.62720403022670002,null,null,783]
[null,"Odsherred","2021-07-01",20212,15,null,null,140,12,null,null,140,14,null,null,140,87,null,null,140,null,null,null,140,8,null,null,140,null,null,null,38,0,null,null,25,0,null,null,25,null,null,null,13,9,null,null,88,9,null,null,12,null,null,null,12,3.2967032967033002E-3,null,null,140,1.4560439560439601E-2,null,null,140,0.106837606837607,null,null,8,8.2207868467410392E-3,null,null,132,0.36363636363636398,null,null,140]
[null,"Randers","2021-07-01",20212,6,null,null,199,43,null,null,199,17,null,null,199,127,null,null,199,null,null,null,199,0,null,null,199,7,null,null,66,null,null,null,47,null,null,null,47,null,null,null,19,24,null,null,136,0,null,null,0,0,null,null,0,5.0251256281407001E-3,null,null,199,4.5902589872439101E-2,null,null,199,null,null,null,0,4.5902589872439101E-2,null,null,199,0.49019607843137297,null,null,199]
[null,"Rebild","2021-07-01",20212,null,null,null,112,17,null,null,112,9,null,null,112,79,null,null,112,null,null,null,112,null,null,null,112,null,null,null,null,0,null,null,null,0,null,null,null,null,null,null,9,8,null,null,71,0,null,null,null,0,null,null,null,1.3907967032966999E-2,null,null,112,4.1037087912087898E-2,null,null,112,null,null,null,null,4.1037087912087898E-2,null,null,null,null,null,null,112]
[null,"Ringkøbing-Skjern","2021-07-01",20212,12,null,null,458,64,null,null,458,47,null,null,458,267,null,null,458,29,null,null,458,33,null,null,458,11,null,null,124,0,null,null,81,5,null,null,81,6,null,null,43,34,null,null,271,16,null,null,21,null,null,null,21,8.7336244541484694E-3,null,null,458,8.1667786362109501E-2,null,null,458,0.202214452214452,null,null,33,7.2307692307692295E-2,null,null,425,0.50549450549450603,null,null,458]
[null,"Ringsted","2021-07-01",20212,5,null,null,131,8,null,null,131,11,null,null,131,102,null,null,131,null,null,null,131,0,null,null,131,3,null,null,26,0,null,null,13,0,null,null,13,3,null,null,13,18,null,null,109,0,null,null,0,0,null,null,0,2.0992366412213699E-2,null,null,131,3.4938344098649397E-2,null,null,131,null,null,null,0,3.4938344098649397E-2,null,null,131,0.58823529411764697,null,null,131]
[null,"Roskilde","2021-07-01",20212,15,null,null,378,53,null,null,378,51,null,null,378,195,null,null,378,15,null,null,378,49,null,null,378,14,null,null,124,0,null,null,69,5,null,null,69,9,null,null,55,27,null,null,202,35,null,null,63,7,null,null,63,3.2254782254782302E-2,null,null,378,4.3498168498168503E-2,null,null,378,8.4772370486656201E-2,null,null,49,3.7350946925414998E-2,null,null,329,0.46280991735537202,null,null,378]
[null,"Rudersdal","2021-07-01",20212,6,null,null,166,32,null,null,166,15,null,null,166,105,null,null,166,3,null,null,166,5,null,null,166,null,null,null,50,0,null,null,38,null,null,null,38,null,null,null,12,10,null,null,99,null,null,null,null,null,null,null,null,1.96941612604263E-2,null,null,166,6.6496756255792405E-2,null,null,166,0.30769230769230799,null,null,5,5.9006211180124203E-2,null,null,161,0.47727272727272702,null,null,166]
[null,"Rødovre","2021-07-01",20212,15,null,null,236,14,null,null,236,28,null,null,236,170,null,null,236,4,null,null,236,null,null,null,236,6,null,null,62,0,null,null,31,3,null,null,31,3,null,null,31,14,null,null,168,0,null,null,0,0,null,null,0,1.8415906127770498E-2,null,null,236,6.0381355932203402E-2,null,null,236,null,null,null,null,6.0897435897435903E-2,null,null,null,0.22857142857142901,null,null,236]
[null,"Silkeborg","2021-07-01",20212,26,null,null,661,37,null,null,661,160,null,null,661,369,null,null,661,28,null,null,661,34,null,null,661,19,null,null,231,0,null,null,58,3,null,null,58,16,null,null,173,46,null,null,359,21,null,null,35,3,null,null,35,2.0394507156988199E-2,null,null,661,7.8785057605027395E-2,null,null,661,0.157142857142857,null,null,34,7.44040304743184E-2,null,null,627,0.394230769230769,null,null,661]
[null,"Skanderborg","2021-07-01",20212,4,null,null,381,22,null,null,381,27,null,null,381,295,null,null,381,null,null,null,381,17,null,null,381,4,null,null,54,null,null,null,26,null,null,null,26,null,null,null,28,28,null,null,308,null,null,null,10,null,null,null,10,8.8330304865738007E-3,null,null,381,0.10513830002019001,null,null,381,6.1965811965812002E-2,null,null,17,0.107279084551812,null,null,364,0.480769230769231,null,null,381]
[null,"Skive","2021-07-01",20212,null,null,null,227,17,null,null,227,7,null,null,227,173,null,null,227,7,null,null,227,18,null,null,227,3,null,null,null,0,null,null,null,null,null,null,null,null,null,null,7,14,null,null,148,null,null,null,22,null,null,null,22,2.68553032870214E-2,null,null,227,0.123432734666215,null,null,227,8.7606837606837601E-2,null,null,18,0.126518218623482,null,null,209,0.35416666666666702,null,null,227]
[null,"Slagelse","2021-07-01",20212,14,null,null,361,29,null,null,361,28,null,null,361,229,null,null,361,null,null,null,361,56,null,null,361,4,null,null,67,0,null,null,43,null,null,null,43,null,null,null,24,26,null,null,223,75,null,null,83,4,null,null,83,1.8804602599616398E-2,null,null,361,6.7707223524397994E-2,null,null,361,0.17754120879120899,null,null,56,4.7540983606557403E-2,null,null,305,0.5,null,null,361]
[null,"Solrød","2021-07-01",20212,8,null,null,88,null,null,null,88,6,null,null,88,63,null,null,88,null,null,null,88,5,null,null,88,null,null,null,null,0,null,null,null,0,null,null,null,null,null,null,8,0,null,null,54,null,null,null,5,null,null,null,5,1.4641608391608401E-2,null,null,88,0.152097902097902,null,null,88,0.6,null,null,5,0.12511584800741399,null,null,83,null,null,null,88]
[null,"Sorø","2021-07-01",20212,11,null,null,177,17,null,null,177,18,null,null,177,117,null,null,177,null,null,null,177,6,null,null,177,null,null,null,46,0,null,null,27,0,null,null,27,null,null,null,19,21,null,null,120,7,null,null,7,0,null,null,7,1.5754019991308099E-2,null,null,177,3.87874837027379E-2,null,null,177,6.0897435897435903E-2,null,null,6,3.8011695906432802E-2,null,null,171,0.34210526315789502,null,null,177]
[null,"Stevns","2021-07-01",20212,null,null,null,101,6,null,null,101,13,null,null,101,79,null,null,101,null,null,null,101,0,null,null,101,null,null,null,null,0,null,null,null,0,null,null,null,null,null,null,13,4,null,null,69,0,null,null,0,0,null,null,0,3.4082254379284103E-2,null,null,101,9.6725057121096705E-2,null,null,101,null,null,null,0,9.6725057121096705E-2,null,null,101,null,null,null,101]
[null,"Struer","2021-07-01",20212,null,null,null,54,13,null,null,54,8,null,null,54,23,null,null,54,null,null,null,54,5,null,null,54,null,null,null,null,0,null,null,null,null,null,null,null,0,null,null,8,5,null,null,28,8,null,null,13,0,null,null,13,1.4601139601139601E-2,null,null,54,3.5968660968660998E-2,null,null,54,7.6923076923076901E-3,null,null,5,3.8854003139717402E-2,null,null,49,0.27272727272727298,null,null,54]
[null,"Svendborg","2021-07-01",20212,19,null,null,323,17,null,null,323,28,null,null,323,207,null,null,323,52,null,null,323,0,null,null,323,3,null,null,62,0,null,null,36,null,null,null,36,null,null,null,26,32,null,null,208,0,null,null,0,0,null,null,0,1.04191474160514E-2,null,null,323,1.4765420338175799E-2,null,null,323,null,null,null,0,1.4765420338175799E-2,null,null,323,0.50588235294117601,null,null,323]
[null,"Syddjurs","2021-07-01",20212,6,null,null,159,13,null,null,159,10,null,null,159,110,null,null,159,17,null,null,159,0,null,null,159,3,null,null,28,0,null,null,17,0,null,null,17,3,null,null,11,13,null,null,116,0,null,null,0,0,null,null,0,9.0711175616836007E-3,null,null,159,9.1799709724237996E-2,null,null,159,null,null,null,0,9.1799709724237996E-2,null,null,159,0.45,null,null,159]
[null,"Sønderborg","2021-07-01",20212,25,null,null,663,67,null,null,663,28,null,null,663,503,null,null,663,10,null,null,663,27,null,null,663,9,null,null,121,0,null,null,86,3,null,null,86,6,null,null,35,58,null,null,492,0,null,null,0,0,null,null,0,2.10291217078547E-2,null,null,663,8.8960436245504204E-2,null,null,663,0.141025641025641,null,null,27,8.6750120948234102E-2,null,null,636,0.41605839416058399,null,null,663]
[null,"Thisted","2021-07-01",20212,null,null,null,227,36,null,null,227,null,null,null,227,154,null,null,227,25,null,null,227,null,null,null,227,0,null,null,null,0,null,null,null,0,null,null,null,0,null,null,null,0,null,null,133,0,null,null,null,0,null,null,null,8.4717045069468006E-3,null,null,227,4.3205692985428701E-2,null,null,227,null,null,null,null,4.3205692985428701E-2,null,null,null,null,null,null,227]
[null,"Tønder","2021-07-01",20212,7,null,null,230,20,null,null,230,18,null,null,230,168,null,null,230,4,null,null,230,8,null,null,230,3,null,null,43,null,null,null,28,0,null,null,28,null,null,null,15,34,null,null,164,null,null,null,5,null,null,null,5,1.12876254180602E-2,null,null,230,4.8578595317725799E-2,null,null,230,3.6057692307692298E-2,null,null,8,4.9029799029799002E-2,null,null,222,0.48837209302325602,null,null,230]
[null,"Tårnby","2021-07-01",20212,13,null,null,121,4,null,null,121,21,null,null,121,58,null,null,121,22,null,null,121,null,null,null,121,4,null,null,38,null,null,null,18,null,null,null,18,null,null,null,20,6,null,null,59,null,null,null,4,0,null,null,4,2.2886204704386501E-2,null,null,121,2.16147488874762E-2,null,null,121,null,null,null,null,1.7129928894634799E-2,null,null,null,0.45833333333333298,null,null,121]
[null,"Varde","2021-07-01",20212,10,null,null,247,4,null,null,247,11,null,null,247,171,null,null,247,null,null,null,247,45,null,null,247,null,null,null,23,0,null,null,13,null,null,null,13,null,null,null,10,26,null,null,169,10,null,null,28,12,null,null,28,1.2457178449081299E-3,null,null,247,6.3998754282155096E-2,null,null,247,5.2564102564102599E-2,null,null,45,6.6546077684691493E-2,null,null,202,0.34285714285714303,null,null,247]
[null,"Vejen","2021-07-01",20212,13,null,null,217,3,null,null,217,28,null,null,217,137,null,null,217,27,null,null,217,9,null,null,217,4,null,null,45,null,null,null,16,null,null,null,16,null,null,null,29,28,null,null,154,3,null,null,7,null,null,null,7,5.0514002126905398E-3,null,null,217,7.06309819213045E-2,null,null,217,0.21581196581196599,null,null,9,6.4349112426035499E-2,null,null,208,null,null,null,217]
[null,"Vejle","2021-07-01",20212,18,null,null,512,29,null,null,512,42,null,null,512,378,null,null,512,14,null,null,512,31,null,null,512,5,null,null,87,0,null,null,46,0,null,null,46,5,null,null,41,46,null,null,353,null,null,null,36,null,null,null,36,2.1634615384615401E-2,null,null,512,7.6509915865384595E-2,null,null,512,5.2729528535980202E-2,null,null,31,7.8042539581001102E-2,null,null,481,0.56302521008403394,null,null,512]
[null,"Vesthimmerlands","2021-07-01",20212,8,null,null,94,12,null,null,94,15,null,null,94,54,null,null,94,null,null,null,94,null,null,null,94,4,null,null,36,null,null,null,22,null,null,null,22,null,null,null,14,17,null,null,60,null,null,null,null,null,null,null,null,1.9230769230769201E-2,null,null,94,6.1374795417348596E-3,null,null,94,null,null,null,null,6.2034739454094297E-3,null,null,null,0.36666666666666697,null,null,94]
[null,"Viborg","2021-07-01",20212,11,null,null,660,127,null,null,660,15,null,null,660,317,null,null,660,153,null,null,660,33,null,null,660,15,null,null,155,0,null,null,139,10,null,null,139,5,null,null,16,38,null,null,310,14,null,null,39,5,null,null,39,2.27564102564103E-2,null,null,660,6.0110722610722603E-2,null,null,660,7.3804573804573795E-2,null,null,33,5.9297444128904801E-2,null,null,627,0.47244094488188998,null,null,660]
[null,"Vordingborg","2021-07-01",20212,10,null,null,401,34,null,null,401,25,null,null,401,272,null,null,401,49,null,null,401,4,null,null,401,null,null,null,66,0,null,null,44,null,null,null,44,0,null,null,22,42,null,null,296,null,null,null,6,null,null,null,6,1.11260310761558E-2,null,null,401,4.0859389986572001E-2,null,null,401,null,null,null,4,3.8655299360589E-2,null,null,397,0.37704918032786899,null,null,401]
[null,"Ærø","2021-07-01",20212]
[null,"Aabenraa","2021-07-01",20212,8,null,null,94,4,null,null,94,8,null,null,94,55,null,null,94,null,null,null,94,13,null,null,94,null,null,null,21,0,null,null,12,0,null,null,12,null,null,null,9,22,null,null,72,8,null,null,12,null,null,null,12,1.6366612111293E-3,null,null,94,9.4721767594107997E-2,null,null,94,4.8816568047337298E-2,null,null,13,0.10208926875593501,null,null,81,0.5,null,null,94]
[null,"Aalborg","2021-07-01",20212,30,null,null,797,142,null,null,797,50,null,null,797,525,null,null,797,50,null,null,797,0,null,null,797,17,null,null,228,0,null,null,178,14,null,null,178,3,null,null,50,35,null,null,529,0,null,null,0,0,null,null,0,2.5335392336647E-3,null,null,797,3.6289933404111602E-2,null,null,797,null,null,null,0,3.6289933404111602E-2,null,null,797,0.30909090909090903,null,null,797]
[null,"Aarhus","2021-07-01",20212,45,null,null,2216,219,null,null,2216,122,null,null,2216,1552,null,null,2216,131,null,null,2216,130,null,null,2216,25,null,null,371,null,null,null,257,null,null,null,257,9,null,null,114,199,null,null,1522,88,null,null,123,13,null,null,123,5.2780477645098599E-2,null,null,2216,6.7793668425437395E-2,null,null,2216,0.12840236686390499,null,null,130,6.4016520392359305E-2,null,null,2086,0.58472222222222203,null,null,2216]
[null,"Albertslund","2022-01-01",20221,12,null,null,95,3,null,null,95,22,null,null,95,54,null,null,95,null,null,null,95,0,null,null,95,5,null,null,40,0,null,null,14,0,null,null,14,5,null,null,26,12,null,null,57,0,null,null,0,0,null,null,0,2.9959514170040499E-2,null,null,95,5.3643724696356303E-2,null,null,95,null,null,null,0,5.3643724696356303E-2,null,null,95,0.46153846153846201,null,null,95]
[null,"Allerød","2022-01-01",20221,7,null,null,35,6,null,null,35,5,null,null,35,17,null,null,35,0,null,null,35,0,null,null,35,0,null,null,17,0,null,null,13,0,null,null,13,0,null,null,4,null,null,null,19,0,null,null,0,0,null,null,0,3.5714285714285698E-2,null,null,35,7.0879120879120905E-2,null,null,35,null,null,null,0,7.0879120879120905E-2,null,null,35,0.77272727272727304,null,null,35]
[null,"Assens","2022-01-01",20221,10,null,null,246,23,null,null,246,22,null,null,246,152,null,null,246,35,null,null,246,0,null,null,246,4,null,null,55,null,null,null,32,null,null,null,32,null,null,null,23,8,null,null,135,0,null,null,0,0,null,null,0,4.2213883677298296E-3,null,null,246,4.8780487804878099E-2,null,null,246,null,null,null,0,4.8780487804878099E-2,null,null,246,0.4375,null,null,246]
[null,"Ballerup","2022-01-01",20221,18,null,null,237,19,null,null,237,41,null,null,237,140,null,null,237,11,null,null,237,0,null,null,237,12,null,null,80,null,null,null,38,null,null,null,38,null,null,null,42,27,null,null,151,0,null,null,0,0,null,null,0,3.1645569620253201E-2,null,null,237,5.8341447581953899E-2,null,null,237,null,null,null,0,5.8341447581953899E-2,null,null,237,0.5,null,null,237]
[null,"Billund","2022-01-01",20221,null,null,null,191,3,null,null,191,10,null,null,191,170,null,null,191,3,null,null,191,null,null,null,191,4,null,null,null,null,null,null,null,null,null,null,null,null,null,null,13,17,null,null,164,0,null,null,0,0,null,null,0,1.65122835279903E-2,null,null,191,0.109041482078131,null,null,191,null,null,null,null,0.104904354904355,null,null,null,0.214285714285714,null,null,191]
[null,"Bornholm","2022-01-01",20221,0,null,null,213,15,null,null,213,20,null,null,213,175,null,null,213,null,null,null,213,null,null,null,213,null,null,null,null,0,null,null,null,0,null,null,null,null,null,null,22,8,null,null,172,0,null,null,null,0,null,null,null,6.8616829180209501E-3,null,null,213,6.1032863849765299E-2,null,null,213,null,null,null,null,6.1320754716981098E-2,null,null,null,0.418604651162791,null,null,213]
[null,"Brøndby","2022-01-01",20221,14,null,null,104,null,null,null,104,11,null,null,104,73,null,null,104,3,null,null,104,0,null,null,104,3,null,null,null,0,null,null,null,0,null,null,null,3,null,null,13,11,null,null,74,0,null,null,0,0,null,null,0,2.1079881656804699E-2,null,null,104,2.8846153846153799E-2,null,null,104,null,null,null,0,2.8846153846153799E-2,null,null,104,0.23529411764705899,null,null,104]
[null,"Brønderslev","2022-01-01",20221,11,null,null,205,11,null,null,205,7,null,null,205,140,null,null,205,null,null,null,205,22,null,null,205,null,null,null,30,0,null,null,22,null,null,null,22,0,null,null,8,15,null,null,125,8,null,null,16,5,null,null,16,2.3733583489681E-2,null,null,205,6.2476547842399602E-2,null,null,205,7.4414715719063704E-2,null,null,22,6.0967878275570597E-2,null,null,183,0.19047619047619099,null,null,205]
[null,"Esbjerg","2022-01-01",20221,12,null,null,511,35,null,null,511,41,null,null,511,300,null,null,511,null,null,null,511,65,null,null,511,10,null,null,97,0,null,null,53,6,null,null,53,4,null,null,44,43,null,null,242,9,null,null,78,4,null,null,78,1.6784585277735999E-2,null,null,511,9.04711726629535E-2,null,null,511,0.19437869822485199,null,null,65,7.5327699206622994E-2,null,null,446,0.48344370860927199,null,null,511]
[null,"Favrskov","2022-01-01",20221,5,null,null,160,23,null,null,160,15,null,null,160,114,null,null,160,null,null,null,160,0,null,null,160,null,null,null,38,0,null,null,25,0,null,null,25,null,null,null,13,7,null,null,117,0,null,null,0,0,null,null,0,6.8509615384615401E-3,null,null,160,0.123076923076923,null,null,160,null,null,null,0,0.123076923076923,null,null,160,0.6,null,null,160]
[null,"Faxe","2022-01-01",20221,8,null,null,193,16,null,null,193,31,null,null,193,133,null,null,193,null,null,null,193,0,null,null,193,3,null,null,50,0,null,null,23,null,null,null,23,null,null,null,27,27,null,null,147,0,null,null,0,0,null,null,0,3.6867277799920301E-3,null,null,193,7.7022718214428104E-2,null,null,193,null,null,null,0,7.7022718214428104E-2,null,null,193,0.36585365853658502,null,null,193]
[null,"Fredensborg","2022-01-01",20221,27,null,null,142,4,null,null,142,21,null,null,142,53,null,null,142,12,null,null,142,21,null,null,142,10,null,null,59,0,null,null,35,6,null,null,35,4,null,null,24,7,null,null,57,9,null,null,21,null,null,null,21,2.9387865655471301E-2,null,null,142,4.1170097508125697E-2,null,null,142,7.9670329670329706E-2,null,null,21,3.44882390336936E-2,null,null,121,0.53333333333333299,null,null,142]
[null,"Fredericia","2022-01-01",20221,24,null,null,233,null,null,null,233,31,null,null,233,153,null,null,233,null,null,null,233,null,null,null,233,4,null,null,null,0,null,null,null,0,null,null,null,4,null,null,31,19,null,null,150,0,null,null,null,0,null,null,null,9.32651039947178E-3,null,null,233,6.3387256520303803E-2,null,null,233,null,null,null,null,6.3387256520303803E-2,null,null,null,0.54651162790697705,null,null,233]
[null,"Frederiksberg","2022-01-01",20221,33,null,null,250,12,null,null,250,64,null,null,250,117,null,null,250,10,null,null,250,9,null,null,250,10,null,null,108,0,null,null,46,3,null,null,46,7,null,null,62,29,null,null,130,null,null,null,null,null,null,null,null,1.9384615384615399E-2,null,null,250,3.7461538461538497E-2,null,null,250,0.11111111111111099,null,null,9,3.4711139482923703E-2,null,null,241,0.27777777777777801,null,null,250]
[null,"Frederikshavn","2022-01-01",20221,12,null,null,519,57,null,null,519,23,null,null,519,381,null,null,519,null,null,null,519,8,null,null,519,5,null,null,90,0,null,null,71,5,null,null,71,0,null,null,19,36,null,null,371,null,null,null,12,7,null,null,12,4.5205276419149299E-3,null,null,519,4.4390099303394097E-2,null,null,519,9.6153846153846194E-3,null,null,8,4.4934517537257301E-2,null,null,511,0.146666666666667,null,null,519]
[null,"Frederikssund","2022-01-01",20221,17,null,null,169,4,null,null,169,37,null,null,169,94,null,null,169,7,null,null,169,10,null,null,169,5,null,null,56,0,null,null,20,0,null,null,20,5,null,null,36,29,null,null,109,3,null,null,3,0,null,null,3,5.0068274920345903E-3,null,null,169,8.9553937187073301E-2,null,null,169,0.128846153846154,null,null,10,8.7082728592162498E-2,null,null,159,0.72631578947368403,null,null,169]
[null,"Furesø","2022-01-01",20221,13,null,null,234,7,null,null,234,28,null,null,234,145,null,null,234,null,null,null,234,33,null,null,234,7,null,null,49,0,null,null,21,3,null,null,21,4,null,null,28,12,null,null,150,9,null,null,18,0,null,null,18,1.7504930966469399E-2,null,null,234,9.1305062458908598E-2,null,null,234,0.17482517482517501,null,null,33,7.7592805204745499E-2,null,null,201,0.41176470588235298,null,null,234]
[null,"Faaborg-Midtfyn","2022-01-01",20221,14,null,null,398,12,null,null,398,27,null,null,398,271,null,null,398,38,null,null,398,36,null,null,398,5,null,null,49,null,null,null,26,null,null,null,26,null,null,null,23,44,null,null,286,3,null,null,20,0,null,null,20,2.12601468882876E-2,null,null,398,4.5564360262853702E-2,null,null,398,5.2884615384615502E-2,null,null,36,4.4836379090523799E-2,null,null,362,0.38709677419354799,null,null,398]
[null,"Gentofte","2022-01-01",20221,13,null,null,163,23,null,null,163,29,null,null,163,84,null,null,163,null,null,null,163,5,null,null,163,5,null,null,65,null,null,null,35,null,null,null,35,null,null,null,30,24,null,null,87,4,null,null,4,0,null,null,4,4.61302501179802E-2,null,null,163,7.2085889570552203E-2,null,null,163,0.16153846153846199,null,null,5,6.9255111976631006E-2,null,null,158,0.42105263157894701,null,null,163]
[null,"Gladsaxe","2022-01-01",20221,22,null,null,147,13,null,null,147,17,null,null,147,77,null,null,147,15,null,null,147,3,null,null,147,6,null,null,null,0,null,null,null,3,null,null,null,3,null,null,19,11,null,null,78,null,null,null,null,null,null,null,null,2.35478806907378E-2,null,null,147,3.8854003139717402E-2,null,null,147,null,null,null,3,3.9663461538461502E-2,null,null,144,0.55813953488372103,null,null,147]
[null,"Glostrup","2022-01-01",20221,19,null,null,184,17,null,null,184,16,null,null,184,84,null,null,184,36,null,null,184,4,null,null,184,7,null,null,55,0,null,null,37,3,null,null,37,4,null,null,18,11,null,null,86,0,null,null,0,0,null,null,0,2.1634615384615401E-2,null,null,184,7.7968227424749195E-2,null,null,184,null,null,null,4,7.4145299145299201E-2,null,null,180,0.43243243243243201,null,null,184]
[null,"Greve","2022-01-01",20221,16,null,null,193,null,null,null,193,39,null,null,193,105,null,null,193,19,null,null,193,null,null,null,193,3,null,null,null,0,null,null,null,null,null,null,null,null,null,null,29,6,null,null,107,0,null,null,null,0,null,null,null,8.1705858907931504E-3,null,null,193,7.8517337584694896E-2,null,null,193,null,null,null,null,7.9339508658880203E-2,null,null,null,0.6,null,null,193]
[null,"Gribskov","2022-01-01",20221,8,null,null,149,9,null,null,149,27,null,null,149,93,null,null,149,null,null,null,149,8,null,null,149,3,null,null,44,null,null,null,19,null,null,null,19,null,null,null,25,16,null,null,98,null,null,null,null,null,null,null,null,3.8848735157459999E-2,null,null,149,8.4796076406814705E-2,null,null,149,0.18509615384615399,null,null,8,7.9105291871249303E-2,null,null,141,0.40909090909090901,null,null,149]
[null,"Guldborgsund","2022-01-01",20221,35,null,null,507,14,null,null,507,44,null,null,507,382,null,null,507,null,null,null,507,0,null,null,507,5,null,null,94,null,null,null,50,null,null,null,50,null,null,null,44,39,null,null,360,0,null,null,0,0,null,null,0,2.5527234107115802E-2,null,null,507,4.1913214990138101E-2,null,null,507,null,null,null,0,4.1913214990138101E-2,null,null,507,0.54054054054054101,null,null,507]
[null,"Haderslev","2022-01-01",20221,8,null,null,201,21,null,null,201,21,null,null,201,147,null,null,201,4,null,null,201,0,null,null,201,6,null,null,52,null,null,null,33,null,null,null,33,null,null,null,19,13,null,null,142,0,null,null,0,0,null,null,0,9.4718714121699195E-3,null,null,201,4.5158821278225902E-2,null,null,201,null,null,null,0,4.5158821278225902E-2,null,null,201,0.56140350877193002,null,null,201]
[null,"Halsnæs","2022-01-01",20221,8,null,null,128,8,null,null,128,15,null,null,128,88,null,null,128,null,null,null,128,6,null,null,128,5,null,null,35,null,null,null,17,null,null,null,17,null,null,null,18,11,null,null,91,null,null,null,5,0,null,null,5,1.11177884615385E-2,null,null,128,3.515625E-2,null,null,128,0.15705128205128199,null,null,6,2.9161412358133701E-2,null,null,122,0.55000000000000004,null,null,128]
[null,"Hedensted","2022-01-01",20221,11,null,null,208,14,null,null,208,14,null,null,208,142,null,null,208,8,null,null,208,15,null,null,208,null,null,null,38,0,null,null,25,0,null,null,25,null,null,null,13,18,null,null,140,10,null,null,18,4,null,null,18,6.4718934911242596E-3,null,null,208,6.7030325443786898E-2,null,null,208,0.15,null,null,15,6.0581905141490602E-2,null,null,193,0.49152542372881403,null,null,208]
[null,"Helsingør","2022-01-01",20221,37,null,null,199,9,null,null,199,49,null,null,199,84,null,null,199,9,null,null,199,11,null,null,199,7,null,null,95,0,null,null,43,3,null,null,43,4,null,null,52,14,null,null,95,null,null,null,6,0,null,null,6,1.1016621569385401E-2,null,null,199,2.75415539234635E-2,null,null,199,8.0419580419580403E-2,null,null,11,2.4447626841243901E-2,null,null,188,0.53030303030303005,null,null,199]
[null,"Herlev","2022-01-01",20221,18,null,null,134,6,null,null,134,27,null,null,134,78,null,null,134,5,null,null,134,0,null,null,134,5,null,null,49,null,null,null,21,null,null,null,21,null,null,null,28,6,null,null,75,0,null,null,0,0,null,null,0,4.6641791044776101E-2,null,null,134,5.1808266360505201E-2,null,null,134,null,null,null,0,5.1808266360505201E-2,null,null,134,0.53571428571428603,null,null,134]
[null,"Herning","2022-01-01",20221,19,null,null,383,37,null,null,383,21,null,null,383,275,null,null,383,9,null,null,383,19,null,null,383,4,null,null,79,null,null,null,56,null,null,null,56,null,null,null,23,27,null,null,280,10,null,null,16,null,null,null,16,2.4854388431411901E-2,null,null,383,5.8395260092387997E-2,null,null,383,0.157894736842105,null,null,19,5.3201606086221501E-2,null,null,364,0.52027027027026995,null,null,383]
[null,"Hillerød","2022-01-01",20221,13,null,null,245,null,null,null,245,31,null,null,245,155,null,null,245,10,null,null,245,28,null,null,245,4,null,null,null,null,null,null,null,null,null,null,null,null,null,null,28,25,null,null,168,30,null,null,33,3,null,null,33,3.7441130298273201E-2,null,null,245,5.9262166405023499E-2,null,null,245,0.20879120879120899,null,null,28,3.9968096419709297E-2,null,null,217,0.69523809523809499,null,null,245]
[null,"Hjørring","2022-01-01",20221,20,null,null,489,66,null,null,489,52,null,null,489,293,null,null,489,11,null,null,489,43,null,null,489,6,null,null,133,0,null,null,87,3,null,null,87,3,null,null,46,37,null,null,297,28,null,null,50,0,null,null,50,2.26915211577788E-2,null,null,489,6.9883592889727897E-2,null,null,489,0.14982110912343499,null,null,43,6.21766126250431E-2,null,null,446,0.35227272727272702,null,null,489]
[null,"Holbæk","2022-01-01",20221,null,null,null,377,61,null,null,377,42,null,null,377,256,null,null,377,10,null,null,377,4,null,null,377,6,null,null,null,null,null,null,null,null,null,null,null,null,null,null,41,25,null,null,243,4,null,null,4,0,null,null,4,2.8718628851254799E-2,null,null,377,5.3611507855539697E-2,null,null,377,null,null,null,4,5.4186430191792097E-2,null,null,373,0.43859649122806998,null,null,377]
[null,"Holstebro","2022-01-01",20221,16,null,null,217,48,null,null,217,8,null,null,217,131,null,null,217,14,null,null,217,0,null,null,217,7,null,null,77,0,null,null,67,4,null,null,67,3,null,null,10,22,null,null,150,0,null,null,0,0,null,null,0,3.9879475363346299E-3,null,null,217,4.9450549450549497E-2,null,null,217,null,null,null,0,4.9450549450549497E-2,null,null,217,0.66666666666666696,null,null,217]
[null,"Horsens","2022-01-01",20221,36,null,null,518,57,null,null,518,43,null,null,518,258,null,null,518,52,null,null,518,68,null,null,518,4,null,null,124,null,null,null,88,null,null,null,88,null,null,null,36,14,null,null,247,19,null,null,57,18,null,null,57,7.9818829818829803E-3,null,null,518,4.6369171369171402E-2,null,null,518,5.6868131868131902E-2,null,null,68,4.4728708791208799E-2,null,null,450,0.45390070921985798,null,null,518]
[null,"Hvidovre","2022-01-01",20221,30,null,null,269,18,null,null,269,32,null,null,269,146,null,null,269,40,null,null,269,0,null,null,269,0,null,null,76,0,null,null,47,0,null,null,47,0,null,null,29,12,null,null,133,0,null,null,0,0,null,null,0,3.9748355733485903E-2,null,null,269,4.6897340577638003E-2,null,null,269,null,null,null,0,4.6897340577638003E-2,null,null,269,0.44615384615384601,null,null,269]
[null,"Høje-Taastrup","2022-01-01",20221,13,null,null,256,34,null,null,256,17,null,null,256,145,null,null,256,3,null,null,256,34,null,null,256,4,null,null,63,null,null,null,47,null,null,null,47,null,null,null,16,22,null,null,152,19,null,null,31,3,null,null,31,4.296875E-2,null,null,256,6.91105769230769E-2,null,null,256,7.9185520361991002E-2,null,null,34,6.7567567567567599E-2,null,null,222,0.42105263157894701,null,null,256]
[null,"Hørsholm","2022-01-01",20221,10,null,null,70,null,null,null,70,18,null,null,70,37,null,null,70,null,null,null,70,null,null,null,70,0,null,null,null,0,null,null,null,0,null,null,null,0,null,null,15,0,null,null,35,0,null,null,null,0,null,null,null,4.0659340659340702E-2,null,null,70,5.7967032967032997E-2,null,null,70,null,null,null,null,5.7967032967032997E-2,null,null,null,null,null,null,70]
[null,"Ikast-Brande","2022-01-01",20221,null,null,null,147,30,null,null,147,9,null,null,147,81,null,null,147,null,null,null,147,22,null,null,147,null,null,null,null,0,null,null,null,null,null,null,null,null,null,null,10,8,null,null,74,6,null,null,22,6,null,null,22,2.3940345368916802E-2,null,null,147,7.4045002616431196E-2,null,null,147,0.13636363636363599,null,null,22,6.30769230769231E-2,null,null,125,0.64705882352941202,null,null,147]
[null,"Ishøj","2022-01-01",20221,15,null,null,120,7,null,null,120,15,null,null,120,59,null,null,120,6,null,null,120,12,null,null,120,8,null,null,45,null,null,null,23,null,null,null,23,null,null,null,22,21,null,null,64,14,null,null,23,5,null,null,23,5.9615384615384598E-2,null,null,120,6.3301282051282104E-2,null,null,120,0.33333333333333298,null,null,12,3.3297720797720802E-2,null,null,108,0.42105263157894701,null,null,120]
[null,"Jammerbugt","2022-01-01",20221,4,null,null,177,31,null,null,177,11,null,null,177,115,null,null,177,null,null,null,177,7,null,null,177,4,null,null,47,null,null,null,36,null,null,null,36,0,null,null,11,13,null,null,106,null,null,null,9,null,null,null,9,1.6949152542372899E-2,null,null,177,8.7787918296392903E-2,null,null,177,9.6153846153846201E-2,null,null,7,8.7443438914027102E-2,null,null,170,null,null,null,177]
[null,"Kalundborg","2022-01-01",20221,17,null,null,566,57,null,null,566,72,null,null,566,399,null,null,566,17,null,null,566,0,null,null,566,6,null,null,138,null,null,null,69,null,null,null,69,null,null,null,69,28,null,null,379,0,null,null,0,0,null,null,0,2.7215275890187601E-2,null,null,566,6.22111986952976E-2,null,null,566,null,null,null,0,6.22111986952976E-2,null,null,566,0.19672131147541,null,null,566]
[null,"Kerteminde","2022-01-01",20221,3,null,null,127,9,null,null,127,8,null,null,127,81,null,null,127,13,null,null,127,10,null,null,127,null,null,null,20,null,null,null,12,0,null,null,12,null,null,null,8,7,null,null,74,null,null,null,4,0,null,null,4,8.9339794064203504E-3,null,null,127,4.4367050272562103E-2,null,null,127,1.7307692307692302E-2,null,null,10,4.66798159105851E-2,null,null,117,null,null,null,127]
[null,"Kolding","2022-01-01",20221,26,null,null,365,null,null,null,365,18,null,null,365,274,null,null,365,null,null,null,365,31,null,null,365,7,null,null,null,0,null,null,null,4,null,null,null,3,null,null,15,42,null,null,264,null,null,null,29,null,null,null,29,3.1770284510010502E-2,null,null,365,8.25605900948366E-2,null,null,365,9.25480769230769E-2,null,null,31,8.1600831600831605E-2,null,null,334,0.62385321100917401,null,null,365]
[null,"København","2022-01-01",20221,484,null,null,2087,500,null,null,2087,262,null,null,2087,781,null,null,2087,38,null,null,2087,7,null,null,2087,68,null,null,1248,null,null,null,998,null,null,null,998,19,null,null,250,134,null,null,714,8,null,null,12,null,null,null,12,2.8703328296045098E-2,null,null,2087,4.1963068077107403E-2,null,null,2087,0.17032967032967,null,null,7,4.1531065088757403E-2,null,null,2080,0.46767537826685002,null,null,2087]
[null,"Køge","2022-01-01",20221,33,null,null,244,5,null,null,244,40,null,null,244,153,null,null,244,10,null,null,244,0,null,null,244,3,null,null,77,0,null,null,38,null,null,null,38,null,null,null,39,22,null,null,163,0,null,null,0,0,null,null,0,1.1034047919293801E-2,null,null,244,6.2578814627995E-2,null,null,244,null,null,null,0,6.2578814627995E-2,null,null,244,0.36170212765957399,null,null,244]
[null,"Langeland","2022-01-01",20221,5,null,null,91,17,null,null,91,17,null,null,91,46,null,null,91,6,null,null,91,0,null,null,91,4,null,null,41,0,null,null,22,0,null,null,22,4,null,null,19,5,null,null,38,0,null,null,0,0,null,null,0,1.03550295857988E-2,null,null,91,5.7903634826711799E-2,null,null,91,null,null,null,0,5.7903634826711799E-2,null,null,91,null,null,null,91]
[null,"Lejre","2022-01-01",20221,11,null,null,113,12,null,null,113,11,null,null,113,67,null,null,113,4,null,null,113,5,null,null,113,null,null,null,36,0,null,null,24,null,null,null,24,null,null,null,12,5,null,null,69,null,null,null,5,0,null,null,5,1.44656228727025E-2,null,null,113,9.9897889720898594E-2,null,null,113,0.2,null,null,5,9.5263532763532804E-2,null,null,108,null,null,null,113]
[null,"Lemvig","2022-01-01",20221,8,null,null,110,13,null,null,110,6,null,null,110,75,null,null,110,4,null,null,110,4,null,null,110,3,null,null,26,0,null,null,20,null,null,null,20,null,null,null,6,12,null,null,85,0,null,null,null,0,null,null,null,2.9720279720279702E-3,null,null,110,0.10681818181818201,null,null,110,null,null,null,4,0.102685050798258,null,null,106,0.38461538461538503,null,null,110]
[null,"Lolland","2022-01-01",20221,14,null,null,420,9,null,null,420,49,null,null,420,338,null,null,420,7,null,null,420,0,null,null,420,3,null,null,63,0,null,null,21,0,null,null,21,3,null,null,42,83,null,null,395,0,null,null,0,0,null,null,0,3.7454212454212502E-2,null,null,420,7.2115384615384595E-2,null,null,420,null,null,null,0,7.2115384615384595E-2,null,null,420,0.494623655913979,null,null,420]
[null,"Lyngby-Taarbæk","2022-01-01",20221,15,null,null,209,32,null,null,209,24,null,null,209,112,null,null,209,23,null,null,209,null,null,null,209,6,null,null,71,null,null,null,46,null,null,null,46,null,null,null,25,20,null,null,126,0,null,null,0,0,null,null,0,8.8332719911667305E-3,null,null,209,8.2995951417003902E-2,null,null,209,null,null,null,null,8.3797844667409693E-2,null,null,null,0.27659574468085102,null,null,209]
[null,"Mariagerfjord","2022-01-01",20221,null,null,null,239,6,null,null,239,19,null,null,239,210,null,null,239,null,null,null,239,0,null,null,239,4,null,null,null,null,null,null,null,null,null,null,null,null,null,null,20,23,null,null,221,0,null,null,null,0,null,null,null,1.4322497586095899E-2,null,null,239,9.7602188606372695E-2,null,null,239,null,null,null,0,9.7602188606372695E-2,null,null,239,0.7,null,null,239]
[null,"Middelfart","2022-01-01",20221,9,null,null,155,21,null,null,155,15,null,null,155,73,null,null,155,21,null,null,155,16,null,null,155,3,null,null,46,0,null,null,29,null,null,null,29,null,null,null,17,13,null,null,74,4,null,null,9,0,null,null,9,1.86104218362283E-2,null,null,155,4.9131513647642698E-2,null,null,155,0.24278846153846201,null,null,16,2.68400664084117E-2,null,null,139,0.5,null,null,155]
[null,"Morsø","2022-01-01",20221,10,null,null,165,26,null,null,165,22,null,null,165,88,null,null,165,19,null,null,165,0,null,null,165,3,null,null,61,0,null,null,36,0,null,null,36,3,null,null,25,6,null,null,82,0,null,null,0,0,null,null,0,0,null,null,165,4.8601398601398602E-2,null,null,165,null,null,null,0,4.8601398601398602E-2,null,null,165,0.29166666666666702,null,null,165]
[null,"Norddjurs","2022-01-01",20221,6,null,null,255,27,null,null,255,3,null,null,255,186,null,null,255,null,null,null,255,7,null,null,255,0,null,null,null,0,null,null,31,0,null,null,31,0,null,null,null,15,null,null,189,null,null,null,5,0,null,null,5,1.7647058823529401E-2,null,null,255,4.11764705882353E-2,null,null,255,1.0989010989011E-2,null,null,7,4.2028535980148898E-2,null,null,248,0.48979591836734698,null,null,255]
[null,"Nordfyns","2022-01-01",20221,3,null,null,108,20,null,null,108,8,null,null,108,57,null,null,108,13,null,null,108,4,null,null,108,null,null,null,32,0,null,null,23,0,null,null,23,null,null,null,9,10,null,null,51,null,null,null,6,null,null,null,6,1.69159544159544E-2,null,null,108,4.5049857549857603E-2,null,null,108,null,null,null,4,4.5303254437869797E-2,null,null,104,null,null,null,108]
[null,"Nyborg","2022-01-01",20221,9,null,null,175,29,null,null,175,10,null,null,175,98,null,null,175,null,null,null,175,24,null,null,175,3,null,null,49,0,null,null,37,0,null,null,37,3,null,null,12,15,null,null,97,3,null,null,12,null,null,null,12,1.85714285714286E-2,null,null,175,2.5274725274725299E-2,null,null,175,5.2884615384615398E-2,null,null,24,2.0886398369842098E-2,null,null,151,0.42105263157894701,null,null,175]
[null,"Næstved","2022-01-01",20221,24,null,null,553,28,null,null,553,97,null,null,553,384,null,null,553,16,null,null,553,0,null,null,553,11,null,null,141,0,null,null,53,4,null,null,53,7,null,null,88,28,null,null,337,0,null,null,0,0,null,null,0,3.0045903463624998E-2,null,null,553,3.9052719432466299E-2,null,null,553,null,null,null,0,3.9052719432466299E-2,null,null,553,0.63063063063063096,null,null,553]
[null,"Odder","2022-01-01",20221,3,null,null,124,3,null,null,124,3,null,null,124,102,null,null,124,null,null,null,124,4,null,null,124,null,null,null,null,0,null,null,null,0,null,null,null,null,null,null,3,11,null,null,103,null,null,null,3,null,null,null,3,2.0161290322580601E-3,null,null,124,9.8945409429280401E-2,null,null,124,null,null,null,4,8.5576923076923106E-2,null,null,120,null,null,null,124]
[null,"Odense","2022-01-01",20221,56,null,null,829,63,null,null,829,61,null,null,829,543,null,null,829,97,null,null,829,0,null,null,829,15,null,null,181,0,null,null,124,8,null,null,124,7,null,null,57,44,null,null,484,0,null,null,0,0,null,null,0,7.7247842627830602E-3,null,null,829,4.1454022455228702E-2,null,null,829,null,null,null,0,4.1454022455228702E-2,null,null,829,0.59171597633136097,null,null,829]
[null,"Odsherred","2022-01-01",20221,17,null,null,157,12,null,null,157,14,null,null,157,96,null,null,157,null,null,null,157,12,null,null,157,null,null,null,41,0,null,null,27,0,null,null,27,null,null,null,14,6,null,null,87,4,null,null,8,null,null,null,8,9.0641842234198897E-3,null,null,157,2.8172464478197001E-2,null,null,157,4.9679487179487197E-2,null,null,12,2.6392572944297098E-2,null,null,145,0.56338028169014098,null,null,157]
[null,"Randers","2022-01-01",20221,6,null,null,221,47,null,null,221,19,null,null,221,139,null,null,221,6,null,null,221,null,null,null,221,0,null,null,66,0,null,null,49,0,null,null,49,0,null,null,17,10,null,null,127,0,null,null,0,0,null,null,0,8.3536373129133295E-3,null,null,221,4.3595544726766397E-2,null,null,221,null,null,null,null,3.9427467509659302E-2,null,null,null,0.44230769230769201,null,null,221]
[null,"Rebild","2022-01-01",20221,null,null,null,112,17,null,null,112,11,null,null,112,74,null,null,112,null,null,null,112,null,null,null,112,0,null,null,null,0,null,null,null,0,null,null,null,0,null,null,9,13,null,null,79,0,null,null,null,0,null,null,null,8.5851648351648404E-4,null,null,112,4.4471153846152703E-2,null,null,112,null,null,null,null,4.4471153846152703E-2,null,null,null,null,null,null,112]
[null,"Ringkøbing-Skjern","2022-01-01",20221,13,null,null,421,42,null,null,421,50,null,null,421,248,null,null,421,25,null,null,421,36,null,null,421,34,null,null,123,0,null,null,76,29,null,null,76,5,null,null,47,50,null,null,267,17,null,null,33,null,null,null,33,1.1236981545770099E-2,null,null,421,8.5693403983190197E-2,null,null,421,0.17040598290598299,null,null,36,7.7772227772227795E-2,null,null,385,0.58677685950413205,null,null,421]
[null,"Ringsted","2022-01-01",20221,5,null,null,121,8,null,null,121,11,null,null,121,87,null,null,121,null,null,null,121,5,null,null,121,null,null,null,24,0,null,null,13,0,null,null,13,null,null,null,11,20,null,null,102,0,null,null,0,0,null,null,0,2.6859504132231399E-2,null,null,121,4.7520661157024802E-2,null,null,121,8.4615384615384606E-2,null,null,5,4.592175066313E-2,null,null,116,0.45833333333333298,null,null,121]
[null,"Roskilde","2022-01-01",20221,12,null,null,361,52,null,null,361,46,null,null,361,186,null,null,361,14,null,null,361,48,null,null,361,16,null,null,119,0,null,null,68,5,null,null,68,11,null,null,51,22,null,null,195,26,null,null,49,5,null,null,49,3.9047517579373497E-2,null,null,361,5.10867249094396E-2,null,null,361,0.101362179487179,null,null,48,4.33767510444827E-2,null,null,313,0.42499999999999999,null,null,361]
[null,"Rudersdal","2022-01-01",20221,6,null,null,168,33,null,null,168,13,null,null,168,107,null,null,168,null,null,null,168,5,null,null,168,5,null,null,53,null,null,null,38,null,null,null,38,null,null,null,15,9,null,null,105,5,null,null,5,0,null,null,5,2.47252747252747E-2,null,null,168,8.2417582417582402E-2,null,null,168,0.21538461538461501,null,null,5,7.8338839075035402E-2,null,null,163,0.527272727272727,null,null,168]
[null,"Rødovre","2022-01-01",20221,14,null,null,240,15,null,null,240,32,null,null,240,166,null,null,240,3,null,null,240,7,null,null,240,null,null,null,57,null,null,null,29,0,null,null,29,null,null,null,28,19,null,null,170,null,null,null,null,null,null,null,null,2.0112179487179499E-2,null,null,240,8.4375000000000006E-2,null,null,240,0.27197802197802201,null,null,7,7.8738857708814794E-2,null,null,233,0.31034482758620702,null,null,240]
[null,"Silkeborg","2022-01-01",20221,27,null,null,644,37,null,null,644,137,null,null,644,373,null,null,644,30,null,null,644,33,null,null,644,29,null,null,223,null,null,null,63,null,null,null,63,null,null,null,160,39,null,null,369,21,null,null,34,4,null,null,34,2.28141423793598E-2,null,null,644,7.4086239847109395E-2,null,null,644,7.9185520361991002E-2,null,null,33,7.3802017654476706E-2,null,null,611,0.4765625,null,null,644]
[null,"Skanderborg","2022-01-01",20221,5,null,null,365,23,null,null,365,25,null,null,365,285,null,null,365,null,null,null,365,19,null,null,365,7,null,null,53,null,null,null,26,null,null,null,26,null,null,null,27,30,null,null,295,13,null,null,17,null,null,null,17,1.2486828240252899E-2,null,null,365,0.117017913593256,null,null,365,8.8675213675213693E-2,null,null,19,0.11848814010197301,null,null,346,0.33333333333333298,null,null,365]
[null,"Skive","2022-01-01",20221,null,null,null,232,18,null,null,232,5,null,null,232,194,null,null,232,6,null,null,232,4,null,null,232,5,null,null,null,null,null,null,null,null,null,null,null,null,null,null,7,15,null,null,173,8,null,null,18,10,null,null,18,2.4204244031830201E-2,null,null,232,0.109084880636605,null,null,232,null,null,null,4,0.11082995951417,null,null,228,0.35135135135135098,null,null,232]
[null,"Slagelse","2022-01-01",20221,15,null,null,403,28,null,null,403,25,null,null,403,261,null,null,403,null,null,null,403,68,null,null,403,11,null,null,71,0,null,null,43,4,null,null,43,7,null,null,28,31,null,null,229,null,null,null,56,null,null,null,56,1.93739263218171E-2,null,null,403,6.0794044665012398E-2,null,null,403,9.7567873303167393E-2,null,null,68,5.3329506314580902E-2,null,null,335,0.37962962962962998,null,null,403]
[null,"Solrød","2022-01-01",20221,8,null,null,95,4,null,null,95,7,null,null,95,71,null,null,95,null,null,null,95,null,null,null,95,0,null,null,null,0,null,null,null,0,null,null,null,0,null,null,6,null,null,null,63,null,null,null,5,null,null,null,5,1.6396761133603201E-2,null,null,95,0.14554655870445299,null,null,95,null,null,null,null,0.13942307692307701,null,null,null,null,null,null,95]
[null,"Sorø","2022-01-01",20221,10,null,null,169,18,null,null,169,18,null,null,169,111,null,null,169,8,null,null,169,null,null,null,169,3,null,null,46,0,null,null,28,null,null,null,28,null,null,null,18,19,null,null,117,null,null,null,6,null,null,null,6,1.44515248065544E-2,null,null,169,5.00682749203459E-2,null,null,169,null,null,null,null,4.7673883003224303E-2,null,null,null,0.44444444444444398,null,null,169]
[null,"Stevns","2022-01-01",20221,null,null,null,118,6,null,null,118,14,null,null,118,95,null,null,118,null,null,null,118,0,null,null,118,null,null,null,null,0,null,null,null,0,null,null,null,null,null,null,13,5,null,null,79,0,null,null,0,0,null,null,0,1.7764015645371601E-2,null,null,118,0.12206649282920499,null,null,118,null,null,null,0,0.12206649282920499,null,null,118,null,null,null,118]
[null,"Struer","2022-01-01",20221,null,null,null,57,14,null,null,57,8,null,null,57,27,null,null,57,4,null,null,57,null,null,null,57,null,null,null,null,0,null,null,null,null,null,null,null,0,null,null,8,null,null,null,23,null,null,null,5,null,null,null,5,1.8218623481781399E-2,null,null,57,4.3859649122807001E-2,null,null,57,null,null,null,null,4.5454545454545497E-2,null,null,null,0.36842105263157898,null,null,57]
[null,"Svendborg","2022-01-01",20221,20,null,null,331,17,null,null,331,30,null,null,331,213,null,null,331,51,null,null,331,0,null,null,331,3,null,null,64,0,null,null,36,0,null,null,36,3,null,null,28,27,null,null,207,0,null,null,0,0,null,null,0,1.3943760167325099E-2,null,null,331,1.89402742272833E-2,null,null,331,null,null,null,0,1.89402742272833E-2,null,null,331,0.47727272727272702,null,null,331]
[null,"Syddjurs","2022-01-01",20221,6,null,null,171,14,null,null,171,12,null,null,171,117,null,null,171,19,null,null,171,0,null,null,171,0,null,null,29,0,null,null,19,0,null,null,19,0,null,null,10,10,null,null,110,0,null,null,0,0,null,null,0,3.1488978857399899E-3,null,null,171,9.3454790823213105E-2,null,null,171,null,null,null,0,9.3454790823213105E-2,null,null,171,0.40625,null,null,171]
[null,"Sønderborg","2022-01-01",20221,25,null,null,662,67,null,null,662,29,null,null,662,496,null,null,662,10,null,null,662,32,null,null,662,6,null,null,120,null,null,null,92,null,null,null,92,3,null,null,28,57,null,null,503,null,null,null,27,null,null,null,27,2.3036253776434999E-2,null,null,662,9.0053451080641403E-2,null,null,662,0.106643356643357,null,null,32,8.9183074477192106E-2,null,null,630,0.34693877551020402,null,null,662]
[null,"Thisted","2022-01-01",20221,null,null,null,262,39,null,null,262,14,null,null,262,168,null,null,262,26,null,null,262,null,null,null,262,0,null,null,null,0,null,null,null,0,null,null,null,0,null,null,null,0,null,null,154,0,null,null,null,0,null,null,null,1.8643570170287699E-2,null,null,262,5.26277157956547E-2,null,null,262,4.7337278106508902E-2,null,null,null,5.29039233858511E-2,null,null,null,null,null,null,262]
[null,"Tønder","2022-01-01",20221,6,null,null,229,21,null,null,229,20,null,null,229,151,null,null,229,6,null,null,229,21,null,null,229,null,null,null,45,0,null,null,27,null,null,null,27,null,null,null,18,40,null,null,168,5,null,null,8,0,null,null,8,1.10010077258986E-2,null,null,229,5.8616056432650297E-2,null,null,229,2.7472527472527501E-3,null,null,21,6.4256656804733706E-2,null,null,208,0.55172413793103403,null,null,229]
[null,"Tårnby","2022-01-01",20221,13,null,null,123,4,null,null,123,23,null,null,123,59,null,null,123,null,null,null,123,0,null,null,123,4,null,null,38,null,null,null,17,null,null,null,17,null,null,null,21,4,null,null,58,null,null,null,null,null,null,null,null,1.79799874921826E-2,null,null,123,2.5328330206379E-2,null,null,123,null,null,null,0,2.5328330206379E-2,null,null,123,0.52777777777777801,null,null,123]
[null,"Vallensbæk","2022-01-01",20221,null,null,null,37,null,null,null,37,6,null,null,37,24,null,null,37,3,null,null,37,null,null,null,37,null,null,null,null,null,null,null,null,null,null,null,null,null,null,null,null,null,null,null,null,null,null,null,null,null,null,null,null,5.4054054054054099E-2,null,null,37,3.0665280665280702E-2,null,null,37,null,null,null,null,3.1517094017094002E-2,null,null,null,null,null,null,37]
[null,"Varde","2022-01-01",20221,13,null,null,287,null,null,null,287,12,null,null,287,217,null,null,287,null,null,null,287,40,null,null,287,5,null,null,25,null,null,null,14,null,null,null,14,null,null,null,11,22,null,null,171,13,null,null,45,23,null,null,45,6.9016349504154402E-3,null,null,287,6.2985794693112704E-2,null,null,287,8.02884615384616E-2,null,null,40,6.0183743382123997E-2,null,null,247,0.34117647058823503,null,null,287]
[null,"Vejen","2022-01-01",20221,14,null,null,202,3,null,null,202,29,null,null,202,125,null,null,202,26,null,null,202,5,null,null,202,4,null,null,44,null,null,null,16,null,null,null,16,null,null,null,28,17,null,null,137,6,null,null,9,0,null,null,9,2.5704493526275702E-3,null,null,202,7.2924600152322896E-2,null,null,202,0.2,null,null,5,6.9699336196798106E-2,null,null,197,null,null,null,202]
[null,"Vejle","2022-01-01",20221,18,null,null,538,30,null,null,538,43,null,null,538,415,null,null,538,12,null,null,538,20,null,null,538,5,null,null,89,0,null,null,47,0,null,null,47,5,null,null,42,39,null,null,378,18,null,null,31,13,null,null,31,2.6737203317129001E-2,null,null,538,9.0112953960537603E-2,null,null,538,5.95238095238095E-2,null,null,20,9.1355453057580693E-2,null,null,518,0.56375838926174504,null,null,538]
[null,"Vesthimmerlands","2022-01-01",20221,8,null,null,99,8,null,null,99,15,null,null,99,61,null,null,99,null,null,null,99,0,null,null,99,7,null,null,35,null,null,null,20,null,null,null,20,null,null,null,15,10,null,null,54,null,null,null,null,null,null,null,null,1.14607614607615E-2,null,null,99,2.02020202020202E-2,null,null,99,null,null,null,0,2.02020202020202E-2,null,null,99,0.42307692307692302,null,null,99]
[null,"Viborg","2022-01-01",20221,11,null,null,666,123,null,null,666,17,null,null,666,332,null,null,666,167,null,null,666,11,null,null,666,15,null,null,153,0,null,null,138,15,null,null,138,0,null,null,15,39,null,null,317,13,null,null,33,10,null,null,33,2.6189651189651199E-2,null,null,666,7.3255948255948306E-2,null,null,666,9.6153846153846201E-2,null,null,11,7.2800094239604193E-2,null,null,655,0.47798742138364803,null,null,666]
[null,"Vordingborg","2022-01-01",20221,12,null,null,419,33,null,null,419,29,null,null,419,271,null,null,419,49,null,null,419,17,null,null,419,4,null,null,69,null,null,null,44,null,null,null,44,null,null,null,25,33,null,null,272,null,null,null,4,null,null,null,4,1.8634110519552102E-2,null,null,419,4.3785570038553302E-2,null,null,419,1.58371040723982E-2,null,null,17,4.49674703406047E-2,null,null,402,0.493506493506493,null,null,419]
[null,"Ærø","2022-01-01",20221]
[null,"Aabenraa","2022-01-01",20221,6,null,null,71,4,null,null,71,6,null,null,71,43,null,null,71,null,null,null,71,6,null,null,71,4,null,null,20,0,null,null,12,null,null,null,12,null,null,null,8,14,null,null,55,null,null,null,13,null,null,null,13,5.95882990249187E-3,null,null,71,0.11944745395449601,null,null,71,0.121794871794872,null,null,6,0.119230769230769,null,null,65,null,null,null,71]
[null,"Aalborg","2022-01-01",20221,28,null,null,775,142,null,null,775,47,null,null,775,503,null,null,775,55,null,null,775,0,null,null,775,14,null,null,222,0,null,null,172,6,null,null,172,8,null,null,50,36,null,null,525,0,null,null,0,0,null,null,0,2.6054590570719601E-3,null,null,775,3.6799007444168703E-2,null,null,775,null,null,null,0,3.6799007444168703E-2,null,null,775,0.36206896551724099,null,null,775]
[null,"Aarhus","2022-01-01",20221,51,null,null,2214,214,null,null,2214,127,null,null,2214,1551,null,null,2214,132,null,null,2214,124,null,null,2214,29,null,null,386,0,null,null,264,13,null,null,264,16,null,null,122,204,null,null,1552,96,null,null,130,16,null,null,130,5.92470988812452E-2,null,null,2214,7.5846014870405196E-2,null,null,2214,0.127326302729529,null,null,124,7.2791682002208397E-2,null,null,2090,0.57703081232493003,null,null,2214]
[null,"Albertslund","2022-07-01",20222,12,null,null,95,4,null,null,95,17,null,null,95,57,null,null,95,null,null,null,95,0,null,null,95,5,null,null,37,0,null,null,15,0,null,null,15,5,null,null,22,7,null,null,54,0,null,null,0,0,null,null,0,3.2186234817813797E-2,null,null,95,4.5546558704453399E-2,null,null,95,null,null,null,0,4.5546558704453399E-2,null,null,95,0.62,null,null,95]
[null,"Allerød","2022-07-01",20222,7,null,null,35,6,null,null,35,4,null,null,35,18,null,null,35,0,null,null,35,0,null,null,35,null,null,null,18,0,null,null,13,0,null,null,13,null,null,null,5,null,null,null,17,0,null,null,0,0,null,null,0,1.2637362637362599E-2,null,null,35,0.106043956043956,null,null,35,null,null,null,0,0.106043956043956,null,null,35,null,null,null,35]
[null,"Assens","2022-07-01",20222,9,null,null,244,24,null,null,244,20,null,null,244,156,null,null,244,31,null,null,244,0,null,null,244,8,null,null,55,0,null,null,33,3,null,null,33,5,null,null,22,14,null,null,152,0,null,null,0,0,null,null,0,1.57629255989912E-4,null,null,244,5.1860025220680998E-2,null,null,244,null,null,null,0,5.1860025220680998E-2,null,null,244,0.37735849056603799,null,null,244]
[null,"Ballerup","2022-07-01",20222,19,null,null,252,18,null,null,252,43,null,null,252,154,null,null,252,12,null,null,252,0,null,null,252,7,null,null,78,null,null,null,37,null,null,null,37,null,null,null,41,13,null,null,140,0,null,null,0,0,null,null,0,2.2893772893772899E-2,null,null,252,5.1282051282051301E-2,null,null,252,null,null,null,0,5.1282051282051301E-2,null,null,252,0.375,null,null,252]
[null,"Billund","2022-07-01",20222,null,null,null,200,3,null,null,200,10,null,null,200,166,null,null,200,4,null,null,200,14,null,null,200,null,null,null,null,0,null,null,null,0,null,null,null,null,null,null,10,23,null,null,170,null,null,null,null,null,null,null,null,2.1923076923076899E-2,null,null,200,0.10759615384615601,null,null,200,0.21978021978022,null,null,14,9.9152191894129396E-2,null,null,186,0.68181818181818199,null,null,200]
[null,"Bornholm","2022-07-01",20222,null,null,null,203,null,null,null,203,21,null,null,203,167,null,null,203,null,null,null,203,null,null,null,203,3,null,null,35,0,null,null,15,3,null,null,15,0,null,null,20,12,null,null,175,null,null,null,null,null,null,null,null,4.92610837438424E-3,null,null,203,7.4270557029177703E-2,null,null,203,null,null,null,null,7.4270557029177703E-2,null,null,null,0.483333333333333,null,null,203]
[null,"Brøndby","2022-07-01",20222,13,null,null,98,null,null,null,98,12,null,null,98,67,null,null,98,3,null,null,98,0,null,null,98,null,null,null,null,0,null,null,null,null,null,null,null,0,null,null,11,15,null,null,73,0,null,null,0,0,null,null,0,1.2755102040816301E-2,null,null,98,2.4332810047095799E-2,null,null,98,null,null,null,0,2.4332810047095799E-2,null,null,98,0.70270270270270296,null,null,98]
[null,"Brønderslev","2022-07-01",20222,11,null,null,207,10,null,null,207,7,null,null,207,155,null,null,207,null,null,null,207,7,null,null,207,null,null,null,29,0,null,null,22,null,null,null,22,null,null,null,7,27,null,null,140,null,null,null,22,null,null,null,22,3.1122259383129E-2,null,null,207,8.1939799331103694E-2,null,null,207,0.24175824175824201,null,null,7,7.6346153846153897E-2,null,null,200,0.162162162162162,null,null,207]
[null,"Esbjerg","2022-07-01",20222,12,null,null,454,33,null,null,454,36,null,null,454,269,null,null,454,null,null,null,454,49,null,null,454,7,null,null,88,null,null,null,47,null,null,null,47,null,null,null,41,31,null,null,300,16,null,null,65,0,null,null,65,1.43171806167401E-2,null,null,454,9.3866485936970501E-2,null,null,454,0.18995290423861899,null,null,49,8.2241215574548901E-2,null,null,405,0.48684210526315802,null,null,454]
[null,"Favrskov","2022-07-01",20222,5,null,null,150,25,null,null,150,12,null,null,150,105,null,null,150,null,null,null,150,0,null,null,150,3,null,null,43,0,null,null,28,0,null,null,28,3,null,null,15,14,null,null,114,0,null,null,0,0,null,null,0,5.3846153846153801E-3,null,null,150,0.12615384615384401,null,null,150,null,null,null,0,0.12615384615384401,null,null,150,0.31578947368421001,null,null,150]
[null,"Faxe","2022-07-01",20222,8,null,null,178,16,null,null,178,27,null,null,178,120,null,null,178,null,null,null,178,0,null,null,178,7,null,null,55,0,null,null,24,0,null,null,24,7,null,null,31,28,null,null,133,0,null,null,0,0,null,null,0,6.8063958513396696E-3,null,null,178,8.6646499567847896E-2,null,null,178,null,null,null,0,8.6646499567847896E-2,null,null,178,0.41666666666666702,null,null,178]
[null,"Fredensborg","2022-07-01",20222,26,null,null,140,4,null,null,140,24,null,null,140,50,null,null,140,12,null,null,140,20,null,null,140,null,null,null,52,0,null,null,31,null,null,null,31,null,null,null,21,4,null,null,53,10,null,null,21,0,null,null,21,3.3791208791208803E-2,null,null,140,3.7362637362637403E-2,null,null,140,5.8653846153846202E-2,null,null,20,3.3814102564102597E-2,null,null,120,0.52380952380952395,null,null,140]
[null,"Fredericia","2022-07-01",20222,25,null,null,247,null,null,null,247,32,null,null,247,165,null,null,247,null,null,null,247,null,null,null,247,3,null,null,null,0,null,null,null,0,null,null,null,3,null,null,31,17,null,null,153,0,null,null,null,0,null,null,null,6.6957334163811897E-3,null,null,247,6.8358766739333499E-2,null,null,247,null,null,null,null,6.8358766739333499E-2,null,null,null,0.61855670103092797,null,null,247]
[null,"Frederiksberg","2022-07-01",20222,32,null,null,245,9,null,null,245,66,null,null,245,120,null,null,245,9,null,null,245,5,null,null,245,7,null,null,109,0,null,null,45,4,null,null,45,3,null,null,64,21,null,null,117,null,null,null,9,null,null,null,9,1.3343799058084801E-2,null,null,245,4.3014128728414501E-2,null,null,245,0,null,null,5,4.39102564102564E-2,null,null,240,0.297619047619048,null,null,245]
[null,"Frederikshavn","2022-07-01",20222,13,null,null,539,55,null,null,539,23,null,null,539,403,null,null,539,null,null,null,539,8,null,null,539,6,null,null,92,null,null,null,69,null,null,null,69,null,null,null,23,45,null,null,381,null,null,null,8,null,null,null,8,5.9940059940059897E-3,null,null,539,5.1448551448551497E-2,null,null,539,0,null,null,8,5.22236708677387E-2,null,null,531,0.26984126984126999,null,null,539]
[null,"Frederikssund","2022-07-01",20222,17,null,null,182,4,null,null,182,35,null,null,182,104,null,null,182,7,null,null,182,15,null,null,182,6,null,null,58,0,null,null,21,0,null,null,21,6,null,null,37,15,null,null,94,6,null,null,10,null,null,null,10,8.7700760777683906E-3,null,null,182,7.80853761622992E-2,null,null,182,5.5128205128205099E-2,null,null,15,8.0147397512667001E-2,null,null,167,0.73118279569892497,null,null,182]
[null,"Furesø","2022-07-01",20222,13,null,null,246,7,null,null,246,30,null,null,246,146,null,null,246,7,null,null,246,43,null,null,246,5,null,null,48,null,null,null,20,null,null,null,20,null,null,null,28,15,null,null,145,13,null,null,33,5,null,null,33,2.31394621638524E-2,null,null,246,9.9828017510944403E-2,null,null,246,0.15559440559440599,null,null,43,8.7680883472962698E-2,null,null,203,0.37037037037037002,null,null,246]
[null,"Faaborg-Midtfyn","2022-07-01",20222,15,null,null,405,12,null,null,405,28,null,null,405,272,null,null,405,39,null,null,405,39,null,null,405,3,null,null,53,0,null,null,26,null,null,null,26,null,null,null,27,36,null,null,271,13,null,null,36,null,null,null,36,2.13200379867046E-2,null,null,405,4.9097815764482397E-2,null,null,405,6.5088757396449606E-2,null,null,39,4.7393862967633503E-2,null,null,366,0.43548387096774199,null,null,405]
[null,"Gentofte","2022-07-01",20222,12,null,null,170,23,null,null,170,27,null,null,170,87,null,null,170,null,null,null,170,11,null,null,170,5,null,null,65,null,null,null,36,null,null,null,36,null,null,null,29,9,null,null,84,null,null,null,5,null,null,null,5,2.60180995475113E-2,null,null,170,7.6018099547511306E-2,null,null,170,3.6713286713286698E-2,null,null,11,7.8737300435413604E-2,null,null,159,0.47499999999999998,null,null,170]
[null,"Gladsaxe","2022-07-01",20222,22,null,null,164,13,null,null,164,17,null,null,164,75,null,null,164,17,null,null,164,20,null,null,164,5,null,null,52,null,null,null,35,null,null,null,35,null,null,null,17,6,null,null,77,3,null,null,3,0,null,null,3,2.8728893058161401E-2,null,null,164,6.2734521575984997E-2,null,null,164,0.21346153846153801,null,null,20,4.18002136752137E-2,null,null,144,0.41538461538461502,null,null,164]
[null,"Glostrup","2022-07-01",20222,17,null,null,200,18,null,null,200,18,null,null,200,98,null,null,200,31,null,null,200,9,null,null,200,3,null,null,52,0,null,null,36,null,null,null,36,null,null,null,16,6,null,null,84,0,null,null,4,0,null,null,4,2.29807692307692E-2,null,null,200,8.4038461538461506E-2,null,null,200,8.54700854700855E-2,null,null,9,8.3971002819170401E-2,null,null,191,0.37837837837837801,null,null,200]
[null,"Greve","2022-07-01",20222,17,null,null,207,12,null,null,207,44,null,null,207,112,null,null,207,18,null,null,207,4,null,null,207,3,null,null,null,0,null,null,null,null,null,null,null,null,null,null,39,7,null,null,105,null,null,null,null,null,null,null,null,1.05908584169454E-2,null,null,207,7.9338535860275006E-2,null,null,207,null,null,null,4,8.0901856763925806E-2,null,null,203,0.26,null,null,207]
[null,"Gribskov","2022-07-01",20222,8,null,null,161,9,null,null,161,29,null,null,161,103,null,null,161,null,null,null,161,8,null,null,161,null,null,null,44,0,null,null,17,0,null,null,17,null,null,null,27,11,null,null,93,null,null,null,8,5,null,null,8,2.41280458671763E-2,null,null,161,8.6837075967510793E-2,null,null,161,9.6153846153846201E-2,null,null,8,8.6349924585218701E-2,null,null,153,0.41379310344827602,null,null,161]
[null,"Guldborgsund","2022-07-01",20222,35,null,null,510,14,null,null,510,44,null,null,510,390,null,null,510,null,null,null,510,0,null,null,510,7,null,null,93,0,null,null,49,4,null,null,49,3,null,null,44,55,null,null,382,0,null,null,0,0,null,null,0,2.48868778280543E-2,null,null,510,4.9170437405731501E-2,null,null,510,null,null,null,0,4.9170437405731501E-2,null,null,510,0.51351351351351304,null,null,510]
[null,"Haderslev","2022-07-01",20222,8,null,null,202,18,null,null,202,18,null,null,202,154,null,null,202,null,null,null,202,null,null,null,202,7,null,null,50,0,null,null,29,3,null,null,29,4,null,null,21,13,null,null,147,0,null,null,0,0,null,null,0,8.3777608530083807E-3,null,null,202,5.0076161462298902E-2,null,null,202,null,null,null,null,5.0325296593952198E-2,null,null,null,0.31818181818181801,null,null,202]
[null,"Halsnæs","2022-07-01",20222,9,null,null,125,9,null,null,125,14,null,null,125,87,null,null,125,null,null,null,125,3,null,null,125,null,null,null,31,0,null,null,16,0,null,null,16,null,null,null,15,9,null,null,88,3,null,null,6,null,null,null,6,1.5384615384615399E-2,null,null,125,3.1230769230769201E-2,null,null,125,null,null,null,3,2.6796973518285E-2,null,null,122,0.45161290322580599,null,null,125]
[null,"Hedensted","2022-07-01",20222,9,null,null,213,16,null,null,213,13,null,null,213,153,null,null,213,6,null,null,213,13,null,null,213,4,null,null,39,0,null,null,25,null,null,null,25,null,null,null,14,12,null,null,142,null,null,null,15,null,null,null,15,7.2228241242325696E-3,null,null,213,6.3289996388587899E-2,null,null,213,2.5147928994082799E-2,null,null,13,6.5769230769230802E-2,null,null,200,0.44230769230769201,null,null,213]
[null,"Helsingør","2022-07-01",20222,40,null,null,210,6,null,null,210,49,null,null,210,85,null,null,210,12,null,null,210,18,null,null,210,9,null,null,95,0,null,null,46,6,null,null,46,3,null,null,49,12,null,null,84,null,null,null,11,null,null,null,11,1.1721611721611701E-2,null,null,210,3.0128205128205101E-2,null,null,210,0.148504273504274,null,null,18,1.9030448717948699E-2,null,null,192,0.46153846153846201,null,null,210]
[null,"Herlev","2022-07-01",20222,17,null,null,136,6,null,null,136,26,null,null,136,83,null,null,136,4,null,null,136,0,null,null,136,3,null,null,51,0,null,null,24,null,null,null,24,null,null,null,27,8,null,null,78,0,null,null,0,0,null,null,0,4.1713800904977401E-2,null,null,136,7.5933257918552002E-2,null,null,136,null,null,null,0,7.5933257918552002E-2,null,null,136,0.27272727272727298,null,null,136]
[null,"Herning","2022-07-01",20222,20,null,null,365,36,null,null,365,17,null,null,365,249,null,null,365,10,null,null,365,28,null,null,365,7,null,null,77,0,null,null,56,3,null,null,56,4,null,null,21,48,null,null,275,14,null,null,19,null,null,null,19,1.71232876712329E-2,null,null,365,6.9178082191780801E-2,null,null,365,0.23420329670329701,null,null,28,5.5466788404473902E-2,null,null,337,0.42446043165467601,null,null,365]
[null,"Hillerød","2022-07-01",20222,14,null,null,247,null,null,null,247,32,null,null,247,146,null,null,247,11,null,null,247,36,null,null,247,null,null,null,null,0,null,null,null,0,null,null,null,null,null,null,31,22,null,null,155,24,null,null,28,null,null,null,28,3.0909374026782899E-2,null,null,247,5.6680161943319901E-2,null,null,247,0.11271367521367499,null,null,36,4.71199416697047E-2,null,null,211,0.58333333333333304,null,null,247]
[null,"Hjørring","2022-07-01",20222,21,null,null,497,66,null,null,497,56,null,null,497,291,null,null,497,12,null,null,497,47,null,null,497,5,null,null,138,null,null,null,86,null,null,null,86,null,null,null,52,35,null,null,293,25,null,null,43,null,null,null,43,1.8611670020120701E-2,null,null,497,8.2572357220244599E-2,null,null,497,0.13543371522094899,null,null,47,7.7051282051282102E-2,null,null,450,0.30487804878048802,null,null,497]
[null,"Holbæk","2022-07-01",20222,null,null,null,378,61,null,null,378,39,null,null,378,264,null,null,378,9,null,null,378,null,null,null,378,7,null,null,null,null,null,null,null,null,null,null,null,null,null,null,42,41,null,null,256,null,null,null,4,null,null,null,4,2.85917785917786E-2,null,null,378,6.1813186813186802E-2,null,null,378,null,null,null,null,6.19771475209141E-2,null,null,null,0.40384615384615402,null,null,378]
[null,"Holstebro","2022-07-01",20222,14,null,null,225,44,null,null,225,11,null,null,225,138,null,null,225,14,null,null,225,4,null,null,225,7,null,null,72,0,null,null,64,7,null,null,64,0,null,null,8,6,null,null,131,0,null,null,0,0,null,null,0,1.21367521367521E-2,null,null,225,5.7777777777777803E-2,null,null,225,null,null,null,4,5.8040375913679103E-2,null,null,221,0.33333333333333298,null,null,225]
[null,"Horsens","2022-07-01",20222,38,null,null,526,58,null,null,526,46,null,null,526,273,null,null,526,54,null,null,526,54,null,null,526,3,null,null,136,0,null,null,93,null,null,null,93,null,null,null,43,28,null,null,258,32,null,null,68,23,null,null,68,1.24305352442235E-2,null,null,526,5.6887978941210997E-2,null,null,526,9.5123626373626397E-2,null,null,54,5.2332242225859298E-2,null,null,472,0.512820512820513,null,null,526]
[null,"Hvidovre","2022-07-01",20222,27,null,null,266,21,null,null,266,34,null,null,266,147,null,null,266,null,null,null,266,0,null,null,266,5,null,null,80,null,null,null,48,null,null,null,48,null,null,null,32,28,null,null,146,0,null,null,0,0,null,null,0,4.4968189705031802E-2,null,null,266,4.8799884326200103E-2,null,null,266,null,null,null,0,4.8799884326200103E-2,null,null,266,0.35593220338983,null,null,266]
[null,"Høje-Taastrup","2022-07-01",20222,15,null,null,295,34,null,null,295,18,null,null,295,152,null,null,295,3,null,null,295,61,null,null,295,3,null,null,64,0,null,null,47,3,null,null,47,0,null,null,17,14,null,null,145,18,null,null,34,3,null,null,34,3.9243807040417203E-2,null,null,295,9.6740547588005196E-2,null,null,295,0.169293820933165,null,null,61,7.7827087442472104E-2,null,null,234,0.305084745762712,null,null,295]
[null,"Hørsholm","2022-07-01",20222,10,null,null,70,3,null,null,70,17,null,null,70,37,null,null,70,3,null,null,70,0,null,null,70,0,null,null,null,0,null,null,null,0,null,null,null,0,null,null,18,0,null,null,37,0,null,null,null,0,null,null,null,5.6593406593406601E-2,null,null,70,5.9615384615384598E-2,null,null,70,null,null,null,0,5.9615384615384598E-2,null,null,70,null,null,null,70]
[null,"Ikast-Brande","2022-07-01",20222,null,null,null,159,32,null,null,159,8,null,null,159,88,null,null,159,null,null,null,159,26,null,null,159,3,null,null,null,0,null,null,null,3,null,null,null,0,null,null,9,3,null,null,81,9,null,null,22,null,null,null,22,2.0198355104015499E-2,null,null,159,7.5713594581519106E-2,null,null,159,9.7578347578347602E-2,null,null,26,7.1241258741258806E-2,null,null,133,0.66153846153846196,null,null,159]
[null,"Ishøj","2022-07-01",20222,15,null,null,82,null,null,null,82,10,null,null,82,37,null,null,82,6,null,null,82,7,null,null,82,12,null,null,37,0,null,null,22,6,null,null,22,6,null,null,15,24,null,null,59,8,null,null,12,0,null,null,12,3.9634146341463401E-2,null,null,82,6.2148217636022497E-2,null,null,82,0.25549450549450597,null,null,7,4.41025641025641E-2,null,null,75,0.4375,null,null,82]
[null,"Jammerbugt","2022-07-01",20222,4,null,null,187,32,null,null,187,10,null,null,187,129,null,null,187,6,null,null,187,3,null,null,187,null,null,null,46,0,null,null,35,0,null,null,35,null,null,null,11,12,null,null,115,null,null,null,7,null,null,null,7,9.0497737556561094E-3,null,null,187,8.7515425750719897E-2,null,null,187,null,null,null,3,8.8942307692307696E-2,null,null,184,0.27659574468085102,null,null,187]
[null,"Kalundborg","2022-07-01",20222,17,null,null,561,60,null,null,561,71,null,null,561,391,null,null,561,18,null,null,561,0,null,null,561,5,null,null,146,null,null,null,74,null,null,null,74,null,null,null,72,40,null,null,399,0,null,null,0,0,null,null,0,2.6326614561908698E-2,null,null,561,6.3622651857945994E-2,null,null,561,null,null,null,0,6.3622651857945994E-2,null,null,561,0.238805970149254,null,null,561]
[null,"Kerteminde","2022-07-01",20222,3,null,null,140,8,null,null,140,9,null,null,140,87,null,null,140,16,null,null,140,10,null,null,140,null,null,null,20,0,null,null,12,null,null,null,12,0,null,null,8,5,null,null,81,4,null,null,10,null,null,null,10,7.2802197802197804E-3,null,null,140,3.6126373626373602E-2,null,null,140,8.11965811965812E-2,null,null,10,3.3029947152084599E-2,null,null,130,null,null,null,140]
[null,"Kolding","2022-07-01",20222,25,null,null,381,null,null,null,381,21,null,null,381,288,null,null,381,null,null,null,381,34,null,null,381,3,null,null,null,0,null,null,null,null,null,null,null,null,null,null,18,30,null,null,274,21,null,null,31,6,null,null,31,3.4575005047445997E-2,null,null,381,7.6367857863920904E-2,null,null,381,5.14705882352944E-2,null,null,34,7.8807359787186906E-2,null,null,347,0.62179487179487203,null,null,381]
[null,"København","2022-07-01",20222,486,null,null,2146,498,null,null,2146,283,null,null,2146,811,null,null,2146,44,null,null,2146,9,null,null,2146,61,null,null,1246,null,null,null,984,null,null,null,984,18,null,null,262,143,null,null,781,null,null,null,7,0,null,null,7,2.9697469352641798E-2,null,null,2146,4.79335436231988E-2,null,null,2146,0.25427350427350398,null,null,9,4.7064540513300501E-2,null,null,2137,0.49190535491905402,null,null,2146]
[null,"Køge","2022-07-01",20222,35,null,null,240,3,null,null,240,39,null,null,240,150,null,null,240,10,null,null,240,0,null,null,240,5,null,null,78,null,null,null,38,null,null,null,38,null,null,null,40,23,null,null,153,0,null,null,0,0,null,null,0,9.9358974358974405E-3,null,null,240,4.7596153846153899E-2,null,null,240,null,null,null,0,4.7596153846153899E-2,null,null,240,0.58974358974358998,null,null,240]
[null,"Langeland","2022-07-01",20222,5,null,null,96,17,null,null,96,15,null,null,96,52,null,null,96,7,null,null,96,0,null,null,96,5,null,null,39,0,null,null,22,0,null,null,22,5,null,null,17,4,null,null,46,0,null,null,0,0,null,null,0,2.00320512820513E-4,null,null,96,6.9511217948717993E-2,null,null,96,null,null,null,0,6.9511217948717993E-2,null,null,96,0.83333333333333304,null,null,96]
[null,"Lejre","2022-07-01",20222,12,null,null,119,12,null,null,119,13,null,null,119,68,null,null,119,3,null,null,119,6,null,null,119,0,null,null,34,0,null,null,23,0,null,null,23,0,null,null,11,8,null,null,67,null,null,null,5,null,null,null,5,1.76147382029735E-2,null,null,119,8.1609566903684497E-2,null,null,119,0,null,null,6,8.5942818243703201E-2,null,null,113,0.27777777777777801,null,null,119]
[null,"Lemvig","2022-07-01",20222,7,null,null,113,14,null,null,113,8,null,null,113,70,null,null,113,4,null,null,113,10,null,null,113,null,null,null,27,0,null,null,21,null,null,null,21,null,null,null,6,12,null,null,75,null,null,null,4,null,null,null,4,0,null,null,113,0.12168141592920401,null,null,113,0.17884615384615399,null,null,10,0.11613144137416,null,null,103,0.3,null,null,113]
[null,"Lolland","2022-07-01",20231,13,null,null,410,10,null,null,410,48,null,null,410,330,null,null,410,6,null,null,410,0,null,null,410,11,null,null,72,null,null,null,23,null,null,null,23,null,null,null,49,51,null,null,338,0,null,null,0,0,null,null,0,3.4521575984990602E-2,null,null,410,6.6604127579737396E-2,null,null,410,null,null,null,0,6.6604127579737396E-2,null,null,410,0.38461538461538503,null,null,410]
[null,"Lyngby-Taarbæk","2022-07-01",20221,15,null,null,206,29,null,null,206,21,null,null,206,109,null,null,206,null,null,null,206,7,null,null,206,8,null,null,71,0,null,null,47,3,null,null,47,5,null,null,24,13,null,null,112,null,null,null,null,null,null,null,null,1.12957430918596E-2,null,null,206,7.8696788648245003E-2,null,null,206,0.120879120879121,null,null,7,7.72129880170081E-2,null,null,199,0.46666666666666701,null,null,206]
[null,"Mariagerfjord","2022-07-01",20222,null,null,null,231,6,null,null,231,20,null,null,231,200,null,null,231,null,null,null,231,null,null,null,231,0,null,null,null,0,null,null,null,0,null,null,null,0,null,null,19,25,null,null,210,0,null,null,0,0,null,null,0,2.02297702297702E-2,null,null,231,9.9234099234099205E-2,null,null,231,null,null,null,null,9.9234099234099205E-2,null,null,null,0.58536585365853699,null,null,231]
[null,"Middelfart","2022-07-01",20222,9,null,null,173,20,null,null,173,17,null,null,173,89,null,null,173,25,null,null,173,13,null,null,173,3,null,null,45,0,null,null,30,null,null,null,30,null,null,null,15,8,null,null,73,8,null,null,16,null,null,null,16,2.22321031569666E-3,null,null,173,5.9359715429080397E-2,null,null,173,0.181952662721894,null,null,13,4.9399038461539098E-2,null,null,160,0.41935483870967799,null,null,173]
[null,"Morsø","2022-07-01",20222,10,null,null,162,25,null,null,162,24,null,null,162,82,null,null,162,21,null,null,162,0,null,null,162,4,null,null,58,0,null,null,36,null,null,null,36,null,null,null,22,12,null,null,88,0,null,null,0,0,null,null,0,0,null,null,162,4.9976258309591702E-2,null,null,162,null,null,null,0,4.9976258309591702E-2,null,null,162,null,null,null,162]
[null,"Norddjurs","2022-07-01",20222,5,null,null,261,25,null,null,261,3,null,null,261,193,null,null,261,null,null,null,261,11,null,null,261,4,null,null,36,null,null,null,33,null,null,null,33,null,null,null,3,19,null,null,186,3,null,null,7,null,null,null,7,2.0557029177718799E-2,null,null,261,5.3197760094311798E-2,null,null,261,0.120629370629371,null,null,11,5.0230769230769197E-2,null,null,250,0.418604651162791,null,null,261]
[null,"Nordfyns","2022-07-01",20222,3,null,null,120,21,null,null,120,9,null,null,120,64,null,null,120,14,null,null,120,5,null,null,120,null,null,null,31,null,null,null,23,0,null,null,23,null,null,null,8,7,null,null,57,null,null,null,4,0,null,null,4,8.3333333333333297E-3,null,null,120,3.62179487179487E-2,null,null,120,0,null,null,5,3.7792642140468201E-2,null,null,115,null,null,null,120]
[null,"Nyborg","2022-07-01",20222,10,null,null,177,29,null,null,177,12,null,null,177,95,null,null,177,null,null,null,177,25,null,null,177,null,null,null,48,0,null,null,38,null,null,null,38,null,null,null,10,19,null,null,98,11,null,null,24,3,null,null,24,2.32507605388961E-2,null,null,177,3.44415471534106E-2,null,null,177,9.5384615384615401E-2,null,null,25,2.4418016194331201E-2,null,null,152,0.43243243243243201,null,null,177]
[null,"Næstved","2022-07-01",20222,27,null,null,576,26,null,null,576,93,null,null,576,411,null,null,576,15,null,null,576,0,null,null,576,17,null,null,149,0,null,null,52,4,null,null,52,13,null,null,97,41,null,null,384,0,null,null,0,0,null,null,0,2.78111645299145E-2,null,null,576,5.4587339743589799E-2,null,null,576,null,null,null,0,5.4587339743589799E-2,null,null,576,0.50920245398773001,null,null,576]
[null,"Odder","2022-07-01",20222,null,null,null,126,3,null,null,126,4,null,null,126,100,null,null,126,8,null,null,126,8,null,null,126,null,null,null,9,0,null,null,6,null,null,null,6,0,null,null,3,11,null,null,102,null,null,null,4,0,null,null,4,1.54151404151404E-2,null,null,126,0.112789987789989,null,null,126,0.43990384615384598,null,null,8,9.0612777053454996E-2,null,null,118,0.38888888888888901,null,null,126]
[null,"Odense","2022-07-01",20222,54,null,null,833,64,null,null,833,63,null,null,833,555,null,null,833,88,null,null,833,0,null,null,833,13,null,null,180,0,null,null,119,7,null,null,119,6,null,null,61,60,null,null,543,0,null,null,0,0,null,null,0,9.2344630159756202E-3,null,null,833,3.7053282851602198E-2,null,null,833,null,null,null,0,3.7053282851602198E-2,null,null,833,0.62807881773398999,null,null,833]
[null,"Odsherred","2022-07-01",20222,20,null,null,153,14,null,null,153,16,null,null,153,85,null,null,153,null,null,null,153,12,null,null,153,null,null,null,43,0,null,null,29,null,null,null,29,null,null,null,14,18,null,null,96,8,null,null,12,null,null,null,12,8.5470085470085496E-3,null,null,153,2.3629964806435401E-2,null,null,153,8.3333333333333301E-2,null,null,12,1.8548827059465402E-2,null,null,141,0.33333333333333298,null,null,153]
[null,"Randers","2022-07-01",20222,6,null,null,227,49,null,null,227,20,null,null,227,139,null,null,227,null,null,null,227,6,null,null,227,null,null,null,72,0,null,null,53,null,null,null,53,null,null,null,19,25,null,null,139,null,null,null,null,null,null,null,null,3.8969840731986698E-3,null,null,227,4.6679091833276898E-2,null,null,227,0.27564102564102599,null,null,6,4.0462930734424002E-2,null,null,221,0.38888888888888901,null,null,227]
[null,"Rebild","2022-07-01",20222,9,null,null,118,17,null,null,118,15,null,null,118,73,null,null,118,null,null,null,118,0,null,null,118,null,null,null,null,0,null,null,null,null,null,null,null,null,null,null,11,13,null,null,74,0,null,null,null,0,null,null,null,7.8226857887874791E-3,null,null,118,6.7633637548891803E-2,null,null,118,null,null,null,0,6.7633637548891803E-2,null,null,118,null,null,null,118]
[null,"Ringkøbing-Skjern","2022-07-01",20222,17,null,null,418,42,null,null,418,51,null,null,418,249,null,null,418,27,null,null,418,23,null,null,418,9,null,null,105,null,null,null,55,null,null,null,55,null,null,null,50,51,null,null,248,27,null,null,36,6,null,null,36,7.8671328671328696E-3,null,null,418,0.111474052263526,null,null,418,0.22324414715718999,null,null,23,0.10496592015579401,null,null,395,0.70491803278688503,null,null,418]
[null,"Ringsted","2022-07-01",20222,6,null,null,130,8,null,null,130,15,null,null,130,88,null,null,130,null,null,null,130,7,null,null,130,0,null,null,24,0,null,null,13,0,null,null,13,0,null,null,11,11,null,null,87,null,null,null,5,null,null,null,5,7.6923076923076901E-3,null,null,130,5.3698224852071E-2,null,null,130,3.2967032967033003E-2,null,null,7,5.4878048780487798E-2,null,null,123,0.42857142857142899,null,null,130]
[null,"Roskilde","2022-07-01",20222,11,null,null,355,50,null,null,355,44,null,null,355,187,null,null,355,14,null,null,355,44,null,null,355,14,null,null,110,0,null,null,64,6,null,null,64,8,null,null,46,28,null,null,186,37,null,null,48,null,null,null,48,3.5427952329360801E-2,null,null,355,5.3846153846157901E-2,null,null,355,0.112325174825175,null,null,44,4.5572594607968003E-2,null,null,311,0.60126582278481,null,null,355]
[null,"Rudersdal","2022-07-01",20222,6,null,null,175,33,null,null,175,13,null,null,175,110,null,null,175,null,null,null,175,9,null,null,175,4,null,null,52,null,null,null,39,null,null,null,39,null,null,null,13,11,null,null,107,null,null,null,5,null,null,null,5,1.9010989010989101E-2,null,null,175,8.0659340659340703E-2,null,null,175,0.16025641025640999,null,null,9,7.63438368860056E-2,null,null,166,0.59722222222222199,null,null,175]
[null,"Rødovre","2022-07-01",20222,13,null,null,247,15,null,null,247,31,null,null,247,174,null,null,247,3,null,null,247,8,null,null,247,5,null,null,61,null,null,null,29,null,null,null,29,null,null,null,32,16,null,null,166,4,null,null,7,null,null,null,7,2.6938648396138298E-2,null,null,247,6.9370912488321404E-2,null,null,247,0.13942307692307701,null,null,8,6.7026070164145496E-2,null,null,239,0.2,null,null,247]
[null,"Silkeborg","2022-07-01",20222,29,null,null,609,36,null,null,609,128,null,null,609,361,null,null,609,29,null,null,609,19,null,null,609,19,null,null,201,0,null,null,64,3,null,null,64,16,null,null,137,43,null,null,373,21,null,null,33,4,null,null,33,2.39358342806619E-2,null,null,609,7.5817860300618906E-2,null,null,609,8.1730769230769204E-2,null,null,19,7.5617082408253905E-2,null,null,590,0.495867768595041,null,null,609]
[null,"Skanderborg","2022-07-01",20222,4,null,null,351,24,null,null,351,24,null,null,351,268,null,null,351,null,null,null,351,20,null,null,351,5,null,null,53,null,null,null,28,null,null,null,28,null,null,null,25,35,null,null,285,11,null,null,19,null,null,null,19,1.57243041858427E-2,null,null,351,0.11609686609686599,null,null,351,3.3653846153846201E-2,null,null,20,0.12107831745294,null,null,331,0.5,null,null,351]
[null,"Skive","2022-07-01",20222,3,null,null,266,17,null,null,266,8,null,null,266,216,null,null,266,7,null,null,266,12,null,null,266,null,null,null,null,0,null,null,null,null,null,null,null,0,null,null,5,25,null,null,194,null,null,null,4,null,null,null,4,3.3111625216888402E-2,null,null,266,0.104901677270098,null,null,266,0.12660256410256401,null,null,12,0.103876438522108,null,null,254,0.25,null,null,266]
[null,"Slagelse","2022-07-01",20222,14,null,null,351,27,null,null,351,26,null,null,351,243,null,null,351,null,null,null,351,35,null,null,351,9,null,null,68,null,null,null,43,null,null,null,43,null,null,null,25,47,null,null,261,58,null,null,68,5,null,null,68,2.3065965373657699E-2,null,null,351,6.7828183212798598E-2,null,null,351,0.104945054945055,null,null,35,6.3717137293086701E-2,null,null,316,0.51136363636363602,null,null,351]
[null,"Solrød","2022-07-01",20222,8,null,null,104,4,null,null,104,7,null,null,104,81,null,null,104,null,null,null,104,null,null,null,104,null,null,null,19,0,null,null,12,0,null,null,12,null,null,null,7,null,null,null,71,null,null,null,null,null,null,null,null,1.05399408284024E-2,null,null,104,0.16845414201183401,null,null,104,null,null,null,null,0.16855203619909501,null,null,null,null,null,null,104]
[null,"Sorø","2022-07-01",20222,11,null,null,163,18,null,null,163,17,null,null,163,101,null,null,163,null,null,null,163,5,null,null,163,5,null,null,46,null,null,null,28,null,null,null,28,null,null,null,18,15,null,null,111,null,null,null,null,null,null,null,null,2.4421897121283599E-2,null,null,163,6.7956583294006598E-2,null,null,163,0.19230769230769201,null,null,5,6.4021421616358307E-2,null,null,158,0.57142857142857095,null,null,163]
[null,"Stevns","2022-07-01",20222,null,null,null,136,7,null,null,136,14,null,null,136,111,null,null,136,null,null,null,136,0,null,null,136,0,null,null,null,0,null,null,null,0,null,null,null,0,null,null,14,9,null,null,95,0,null,null,0,0,null,null,0,1.44230769230769E-2,null,null,136,0.11920248868778301,null,null,136,null,null,null,0,0.11920248868778301,null,null,136,0.25,null,null,136]
[null,"Struer","2022-07-01",20222,null,null,null,56,13,null,null,56,9,null,null,56,28,null,null,56,3,null,null,56,0,null,null,56,3,null,null,null,0,null,null,null,null,null,null,null,null,null,null,8,null,null,null,27,null,null,null,null,null,null,null,null,3.9835164835164798E-2,null,null,56,3.7087912087912102E-2,null,null,56,null,null,null,0,3.7087912087912102E-2,null,null,56,0.35,null,null,56]
[null,"Svendborg","2022-07-01",20222,21,null,null,322,17,null,null,322,31,null,null,322,210,null,null,322,43,null,null,322,0,null,null,322,4,null,null,67,null,null,null,37,null,null,null,37,null,null,null,30,37,null,null,213,0,null,null,0,0,null,null,0,1.21834687052078E-2,null,null,322,2.0544672718585798E-2,null,null,322,null,null,null,0,2.0544672718585798E-2,null,null,322,0.46341463414634099,null,null,322]
[null,"Syddjurs","2022-07-01",20222,4,null,null,168,14,null,null,168,11,null,null,168,113,null,null,168,23,null,null,168,0,null,null,168,5,null,null,32,null,null,null,20,null,null,null,20,null,null,null,12,19,null,null,117,0,null,null,0,0,null,null,0,2.7358058608058601E-2,null,null,168,8.9743589743589702E-2,null,null,168,null,null,null,0,8.9743589743589702E-2,null,null,168,0.52380952380952395,null,null,168]
[null,"Sønderborg","2022-07-01",20222,26,null,null,678,62,null,null,678,30,null,null,678,500,null,null,678,11,null,null,678,44,null,null,678,10,null,null,121,0,null,null,92,6,null,null,92,4,null,null,29,59,null,null,496,14,null,null,32,18,null,null,32,1.9400953029271601E-2,null,null,678,9.9018606761969594E-2,null,null,678,0.16520979020979101,null,null,44,9.4424896869691799E-2,null,null,634,0.466165413533835,null,null,678]
[null,"Thisted","2022-07-01",20222,null,null,null,267,39,null,null,267,null,null,null,267,169,null,null,267,26,null,null,267,16,null,null,267,3,null,null,null,0,null,null,null,0,null,null,null,3,null,null,14,20,null,null,168,null,null,null,null,null,null,null,null,1.3468740996830901E-2,null,null,267,5.2506482281763203E-2,null,null,267,7.8125E-2,null,null,16,5.08734293594853E-2,null,null,251,0.186046511627907,null,null,267]
[null,"Tønder","2022-07-01",20222,6,null,null,198,21,null,null,198,13,null,null,198,145,null,null,198,6,null,null,198,4,null,null,198,8,null,null,47,null,null,null,27,null,null,null,27,null,null,null,20,35,null,null,151,null,null,null,21,null,null,null,21,9.3240093240093205E-3,null,null,198,8.1099456099456096E-2,null,null,198,null,null,null,4,8.1185567010309295E-2,null,null,194,0.371428571428571,null,null,198]
[null,"Tårnby","2022-07-01",20222,11,null,null,125,4,null,null,125,23,null,null,125,63,null,null,125,null,null,null,125,0,null,null,125,4,null,null,40,0,null,null,17,null,null,null,17,null,null,null,23,4,null,null,59,0,null,null,0,0,null,null,0,7.3846153846153896E-3,null,null,125,4.1999999999999801E-2,null,null,125,null,null,null,0,4.1999999999999801E-2,null,null,125,0.46428571428571402,null,null,125]
[null,"Vallensbæk","2022-07-01",20222,3,null,null,39,0,null,null,39,5,null,null,39,24,null,null,39,null,null,null,39,3,null,null,39,null,null,null,null,0,null,null,null,0,null,null,null,null,null,null,6,4,null,null,24,null,null,null,null,null,null,null,null,5.1282051282051301E-2,null,null,39,0.110453648915187,null,null,39,null,null,null,3,9.4017094017094002E-2,null,null,36,null,null,null,39]
[null,"Varde","2022-07-01",20222,14,null,null,323,4,null,null,323,15,null,null,323,238,null,null,323,null,null,null,323,47,null,null,323,0,null,null,null,0,null,null,null,0,null,null,null,0,null,null,12,27,null,null,217,10,null,null,40,15,null,null,40,1.4348654441533701E-2,null,null,323,7.9661824243867599E-2,null,null,323,8.7152209492635094E-2,null,null,47,7.8386287625418105E-2,null,null,276,0.358024691358025,null,null,323]
[null,"Vejen","2022-07-01",20222,11,null,null,184,3,null,null,184,27,null,null,184,117,null,null,184,23,null,null,184,3,null,null,184,6,null,null,46,0,null,null,17,3,null,null,17,3,null,null,29,14,null,null,125,null,null,null,5,0,null,null,5,1.04515050167224E-4,null,null,184,6.7621237458193997E-2,null,null,184,null,null,null,3,6.87420314492138E-2,null,null,181,null,null,null,184]
[null,"Vejle","2022-07-01",20222,19,null,null,564,30,null,null,564,42,null,null,564,436,null,null,564,15,null,null,564,22,null,null,564,8,null,null,91,null,null,null,48,null,null,null,48,null,null,null,43,50,null,null,415,13,null,null,20,7,null,null,20,2.3492907801418401E-2,null,null,564,8.8959356246590293E-2,null,null,564,6.3811188811188801E-2,null,null,22,8.9980130570536498E-2,null,null,542,0.61502347417840397,null,null,564]
[null,"Vesthimmerlands","2022-07-01",20222,7,null,null,109,7,null,null,109,18,null,null,109,71,null,null,109,null,null,null,109,0,null,null,109,4,null,null,31,null,null,null,16,null,null,null,16,null,null,null,15,15,null,null,61,0,null,null,0,0,null,null,0,1.14678899082569E-2,null,null,109,3.4756527875793898E-2,null,null,109,null,null,null,0,3.4756527875793898E-2,null,null,109,0.37837837837837801,null,null,109]
[null,"Viborg","2022-07-01",20222,7,null,null,694,121,null,null,694,17,null,null,694,359,null,null,694,179,null,null,694,6,null,null,694,16,null,null,151,0,null,null,134,12,null,null,134,4,null,null,17,35,null,null,332,3,null,null,11,null,null,null,11,2.1613832853025899E-2,null,null,694,7.7754378186654899E-2,null,null,694,0.164835164835165,null,null,6,7.6867092150934999E-2,null,null,688,0.44295302013422799,null,null,694]
[null,"Vordingborg","2022-07-01",20222,12,null,null,424,33,null,null,424,30,null,null,424,277,null,null,424,46,null,null,424,20,null,null,424,null,null,null,74,0,null,null,45,0,null,null,45,null,null,null,29,24,null,null,271,8,null,null,17,0,null,null,17,2.0999637155297499E-2,null,null,424,4.8530478955007297E-2,null,null,424,0.13557692307692301,null,null,20,4.4221249047981699E-2,null,null,404,0.30769230769230799,null,null,424]
[null,"Ærø","2022-07-01",20222]
[null,"Aabenraa","2022-07-01",20222,5,null,null,71,3,null,null,71,6,null,null,71,44,null,null,71,null,null,null,71,8,null,null,71,null,null,null,16,0,null,null,10,null,null,null,10,0,null,null,6,7,null,null,43,null,null,null,6,null,null,null,6,3.6294691224268698E-2,null,null,71,0.11673889490790899,null,null,71,0.20432692307692299,null,null,8,0.105616605616606,null,null,63,null,null,null,71]
[null,"Aalborg","2022-07-01",20222,29,null,null,757,145,null,null,757,44,null,null,757,476,null,null,757,56,null,null,757,7,null,null,757,11,null,null,217,0,null,null,170,4,null,null,170,7,null,null,47,40,null,null,503,0,null,null,0,0,null,null,0,2.6420079260237798E-3,null,null,757,3.9960369881109702E-2,null,null,757,9.3406593406593394E-2,null,null,7,3.9461538461538499E-2,null,null,750,0.433823529411765,null,null,757]
[null,"Aarhus","2022-07-01",20222,50,null,null,2242,214,null,null,2242,132,null,null,2242,1551,null,null,2242,134,null,null,2242,147,null,null,2242,29,null,null,392,0,null,null,265,17,null,null,265,12,null,null,127,209,null,null,1551,93,null,null,124,10,null,null,124,5.4835998078638599E-2,null,null,2242,8.3116036505867005E-2,null,null,2242,0.14936775553213899,null,null,147,7.8501174398121001E-2,null,null,2095,0.53958944281524901,null,null,2242]
[null,"Albertslund","2023-01-01",20231,11,null,null,87,3,null,null,87,15,null,null,87,52,null,null,87,null,null,null,87,0,null,null,87,5,null,null,33,null,null,null,16,null,null,null,16,null,null,null,17,8,null,null,57,0,null,null,0,0,null,null,0,2.2988505747126398E-2,null,null,87,4.8187444739168903E-2,null,null,87,null,null,null,0,4.8187444739168903E-2,null,null,87,0.57142857142857095,null,null,87]
[null,"Allerød","2023-01-01",20231,7,null,null,34,5,null,null,34,4,null,null,34,18,null,null,34,0,null,null,34,0,null,null,34,null,null,null,17,0,null,null,13,null,null,null,13,null,null,null,4,0,null,null,18,0,null,null,0,0,null,null,0,0,null,null,34,0.12443438914027199,null,null,34,null,null,null,0,0.12443438914027199,null,null,34,0.69230769230769196,null,null,34]
[null,"Assens","2023-01-01",20231,10,null,null,263,25,null,null,263,23,null,null,263,169,null,null,263,32,null,null,263,0,null,null,263,3,null,null,53,0,null,null,33,null,null,null,33,null,null,null,20,9,null,null,156,0,null,null,0,0,null,null,0,5.7765428487862001E-3,null,null,263,5.6083650190114E-2,null,null,263,null,null,null,0,5.6083650190114E-2,null,null,263,0.40816326530612201,null,null,263]
[null,"Ballerup","2023-01-01",20231,20,null,null,257,17,null,null,257,36,null,null,257,168,null,null,257,12,null,null,257,0,null,null,257,9,null,null,80,null,null,null,37,null,null,null,37,null,null,null,43,22,null,null,154,0,null,null,0,0,null,null,0,1.7210416043100901E-2,null,null,257,5.08829691709069E-2,null,null,257,null,null,null,0,5.08829691709069E-2,null,null,257,0.26,null,null,257]
[null,"Billund","2023-01-01",20231,3,null,null,150,null,null,null,150,11,null,null,150,126,null,null,150,null,null,null,150,4,null,null,150,4,null,null,null,0,null,null,null,null,null,null,null,null,null,null,10,76,null,null,166,null,null,null,14,null,null,null,14,1.6538461538461498E-2,null,null,150,0.119615384615385,null,null,150,null,null,null,4,0.122892518440464,null,null,146,null,null,null,150]
[null,"Bornholm","2023-01-01",20231,null,null,null,205,null,null,null,205,19,null,null,205,167,null,null,205,null,null,null,205,null,null,null,205,3,null,null,null,0,null,null,null,null,null,null,null,null,null,null,21,13,null,null,167,0,null,null,null,0,null,null,null,4.4090056285178199E-3,null,null,205,8.0206378986866805E-2,null,null,205,null,null,null,null,8.0206378986866805E-2,null,null,null,0.51315789473684204,null,null,205]
[null,"Brøndby","2023-01-01",20231,11,null,null,102,null,null,null,102,12,null,null,102,71,null,null,102,4,null,null,102,0,null,null,102,3,null,null,null,0,null,null,null,null,null,null,null,null,null,null,12,3,null,null,67,0,null,null,0,0,null,null,0,9.8039215686274508E-3,null,null,102,2.8469079939668199E-2,null,null,102,null,null,null,0,2.8469079939668199E-2,null,null,102,0.53846153846153799,null,null,102]
[null,"Brønderslev","2023-01-01",20231,9,null,null,183,9,null,null,183,7,null,null,183,145,null,null,183,null,null,null,183,0,null,null,183,10,null,null,28,0,null,null,21,5,null,null,21,5,null,null,7,55,null,null,155,4,null,null,7,3,null,null,7,9.6679277007145903E-3,null,null,183,9.5628415300546402E-2,null,null,183,null,null,null,0,9.5628415300546402E-2,null,null,183,0.173913043478261,null,null,183]
[null,"Esbjerg","2023-01-01",20231,14,null,null,430,33,null,null,430,33,null,null,430,256,null,null,430,null,null,null,430,41,null,null,430,null,null,null,81,0,null,null,45,0,null,null,45,null,null,null,36,27,null,null,269,8,null,null,49,0,null,null,49,1.99016100178891E-2,null,null,430,9.0518783542039405E-2,null,null,430,0.116791744840525,null,null,41,8.7749653945026707E-2,null,null,389,0.46086956521739098,null,null,430]
[null,"Favrskov","2023-01-01",20231,4,null,null,146,26,null,null,146,15,null,null,146,98,null,null,146,null,null,null,146,0,null,null,146,null,null,null,42,0,null,null,30,null,null,null,30,0,null,null,12,14,null,null,105,0,null,null,0,0,null,null,0,3.0295047418335101E-3,null,null,146,0.103003161222339,null,null,146,null,null,null,0,0.103003161222339,null,null,146,0.45,null,null,146]
[null,"Faxe","2023-01-01",20231,7,null,null,183,17,null,null,183,28,null,null,183,124,null,null,183,null,null,null,183,0,null,null,183,4,null,null,51,null,null,null,24,null,null,null,24,null,null,null,27,14,null,null,120,0,null,null,0,0,null,null,0,1.4501891551071899E-2,null,null,183,0.10666246321984001,null,null,183,null,null,null,0,0.10666246321984001,null,null,183,0.32142857142857101,null,null,183]
[null,"Fredensborg","2023-01-01",20231,25,null,null,135,4,null,null,135,23,null,null,135,48,null,null,135,11,null,null,135,20,null,null,135,3,null,null,54,0,null,null,30,null,null,null,30,null,null,null,24,6,null,null,50,7,null,null,20,null,null,null,20,3.1623931623931699E-2,null,null,135,2.96296296296296E-2,null,null,135,4.8076923076923097E-3,null,null,20,3.3946488294314403E-2,null,null,115,0.57142857142857095,null,null,135]
[null,"Fredericia","2023-01-01",20231,25,null,null,232,0,null,null,232,33,null,null,232,153,null,null,232,null,null,null,232,0,null,null,232,5,null,null,null,null,null,null,null,null,null,null,null,null,null,null,32,25,null,null,165,0,null,null,null,0,null,null,null,5.2221485411140601E-3,null,null,232,6.24171087533157E-2,null,null,232,null,null,null,0,6.24171087533157E-2,null,null,232,0.72641509433962304,null,null,232]
[null,"Frederiksberg","2023-01-01",20231,31,null,null,260,9,null,null,260,64,null,null,260,139,null,null,260,8,null,null,260,5,null,null,260,8,null,null,107,null,null,null,41,null,null,null,41,null,null,null,66,8,null,null,120,5,null,null,5,0,null,null,5,2.8994082840236701E-2,null,null,260,4.4896449704142E-2,null,null,260,0,null,null,5,4.57767722473605E-2,null,null,255,0.31081081081081102,null,null,260]
[null,"Frederikshavn","2023-01-01",20231,13,null,null,532,56,null,null,532,28,null,null,532,380,null,null,532,37,null,null,532,18,null,null,532,8,null,null,91,0,null,null,68,5,null,null,68,3,null,null,23,56,null,null,403,null,null,null,8,null,null,null,8,1.07721226142279E-2,null,null,532,6.1162521688837498E-2,null,null,532,0.11111111111111099,null,null,18,5.9413349296617797E-2,null,null,514,0.29411764705882398,null,null,532]
[null,"Frederikssund","2023-01-01",20231,16,null,null,193,4,null,null,193,38,null,null,193,105,null,null,193,8,null,null,193,22,null,null,193,4,null,null,56,null,null,null,21,null,null,null,21,null,null,null,35,18,null,null,104,5,null,null,15,null,null,null,15,1.3252291749701099E-2,null,null,193,9.0573933838182505E-2,null,null,193,0.22727272727272699,null,null,22,7.2986954565901901E-2,null,null,171,0.77906976744186096,null,null,193]
[null,"Furesø","2023-01-01",20231,13,null,null,251,7,null,null,251,27,null,null,251,139,null,null,251,7,null,null,251,58,null,null,251,4,null,null,50,0,null,null,20,0,null,null,20,4,null,null,30,15,null,null,146,22,null,null,43,null,null,null,43,1.34079068342017E-2,null,null,251,0.12572785779957099,null,null,251,0.233090185676393,null,null,58,9.3463531287365495E-2,null,null,193,0.5,null,null,251]
[null,"Faaborg-Midtfyn","2023-01-01",20231,13,null,null,413,12,null,null,413,26,null,null,413,281,null,null,413,34,null,null,413,47,null,null,413,6,null,null,55,null,null,null,27,null,null,null,27,null,null,null,28,31,null,null,272,6,null,null,39,3,null,null,39,1.3736263736259999E-2,null,null,413,5.7040417209908698E-2,null,null,413,6.3829787234042604E-2,null,null,47,5.6168558217738598E-2,null,null,366,0.36363636363636398,null,null,413]
[null,"Gentofte","2023-01-01",20231,12,null,null,162,23,null,null,162,25,null,null,162,86,null,null,162,7,null,null,162,9,null,null,162,3,null,null,62,0,null,null,35,0,null,null,35,3,null,null,27,10,null,null,87,7,null,null,11,0,null,null,11,2.8252611585944901E-2,null,null,162,7.0156695156695204E-2,null,null,162,0.1,null,null,9,6.8193319838056696E-2,null,null,153,0.59459459459459496,null,null,162]
[null,"Gladsaxe","2023-01-01",20231,20,null,null,147,14,null,null,147,17,null,null,147,67,null,null,147,16,null,null,147,13,null,null,147,5,null,null,52,null,null,null,35,null,null,null,35,null,null,null,17,16,null,null,75,null,null,null,20,null,null,null,20,6.1486132914704301E-3,null,null,147,4.50026164311879E-2,null,null,147,0.201183431952663,null,null,13,2.9850746268656699E-2,null,null,134,0.55223880597014896,null,null,147]
[null,"Glostrup","2023-01-01",20231,16,null,null,192,18,null,null,192,17,null,null,192,93,null,null,192,31,null,null,192,9,null,null,192,4,null,null,53,0,null,null,35,null,null,null,35,null,null,null,18,16,null,null,98,null,null,null,9,0,null,null,9,1.7127403846153799E-2,null,null,192,6.37019230769231E-2,null,null,192,5.9829059829059797E-2,null,null,9,6.3892391761244199E-2,null,null,183,0.37931034482758602,null,null,192]
[null,"Greve","2023-01-01",20231,17,null,null,227,11,null,null,227,52,null,null,227,120,null,null,227,23,null,null,227,4,null,null,227,3,null,null,73,0,null,null,29,null,null,null,29,null,null,null,44,3,null,null,112,null,null,null,4,null,null,null,4,4.0664181633344601E-3,null,null,227,9.7932904100305002E-2,null,null,227,null,null,null,4,9.52914798206278E-2,null,null,223,0.47058823529411797,null,null,227]
[null,"Gribskov","2023-01-01",20231,7,null,null,165,9,null,null,165,28,null,null,165,105,null,null,165,null,null,null,165,12,null,null,165,3,null,null,46,0,null,null,17,null,null,null,17,null,null,null,29,13,null,null,103,4,null,null,8,null,null,null,8,3.5780885780885799E-2,null,null,165,7.4825174825174798E-2,null,null,165,0,null,null,12,8.0693815987933695E-2,null,null,153,0.16666666666666699,null,null,165]
[null,"Guldborgsund","2023-01-01",20231,40,null,null,539,15,null,null,539,48,null,null,539,407,null,null,539,null,null,null,539,0,null,null,539,7,null,null,93,0,null,null,49,3,null,null,49,4,null,null,44,51,null,null,390,0,null,null,0,0,null,null,0,3.1040388183245299E-2,null,null,539,4.9985728557157098E-2,null,null,539,null,null,null,0,4.9985728557157098E-2,null,null,539,0.63636363636363602,null,null,539]
[null,"Haderslev","2023-01-01",20231,8,null,null,202,15,null,null,202,17,null,null,202,157,null,null,202,null,null,null,202,null,null,null,202,7,null,null,44,0,null,null,26,3,null,null,26,4,null,null,18,12,null,null,154,0,null,null,null,0,null,null,null,1.07578065498858E-2,null,null,202,5.6169078446306302E-2,null,null,202,null,null,null,null,5.6346153846153997E-2,null,null,null,0.63461538461538503,null,null,202]
[null,"Halsnæs","2023-01-01",20231,10,null,null,118,11,null,null,118,13,null,null,118,81,null,null,118,null,null,null,118,0,null,null,118,null,null,null,32,0,null,null,18,0,null,null,18,null,null,null,14,11,null,null,87,null,null,null,3,null,null,null,3,1.7764015645371601E-2,null,null,118,3.1127770534550198E-2,null,null,118,null,null,null,0,3.1127770534550198E-2,null,null,118,0.55263157894736803,null,null,118]
[null,"Hedensted","2023-01-01",20231,9,null,null,216,15,null,null,216,13,null,null,216,144,null,null,216,7,null,null,216,24,null,null,216,null,null,null,38,0,null,null,25,null,null,null,25,0,null,null,13,22,null,null,153,8,null,null,13,0,null,null,13,6.1431623931623904E-3,null,null,216,9.0633903133903196E-2,null,null,216,0.22996794871794901,null,null,24,7.3217147435897495E-2,null,null,192,0.42553191489361702,null,null,216]
[null,"Helsingør","2023-01-01",20231,40,null,null,218,4,null,null,218,50,null,null,218,88,null,null,218,13,null,null,218,23,null,null,218,10,null,null,95,0,null,null,46,5,null,null,46,5,null,null,49,4,null,null,85,4,null,null,18,null,null,null,18,1.7025405786873699E-2,null,null,218,4.86944248412138E-2,null,null,218,0.18896321070234101,null,null,23,3.2149901380670601E-2,null,null,195,0.58974358974358998,null,null,218]
[null,"Herlev","2023-01-01",20231,17,null,null,143,6,null,null,143,26,null,null,143,80,null,null,143,null,null,null,143,9,null,null,143,null,null,null,49,0,null,null,23,0,null,null,23,null,null,null,26,13,null,null,83,0,null,null,0,0,null,null,0,2.7703066164604599E-2,null,null,143,8.1091984938138795E-2,null,null,143,0.394230769230769,null,null,9,6.2535612535612503E-2,null,null,134,0.36363636363636398,null,null,143]
[null,"Herning","2023-01-01",20231,20,null,null,360,34,null,null,360,15,null,null,360,247,null,null,360,8,null,null,360,31,null,null,360,7,null,null,73,0,null,null,56,4,null,null,56,3,null,null,17,27,null,null,249,8,null,null,28,6,null,null,28,1.55448717948718E-2,null,null,360,8.8087606837606899E-2,null,null,360,0.20719602977667501,null,null,31,7.6864624736965204E-2,null,null,329,0.45283018867924502,null,null,360]
[null,"Hillerød","2023-01-01",20231,14,null,null,286,null,null,null,286,29,null,null,286,152,null,null,286,11,null,null,286,73,null,null,286,8,null,null,null,0,null,null,null,0,null,null,null,8,null,null,32,16,null,null,146,23,null,null,36,4,null,null,36,6.9459386767079107E-2,null,null,286,6.8047337278106496E-2,null,null,286,0.13092729188619601,null,null,73,4.6496930299747198E-2,null,null,213,0.47916666666666702,null,null,286]
[null,"Hjørring","2023-01-01",20231,18,null,null,506,69,null,null,506,54,null,null,506,293,null,null,506,11,null,null,506,57,null,null,506,10,null,null,143,0,null,null,87,4,null,null,87,6,null,null,56,25,null,null,291,21,null,null,47,3,null,null,47,2.3487382183034401E-2,null,null,506,8.4296138643964694E-2,null,null,506,0.13394062078272601,null,null,57,7.7993832448175399E-2,null,null,449,0.18,null,null,506]
[null,"Holbæk","2023-01-01",20231,null,null,null,363,58,null,null,363,41,null,null,363,251,null,null,363,8,null,null,363,null,null,null,363,9,null,null,null,0,null,null,null,4,null,null,null,5,null,null,39,30,null,null,264,null,null,null,null,null,null,null,null,2.56940029667302E-2,null,null,363,6.7652044924772198E-2,null,null,363,null,null,null,null,6.5256765395269603E-2,null,null,null,0.42424242424242398,null,null,363]
[null,"Holstebro","2023-01-01",20231,16,null,null,227,44,null,null,227,13,null,null,227,139,null,null,227,12,null,null,227,3,null,null,227,4,null,null,69,null,null,null,58,null,null,null,58,null,null,null,11,12,null,null,138,null,null,null,4,0,null,null,4,1.2792273805489701E-2,null,null,227,6.8790240596407995E-2,null,null,227,null,null,null,3,6.9711538461538505E-2,null,null,224,0.60714285714285698,null,null,227]
[null,"Horsens","2023-01-01",20231,39,null,null,536,55,null,null,536,46,null,null,536,283,null,null,536,57,null,null,536,53,null,null,536,5,null,null,142,null,null,null,96,null,null,null,96,null,null,null,46,25,null,null,273,25,null,null,54,14,null,null,54,1.66475315729047E-2,null,null,536,6.4939724454649794E-2,null,null,536,0.13636363636363599,null,null,53,5.6772749080441401E-2,null,null,483,0.45631067961165001,null,null,536]
[null,"Hvidovre","2023-01-01",20231,27,null,null,268,21,null,null,268,38,null,null,268,144,null,null,268,null,null,null,268,0,null,null,268,3,null,null,82,0,null,null,48,null,null,null,48,null,null,null,34,17,null,null,147,0,null,null,0,0,null,null,0,3.3151549942594699E-2,null,null,268,5.9199196326061999E-2,null,null,268,null,null,null,0,5.9199196326061999E-2,null,null,268,0.59459459459459496,null,null,268]
[null,"Høje-Taastrup","2023-01-01",20231,16,null,null,299,33,null,null,299,15,null,null,299,158,null,null,299,6,null,null,299,58,null,null,299,6,null,null,67,null,null,null,49,null,null,null,49,null,null,null,18,17,null,null,152,30,null,null,61,8,null,null,61,4.1098533573450002E-2,null,null,299,0.100720349884229,null,null,299,0.18965517241379301,null,null,58,7.9316948611554403E-2,null,null,241,0.44736842105263203,null,null,299]
[null,"Hørsholm","2023-01-01",20231,10,null,null,70,null,null,null,70,17,null,null,70,35,null,null,70,3,null,null,70,null,null,null,70,null,null,null,30,0,null,null,13,0,null,null,13,null,null,null,17,null,null,null,37,0,null,null,0,0,null,null,0,5.1648351648351701E-2,null,null,70,6.7857142857142394E-2,null,null,70,null,null,null,null,6.9852941176470104E-2,null,null,null,null,null,null,70]
[null,"Ikast-Brande","2023-01-01",20231,null,null,null,160,30,null,null,160,10,null,null,160,94,null,null,160,null,null,null,160,22,null,null,160,4,null,null,null,null,null,null,null,null,null,null,null,0,null,null,8,4,null,null,88,12,null,null,26,null,null,null,26,2.0312500000000001E-2,null,null,160,7.2235576923076902E-2,null,null,160,9.9650349650349704E-2,null,null,22,6.7865105908584203E-2,null,null,138,0.784810126582278,null,null,160]
[null,"Ishøj","2023-01-01",20231,14,null,null,85,3,null,null,85,11,null,null,85,40,null,null,85,5,null,null,85,6,null,null,85,null,null,null,null,0,null,null,null,null,null,null,null,null,null,null,10,10,null,null,37,3,null,null,7,null,null,null,7,4.8868778280543097E-2,null,null,85,6.0859728506787301E-2,null,null,85,0.131410256410257,null,null,6,5.5501460564751699E-2,null,null,79,null,null,null,85]
[null,"Jammerbugt","2023-01-01",20231,4,null,null,181,29,null,null,181,9,null,null,181,127,null,null,181,6,null,null,181,3,null,null,181,5,null,null,46,null,null,null,36,null,null,null,36,null,null,null,10,18,null,null,129,3,null,null,3,0,null,null,3,0,null,null,181,9.1903952401189995E-2,null,null,181,null,null,null,3,9.1508210890233393E-2,null,null,178,0.17241379310344801,null,null,181]
[null,"Kalundborg","2023-01-01",20231,19,null,null,543,63,null,null,543,64,null,null,543,375,null,null,543,18,null,null,543,0,null,null,543,9,null,null,148,null,null,null,77,null,null,null,77,null,null,null,71,28,null,null,391,0,null,null,0,0,null,null,0,2.6526420172829E-2,null,null,543,7.3027340983142106E-2,null,null,543,null,null,null,0,7.3027340983142106E-2,null,null,543,0.339622641509434,null,null,543]
[null,"Kerteminde","2023-01-01",20231,5,null,null,140,5,null,null,140,9,null,null,140,83,null,null,140,16,null,null,140,13,null,null,140,4,null,null,20,0,null,null,11,null,null,null,11,null,null,null,9,11,null,null,87,null,null,null,10,null,null,null,10,8.5164835164835192E-3,null,null,140,4.6153846153846198E-2,null,null,140,0.201183431952663,null,null,13,3.0284675953967301E-2,null,null,127,null,null,null,140]
[null,"Kolding","2023-01-01",20231,26,null,null,417,null,null,null,417,24,null,null,417,314,null,null,417,null,null,null,417,39,null,null,417,null,null,null,null,0,null,null,null,0,null,null,null,null,null,null,21,32,null,null,288,22,null,null,34,8,null,null,34,2.8776978417266199E-2,null,null,417,9.1818852610219506E-2,null,null,417,0.14792899408283999,null,null,39,8.6029711029711103E-2,null,null,378,0.59504132231405005,null,null,417]
[null,"København","2023-01-01",20231,494,null,null,2164,499,null,null,2164,298,null,null,2164,790,null,null,2164,47,null,null,2164,20,null,null,2164,50,null,null,1267,0,null,null,984,33,null,null,984,17,null,null,283,157,null,null,811,4,null,null,9,0,null,null,9,3.1849850703824803E-2,null,null,2164,4.9614318214133403E-2,null,null,2164,0.27980769230769198,null,null,20,4.7466991963260603E-2,null,null,2144,0.45492371705963902,null,null,2164]
[null,"Køge","2023-01-01",20231,33,null,null,251,3,null,null,251,40,null,null,251,162,null,null,251,10,null,null,251,0,null,null,251,6,null,null,77,0,null,null,38,3,null,null,38,3,null,null,39,10,null,null,150,0,null,null,0,0,null,null,0,7.9681274900398405E-3,null,null,251,3.9687404229236903E-2,null,null,251,null,null,null,0,3.9687404229236903E-2,null,null,251,0.57291666666666696,null,null,251]
[null,"Langeland","2023-01-01",20231,5,null,null,100,18,null,null,100,16,null,null,100,57,null,null,100,4,null,null,100,0,null,null,100,0,null,null,37,0,null,null,22,0,null,null,22,0,null,null,15,5,null,null,52,0,null,null,0,0,null,null,0,1.32692307692308E-2,null,null,100,7.5576923076923097E-2,null,null,100,null,null,null,0,7.5576923076923097E-2,null,null,100,null,null,null,100]
[null,"Lejre","2023-01-01",20231,12,null,null,127,12,null,null,127,12,null,null,127,77,null,null,127,3,null,null,127,6,null,null,127,null,null,null,37,0,null,null,24,0,null,null,24,null,null,null,13,7,null,null,68,null,null,null,6,null,null,null,6,8.3282858873410092E-3,null,null,127,9.7213809812235E-2,null,null,127,3.2051282051282097E-2,null,null,6,0.10044500953591901,null,null,121,0.3,null,null,127]
[null,"Lemvig","2023-01-01",20231,6,null,null,113,13,null,null,113,11,null,null,113,71,null,null,113,3,null,null,113,9,null,null,113,null,null,null,29,null,null,null,21,null,null,null,21,0,null,null,8,10,null,null,70,3,null,null,10,4,null,null,10,1.2593601089176299E-2,null,null,113,0.104663036078965,null,null,113,0,null,null,9,0.11372041420118301,null,null,104,null,null,null,113]
[null,"Lolland","2023-01-01",20231,14,null,null,441,9,null,null,441,58,null,null,441,351,null,null,441,6,null,null,441,0,null,null,441,9,null,null,71,null,null,null,23,null,null,null,23,null,null,null,48,43,null,null,330,0,null,null,0,0,null,null,0,2.7385313099598799E-2,null,null,441,7.2605965463108393E-2,null,null,441,null,null,null,0,7.2605965463108393E-2,null,null,441,0.28070175438596501,null,null,441]
[null,"Lyngby-Taarbæk","2023-01-01",20231,14,null,null,212,27,null,null,212,24,null,null,212,111,null,null,212,null,null,null,212,11,null,null,212,5,null,null,65,null,null,null,44,null,null,null,44,null,null,null,21,9,null,null,109,3,null,null,7,null,null,null,7,1.44230769230769E-2,null,null,212,7.3748185776487701E-2,null,null,212,0.12762237762237799,null,null,11,7.0799846919249898E-2,null,null,201,0.41509433962264197,null,null,212]
[null,"Mariagerfjord","2023-01-01",20231,3,null,null,161,5,null,null,161,21,null,null,161,128,null,null,161,null,null,null,161,0,null,null,161,3,null,null,null,0,null,null,null,null,null,null,null,null,null,null,20,77,null,null,200,0,null,null,null,0,null,null,null,2.6397515527950301E-2,null,null,161,6.9756330625895799E-2,null,null,161,null,null,null,0,6.9756330625895799E-2,null,null,161,0.4,null,null,161]
[null,"Middelfart","2023-01-01",20231,9,null,null,187,19,null,null,187,17,null,null,187,96,null,null,187,26,null,null,187,20,null,null,187,4,null,null,46,null,null,null,29,null,null,null,29,null,null,null,17,6,null,null,89,5,null,null,13,null,null,null,13,4.62772521596051E-3,null,null,187,6.4171122994652399E-2,null,null,187,0.21153846153846201,null,null,20,4.65223399355136E-2,null,null,167,0.375,null,null,187]
[null,"Morsø","2023-01-01",20231,10,null,null,164,27,null,null,164,26,null,null,164,82,null,null,164,19,null,null,164,0,null,null,164,4,null,null,59,0,null,null,35,0,null,null,35,4,null,null,24,10,null,null,82,0,null,null,0,0,null,null,0,0,null,null,164,6.9301125703564698E-2,null,null,164,null,null,null,0,6.9301125703564698E-2,null,null,164,null,null,null,164]
[null,"Norddjurs","2023-01-01",20231,5,null,null,255,26,null,null,255,4,null,null,255,182,null,null,255,null,null,null,255,12,null,null,255,null,null,null,33,0,null,null,30,0,null,null,30,null,null,null,3,22,null,null,193,4,null,null,11,0,null,null,11,8.8235294117647092E-3,null,null,255,8.1297134238310698E-2,null,null,255,0.28525641025641002,null,null,12,7.1225071225071199E-2,null,null,243,0.42553191489361702,null,null,255]
[null,"Nordfyns","2023-01-01",20231,3,null,null,118,20,null,null,118,10,null,null,118,61,null,null,118,15,null,null,118,4,null,null,118,null,null,null,33,0,null,null,24,null,null,null,24,0,null,null,9,8,null,null,64,0,null,null,5,null,null,null,5,8.4745762711864406E-3,null,null,118,3.6342894393741901E-2,null,null,118,null,null,null,4,3.7618083670715202E-2,null,null,114,0.6,null,null,118]
[null,"Nyborg","2023-01-01",20231,11,null,null,159,28,null,null,159,14,null,null,159,76,null,null,159,null,null,null,159,23,null,null,159,3,null,null,51,0,null,null,39,null,null,null,39,null,null,null,12,25,null,null,95,8,null,null,25,null,null,null,25,2.34639574262216E-2,null,null,159,4.7653604257377802E-2,null,null,159,7.4414715719063607E-2,null,null,23,4.3127828054298697E-2,null,null,136,0.46428571428571402,null,null,159]
[null,"Næstved","2023-01-01",20231,29,null,null,598,25,null,null,598,94,null,null,598,432,null,null,598,14,null,null,598,0,null,null,598,10,null,null,146,null,null,null,53,null,null,null,53,null,null,null,93,37,null,null,411,0,null,null,0,0,null,null,0,2.8878312323128399E-2,null,null,598,5.2804219192179001E-2,null,null,598,null,null,null,0,5.2804219192179001E-2,null,null,598,0.52142857142857102,null,null,598]
[null,"Odder","2023-01-01",20231,null,null,null,132,null,null,null,132,5,null,null,132,111,null,null,132,7,null,null,132,4,null,null,132,0,null,null,null,0,null,null,null,0,null,null,null,0,null,null,4,6,null,null,100,null,null,null,8,null,null,null,8,1.6025641025641E-2,null,null,132,8.3187645687645695E-2,null,null,132,null,null,null,4,7.9176682692307696E-2,null,null,128,0.296296296296296,null,null,132]
[null,"Odense","2023-01-01",20231,49,null,null,832,59,null,null,832,70,null,null,832,550,null,null,832,94,null,null,832,0,null,null,832,17,null,null,181,0,null,null,118,12,null,null,118,5,null,null,63,46,null,null,555,0,null,null,0,0,null,null,0,7.3964497041420097E-3,null,null,832,3.6866678994082802E-2,null,null,832,null,null,null,0,3.6866678994082802E-2,null,null,832,0.65205479452054804,null,null,832]
[null,"Odsherred","2023-01-01",20231,20,null,null,151,15,null,null,151,16,null,null,151,75,null,null,151,null,null,null,151,16,null,null,151,3,null,null,50,0,null,null,34,null,null,null,34,null,null,null,16,11,null,null,85,7,null,null,12,null,null,null,12,1.3245033112582801E-2,null,null,151,2.41976566479878E-2,null,null,151,9.1346153846153799E-2,null,null,16,1.6239316239316199E-2,null,null,135,0.45454545454545497,null,null,151]
[null,"Randers","2023-01-01",20231,8,null,null,238,45,null,null,238,23,null,null,238,149,null,null,238,6,null,null,238,4,null,null,238,5,null,null,75,0,null,null,55,5,null,null,55,0,null,null,20,27,null,null,139,3,null,null,6,0,null,null,6,8.3225597931480301E-3,null,null,238,4.3228829993535903E-2,null,null,238,null,null,null,4,4.3967784352399703E-2,null,null,234,0.41666666666666702,null,null,238]
[null,"Rebild","2023-01-01",20231,9,null,null,117,17,null,null,117,13,null,null,117,74,null,null,117,4,null,null,117,0,null,null,117,3,null,null,41,0,null,null,26,0,null,null,26,3,null,null,15,11,null,null,73,0,null,null,0,0,null,null,0,1.0026298487836901E-2,null,null,117,7.4621959237343799E-2,null,null,117,null,null,null,0,7.4621959237343799E-2,null,null,117,0.33333333333333298,null,null,117]
[null,"Ringkøbing-Skjern","2023-01-01",20231,20,null,null,424,42,null,null,424,45,null,null,424,252,null,null,424,23,null,null,424,33,null,null,424,15,null,null,110,null,null,null,59,null,null,null,59,null,null,null,51,24,null,null,249,20,null,null,23,null,null,null,23,6.2137155297532698E-3,null,null,424,0.104499274310595,null,null,424,0.17074592074592099,null,null,33,9.8908125122958906E-2,null,null,391,0.51162790697674398,null,null,424]
[null,"Ringsted","2023-01-01",20231,6,null,null,136,8,null,null,136,14,null,null,136,92,null,null,136,6,null,null,136,10,null,null,136,null,null,null,29,0,null,null,14,0,null,null,14,null,null,null,15,6,null,null,88,4,null,null,7,null,null,null,7,7.3529411764705899E-3,null,null,136,5.7550904977375597E-2,null,null,136,8.0769230769230801E-2,null,null,10,5.5708180708180698E-2,null,null,126,0.39393939393939398,null,null,136]
[null,"Roskilde","2023-01-01",20231,10,null,null,347,49,null,null,347,51,null,null,347,179,null,null,347,15,null,null,347,38,null,null,347,8,null,null,105,null,null,null,61,null,null,null,61,null,null,null,44,17,null,null,187,27,null,null,44,3,null,null,44,3.7630237197960499E-2,null,null,347,6.3455996453114602E-2,null,null,347,9.4635627530364405E-2,null,null,38,5.9621608165297497E-2,null,null,309,0.64367816091954,null,null,347]
[null,"Rudersdal","2023-01-01",20231,6,null,null,184,32,null,null,184,13,null,null,184,108,null,null,184,null,null,null,184,21,null,null,184,null,null,null,52,0,null,null,39,null,null,null,39,0,null,null,13,17,null,null,110,null,null,null,9,null,null,null,9,4.4627926421404701E-2,null,null,184,9.0196488294314398E-2,null,null,184,0.19230769230769201,null,null,21,7.7041057102406801E-2,null,null,163,0.55813953488372103,null,null,184]
[null,"Rødovre","2023-01-01",20231,13,null,null,245,15,null,null,245,30,null,null,245,171,null,null,245,3,null,null,245,10,null,null,245,4,null,null,59,null,null,null,28,null,null,null,28,null,null,null,31,17,null,null,174,5,null,null,8,null,null,null,8,2.7001569858712701E-2,null,null,245,7.2762951334379905E-2,null,null,245,0.17307692307692299,null,null,10,6.8494271685761096E-2,null,null,235,0.28000000000000003,null,null,245]
[null,"Silkeborg","2023-01-01",20231,28,null,null,601,37,null,null,601,118,null,null,601,356,null,null,601,36,null,null,601,19,null,null,601,17,null,null,193,0,null,null,65,3,null,null,65,14,null,null,128,47,null,null,361,4,null,null,19,8,null,null,19,2.2078586970433901E-2,null,null,601,8.3578650966338194E-2,null,null,601,0.11336032388664,null,null,19,8.26063970393867E-2,null,null,582,0.53846153846153799,null,null,601]
[null,"Skanderborg","2023-01-01",20231,4,null,null,356,26,null,null,356,22,null,null,356,276,null,null,356,null,null,null,356,16,null,null,356,6,null,null,52,0,null,null,28,0,null,null,28,6,null,null,24,26,null,null,268,10,null,null,20,null,null,null,20,1.51793431287813E-2,null,null,356,0.12959161624891999,null,null,356,3.7259615384615398E-2,null,null,16,0.13393665158370999,null,null,340,0.52631578947368396,null,null,356]
[null,"Skive","2023-01-01",20231,3,null,null,284,22,null,null,284,6,null,null,284,220,null,null,284,9,null,null,284,21,null,null,284,3,null,null,28,0,null,null,20,null,null,null,20,null,null,null,8,25,null,null,216,null,null,null,12,null,null,null,12,2.2616468039003301E-2,null,null,284,0.12777627302275199,null,null,284,0.16208791208791201,null,null,21,0.125036560397777,null,null,263,0.30769230769230799,null,null,284]
[null,"Slagelse","2023-01-01",20231,15,null,null,323,27,null,null,323,28,null,null,323,240,null,null,323,null,null,null,323,8,null,null,323,5,null,null,67,null,null,null,41,null,null,null,41,null,null,null,26,25,null,null,243,null,null,null,35,null,null,null,35,2.2148130507263601E-2,null,null,323,6.9957132650631096E-2,null,null,323,0.120192307692308,null,null,8,6.8681318681318701E-2,null,null,315,0.40983606557377,null,null,323]
[null,"Solrød","2023-01-01",20231,8,null,null,121,4,null,null,121,8,null,null,121,95,null,null,121,null,null,null,121,3,null,null,121,null,null,null,19,0,null,null,12,null,null,null,12,0,null,null,7,0,null,null,81,null,null,null,null,null,null,null,null,8.2644628099173608E-3,null,null,121,0.17959313413858899,null,null,121,null,null,null,3,0.18415906127770501,null,null,118,null,null,null,121]
[null,"Sorø","2023-01-01",20231,10,null,null,161,13,null,null,161,22,null,null,161,102,null,null,161,null,null,null,161,0,null,null,161,9,null,null,46,null,null,null,29,null,null,null,29,3,null,null,17,12,null,null,101,5,null,null,5,0,null,null,5,8.2417582417582402E-3,null,null,161,5.9245102723363599E-2,null,null,161,null,null,null,0,5.9245102723363599E-2,null,null,161,0.527272727272727,null,null,161]
[null,"Stevns","2023-01-01",20231,null,null,null,137,9,null,null,137,14,null,null,137,110,null,null,137,null,null,null,137,0,null,null,137,null,null,null,null,0,null,null,null,0,null,null,null,null,null,null,14,11,null,null,111,0,null,null,0,0,null,null,0,9.9663110612015701E-3,null,null,137,9.9943851768669295E-2,null,null,137,null,null,null,0,9.9943851768669295E-2,null,null,137,0.33333333333333298,null,null,137]
[null,"Struer","2023-01-01",20231,null,null,null,62,14,null,null,62,10,null,null,62,32,null,null,62,null,null,null,62,null,null,null,62,null,null,null,null,0,null,null,null,null,null,null,null,0,null,null,9,null,null,null,28,0,null,null,0,0,null,null,0,3.1017369727047099E-2,null,null,62,2.94665012406948E-2,null,null,62,null,null,null,null,2.94665012406948E-2,null,null,null,0.44,null,null,62]
[null,"Svendborg","2023-01-01",20231,20,null,null,323,18,null,null,323,31,null,null,323,209,null,null,323,45,null,null,323,0,null,null,323,5,null,null,69,null,null,null,38,null,null,null,38,null,null,null,31,33,null,null,210,0,null,null,0,0,null,null,0,1.417004048583E-2,null,null,323,3.2567277923315097E-2,null,null,323,null,null,null,0,3.2567277923315097E-2,null,null,323,0.42622950819672101,null,null,323]
[null,"Syddjurs","2023-01-01",20231,4,null,null,166,14,null,null,166,12,null,null,166,114,null,null,166,19,null,null,166,0,null,null,166,null,null,null,29,0,null,null,18,0,null,null,18,null,null,null,11,20,null,null,113,0,null,null,0,0,null,null,0,7.8776645041705295E-3,null,null,166,8.4916589434661696E-2,null,null,166,null,null,null,0,8.4916589434661696E-2,null,null,166,0.8,null,null,166]
[null,"Sønderborg","2023-01-01",20231,25,null,null,682,60,null,null,682,30,null,null,682,511,null,null,682,12,null,null,682,38,null,null,682,11,null,null,118,0,null,null,88,6,null,null,88,5,null,null,30,71,null,null,500,19,null,null,44,25,null,null,44,2.0443266411008298E-2,null,null,682,0.10438754793593499,null,null,682,0.198886639676113,null,null,38,9.8811514572384199E-2,null,null,644,0.550632911392405,null,null,682]
[null,"Thisted","2023-01-01",20231,null,null,null,267,39,null,null,267,18,null,null,267,164,null,null,267,27,null,null,267,null,null,null,267,null,null,null,null,0,null,null,null,null,null,null,null,null,null,null,null,22,null,null,169,null,null,null,16,null,null,null,16,1.74301354076635E-2,null,null,267,5.1714203399596703E-2,null,null,267,0.105203619909502,null,null,null,4.80769230769231E-2,null,null,null,0.209302325581395,null,null,267]
[null,"Tønder","2023-01-01",20231,6,null,null,191,23,null,null,191,16,null,null,191,133,null,null,191,7,null,null,191,3,null,null,191,null,null,null,40,0,null,null,27,0,null,null,27,null,null,null,13,26,null,null,145,null,null,null,4,null,null,null,4,1.21828433346758E-2,null,null,191,8.5884011276681493E-2,null,null,191,null,null,null,3,8.6333878887070406E-2,null,null,188,0.314285714285714,null,null,191]
[null,"Tårnby","2023-01-01",20231,11,null,null,135,4,null,null,135,25,null,null,135,70,null,null,135,null,null,null,135,0,null,null,135,null,null,null,38,0,null,null,15,0,null,null,15,null,null,null,23,7,null,null,63,0,null,null,0,0,null,null,0,8.1196581196581203E-3,null,null,135,4.05982905982906E-2,null,null,135,null,null,null,0,4.05982905982906E-2,null,null,135,0.58823529411764697,null,null,135]
[null,"Vallensbæk","2023-01-01",20231,3,null,null,41,0,null,null,41,4,null,null,41,28,null,null,41,3,null,null,41,null,null,null,41,null,null,null,8,0,null,null,3,0,null,null,3,null,null,null,5,null,null,null,24,null,null,null,3,null,null,null,3,4.2682926829268303E-2,null,null,41,0.10787992495309601,null,null,41,null,null,null,null,8.7771203155818503E-2,null,null,null,null,null,null,41]
[null,"Varde","2023-01-01",20231,14,null,null,314,5,null,null,314,13,null,null,314,267,null,null,314,null,null,null,314,11,null,null,314,3,null,null,33,0,null,null,18,null,null,null,18,null,null,null,15,28,null,null,238,19,null,null,47,20,null,null,47,1.1085252327290501E-2,null,null,314,8.33537481626654E-2,null,null,314,0.11888111888111901,null,null,11,8.2063975628332106E-2,null,null,303,0.45121951219512202,null,null,314]
[null,"Vejen","2023-01-01",20231,11,null,null,185,4,null,null,185,28,null,null,185,116,null,null,185,22,null,null,185,4,null,null,185,5,null,null,41,null,null,null,14,null,null,null,14,null,null,null,27,11,null,null,117,0,null,null,3,0,null,null,3,0,null,null,185,6.64241164241164E-2,null,null,185,null,null,null,4,6.7892052698682606E-2,null,null,181,0.28571428571428598,null,null,185]
[null,"Vejle","2023-01-01",20231,18,null,null,602,29,null,null,602,42,null,null,602,467,null,null,602,14,null,null,602,32,null,null,602,9,null,null,91,0,null,null,49,3,null,null,49,6,null,null,42,53,null,null,436,null,null,null,22,null,null,null,22,1.9007155635062601E-2,null,null,602,7.9606440071556303E-2,null,null,602,7.3918269230769204E-2,null,null,32,7.9925775978407596E-2,null,null,570,0.52071005917159796,null,null,602]
[null,"Vesthimmerlands","2023-01-01",20231,7,null,null,126,8,null,null,126,17,null,null,126,87,null,null,126,null,null,null,126,null,null,null,126,3,null,null,32,0,null,null,14,0,null,null,14,3,null,null,18,9,null,null,71,0,null,null,0,0,null,null,0,3.0525030525030498E-4,null,null,126,2.9761904761904798E-2,null,null,126,null,null,null,null,0.03,null,null,null,0.407407407407407,null,null,126]
[null,"Viborg","2023-01-01",20231,6,null,null,686,123,null,null,686,16,null,null,686,355,null,null,686,177,null,null,686,4,null,null,686,8,null,null,145,null,null,null,128,null,null,null,128,null,null,null,17,38,null,null,359,null,null,null,6,null,null,null,6,1.6119084996636002E-2,null,null,686,7.0279210585332999E-2,null,null,686,null,null,null,4,6.9129108776685905E-2,null,null,682,0.62561576354679804,null,null,686]
[null,"Vordingborg","2023-01-01",20231,11,null,null,423,32,null,null,423,29,null,null,423,286,null,null,423,45,null,null,423,14,null,null,423,4,null,null,75,0,null,null,45,null,null,null,45,null,null,null,30,23,null,null,277,8,null,null,20,0,null,null,20,1.87761411165666E-2,null,null,423,4.5190034551736702E-2,null,null,423,0.12637362637362601,null,null,14,4.24111340981757E-2,null,null,409,0.23913043478260901,null,null,423]
[null,"Ærø","2023-01-01",20231]
[null,"Aabenraa","2023-01-01",20231,5,null,null,77,4,null,null,77,6,null,null,77,47,null,null,77,null,null,null,77,9,null,null,77,0,null,null,14,0,null,null,8,0,null,null,8,0,null,null,6,4,null,null,44,null,null,null,8,null,null,null,8,2.7972027972028E-2,null,null,77,0.103146853146853,null,null,77,0.14957264957265001,null,null,9,9.7002262443438902E-2,null,null,68,0.52380952380952395,null,null,77]
[null,"Aalborg","2023-01-01",20231,33,null,null,749,143,null,null,749,40,null,null,749,466,null,null,749,60,null,null,749,7,null,null,749,10,null,null,218,null,null,null,174,7,null,null,174,null,null,null,44,32,null,null,476,3,null,null,7,4,null,null,7,4.0053404539385903E-3,null,null,749,3.5945363048166798E-2,null,null,749,0,null,null,7,3.6284470246734403E-2,null,null,742,0.39,null,null,749]
[null,"Aarhus","2023-01-01",20231,57,null,null,2269,217,null,null,2269,143,null,null,2269,1536,null,null,2269,129,null,null,2269,173,null,null,2269,23,null,null,396,null,null,null,264,null,null,null,264,13,null,null,132,216,null,null,1551,98,null,null,147,5,null,null,147,5.2132420246126701E-2,null,null,2269,8.9763365766006895E-2,null,null,2269,0.15762561138283701,null,null,173,8.4162140340570499E-2,null,null,2096,0.60294117647058798,null,null,2269]
[]
[]
[null,"Variable til brug for nøgletal 1-4, 5.2 samt 7"]
[null,"Region","Antal indbyggere","År"]
[null,"Region Nordjylland",null,20222]
[null,"Region Midtjylland",null,20222]
[null,"Region Syddanmark",null,20222]
[null,"Region Hovedstaden",null,20222]
[null,"Region Sjælland",null,20222]
[null,"Region Nordjylland",null,20183]
[null,"Region Midtjylland",null,20183]
[null,"Region Syddanmark",null,20183]
[null,"Region Hovedstaden",null,20183]
[null,"Region Sjælland",null,20183]
[null,"Region Nordjylland",null,20182]
[null,"Region Midtjylland",null,20182]
[null,"Region Syddanmark",null,20182]
[null,"Region Hovedstaden",null,20182]
[null,"Region Sjælland",null,20182]
[null,"Region Nordjylland",null,20181]
[null,"Region Midtjylland",null,20181]
[null,"Region Syddanmark",null,20181]
[null,"Region Hovedstaden",null,20181]
[null,"Region Sjælland",null,20181]
[]
[]
[null,"Variable til brug for nøgletal 1-4, 5.2 samt 7"]
[null,"Hele landet","Antal indbyggere","År","Før projektperiode","Projektperiode","Tendens","N","Før projektperiode","Projektperiode","Tendens","N","Før projektperiode","Projektperiode","Tendens","N","Før projektperiode","Projektperiode","Tendens","N","Før projektperiode","Projektperiode","Tendens","N","Før projektperiode","Projektperiode","Tendens","N","Før projektperiode","Projektperiode","Tendens","N","Før projektperiode","Projektperiode","Tendens","N","Før projektperiode","Projektperiode","Tendens","N","Før projektperiode","Projektperiode","Tendens","N","Før projektperiode","Projektperiode","Tendens","N","Før projektperiode","Projektperiode","Tendens","N","Før projektperiode","Projektperiode","Tendens","N","Før projektperiode","Projektperiode","Tendens","N","Før projektperiode","Projektperiode","Tendens","N","Før projektperiode","Projektperiode","Tendens","N","Før projektperiode","Projektperiode","Tendens","N","Før projektperiode","Projektperiode","Tendens","N"]
[null,"Hele landet",null,20181,1800,null,null,26410,2810,null,null,26410,2400,null,null,26410,17410,null,null,26410,1790,null,null,26410,0,null,null,26410,null,null,null,null,null,null,null,null,null,null,null,null,null,null,null,null,null,null,null,null,null,null,null,null,null,null,null,null,1.7313059519783899E-2,null,null,26410,5.01587238692792E-2,null,null,26410,0,null,null,0,5.0162313110772697E-2,null,null,26410,null,null,null,26410]
[null,"Hele landet",null,20182,1820,null,null,26640,2850,null,null,26640,2460,null,null,26640,17490,null,null,26640,1740,null,null,26640,90,null,null,26640,430,null,null,7020,10,null,null,4610,190,null,null,4610,240,null,null,2400,2170,null,null,17410,0,null,null,0,0,null,null,0,1.6986515435763998E-2,null,null,26640,5.1822712818020998E-2,null,null,26640,1.6024157169990502E-2,null,null,90,5.1588394620299002E-2,null,null,26560,0.47793796417649598,null,null,26640]
[null,"Hele landet",null,20191,1810,null,null,26710,2850,null,null,26710,2560,null,null,26710,17320,null,null,26710,1730,null,null,26710,240,null,null,26710,530,null,null,7130,10,null,null,4670,240,null,null,4670,280,null,null,2460,2300,null,null,17490,70,null,null,90,0,null,null,90,1.8052228559398899E-2,null,null,26710,5.25409849604207E-2,null,null,26710,1.9813721928804501E-2,null,null,240,5.1967008273060299E-2,null,null,26470,0.49547920433996401,null,null,26710]
[null,"Hele landet",null,20192,1770,null,null,26630,2840,null,null,26630,2600,null,null,26630,17090,null,null,26630,1680,null,null,26630,430,null,null,26630,570,null,null,7220,10,null,null,4660,240,null,null,4660,310,null,null,2560,2350,null,null,17320,160,null,null,240,20,null,null,240,1.75650846785145E-2,null,null,26630,5.4053878156906397E-2,null,null,26630,3.9380587655505402E-2,null,null,430,5.3193253260846299E-2,null,null,26200,0.49721883055216398,null,null,26630]
[null,"Hele landet",null,20201,1740,null,null,26660,2860,null,null,26660,2590,null,null,26660,16940,null,null,26660,1710,null,null,26660,610,null,null,26660,620,null,null,7210,10,null,null,4610,250,null,null,4610,360,null,null,2600,2330,null,null,17090,270,null,null,430,50,null,null,430,1.7759326891353001E-2,null,null,26660,5.5326167854654697E-2,null,null,26660,3.6932357248885099E-2,null,null,610,5.4497582416008397E-2,null,null,26060,0.461561881564926,null,null,26660]
[null,"Hele landet",null,20202,1760,null,null,26750,2840,null,null,26750,2610,null,null,26750,16780,null,null,26750,1630,null,null,26750,910,null,null,26750,530,null,null,7190,10,null,null,4600,200,null,null,4600,310,null,null,2590,2100,null,null,16940,330,null,null,610,60,null,null,610,1.7881152363236799E-2,null,null,26750,5.6471543611260798E-2,null,null,26750,5.0559876512058198E-2,null,null,910,5.52763985669446E-2,null,null,25840,0.47684042398722198,null,null,26750]
[null,"Hele landet",null,20211,1750,null,null,27070,2820,null,null,27070,2600,null,null,27070,16850,null,null,27070,1660,null,null,27070,1160,null,null,27070,540,null,null,7200,10,null,null,4590,210,null,null,4590,320,null,null,2610,2070,null,null,16780,530,null,null,910,100,null,null,910,1.7148238082597699E-2,null,null,27070,5.71087201829725E-2,null,null,27070,6.0245521027026301E-2,null,null,1160,5.57487642643298E-2,null,null,25900,0.47670145524033503,null,null,27070]
[null,"Hele landet",null,20212,1740,null,null,27290,2800,null,null,27290,2650,null,null,27290,17140,null,null,27290,1650,null,null,27290,1080,null,null,27290,520,null,null,7170,20,null,null,4560,210,null,null,4560,290,null,null,2600,2050,null,null,16850,710,null,null,1160,140,null,null,1160,1.7882283315321799E-2,null,null,27290,5.8363550720793599E-2,null,null,27290,7.2641668790166702E-2,null,null,1080,5.65929151026714E-2,null,null,26210,0.47938820101966501,null,null,27290]
[null,"Hele landet",null,20221,1740,null,null,27640,2780,null,null,27640,2700,null,null,27640,17420,null,null,27640,1620,null,null,27640,1150,null,null,27640,560,null,null,7190,10,null,null,4540,240,null,null,4540,310,null,null,2650,2120,null,null,17140,570,null,null,1080,190,null,null,1080,1.89442897857077E-2,null,null,27640,6.3460416909620898E-2,null,null,27640,8.5268582712813804E-2,null,null,1150,6.0945511488541E-2,null,null,26490,0.48539195834538601,null,null,27640]
[null,"Hele landet",null,20222,1750,null,null,27940,2750,null,null,27940,2720,null,null,27940,17620,null,null,27940,1630,null,null,27940,1230,null,null,27940,520,null,null,7220,10,null,null,4520,230,null,null,4520,290,null,null,2700,2230,null,null,17420,670,null,null,1150,170,null,null,1150,1.8351049410289099E-2,null,null,27940,6.8978936247113098E-2,null,null,27940,8.0488658977647801E-2,null,null,1230,6.6240384756591594E-2,null,null,26710,0.48610529255690499,null,null,27940]
[null,"Hele landet",null,20231,1760,null,null,28090,2740,null,null,28090,2770,null,null,28090,17620,null,null,28090,1650,null,null,28090,1310,null,null,28090,500,null,null,7220,10,null,null,4500,200,null,null,4500,290,null,null,2720,2200,null,null,17620,620,null,null,1230,180,null,null,1230,1.7409567400365599E-2,null,null,28090,7.1174536042857006E-2,null,null,28090,8.7473808153770996E-2,null,null,1310,6.7833442491279303E-2,null,null,26780,0.509436766235696,null,null,28090]
[]
[]
[null,"Valg af startår",null,"Valg nøgletal",null,"Dags dato",null,"Vis userform",null,"Valg af prisår",null,"Valg af slutår",null,"Valg af registernøgletal"]
[null,9,null,1,null,{"$f":"TODAY()","v":"2024-04-22"},null,{"$f":"IF(F1065>F1068,FALSE,TRUE)","v":false},false,12,null,10,null,1]
[]
[null,"Valg af Kommune",null,"Valg af\nsammenligningskommune",null,"Dato for ny model","Denne skal opdateres årligt"]
[null,32,null,97,null,"2023-12-10"]
[]
[null,null,null,null,null,null,null,null,"Denne liste skal opdateres årligt, og det samme skal det navngivne område \"År_liste\""]
[null,"Nummer","Liste over kommuner",null,"Nummer","Liste over nøgletal",null,"Nummer","Liste over perioder","Periode-navn",null,null,"Nummer","Liste over prisår"]
[null,1,"Albertslund",null,0,"Vis alle",null,1,20181,"2018-01-01",null,null,1,2010]
[null,2,"Allerød",null,1,"Nøgletal 1 - Modtagere af længerevarende botilbud (§108)",null,2,20182,"2018-07-01",null,null,2,2011]
[null,3,"Assens",null,2,"Nøgletal 2 - Modtagere af botilbudslignende tilbud (ABL§105+SEL§85)",null,3,20191,"2019-01-01",null,null,3,2012]
[null,4,"Ballerup",null,3,"Nøgletal 3 - Modtagere af midlertidigt botilbud (§107)",null,4,20192,"2019-07-01",null,null,4,2013]
[null,5,"Billund",null,4,"Nøgletal 4 - Modtagere af socialpædagogisk støtte (§85)",null,5,20201,"2020-01-01",null,null,5,2014]
[null,6,"Bornholm",null,5,"Nøgletal 5 - Modtagere af beskyttet beskæftigelse og aktivitets- og samværstilbud (§103+§104)",null,6,20202,"2020-07-01",null,null,6,2015]
[null,7,"Brøndby",null,6,"Nøgletal 6 - Modtagere af forebyggende indsatser (§82a+b)",null,7,20211,"2021-01-01",null,null,7,2016]
[null,8,"Brønderslev",null,7,"Nøgletal 7 - Flytning fra botilbud (§108, §ABL105+SEL§85, §107)",null,8,20212,"2021-07-01",null,null,8,2017]
[null,9,"Egedal",null,8,"Nøgletal 8 - Fra socialpædagogisk støtte og ned ad trappen (§85)",null,9,20221,"2022-01-01",null,null,9,2018]
[null,10,"Esbjerg",null,9,"Nøgletal 9 - Fra forebyggelse og ned ad trappen (§82a+b)",null,10,20222,"2022-07-01",null,null,10,2019]
[null,11,"Fanø",null,10,"Nøgletal 10 - Fra forebyggelse og op ad trappen (§82a+b)",null,11,20231,"2023-01-01",null,null,11,2020]
[null,12,"Favrskov",null,11,"Nøgletal 11 - Uddannelsesgrad",null,12,20232,"2023-07-01",null,null,12,2021]
[null,13,"Faxe",null,12,"Nøgletal 12 - Beskæftigelsesgrad",null,13,20241,"2024-01-01",null,null,13,2022]
[null,14,"Fredensborg",null,13,"Nøgletal 13 - Trivsel",null,14,20242,"2024-07-01",null,null,14,2023]
[null,15,"Fredericia",null,14,"Nøgletal 14 - Personlig Recovery",null,15,20251,"2025-01-01"]
[null,16,"Frederiksberg",null,15,"Nøgletal 15 - Mental sundhed",null,16]
[null,17,"Frederikshavn",null,16,"Nøgletal 16 - Forbedret mental sundhed",null,17]
[null,18,"Frederikssund",null,17,"Nøgletal 17 - Forværring af mental sundhed",null,18]
[null,19,"Furesø",null,18,"Nøgletal 18 - Genindlæggelser",null,19]
[null,20,"Faaborg-Midtfyn",null,19,"Nøgletal 19 - Udgifter til forebyggende indsatser ift. udgifter til støttende indsatser",null,20]
[null,21,"Gentofte",null,20,"Nøgletal 20 - Udgiftsandele",null,21]
[null,22,"Gladsaxe",null,null,null,null,22]
[null,23,"Glostrup",null,null,null,null,23]
[null,24,"Greve",null,null,null,null,24]
[null,25,"Gribskov",null,null,null,null,25]
[null,26,"Guldborgsund",null,"Nummer","Liste over regsiternøgletal"]
[null,27,"Haderslev",null,0,"Vis alle"]
[null,28,"Halsnæs",null,1,"Nøgletal 1 - Modtagere af længerevarende botilbud"]
[null,29,"Hedensted",null,2,"Nøgletal 2 - Modtagere af botilbudslignende tilbud"]
[null,30,"Helsingør",null,3,"Nøgletal 3 - Modtagere af midlertidigt botilbud"]
[null,31,"Herlev",null,4,"Nøgletal 4 - Modtagere af socialpædagogisk støtte"]
[null,32,"Herning",null,5,"Nøgletal 5 - Modtagere af beskyttet beskæftigelse og aktivitets- og samværstilbud"]
[null,33,"Hillerød",null,6,"Nøgletal 6 - Modtagere af forebyggende indsatser"]
[null,34,"Hjørring",null,7,"Nøgletal 7 - Flytning fra botilbud "]
[null,35,"Holbæk",null,8,"Nøgletal 8 - Fra socialpædagogisk støtte og ned ad trappen"]
[null,36,"Holstebro",null,9,"Nøgletal 9 - Fra forebyggelse og ned ad trappen"]
[null,37,"Horsens",null,10,"Nøgletal 10 - Fra forebyggelse og op ad trappen"]
[null,38,"Hvidovre",null,11,"Nøgletal 11 - Uddannelsesgrad"]
[null,39,"Høje-Taastrup",null,12,"Nøgletal 12 - Beskæftigelsesgrad"]
[null,40,"Hørsholm",null,18,"Nøgletal 18 - Genindlæggelser"]
[null,41,"Ikast-Brande",null,19,"Nøgletal 19 - Udgifter til forebyggende indsatser ift. udgifter til støttende indsatser"]
[null,42,"Ishøj",null,20,"Nøgletal 20 - Udgiftsandele"]
[null,43,"Jammerbugt"]
[null,44,"Kalundborg"]
[null,45,"Kerteminde"]
[null,46,"Kolding"]
[null,47,"København"]
[null,48,"Køge",null,null,"Allerød"]
[null,49,"Langeland",null,null,"Assens"]
[null,50,"Lejre",null,null,"Ballerup"]
[null,51,"Lemvig",null,null,"Billund"]
[null,52,"Lolland",null,null,"Brøndby"]
[null,53,"Lyngby-Taarbæk",null,null,"Favrskov"]
[null,54,"Læsø",null,null,"Fredensborg"]
[null,55,"Mariagerfjord",null,null,"Frederiksberg"]
[null,56,"Middelfart",null,null,"Frederikssund"]
[null,57,"Morsø",null,null,"Gentofte"]
[null,58,"Norddjurs",null,null,"Gladsaxe"]
[null,59,"Nordfyns",null,null,"Guldborgsund"]
[null,60,"Nyborg",null,null,"Hedensted"]
[null,61,"Næstved",null,null,"Helsingør"]
[null,62,"Odder",null,null,"Herlev"]
[null,63,"Odense",null,null,"Hillerød"]
[null,64,"Odsherred",null,null,"Hjørring"]
[null,65,"Randers",null,null,"Hørsholm"]
[null,66,"Rebild",null,null,"Ikast-Brande"]
[null,67,"Ringkøbing-Skjern",null,null,"Jammerbugt"]
[null,68,"Ringsted",null,null,"Kerteminde"]
[null,69,"Roskilde",null,null,"Kolding"]
[null,70,"Rudersdal",null,null,"Lolland"]
[null,71,"Rødovre",null,null,"Læsø"]
[null,72,"Samsø",null,null,"Mariagerfjord"]
[null,73,"Silkeborg",null,null,"Middelfart"]
[null,74,"Skanderborg",null,null,"Morsø"]
[null,75,"Skive",null,null,"Norddjurs"]
[null,76,"Slagelse",null,null,"Næstved"]
[null,77,"Solrød",null,null,"Odder"]
[null,78,"Sorø",null,null,"Odense"]
[null,79,"Stevns",null,null,"Odsherred"]
[null,80,"Struer",null,null,"Rebild"]
[null,81,"Svendborg",null,null,"Ringkøbing-Skjern"]
[null,82,"Syddjurs",null,null,"Rudersdal"]
[null,83,"Sønderborg",null,null,"Rødovre"]
[null,84,"Thisted",null,null,"Solrød"]
[null,85,"Tønder",null,null,"Stevns"]
[null,86,"Tårnby",null,null,"Struer"]
[null,87,"Varde",null,null,"Svendborg"]
[null,88,"Vejen",null,null,"Syddjurs"]
[null,89,"Vejle",null,null,"Varde"]
[null,90,"Vesthimmerlands",null,null,"Vejen"]
[null,91,"Viborg",null,null,"Aalborg"]
[null,92,"Vordingborg",null,null,"Aarhus"]
[null,93,"Ærø"]
[null,94,"Aabenraa"]
[null,95,"Aalborg"]
[null,96,"Aarhus"]
[null,97]
[null,98]

{"sheet":"Økonomidata","index":11,"n_rows":613,"n_cols":25,"rows_kept":613,"cut":false,"hidden":false,"merged":[]}
["Økonomidata for nøgletallene 19 og 20"]
[]
[]
[null,null,null,3,4,5,6,7,8,9,10,11,12,13,14,15,16,17,18,19,20,21,22,23,24]
[]
[null,null,null,19,19,19,"20.1","20.1","20.1","20.2","20.2","20.2","20.3","20.3","20.3","20.4","20.4","20.4","20.5","20.5","20.5","20.6","20.6","20.6"]
[null,"Kommune","År","Før projektperiode","Projektperiode","Tendens","Før projektperiode","Projektperiode","Tendens","Før projektperiode","Projektperiode","Tendens","Før projektperiode","Projektperiode","Tendens","Før projektperiode","Projektperiode","Tendens","Før projektperiode","Projektperiode","Tendens","Før projektperiode","Projektperiode","Tendens","Region"]
[null,"Albertslund",2022,1.48280659908567E-2,null,null,0.29794735192729599,null,null,0.108958790347853,null,0.21888098781357701,0.306604512691946,null,0.111878592010115,0.232156847383265,null,4.8906674613325797E-2,3.9721090567220299E-2,null,5.1568925764480703E-2,1.46114070824193E-2,null,0,"Region Hovedstaden"]
[null,"Allerød",2022,1.27552387587759E-2,null,null,0.58321426681483801,null,null,0.22564428216119001,null,0.36149159705271899,0.107371540456157,null,0.32534262302250699,6.3131714028681798E-2,null,0.19207581165065299,8.0436048049955002E-3,null,9.1719549184965402E-2,1.2594591734137701E-2,null,4.0498904096111198E-3,"Region Hovedstaden"]
[null,"Assens",2022,1.44365262491577E-2,null,null,0.17421497584541101,null,null,0.18287037037036999,null,0.104326046743552,0.38357487922705302,null,0.18256466657575399,0.159561191626409,null,8.1395724507707698E-2,8.5547504025764901E-2,null,1.4115853098585201E-3,1.4231078904991999E-2,null,-9.8357570133238408E-3,"Region Hovedstaden"]
[null,"Ballerup",2022,0,null,null,0.31565233575283802,null,null,4.3799243129226402E-2,null,3.26057154559578E-2,0.56979961536075396,null,0.52937622406783202,3.7781500093057897E-2,null,0.556731698803134,3.2967305664123099E-2,null,9.8773133707634707E-3,0,null,-5.4022598471803495E-4,"Region Hovedstaden"]
[null,"Billund",2022,2.6211145337440501E-2,null,null,8.8740926704142395E-2,null,null,5.07558805872401E-2,null,0.21505449007236199,0.54303334606778397,null,0.252967774291534,0.27479124597500398,null,0.32700109333367799,1.7136931725154202E-2,null,0.17246551156475801,2.55416689406756E-2,null,3.7313255348666398E-2,"Region Hovedstaden"]
[null,"Bornholm",2022,4.5665854969798601E-2,null,null,0,null,null,0.116376833509754,null,0,0.42032360502041399,null,0,0.23087857250869501,null,0.58577330478192402,0.188749432935128,null,0,4.3671556026009403E-2,null,2.7819625347647901E-2,"Region Hovedstaden"]
[null,"Brøndby",2022,7.5828831279878703E-2,null,null,0.391076589595376,null,null,1.82080924855491E-2,null,0.14634959808113701,0.275397398843931,null,0.29244713027956198,0.244833815028902,null,0.20107140394022599,0,null,4.57827735402122E-2,7.0484104046242793E-2,null,0.299691855149533,"Region Hovedstaden"]
[null,"Brønderslev",2022,2.2678533133176099E-2,null,null,7.3848842289209293E-2,null,null,0.15433813892529499,null,0.96629182131658797,0.35007426823940602,null,-0.56854256854251195,0.299676714722586,null,0.54502645502640201,9.9886413280908706E-2,null,0,2.2175622542594999E-2,null,5.7224292199412802E-2,"Region Hovedstaden"]
[null,"Egedal",2022,3.7580164208978399E-3,null,null,0.50917673869694402,null,null,9.2703373621454394E-2,null,0.39188659801909898,0.348919545842998,null,0.71343404870248195,7.48789321613153E-3,null,0.24984104569190899,3.7968502014406103E-2,null,1.9640403874441301E-2,3.7439466080657598E-3,null,6.8723604310965095E-2,"Region Hovedstaden"]
[null,"Esbjerg",2022,0.12125243502637,null,null,0.29491080130514002,null,null,7.1884401881435703E-2,null,0,0.37294800627145203,null,3.8490055550430502,0.12740370354676001,null,-3.9690616546467901,2.4712911564049301E-2,null,0.494991266672201,0.108140175431162,null,-2.0383414513767098E-3,"Region Hovedstaden"]
[null,"Fanø",2022,0.119565217391304,null,null,0,null,null,0.51262135922330099,null,4.9742778038662998E-2,0,null,-3.6481537736392498E-3,0.38058252427184502,null,5.9090558329910597E-3,0,null,3.0918364487264999E-2,0.106796116504854,null,0.230945313340577,"Region Hovedstaden"]
[null,"Favrskov",2022,9.9370752579914401E-2,null,null,0.12187676480913399,null,null,0.33490544438847902,null,0,0.28098050887555898,null,0.30174590723234501,0.157897950150343,null,1.15751106482689E-2,1.39505777126547E-2,null,2.4092405134955599E-3,9.0388754063830803E-2,null,0.285158067760449,"Region Hovedstaden"]
[null,"Faxe",2022,0.17808755579920099,null,null,0.24928538190520499,null,null,0,null,0.43978619243564798,0.54297679984045699,null,0.25723745919955798,-0.21465133284584201,null,0.22220726633247501,0.27122249551286298,null,0.10002698077807901,0.15116665558731601,null,9.7594789335586699E-3,"Region Hovedstaden"]
[null,"Fredensborg",2022,0.20367613221082301,null,null,0.72447992803328498,null,null,0,null,0.27704437291645001,9.1825030923198006E-2,null,0.29874373594026299,0,null,-7.4551404689274204E-4,1.4483301473068699E-2,null,0.18934063909923499,0.16921173957044899,null,0.27490904447826398,"Region Hovedstaden"]
[null,"Fredericia",2022,7.7711209516367098E-3,null,null,0.36610232771866302,null,null,5.8674018868737403E-2,null,9.8399679794848594E-2,0.342997458320769,null,0.53015755440352097,0.17269059004293599,null,0.123372749413541,5.1824408736483897E-2,null,0.172239654562546,7.7111963124111499E-3,null,1.9273471077738701E-2,"Region Hovedstaden"]
[null,"Frederiksberg",2022,0.21206409048067901,null,null,0.429668782312639,null,null,0,null,0.23670605643249601,0.34425833298306102,null,0.178882529290917,4.9945357488125799E-2,null,9.8437678907330906E-2,1.1664074650077801E-3,null,0.15557115251762699,0.17496111975116599,null,9.0150438991948106E-2,"Region Hovedstaden"]
[null,"Frederikshavn",2022,1.6855806153464999E-2,null,null,5.7225585187128697E-2,null,null,0.28242658220731298,null,0.36758359099688698,0.38409640360576502,null,0.13815404184906699,0.19615247662062599,null,0.50513358633307404,6.3522554770516701E-2,null,0,1.65763976086508E-2,null,0,"Region Hovedstaden"]
[null,"Frederikssund",2022,6.5605402797877493E-2,null,null,0.142441002224103,null,null,0,null,0.17562522665737401,0.746629401460429,null,0.37515297876690601,3.1511405908634597E-2,null,0.33011067418085799,1.7851870805204E-2,null,0.11233717402556601,6.1566319601629699E-2,null,1.7372124283045999E-2,"Region Hovedstaden"]
[null,"Furesø",2022,1.4343422516246099E-2,null,null,0.25483858555542699,null,null,6.9664088652891601E-2,null,0.63086153526268196,0.45986763630766903,null,0.13644799901506099,0.18652122051637199,null,0.25518689131244798,1.4967871022355601E-2,null,-1.3885714285709601E-3,1.41405979452845E-2,null,4.8344342051364099E-2,"Region Hovedstaden"]
[null,"Faaborg-Midtfyn",2022,0.1939767150967,null,null,8.3205737770972704E-2,null,null,0.26178580062857598,null,9.6837917129885695E-2,0.36501732613425703,null,0.370139137522557,0,null,0.52120728291987495,0.127528406801515,null,1.34855338711932E-2,0.16246272866467901,null,0,"Region Hovedstaden"]
[null,"Gentofte",2022,6.7966852161328695E-2,null,null,0.18745563657482101,null,null,7.7063302574691905E-2,null,1.8992576947026898E-2,0.49730593018003499,null,0.149923584555332,3.92656643221269E-2,null,0.56926375967410103,0.13526811640962799,null,0.30319359101322602,6.36413499386978E-2,null,0,"Region Hovedstaden"]
[null,"Gladsaxe",2022,7.1241303854173099E-2,null,null,0.31623371617975798,null,null,0.208702690202729,null,0,0.195810529561397,null,0.25200865549274498,5.8660294457719898E-2,null,0.61256968730668904,0.154089262314037,null,0,6.6503507284359803E-2,null,0.118701657308835,"Region Hovedstaden"]
[null,"Glostrup",2022,0,null,null,0.24413622369632099,null,null,0.21801504427587501,null,0,0.335988827879519,null,0.95911578668921005,0.201383819468689,null,0,4.7608467959501101E-4,null,-5.7709176528524003E-5,0,null,0,"Region Hovedstaden"]
[null,"Greve",2022,0.10867878996811201,null,null,0.14671434494195701,null,null,0.17511401326699799,null,0.43366730823014199,0.55436359867329998,null,0.138559555108628,3.8868159203980101E-4,null,0.27458664656474202,2.5393864013267001E-2,null,5.2061370450950099E-2,9.8025497512437804E-2,null,0,"Region Hovedstaden"]
[null,"Gribskov",2022,1.9236429382331902E-2,null,null,0.23409170602916601,null,null,7.1821950867350104E-2,null,2.9281368774835701E-2,0.41764815082197099,null,0.798154252692029,0.23145149646253199,null,7.2217477382718401E-2,2.6113322744992899E-2,null,-1.04853460003334E-2,1.8873373073987801E-2,null,-0.169712971305643,"Region Hovedstaden"]
[null,"Guldborgsund",2022,3.7329201295957203E-2,null,null,0.233010441185346,null,null,7.8595570040437004E-2,null,0.54256122581764998,0.44871446677530302,null,0.132387102747657,0.15234021365200101,null,4.5467688336278997E-2,5.13534311062828E-2,null,2.6810755522838299E-2,3.5985877240630099E-2,null,0.120302187796739,"Region Hovedstaden"]
[null,"Haderslev",2022,0.118671516842735,null,null,0.16534889418472601,null,null,0.44504331945032199,null,0.435339110271386,0.14198534488518699,null,7.4580108409804793E-2,0.14153990066593899,null,0.33925534835631799,0,null,4.4796485366832797E-2,0.10608254081382699,null,5.5308032057348903E-2,"Region Sjælland"]
[null,"Halsnæs",2022,0,null,null,0.23396495165745901,null,null,6.3622237569060797E-2,null,0.19417879709597899,0.24257596685082899,null,0.22439645082396001,0.44839865331491702,null,0.33454639489801202,1.1438190607734801E-2,null,1.13407702275792E-4,0,null,4.2716707537712902E-2,"Region Sjælland"]
[null,"Hedensted",2022,0,null,null,0.16469929025027999,null,null,4.9346283152782999E-2,null,5.9397168918963003E-2,0.29861785580874101,null,0.28844783594345802,0.31639895405304502,null,0.31422560348391898,0.17093761673515101,null,0.107717172512434,0,null,1.72156131068462E-2,"Region Hovedstaden"]
[null,"Helsingør",2022,0.25137378697533003,null,null,0,null,null,0,null,-0.13559099128381999,4.0923105671307101E-2,null,0.67077803541927905,0.75819863589647796,null,-9.3615512677125395E-2,0,null,4.9763336800697999E-2,0.20087825843221499,null,8.8402383169906798E-2,"Region Sjælland"]
[null,"Herlev",2022,0,null,null,7.9178246417088996E-2,null,null,0,null,0.83326916729365097,0.92082175358291096,null,0.173337825317148,0,null,0.148629786855111,0,null,3.2296147950354502E-4,0,null,-7.7493359980707097E-2,"Region Sjælland"]
[null,"Herning",2022,4.7985651681020598E-2,null,null,0.20666160776272699,null,null,0.27127565106479201,null,-0.120592362530008,0.21292603774803401,null,0.40760123814746402,0.216720215703053,null,0.841115039542075,4.6628025251465199E-2,null,8.6845631882810394E-3,4.5788462469929098E-2,null,7.9869323686041896E-2,"Region Hovedstaden"]
[null,"Hillerød",2022,0,null,null,0.340903457677531,null,null,2.61184781261618E-2,null,0,0.62873342421613598,null,0,3.71793282934688E-3,null,0,5.2670715082414198E-4,null,1.1738275903133499,0,null,-0.17382759031306699,"Region Sjælland"]
[null,"Hjørring",2022,7.7005472894943902E-2,null,null,0.23731934731934701,null,null,0.32111111111111101,null,4.8305341190968E-2,0.32572649572649598,null,0.44473978263337,2.1196581196581198E-2,null,0.39403954476163999,2.3146853146853101E-2,null,3.05107509084542E-2,7.1499611499611496E-2,null,9.8445941981024701E-3,"Region Sjælland"]
[null,"Holbæk",2022,0.11880090873829401,null,null,8.04814026051211E-2,null,null,-9.6082412956267592E-3,null,-0.14126209794552799,0.510697835669358,null,0.20959265373170399,0.29146649497300797,null,0,2.0776583626368202E-2,null,4.6488430110641597E-3,0.10618592442177199,null,-0.10631462293579801,"Region Sjælland"]
[null,"Holstebro",2022,7.3641442356526199E-2,null,null,0.120289340901924,null,null,0.38679635761589398,null,0.49719653688524101,0.20268645537685301,null,0.187786045096971,0.18414932198044801,null,0.436077883904403,3.7488174077577999E-2,null,-4.0432428013885699E-3,6.8590350047303697E-2,null,4.1121908009731797E-2,"Region Sjælland"]
[null,"Horsens",2022,9.1606113108013795E-2,null,null,0.28750281308112302,null,null,0.14316510121169801,null,-0.24758832283566801,0.30946261267130198,null,-7.60207266073962E-2,0.176021888732278,null,1.4099892701310599,-7.1067312589574399E-5,null,0,8.3918651616189194E-2,null,0.30405247287085801,"Region Sjælland"]
[null,"Hvidovre",2022,0.23822382238223799,null,null,0,null,null,0,null,0,0,null,0,0.59413617639932204,null,0,0.21347225587593899,null,0,0.19239156772474,null,-0.393337604099884,"Region Sjælland"]
[null,"Høje-Taastrup",2022,8.4056158470165801E-2,null,null,0.253642470367131,null,null,0.219478610371969,null,0.151067568581219,0.236095346197503,null,0.51663234064228902,0.21255652109190401,null,8.3618222095530798E-2,6.8848737463017096E-4,null,8.4620958201968594E-3,7.7538564596862702E-2,null,0.13910942799015,"Region Sjælland"]
[null,"Hørsholm",2022,1.45183214275385E-2,null,null,0.291199863165997,null,null,-1.4424584509250601E-2,null,0.56047762008120094,0.45813734713076198,null,0.37604273720911102,0.18535306023546799,null,0.35101394431210098,6.5423757803814306E-2,null,0.138294038627919,1.4310556173209E-2,null,-1.3295714981930801E-2,"Region Sjælland"]
[null,"Ikast-Brande",2022,5.9401931864191099E-2,null,null,0.35324306617165302,null,null,-0.13900414937759301,null,0.54556579212169298,0.63976850840794897,null,0.22532787432791701,4.9901725267525697E-2,null,4.3259022585196802E-2,4.0019654946494898E-2,null,0.105397615712562,5.60711945839703E-2,null,3.4012480690832902E-4,"Region Sjælland"]
[null,"Ishøj",2022,6.9093838281843898E-3,null,null,0.37810704225352099,null,null,0.12479999999999999,null,0.34076080780134499,0.26919436619718301,null,1.1816959374107399E-3,4.8867605633802803E-2,null,0.76284077053580301,0.17216901408450699,null,0.313359729588925,6.8619718309859204E-3,null,-0.28678483996478099,"Region Sjælland"]
[null,"Jammerbugt",2022,0.108939014202172,null,null,0,null,null,0.61959469639897502,null,0.16759393554225699,0.241185776706343,null,0.30192949487492599,3.5294560795540102E-2,null,0.37737402710318702,5.6878107578725301E-3,null,8.1979653405291203E-2,9.8237155341268603E-2,null,0.10961469760082899,"Region Sjælland"]
[null,"Kalundborg",2022,4.6042295181122801E-2,null,null,-1.05773095555415E-4,null,null,0.48013933842454498,null,0.50007972935398504,0.360178544985298,null,0.67105095801785797,0.109129628454373,null,1.13309077469984E-4,6.6425504008800302E-3,null,-2.77721053546429E-2,4.4015710830459798E-2,null,5.1988734176560997E-2,"Region Sjælland"]
[null,"Kerteminde",2022,2.3946360153256701E-4,null,null,0,null,null,0,null,0.158803501855552,0,null,0.219064198815481,0,null,0.88235862978083901,0.99976059372755599,null,-4.5615816159738599E-3,2.3940627244433801E-4,null,-1.0538427701535E-2,"Region Sjælland"]
[null,"Kolding",2022,0.11465477471936,null,null,0.30986673288635103,null,null,2.0528101978313E-2,null,0.32082560865042398,0.32527660513754397,null,0.19007156707211001,0.22934083823083101,null,0.31652863324137598,1.21264795960599E-2,null,7.24975307977518E-2,0.10286124217090201,null,4.2251964503208202E-3,"Region Hovedstaden"]
[null,"København",2022,4.5910054155874701E-2,null,null,0.46273508660552298,null,null,2.7510254436084801E-3,null,9.0798525652676501E-2,0.34560038541371202,null,0.139126791195196,5.7496882021080699E-2,null,0.33110423799280397,8.7521780827468906E-2,null,2.3539929264267699E-2,4.3894839688607301E-2,null,2.9025594582075001E-2,"Region Syddanmark"]
[null,"Køge",2022,3.6403448747776103E-2,null,null,0.60393833355341298,null,null,6.7625115542057301E-2,null,0,0.184454641489502,null,0.40202800755870499,9.47444869932655E-2,null,3.8516997895456498E-2,1.4112636999868E-2,null,0,3.5124785421893602E-2,null,3.6535390045023597E-2,"Region Syddanmark"]
[null,"Langeland",2022,2.5850069596341199E-3,null,null,0.22044823482744899,null,null,0.46167195557318502,null,0.18254325215971801,0.16203887346291199,null,0.37287073446989899,9.9712415708052393E-2,null,0.34393963317862097,5.3550178500595E-2,null,0.12152962904195901,2.5783419278064298E-3,null,-9.6517527995922999E-3,"Region Syddanmark"]
[null,"Lejre",2022,2.2461087995068602E-2,null,null,0.69147292663627102,null,null,-1.9669166132861099E-2,null,0.24690350444798501,0.20611176005124501,null,0.406126540297995,6.5865330268661204E-2,null,0.34221141196636001,3.4251478955499501E-2,null,6.3673481945079099E-3,2.1967670221183899E-2,null,-1.82321882727987E-3,"Region Syddanmark"]
[null,"Lemvig",2022,5.9943218479803898E-2,null,null,5.9597004930906403E-2,null,null,0.28075728982772302,null,0.43119520651386301,0.356973275704633,null,0.78109818170645395,0.24611919400986201,null,0.254974583847911,0,null,3.6425653701838798E-2,5.6553235526876501E-2,null,-2.9225095293682599E-2,"Region Syddanmark"]
[null,"Lolland",2022,0.36938634507882701,null,null,0,null,null,2.39886248967985E-2,null,0.30190067625054001,0.121823685900376,null,0.45803203115818297,0.58444179433079502,null,1.49831772240674E-2,0,null,0,0.26974589487202999,null,-1.2998065004499199E-2,"Region Syddanmark"]
[null,"Lyngby-Taarbæk",2022,4.0235483461098601E-4,null,null,0.22601130374039499,null,null,0.234330348637836,null,0,0.34031879088080302,null,0.44312036057073101,0.14497999618974999,null,0.56998146591487897,5.3957367540907297E-2,null,0,4.0219301030884201E-4,null,7.0938962283108295E-2,"Region Syddanmark"]
[null,"Læsø",2022,0,null,null,1,null,null,0,null,0.55624369761588299,0,null,0.43644535967450798,0,null,0.25857454044684403,0,null,3.2336680045155199E-2,0,null,-0.34241249548279001,"Region Syddanmark"]
[null,"Mariagerfjord",2022,8.8186675892822794E-2,null,null,0.18716218603172399,null,null,6.4083088988589401E-2,null,0.15849938999690499,0.588441021655421,null,0.39906741572230903,6.4259723743243694E-2,null,0.20745596474063899,1.50139541456177E-2,null,-3.1002945137025499E-2,8.10400254354047E-2,null,1.38911184631239E-2,"Region Syddanmark"]
[null,"Middelfart",2022,7.9575596816976098E-5,null,null,5.0234729331883402E-2,null,null,0.28936689388112302,null,0.234294864346481,0.45980425960798899,null,0.21023420305740401,0.15229557329655499,null,0.34293442764756299,4.82189746174045E-2,null,0.18517930035227101,7.9569265045221905E-5,null,7.4806555275777994E-2,"Region Syddanmark"]
[null,"Morsø",2022,0,null,null,0.27362102693574603,null,null,0.37775251216372102,null,0,0.21531876473440401,null,0.35683398077208001,5.5142202678526701E-2,null,0.535324354829527,7.8165493487602197E-2,null,0.11514744295705399,0,null,-7.3686623000355694E-2,"Region Syddanmark"]
[null,"Norddjurs",2022,4.0349914458181401E-3,null,null,3.3404063786008201E-2,null,null,0.35914994855967097,null,0.257873474922931,2.88387345679012E-2,null,0.114835640094981,0.40287422839506198,null,0.39228518264414503,0.171714248971193,null,1.3900307470049401E-4,4.0187757201646098E-3,null,0,"Region Syddanmark"]
[null,"Nordfyns",2022,6.5589954193650296E-2,null,null,5.4511765795812503E-2,null,null,0.13866963127663501,null,0,0.50131554567352199,null,9.5454072128564604E-4,0.18921623123957801,null,0,5.4734111543450099E-2,null,2.11906414196517E-3,6.1552714471002398E-2,null,0,"Region Syddanmark"]
[null,"Nyborg",2022,2.38008419796466E-2,null,null,0.22098105876639099,null,null,0.37157196049862401,null,0.62308509242566901,0.29260158653067803,null,0,8.2499595272786094E-2,null,5.4941563711745599E-3,9.0982677675246898E-3,null,3.4822822186796998E-2,2.32475311639955E-2,null,1.04217459904787E-3,"Region Syddanmark"]
[null,"Næstved",2022,4.9855266620415797E-2,null,null,0.12402871140480801,null,null,0.248558733052296,null,0.39558903406965801,0.60555998632790198,null,-6.3574708668141994E-2,0,null,0.36983860482591502,-2.5635182864304398E-2,null,7.4602590664657201E-2,4.7487752079298201E-2,null,-1.02851356099798E-2,"Region Syddanmark"]
[null,"Odder",2022,1.7097785616304099E-2,null,null,0.118684071094841,null,null,0.130099706179856,null,0.28210271518582902,4.5566205866769398E-2,null,0.19276258904442001,0.67862819710033195,null,0.34037881085190203,1.02114541688743E-2,null,0.11305228268696201,1.6810365589326099E-2,null,5.7737739400145899E-2,"Region Syddanmark"]
[null,"Odense",2022,7.2712725903614503E-3,null,null,0.20749912393412001,null,null,0.16832729821282599,null,0.18758030719223501,0.31852003270645901,null,0.15664524929196899,0.207137016703656,null,4.1852645131296398E-2,9.1297745590468396E-2,null,4.7655135898920301E-2,7.21878285247051E-3,null,0,"Region Syddanmark"]
[null,"Odsherred",2022,2.25463620326148E-2,null,null,0.38792341678939601,null,null,6.2697243845991998E-2,null,0.31040419080679299,0.255480749000631,null,0.36095294354125002,0.25937302756154001,null,0.164201271965148,1.2476330738480999E-2,null,0.10394164784066399,2.20492320639596E-2,null,1.21614763597577E-2,"Region Syddanmark"]
[null,"Randers",2022,1.41833851773637E-2,null,null,9.8542405312623094E-2,null,null,0.23002138555912,null,8.8665753602239106E-2,0.29202543755979499,null,0.17009999968763601,0.20372558950982,null,6.9888719577427594E-2,0.16170015195002499,null,1.1525738277267099E-3,1.3985030108616099E-2,null,-3.0192516605165301E-3,"Region Syddanmark"]
[null,"Rebild",2022,3.2840625797459902E-2,null,null,0.51824540063858904,null,null,2.0963205108712201E-2,null,2.79951338631097E-2,0.40398357913942501,null,0.54782265193042401,2.5011403375399099E-2,null,0.47875508079437201,0,null,8.3177375753797893E-3,3.1796411737874397E-2,null,7.3599006040687698E-3,"Region Syddanmark"]
[null,"Ringkøbing-Skjern",2022,0,null,null,0.19007019174022799,null,null,0.16262132874596599,null,0.18559859295935899,0.50083501801881003,null,0.29427118545423497,0.12054395459511,null,0.27986145549195401,2.5929506899885699E-2,null,0.16649848481674001,0,null,3.6742796076254303E-2,"Region Midtjylland"]
[null,"Ringsted",2022,8.0150127163633705E-2,null,null,6.3481540747513998E-2,null,null,0.239524517087667,null,0,0.36189278774717099,null,0,0.18802148817007699,null,0.50256865749167901,7.2876900217167695E-2,null,0,7.4202766030403502E-2,null,2.9669613264432699E-2,"Region Syddanmark"]
[null,"Roskilde",2022,4.9329902433794398E-2,null,null,5.9537554536072998E-2,null,null,0.16724055133798599,null,0.12550187948958999,0.42337362446485699,null,0.311931860213846,0.29527643530770098,null,0.17270242059127799,7.5609731176753099E-3,null,4.6141098958960902E-2,4.7010861235708197E-2,null,0.26260764463948799,"Region Syddanmark"]
[null,"Rudersdal",2022,3.9695429330745997E-2,null,null,0.28285963524232599,null,null,0.26575781551132999,null,0.82641027665897604,0.279370295985231,null,-0.35533910533905599,0.117400036516341,null,0.478835978835917,1.6432353478181502E-2,null,0,3.8179863266589599E-2,null,5.0092849844089599E-2,"Region Midtjylland"]
[null,"Rødovre",2022,5.4465640580966803E-3,null,null,0.25382023985985702,null,null,0.15819970354399701,null,0.33696983960678001,0.52513138391052405,null,0.62927532581036905,5.7431612990163097E-2,null,0.21398351220730699,0,null,1.6863239006836402E-2,5.4170596954588304E-3,null,6.6714852245271003E-2,"Region Midtjylland"]
[null,"Samsø",2022,-10.9285714285714,null,null,0,null,null,0,null,0,0,null,3.2887649660056,-0.100719424460432,null,-3.3073194488554201,0,null,0.44655796923311197,1.1007194244604299,null,-1.5086747838015701E-3,"Region Midtjylland"]
[null,"Silkeborg",2022,2.9182471456073798E-2,null,null,0.48014594214171902,null,null,0,null,4.3380794437574401E-2,0.49149905545060601,null,4.6343441806953899E-2,0,null,5.0054628013975798E-3,0,null,2.67226722762679E-2,2.8355002407674901E-2,null,0.21639870149798299,"Region Midtjylland"]
[null,"Skanderborg",2022,1.5889454925451098E-2,null,null,6.9350942772384502E-2,null,null,9.6114106226063298E-2,null,0,0.54543951653640199,null,0.30033560411674998,0.24096949881062801,null,9.7474615985424506E-3,3.2485006566802303E-2,null,2.0639272610660799E-3,1.56409290877196E-2,null,0.26318835638078703,"Region Midtjylland"]
[null,"Skive",2022,3.91254725729367E-2,null,null,6.1575424746868002E-2,null,null,0.29112750986785702,null,0.37739585013332499,7.7638579028659699E-2,null,0.32651064610689701,0.48580744808649401,null,0.19024937968275399,4.6198730049768301E-2,null,8.5856253189202703E-2,3.7652308220353502E-2,null,9.9013672715808094E-3,"Region Midtjylland"]
[null,"Slagelse",2022,4.1359419177926501E-2,null,null,0.112355718066963,null,null,0.169277157748247,null,0.23682738822404301,0.23759107157475401,null,0.271009833633514,0.334747728327012,null,-6.3923842891344695E-4,0.10631156711327,null,0.171075416797173,3.9716757169754702E-2,null,0.23639593799393299,"Region Midtjylland"]
[null,"Solrød",2022,3.2782468115681702E-3,null,null,0.42898706414215998,null,null,0.27357772704892303,null,8.4400981199060296E-2,0.28244035629559999,null,0.53029849434313903,1.17273174880265E-2,null,0.105921813518961,0,null,0.14786749493735801,3.2675350252898299E-3,null,2.9231353825196E-2,"Region Midtjylland"]
[null,"Sorø",2022,5.7622132330061401E-2,null,null,0.17104418530009599,null,null,0.17179308869155899,null,0.202334903051408,0.314111479619129,null,0.220453133712496,0.17703541243179599,null,8.5219088794897202E-2,0.111533112228523,null,0.14499725789828199,5.4482721728897003E-2,null,7.9443448536913805E-2,"Region Midtjylland"]
[null,"Stevns",2022,4.2553191489361701E-2,null,null,0.18912911699333201,null,null,0.34431198221863002,null,0.315166384280062,2.08122853101637E-2,null,0.13972877689744401,0.38472418670438502,null,0.43334415902316398,2.0206102242877302E-2,null,0,4.08163265306122E-2,null,0,"Region Midtjylland"]
[null,"Struer",2022,0.13947872049576199,null,null,1.26364617906986E-2,null,null,0.46247050825768798,null,0.150497608733687,0.26684528332066998,null,0.39774208491213903,0.123485424081257,null,0.28379214625159899,1.21565961530771E-2,null,0.103150016676537,0.122405726396609,null,2.20751004530815E-2,"Region Midtjylland"]
[null,"Svendborg",2022,1.70990373633545E-2,null,null,0.40421572716481102,null,null,0.10749462607077501,null,0.54053911551991995,0.37301485450287097,null,0.184621226576454,9.8463216657576402E-2,null,0.21893773370061401,0,null,-9.2571428571397397E-4,1.6811575603965501E-2,null,4.7510446302992497E-2,"Region Midtjylland"]
[null,"Syddjurs",2022,0.157769265797016,null,null,8.0165652546098101E-2,null,null,0.12671494343289499,null,8.3423644871146493E-2,0.30289429239062499,null,0.352185537334606,0.2472526201328,null,0.44548248333535401,0.106702450084446,null,1.15072472312234E-2,0.13627004141313701,null,0,"Region Midtjylland"]
[null,"Sønderborg",2022,1.8879576532862801E-2,null,null,0.239570525586631,null,null,0.25981470257165101,null,1.5993749008022601E-2,0.29607758247467297,null,0.15917053696567199,7.6716598839726398E-3,null,0.489066672789079,0.17833578664819499,null,0.25888713507647798,1.8529742834877499E-2,null,0,"Region Midtjylland"]
[null,"Thisted",2022,1.8636304634042301E-2,null,null,0.13999126192383299,null,null,0.45397946552100799,null,0,0.224077040704871,null,0.340236997426899,0.16365688487584701,null,0.52497075148590999,0,null,0,1.8295346974441101E-2,null,0.12039503919385799,"Region Midtjylland"]
[null,"Tønder",2022,5.78218508774466E-5,null,null,0.35095834176519902,null,null,0.46234569685756399,null,0,0.162816917695354,null,0.90971129206597801,2.4283773235812801E-3,null,0,2.1392847850596999E-2,null,-3.8472784352344698E-5,5.7818507704316198E-5,null,0,"Region Midtjylland"]
[null,"Tårnby",2022,6.7779514851984496E-2,null,null,5.68648750767487E-2,null,null,0.155669957020734,null,0.37180339659804001,0.14575166485618499,null,0.200542573208082,0.30477494922779003,null,0.23607751156977499,0.27346148396542802,null,5.9231296036415401E-2,6.3477069853114798E-2,null,0,"Region Nordjylland"]
[null,"Vallensbæk",2022,0,null,null,0.26169459890344898,null,null,0.19131313916864301,null,2.50760014183307E-2,0.31026169459890302,null,0.69835220604852599,9.1495897655247502E-2,null,6.3275101612941101E-2,0.14523466967375701,null,-7.4557349673165501E-3,0,null,-8.8454246269634496E-2,"Region Midtjylland"]
[null,"Varde",2022,0.10805048118481,null,null,0.180153942167672,null,null,0,null,0.46523625026352999,0.31394320782192597,null,0.17310856044485901,0.30900249635947602,null,3.9067581224911101E-2,9.9386311628874596E-2,null,3.5848740322965297E-2,9.7514042022051203E-2,null,0.108080294966172,"Region Nordjylland"]
[null,"Vejen",2022,9.7848716169326902E-2,null,null,0.258656412417474,null,null,6.5493749122067693E-2,null,0.37223086234561698,0.44960668633235001,null,0.16476301514191499,8.3069953645174902E-2,null,0.29164792786879401,5.4045512010113803E-2,null,3.8363483194341803E-2,8.9127686472819198E-2,null,5.0412012540228097E-2,"Region Midtjylland"]
[null,"Vejle",2022,1.0850104618305E-2,null,null,0.20867653962699001,null,null,0.23396355255857601,null,0.16632948322617799,0.34785825046590702,null,0.275534742309958,0.17629066905666299,null,0.28729694599726902,2.2477344828076801E-2,null,1.02058822925973E-4,1.07336434637873E-2,null,4.0767968647920302E-2,"Region Nordjylland"]
[null,"Vesthimmerlands",2022,2.52409706334621E-2,null,null,0.26203541117939699,null,null,0,null,5.1153523762689501E-2,0.71334503950834105,null,0.325968442456741,0,null,0.269189273674726,0,null,9.2168489456295105E-2,2.46195493122622E-2,null,1.6761243900959899E-2,"Region Nordjylland"]
[null,"Viborg",2022,0.118687152723101,null,null,8.1531902913792795E-2,null,null,0.44560518007601202,null,-0.116326007986366,9.2169559009833299E-2,null,0.66989589076724998,0.14663476040137499,null,-8.0257019983573499E-2,0.12796356250879801,null,4.6788272820678302E-2,0.106095035090189,null,7.9271280077076497E-2,"Region Nordjylland"]
[null,"Vordingborg",2022,0,null,null,0.19037656903765701,null,null,0.11156260057933701,null,0.71275300830879496,0.40044657225619601,null,0.210540774526109,0.29761425812681003,null,0.12848035771559599,0,null,2.7196756168719499E-4,0,null,-1.0251005045745399E-2,"Region Nordjylland"]
[null,"Ærø",2022,0,null,null,1,null,null,0,null,-0.108689824053236,0,null,0.35615004503414099,0,null,0.72623026054890305,0,null,7.3856079754186501E-3,0,null,7.5347249282124606E-2,"Region Nordjylland"]
[null,"Aabenraa",2022,1.5962965919067801E-4,null,null,0.52410023142606299,null,null,0.43444258239565903,null,0,0,null,0,6.0250578565158404E-3,null,0,3.5272524140132502E-2,null,0.995980346995054,1.5960418162955901E-4,null,4.0196530051730397E-3,"Region Nordjylland"]
[null,"Aalborg",2022,5.1592875373693101E-2,null,null,0.14953407029743601,null,null,0.270774539917156,null,4.1463322454070799E-2,0.25804657737863201,null,0.42070835556494801,0.22214946130938501,null,0.33745843890197602,5.04337070125929E-2,null,3.07938641357435E-2,4.9061644084797698E-2,null,1.01252703575733E-2,"Region Nordjylland"]
[null,"Aarhus",2022,0.116126747085691,null,null,0.177331555496408,null,null,0.114360810468422,null,-0.12076093427175801,0.33520245075332,null,0.27084180074410802,0.19205245472018301,null,0,7.7008320174439607E-2,null,4.7126860636819102E-3,0.10404440838722701,null,-5.1933732081096202E-2,"Region Nordjylland"]
[null,"Albertslund",2021,-1.8790634747641799E-5,0.20316816055020001,0.121446154424338,0.20316816055020001,0.21463066313396101,2.33384069000507E-2,0.121446154424338,null,0.42737757551225303,0.43743540597929198,null,0.16089822618604899,0.21463066313396101,null,0.37466790076106798,2.33384069000507E-2,null,-3.4676874238299699E-3,-1.8790987842230899E-5,null,3.7138822607564903E-2,"Region Nordjylland"]
[null,"Allerød",2021,2.1565808391059999E-2,0.57343909928352099,0.20214943705220101,0.57343909928352099,4.3692425793244602E-2,9.3398157625383792E-3,0.20214943705220101,null,-0.21266175970596601,0.15026867963152499,null,-5.5708909648487299E-2,4.3692425793244602E-2,null,1.20827090634293,9.3398157625383792E-3,null,0,2.11105424769703E-2,null,0.27639906300440498,"Region Hovedstaden"]
[null,"Assens",2021,1.3494846456274599E-2,0.179534493604529,0.190459215768505,0.179534493604529,0.17420842944013401,8.3287901027469094E-2,0.190459215768505,null,0,0.35919479974837498,null,0,0.17420842944013401,null,0,8.3287901027469094E-2,null,0,1.3315160410987599E-2,null,-0.28603459320942198,"Region Hovedstaden"]
[null,"Ballerup",2021,0,0.55993724505804798,0.18143708817069301,0.55993724505804798,4.8785691873234997E-2,3.27580796987763E-3,0.18143708817069301,null,0.12934783323785801,0.206564166928146,null,0.477178850256195,4.8785691873234997E-2,null,7.1042873856729499E-2,3.27580796987763E-3,null,9.9476788815495692E-3,0,null,0.119324659648242,"Region Hovedstaden"]
[null,"Billund",2021,2.0409116383336399E-2,7.5884479838894195E-2,3.8491464140235201E-2,7.5884479838894195E-2,0.21314476635086299,1.5424046867133501E-2,3.8491464140235201E-2,null,0.48112289305683498,0.63705432742917301,null,0.34800426845195198,0.21314476635086299,null,0.30098325689371602,1.5424046867133501E-2,null,0.117591510630284,2.00009153737013E-2,null,-9.3210391646447698E-3,"Region Hovedstaden"]
[null,"Bornholm",2021,4.1372166707287397E-2,-1.17020654145457E-4,0.10991164940612,-1.17020654145457E-4,0.21666374115031301,0.204669124100404,0.10991164940612,null,0.46806996435853399,0.42914399391492603,null,0.24648192602816699,0.21666374115031301,null,3.7096181185916101E-2,0.204669124100404,null,9.0382190895628198E-2,3.9728512082382497E-2,null,3.02333161696283E-4,"Region Hovedstaden"]
[null,"Brøndby",2021,0.145454545454545,0.524181547619048,0,0.524181547619048,0.34883432539682502,0,0,null,0.28760931701617698,0,null,1.0128822320663599E-3,0.34883432539682502,null,0.65740117739375104,0,null,0.26964647644675199,0.126984126984127,null,-0.16031797461960201,"Region Hovedstaden"]
[null,"Brønderslev",2021,4.1805264670855401E-2,5.0790334660412301E-2,0.15779100476960101,5.0790334660412301E-2,0.27094091213686,8.8888012929165497E-2,0.15779100476960101,null,0.14500420914895801,0.39146202057629398,null,0.35375041726013001,0.27094091213686,null,0.32520816979511802,8.8888012929165497E-2,null,7.1840622973521603E-2,4.0127714927667597E-2,null,9.8343487523834497E-2,"Region Hovedstaden"]
[null,"Egedal",2021,0,0.342920776328349,0.338466433343939,0.342920776328349,3.0321349029589599E-2,2.51670378619154E-2,0.338466433343939,null,0.42934796669004499,0.26312440343620702,null,0.60867219966091601,3.0321349029589599E-2,null,9.8458359377651795E-5,2.51670378619154E-2,null,-2.3989535569351801E-2,0,null,4.4672111000972202E-2,"Region Hovedstaden"]
[null,"Esbjerg",2021,0.157254689020114,0.29709967839372797,6.95607972707456E-2,0.29709967839372797,0.126423523201595,3.0645460854944798E-2,6.95607972707456E-2,null,0.13571386098212901,0.34038455898884601,null,0.217996675396227,0.126423523201595,null,0.75572103170043203,3.0645460854944798E-2,null,3.00550001011324E-3,0.13588598129014001,null,-3.5555140717349301E-3,"Region Hovedstaden"]
[null,"Fanø",2021,0.11454753722795,0,0.51695786228160301,0,0.38026721479958903,0,0.51695786228160301,null,0.275055884890264,0,null,0.212537347466323,0.38026721479958903,null,0.27151538873700098,0,null,7.08068648717846E-2,0.10277492291880801,null,8.2532680794926705E-3,"Region Hovedstaden"]
[null,"Favrskov",2021,9.5996156840658001E-2,7.1627218040567098E-2,0.28079562286508902,7.1627218040567098E-2,0.16740727305704201,1.24089356428161E-2,0.28079562286508902,null,7.7612864302114601E-2,0.38017290892052802,null,0.21220898579340999,0.16740727305704201,null,0.28407252297131402,1.24089356428161E-2,null,2.07532783647419E-2,8.7588041473957906E-2,null,2.4759123135103402E-2,"Region Hovedstaden"]
[null,"Faxe",2021,2.6875699888017899E-3,1.1045342863524701,0,1.1045342863524701,-2.50658923386196,0.28210855483582797,0,null,0,2.1172660263569401,null,0.42095099575391298,-2.50658923386196,null,3.38179286251101E-2,0.28210855483582797,null,0,2.68036631672995E-3,null,3.8821761494375599E-2,"Region Hovedstaden"]
[null,"Fredensborg",2021,0.17433509145999301,0.66959720961345504,0,0.66959720961345504,5.66200009556118E-3,1.9876726073868801E-2,0,null,0.155950616232055,0.15640976635290699,null,0.422345640454381,5.66200009556118E-3,null,0.29443803150812198,1.9876726073868801E-2,null,0.104722247554527,0.148454297864208,null,-6.47060792317866E-3,"Region Hovedstaden"]
[null,"Fredericia",2021,8.8922015565686199E-3,0.36416741117448997,5.7573362655487598E-2,0.36416741117448997,0.166809841248024,5.9428905229881097E-2,5.7573362655487598E-2,null,0.20940432450819901,0.34320665246374799,null,0.410828484042225,0.166809841248024,null,0.29221763963580799,5.9428905229881097E-2,null,5.3619774269537696E-3,8.8138272283691897E-3,null,-1.53534217034101E-3,"Region Hovedstaden"]
[null,"Frederiksberg",2021,0.22373166473384401,0.42477479822962799,0,0.42477479822962799,6.4004165581879699E-2,1.1663629263212699E-3,0,null,0.37019015928760302,0.327227284561312,null,0.61290988624875797,6.4004165581879699E-2,null,0.217120487552904,1.1663629263212699E-3,null,3.1937446229710197E-2,0.18282738870085899,null,-9.4075950897973808E-3,"Region Hovedstaden"]
[null,"Frederikshavn",2021,1.8184365972491699E-2,6.4864120941360806E-2,0.29316422998337899,6.4864120941360806E-2,0.168369345430293,7.0231529023174102E-2,0.29316422998337899,null,0.25829966792871101,0.38551117416021802,null,0.478454957825655,0.168369345430293,null,1.2705941161841299E-2,7.0231529023174102E-2,null,0,1.7859600461575899E-2,null,-1.7381861170981999E-3,"Region Hovedstaden"]
[null,"Frederikssund",2021,6.3819577735124797E-2,0.16314839873703199,0,0.16314839873703199,1.0193955796120899E-2,1.7365809652683799E-2,0,null,0,0.74930085701398297,null,0.37749195291746701,1.0193955796120899E-2,null,0.490405921239216,1.7365809652683799E-2,null,0,5.9990978800180401E-2,null,9.66044572696063E-2,"Region Hovedstaden"]
[null,"Furesø",2021,8.9714090443102898E-2,0.26684506512240502,3.7610018188280102E-2,0.26684506512240502,5.0864465954466601E-2,4.1937574477870901E-2,3.7610018188280102E-2,null,0.47644657514356897,0.52041477640959199,null,0.373210087195673,5.0864465954466601E-2,null,0.222280596859804,4.1937574477870901E-2,null,2.7779690688289501E-2,8.2328099847385705E-2,null,-0.15135749526473299,"Region Hovedstaden"]
[null,"Faaborg-Midtfyn",2021,0.32218478096866698,0.103503366427023,0.217010917113622,0.103503366427023,-4.9450340446574603E-4,0.115105177070258,0.217010917113622,null,0.13553753831234899,0.32119898056221202,null,0.39140606307401898,-4.9450340446574603E-4,null,0.177779510416265,0.115105177070258,null,-2.192198745092E-2,0.24367606223135199,null,1.6874627844709202E-2,"Region Hovedstaden"]
[null,"Gentofte",2021,5.2747803479976797E-2,0.215935970484536,7.6659872952587804E-2,0.215935970484536,7.0099227896874394E-2,0.11685684107172099,7.6659872952587804E-2,null,0.20150114499378399,0.47034320653386702,null,0.235037626500713,7.0099227896874394E-2,null,0.294309407515016,0.11685684107172099,null,0.17099564266260001,5.0104881060414497E-2,null,0.101751024841484,"Region Hovedstaden"]
[null,"Gladsaxe",2021,7.4674115456238394E-2,0.351337970641384,0.15884842933881199,0.351337970641384,7.5203604228036805E-2,0.14109958660296601,0.15884842933881199,null,0,0.20402505136519999,null,0.40094660357453898,7.5203604228036805E-2,null,0.45909662307562399,0.14109958660296601,null,0.111868270046743,6.9485357823600796E-2,null,-3.3962580779530099E-2,"Region Hovedstaden"]
[null,"Glostrup",2021,0,0.25164418212478901,0.19186340640809399,0.25164418212478901,0.317074198988196,3.3726812816188898E-4,0.19186340640809399,null,0.22145070679377499,0.23908094435075899,null,0.18323743787883001,0.317074198988196,null,0.33409861734227803,3.3726812816188898E-4,null,1.23558288622663E-4,0,null,0,"Region Hovedstaden"]
[null,"Greve",2021,9.18607764390897E-2,0.17574360609107201,0.16169294524410899,0.17574360609107201,2.77089821240284E-3,2.6090581398200099E-2,0.16169294524410899,null,0,0.54956965253426804,null,6.9421143366221695E-4,2.77089821240284E-3,null,0,2.6090581398200099E-2,null,1.7844750669180299E-3,8.4132316519948E-2,null,0,"Region Hovedstaden"]
[null,"Gribskov",2021,7.0255915016900101E-3,0.28071731677495099,0.17120184124092,0.28071731677495099,0.19781352640790201,2.1409220589292999E-2,0.17120184124092,null,0.53392277728306703,0.32188151806477899,null,0,0.19781352640790201,null,4.6919051038849498E-3,2.1409220589292999E-2,null,2.9561235630156401E-2,6.9765769221548299E-3,null,8.7855281651777505E-4,"Region Hovedstaden"]
[null,"Guldborgsund",2021,3.0997794322705E-2,0.19346879892458099,0.11164025934638799,0.19346879892458099,0.16930466643169201,5.5959475077664599E-2,0.11164025934638799,null,0.33899948646563899,0.43956098000803301,null,3.1385539669429398E-2,0.16930466643169201,null,0.317110694476753,5.5959475077664599E-2,null,6.62717790784981E-2,3.0065820211641101E-2,null,1.00029868414353E-3,"Region Hovedstaden"]
[null,"Haderslev",2021,9.8603459320948106E-2,0.14249061180696501,0.45893686002845602,0.14249061180696501,0.13330067874886301,0,0.45893686002845602,null,0.242052140457687,0.17551839152846799,null,0.248936788879561,0.13330067874886301,null,0.29234728379672997,0,null,0.1008074581279,8.9753457887248395E-2,null,6.8466759045737305E-2,"Region Hovedstaden"]
[null,"Halsnæs",2021,0,0.221918722241915,5.05640234366855E-2,0.221918722241915,0.42544673575345598,7.1310911403490501E-3,5.05640234366855E-2,null,0.1562796265709,0.29493942742759399,null,0.20141190657383801,0.42544673575345598,null,3.4798615649266999E-2,7.1310911403490501E-3,null,4.3741346033360898E-2,0,null,0,"Region Sjælland"]
[null,"Hedensted",2021,0,0.18821822175157901,5.18492371651567E-2,0.18821822175157901,0.31254657410675801,0.18429619170882899,5.18492371651567E-2,null,0.259316784560852,0.26308977526767902,null,0.39656326405997799,0.31254657410675801,null,0.13632673227964201,0.18429619170882899,null,0.116163746496365,0,null,2.0273062309900801E-2,"Region Sjælland"]
[null,"Helsingør",2021,0.26083840917234002,0,0,0,0.78270341953206402,0,0,null,7.30054604609265E-2,1.04196267879132E-2,null,0.157635332799519,0.78270341953206402,null,5.8381714647143902E-2,0,null,8.9356234559490001E-4,0.20687695368002301,null,3.797253692289E-3,"Region Hovedstaden"]
[null,"Herlev",2021,0,0.16518707878224501,0,0.16518707878224501,0,0,0,null,2.3384552270261601E-2,0.83481292121775497,null,0.56626907979302399,0,null,0.40077846278561002,0,null,6.7581617799961097E-3,0,null,1.52600271928538E-2,"Region Sjælland"]
[null,"Herning",2021,1.8315575849822401E-2,0.19426037566638399,0.29551757926029298,0.19426037566638399,0.15757394582565201,5.7363027917559303E-2,0.29551757926029298,null,0.15614269584634899,0.27729892215966601,null,0.33557459661695099,0.15757394582565201,null,0.232721817650244,5.7363027917559303E-2,null,0.16053145806872099,1.7986149170444901E-2,null,3.6172336803842201E-2,"Region Sjælland"]
[null,"Hillerød",2021,0,0.34091898954703798,2.0942218350754899E-2,0.34091898954703798,2.4680603948896598E-3,0,2.0942218350754899E-2,null,0,0.63567073170731703,null,0,2.4680603948896598E-3,null,0.41936401020143399,0,null,0,0,null,3.1519601181217501E-2,"Region Hovedstaden"]
[null,"Hjørring",2021,8.6032834454587107E-2,0.235934952884577,0.31639298636237101,0.235934952884577,2.6718619537990498E-2,2.63528289133633E-2,0.31639298636237101,null,0.104654160898036,0.31538308615959598,null,0.33141659014813002,2.6718619537990498E-2,null,0.144333437242324,2.63528289133633E-2,null,4.6499424377709701E-2,7.9217526142101702E-2,null,0.225523434129457,"Region Sjælland"]
[null,"Holbæk",2021,9.5187352268764305E-2,5.7476957913917201E-2,-2.2060254391706599E-2,5.7476957913917201E-2,0.39874750119412,1.7354538539105201E-2,-2.2060254391706599E-2,null,0.68652873200130704,0.46156703876023802,null,-0.14213564213559901,0.39874750119412,null,0.41264550264546102,1.7354538539105201E-2,null,0,8.6914217984326095E-2,null,4.2961407488768102E-2,"Region Sjælland"]
[null,"Holstebro",2021,4.0838980452685802E-2,0.16195380583826,0.35149409876693699,0.16195380583826,0.21970666504154199,3.5082373494220602E-2,0.35149409876693699,null,0.28205308119447597,0.19252645905702201,null,0.54511660291822805,0.21970666504154199,null,0.17812597872271899,3.5082373494220602E-2,null,1.40860741392315E-2,3.9236597802019199E-2,null,6.4706100179577702E-2,"Region Sjælland"]
[null,"Horsens",2021,0.11707844255651299,0.30597135255704,0.13223240439654901,0.30597135255704,0.17079626992018501,3.8966972131896499E-4,0.13223240439654901,null,0,0.28580258525704799,null,2.7285243769683798,0.17079626992018501,null,-2.6455772430640501,3.8966972131896499E-4,null,0.39812467179403599,0.10480771814786,null,-9.7900811622642103E-4,"Region Sjælland"]
[null,"Hvidovre",2021,0.24925351912412899,0,0,0,0.525608923287048,0.27486910994764402,0,null,3.7018810836485699E-2,0,null,9.6335037387561301E-2,0.525608923287048,null,4.1018697698043099E-3,0.27486910994764402,null,2.2526980065270801E-2,0.19952196676530801,null,0.20185208965538601,"Region Sjælland"]
[null,"Høje-Taastrup",2021,7.2943476786177505E-2,0.228108670993176,0.213362589954813,0.228108670993176,0.212284061959574,3.8306339141268601E-3,0.213362589954813,null,0,0.27442958885768998,null,0.298925301001154,0.212284061959574,null,7.9198125488155798E-3,3.8306339141268601E-3,null,1.7186140086365999E-3,6.7984454320620405E-2,null,0.241218645001126,"Region Sjælland"]
[null,"Hørsholm",2021,1.54355400696864E-2,0.34152283567237401,-6.0048725251346802E-3,0.34152283567237401,0.214940122842535,7.5798648045842895E-2,-6.0048725251346802E-3,null,0.31500550783098902,0.35854236008647,null,0.39578383301423498,0.214940122842535,null,0.158291493033033,7.5798648045842895E-2,null,7.1685525600329897E-2,1.52009058779124E-2,null,1.00432556096029E-2,"Region Sjælland"]
[null,"Ikast-Brande",2021,0.126143258172598,0.36048568671598602,-0.21156320360244399,0.36048568671598602,-6.1273721453843702E-2,5.0016082341588899E-2,-0.21156320360244399,null,0.19661040353162201,0.75032164683177904,null,0.24327593132676401,-6.1273721453843702E-2,null,-5.3296281093412302E-4,5.0016082341588899E-2,null,0.15281019449511701,0.112013509166935,null,0.19788283150960201,"Region Sjælland"]
[null,"Ishøj",2021,2.2504693189785798E-3,0.32876727785613502,0.122516220028209,0.32876727785613502,8.4129760225669994E-2,0.17410437235543,0.122516220028209,null,7.0402282603271998E-2,0.28823695345557099,null,0.53043943428275797,8.4129760225669994E-2,null,8.8470877624381203E-2,0.17410437235543,null,0.123495335312164,2.24541607898449E-3,null,3.9189236572656903E-2,"Region Sjælland"]
[null,"Jammerbugt",2021,0.14137981259406701,0,0.58841294823259205,0,4.0835424730954098E-2,3.9559317708111798E-3,0.58841294823259205,null,0.167963749670307,0.242928240248415,null,0.26202373813409002,4.0835424730954098E-2,null,7.2000498682459793E-2,3.9559317708111798E-3,null,0.134423363278938,0.123867455017227,null,6.8736458081883001E-2,"Region Sjælland"]
[null,"Kalundborg",2021,4.69088477824827E-2,0.11274129959041899,0.24481211202602199,0.11274129959041899,0.23163909159804799,9.3496938784199193E-3,0.24481211202602199,null,0.26274917756322203,0.35665080000340599,null,0.141303511945821,0.23163909159804799,null,0.361554731713227,9.3496938784199193E-3,null,0,4.4807002903684501E-2,null,0,"Region Sjælland"]
[null,"Kerteminde",2021,1.6786570743405301E-3,0,0,0,0,0.99832415609289005,0,null,0.12536999081000699,0,null,0.42033119105737199,0,null,0.23747361832234001,0.99832415609289005,null,9.39628593275081E-2,1.6758439071103701E-3,null,2.67780766231169E-2,"Region Sjælland"]
[null,"Kolding",2021,-1.2221723727161599E-3,0.40828686493184602,2.83612143742255E-2,0.40828686493184602,0.32766418835192102,1.6124535315985102E-2,2.83612143742255E-2,null,0.450216695777158,0.22078686493184599,null,0.232794454137846,0.32766418835192102,null,0.18268857608879299,1.6124535315985102E-2,null,-4.6285714285687602E-4,-1.22366790582404E-3,null,4.6676550554620999E-2,"Region Sjælland"]
[null,"København",2021,4.15727806767512E-2,0.510129095466895,1.58018089920818E-3,0.510129095466895,4.3341928166631898E-2,9.5951203420801295E-2,1.58018089920818E-3,null,7.0009372612407403E-2,0.30908412517404799,null,0.33423193714666199,4.3341928166631898E-2,null,0.36975768375086199,9.5951203420801295E-2,null,9.5289605912536306E-3,3.9913466872415503E-2,null,0,"Region Hovedstaden"]
[null,"Køge",2021,5.6845238095238101E-2,0.38151639140590099,9.57973727367602E-2,0.38151639140590099,8.9800718935842405E-2,3.8597246840161E-3,9.57973727367602E-2,null,1.2994921069018299E-2,0.375238126791128,null,0.168417489376012,8.9800718935842405E-2,null,0.40886958590405698,3.8597246840161E-3,null,0.21458067913971501,5.3787665446353099E-2,null,0,"Region Syddanmark"]
[null,"Langeland",2021,4.6116862090958199E-3,0.21492406114176901,0.42012990184109,0.21492406114176901,8.8636030668554994E-2,4.3658739073106398E-2,0.42012990184109,null,0,0.228060751086585,null,0.42846533936105402,8.8636030668554994E-2,null,0.43737181566510203,4.3658739073106398E-2,null,0,4.59051618889486E-3,null,0.122088421078881,"Region Syddanmark"]
[null,"Lejre",2021,3.8763929719012803E-2,0.80966170856917197,-0.19132552323285501,0.80966170856917197,6.1866526260365901E-2,1.8559957878109799E-2,-0.19132552323285501,null,0,0.26391996840858201,null,0.86030679744274596,6.1866526260365901E-2,null,0,1.8559957878109799E-2,null,-1.9236392176172301E-5,3.7317362116625001E-2,null,0,"Region Syddanmark"]
[null,"Lemvig",2021,5.4838709677419398E-2,0.21481481481481501,0.27910295616717601,0.21481481481481501,0.283112470268434,0,0.27910295616717601,null,0.309939484965923,0.17098199116547699,null,0.262525591307536,0.283112470268434,null,0.19756837657479301,0,null,6.6401221621882597E-2,5.1987767584097899E-2,null,0,"Region Syddanmark"]
[null,"Lolland",2021,0.41636007827788601,0,-5.2614126229689397E-2,0,0.75864927600309495,0,-5.2614126229689397E-2,null,2.08706340618274E-2,0,null,0.59855015940499401,0.75864927600309495,null,5.4332725843167402E-2,0,null,-4.4261239342997501E-3,0.29396485022659402,null,-7.1955212336263204E-3,"Region Syddanmark"]
[null,"Lyngby-Taarbæk",2021,0,0.21606057586928401,0.30511108897080802,0.21606057586928401,0.202590415462788,4.9935239613430299E-2,0.30511108897080802,null,0.38791127470943798,0.22630268008369001,null,0.213830018142076,0.202590415462788,null,3.26674741135431E-2,4.9935239613430299E-2,null,4.4886725123092198E-2,0,null,9.5858402135608201E-2,"Region Syddanmark"]
[null,"Læsø",2021,0,1,0,1,0,0,0,null,0.30912261441984901,0,null,0.25494592187399701,0,null,0.24404050738125699,0,null,3.1930481021850803E-2,0,null,4.5515993023107298E-2,"Region Syddanmark"]
[null,"Mariagerfjord",2021,0.111605657237937,0.22763162818545801,8.3785503124649205E-2,0.22763162818545801,7.76484676121693E-2,5.3886165475433099E-3,8.3785503124649205E-2,null,0.138480169356377,0.50514538038393897,null,0.32667303379597001,7.76484676121693E-2,null,0.24004749709651199,5.3886165475433099E-3,null,9.0709943576156E-5,0.100400404146241,null,3.8819229758128203E-2,"Region Syddanmark"]
[null,"Middelfart",2021,0,-8.5660138976626596E-2,0.26698673404927398,-8.5660138976626596E-2,0.361541377132028,3.3152242577384701E-2,0.26698673404927398,null,4.2909878606415902E-2,0.423979785217941,null,0.36348904897003798,0.361541377132028,null,0.224152943865533,3.3152242577384701E-2,null,7.6619806400160001E-2,0,null,1.6306874695073699E-2,"Region Syddanmark"]
[null,"Morsø",2021,0,0.26988108812510198,0.38172340772112701,0.26988108812510198,3.2187652712168099E-2,8.2309822446652497E-2,0.38172340772112701,null,-9.7061024688919403E-2,0.23389802899494999,null,0.66901374611522102,3.2187652712168099E-2,null,-6.68985272900251E-2,8.2309822446652497E-2,null,4.38132088406595E-2,0,null,7.01401769842427E-2,"Region Syddanmark"]
[null,"Norddjurs",2021,5.3997624104539399E-4,4.1088004605310501E-2,0.33554004461394499,4.1088004605310501E-2,0.431639922285385,0.19119234367129601,0.33554004461394499,null,0.59223684932393905,0,null,0.24774372373508399,0.431639922285385,null,0.108330928576081,0.19119234367129601,null,2.20973643870845E-4,5.3968482406274699E-4,null,5.6991349889244702E-2,"Region Syddanmark"]
[null,"Nordfyns",2021,9.0110512893170902E-2,4.8392686942206102E-2,0.16177107702971999,4.8392686942206102E-2,0.218568581578719,5.8703751841261601E-2,0.16177107702971999,null,-9.6787285576468193E-2,0.429902088207261,null,0.30469885192083301,0.218568581578719,null,0.61134548155572999,5.8703751841261601E-2,null,6.0866527625562704E-3,8.2661814400831798E-2,null,7.0825174878205402E-2,"Region Syddanmark"]
[null,"Nyborg",2021,2.6400171013253499E-2,0.20493595751327701,0.37765975910305799,0.20493595751327701,0.105522579749384,9.9968759762574192E-3,0.37765975910305799,null,0,0.27616369884411102,null,0,0.105522579749384,null,0,9.9968759762574192E-3,null,0.818133103676701,2.5721128813912301E-2,null,0.18186689632347,"Region Syddanmark"]
[null,"Næstved",2021,4.51114419306817E-2,7.55148511871922E-2,0.278064781470373,7.55148511871922E-2,0,-1.3231148872995001E-2,0.278064781470373,null,3.4621303717175402E-2,0.616487275426577,null,0.39667692849651798,0,null,0.28087733304232598,-1.3231148872995001E-2,null,3.10769773630327E-2,4.3164240788853302E-2,null,1.0405946517044099E-2,"Region Syddanmark"]
[null,"Odder",2021,1.7450760281661402E-2,0.114744232698094,0.12718154463390199,0.114744232698094,0.69568706118355095,9.3781344032096304E-3,0.12718154463390199,null,-0.100259770597994,3.5857572718154498E-2,null,0.33209094775651199,0.69568706118355095,null,0,9.3781344032096304E-3,null,4.7765291162996399E-3,1.7151454363089302E-2,null,2.4471587735916999E-3,"Region Syddanmark"]
[null,"Odense",2021,1.3566190779191099E-2,0.24353777983653199,0.182563433677294,0.24353777983653199,0.20810146950368399,9.3808092936508394E-2,0.182563433677294,null,0.35755861413926499,0.25860461147444103,null,0.134010407275127,0.20810146950368399,null,0.31325791761771898,9.3808092936508394E-2,null,-2.8921320462715898E-3,1.338461257154E-2,null,3.3155737205397898E-2,"Region Syddanmark"]
[null,"Odsherred",2021,4.0431392688734302E-2,0.351357415301772,6.31142023782814E-2,0.351357415301772,0.243414853040162,8.4810410590082999E-3,6.31142023782814E-2,null,-0.17773519657627901,0.29477226834193399,null,-3.5397092689571301E-2,0.243414853040162,null,1.0065525425548001,8.4810410590082999E-3,null,0,3.8860219878842299E-2,null,0.24874565313795199,"Region Syddanmark"]
[null,"Randers",2021,1.42859358761575E-2,9.4372228169444905E-2,0.25756231839730798,9.4372228169444905E-2,0.21402355100168199,0.159030432787888,0.25756231839730798,null,0,0.26092674720905301,null,0,0.21402355100168199,null,0,0.159030432787888,null,0,1.4084722434623E-2,null,-0.178731582318989,"Region Syddanmark"]
[null,"Rebild",2021,3.90290337934317E-2,0.46310003134267202,0,0.46310003134267202,-5.7863394170263099E-3,0,0,null,0.107628097894498,0.50512332135882498,null,0.43772535987009997,-5.7863394170263099E-3,null,5.84675256179246E-2,0,null,1.14332619429023E-2,3.7562986715529101E-2,null,9.9539891306335504E-2,"Region Syddanmark"]
[null,"Ringkøbing-Skjern",2021,0,0.13080305484841501,0.15289670600941099,0.13080305484841501,0.118043662732392,3.9034174188073797E-2,0.15289670600941099,null,0.40176816603243998,0.55922240222170805,null,0.319965799694785,0.118043662732392,null,0.25095256947533101,3.9034174188073797E-2,null,9.6888982632655996E-2,0,null,-5.3463633473587197E-3,"Region Syddanmark"]
[null,"Ringsted",2021,9.81266439982037E-2,7.3496333946776501E-2,0.27087897642625502,7.3496333946776501E-2,0.206964040545672,9.3798381678497397E-2,0.27087897642625502,null,0.39057413659540402,0.26550404580375703,null,0.26763597772841802,0.206964040545672,null,3.0933339786633599E-2,9.3798381678497397E-2,null,7.5366766078694497E-2,8.9358221599041901E-2,null,2.6454151648425101E-4,"Region Midtjylland"]
[null,"Roskilde",2021,1.0847225393925599E-3,6.1638627506891003E-2,0.171970345024237,6.1638627506891003E-2,0.28465925292272598,8.6398631308810901E-3,0.171970345024237,null,0.234457826231008,0.472008364223933,null,8.4406852672197497E-4,0.28465925292272598,null,0.55196158425167097,8.6398631308810901E-3,null,0.22593322330459401,1.0835471913316201E-3,null,-3.3851109274394303E-2,"Region Syddanmark"]
[null,"Rudersdal",2021,2.6407896442526699E-2,0.24102841677943199,0.238322056833559,0.24102841677943199,0.19209742895805099,1.6436626071267502E-2,0.238322056833559,null,0.122414482755659,0.28638700947225998,null,0.40557133964533398,0.19209742895805099,null,0.27304231248703598,1.6436626071267502E-2,null,6.17015925417519E-2,2.5728461885430799E-2,null,8.7072277446843302E-2,"Region Syddanmark"]
[null,"Rødovre",2021,0.186970353895098,0.230004743833017,0.13185483870967701,0.230004743833017,0,0,0.13185483870967701,null,0.358616204026106,0.480621442125237,null,0.54629344130398805,0,null,8.36076412853229E-5,0,null,-2.02069657840598E-2,0.15751897533206799,null,3.7355487825383497E-2,"Region Midtjylland"]
[null,"Samsø",2021,-6.4917647058823498,0,0,0,-0.18209083119108799,0,0,null,0.112624220108707,0,null,0.21692915197697299,-0.18209083119108799,null,0.62908343362002495,0,null,1.0572581636202101E-2,1.18209083119109,null,3.4273995580651499E-3,"Region Midtjylland"]
[null,"Silkeborg",2021,3.0988203111642999E-2,0.362588615729033,0,0.362588615729033,0,0,0,null,0.22928616113009101,0.60735458728908398,null,0.23500312786053701,0,null,0.22650214423262599,0,null,6.9116198945817303E-2,3.0056796981882999E-2,null,1.22813397086663E-2,"Region Midtjylland"]
[null,"Skanderborg",2021,1.5007762635846101E-2,8.7185588035350106E-2,1.26331293904373E-2,8.7185588035350106E-2,0.29323589394969402,1.7799682755495101E-2,1.26331293904373E-2,null,6.4427202951556198E-2,0.57435984590981204,null,0.28529118039165302,0.29323589394969402,null,0.23704080794983901,1.7799682755495101E-2,null,1.7966627465216999E-2,1.47858599592114E-2,null,2.0492651688131899E-2,"Region Midtjylland"]
[null,"Skive",2021,3.1708891399064097E-2,7.1048721357628797E-2,0.33170407445061401,7.1048721357628797E-2,0.46476890592007503,5.6580902479080299E-2,0.33170407445061401,null,0,4.5163056228982597E-2,null,0.43987398394911298,0.46476890592007503,null,2.9118859354762001E-2,5.6580902479080299E-2,null,0,3.07343395636193E-2,null,4.1108132943727498E-2,"Region Midtjylland"]
[null,"Slagelse",2021,3.9667921304823703E-2,0.162207615477444,0.15795825095642799,0.162207615477444,0.29805890055716699,0.11074023673196901,0.15795825095642799,null,0.129357980304391,0.23288058130279601,null,0.471820546438877,0.29805890055716699,null,0.24493642983762201,0.11074023673196901,null,8.7914866067095004E-2,3.8154414974195701E-2,null,-3.28946304676592E-3,"Region Midtjylland"]
[null,"Solrød",2021,1.4962860043819799E-3,0.36748305853476299,0.33354676911584202,0.36748305853476299,1.4993863721252901E-2,0,0.33354676911584202,null,0.17190514456841299,0.28248225815057898,null,0.41553042778645399,1.4993863721252901E-2,null,0.24222386730524201,0,null,4.3566066594000804E-3,1.49405047756256E-3,null,-1.2474655134020499E-3,"Region Midtjylland"]
[null,"Sorø",2021,4.4180750329617602E-2,0.16238119289223599,0.18885164608108701,0.16238119289223599,0.17498507736810701,9.2520317737269903E-2,0.18885164608108701,null,0.30918511206134303,0.338950365030534,null,0.444721590791119,0.17498507736810701,null,0.17926639125791199,9.2520317737269903E-2,null,2.7449238757583299E-2,4.23114008907663E-2,null,1.0409905114094901E-2,"Region Midtjylland"]
[null,"Stevns",2021,7.6595744680851105E-2,0.119793250228033,0.25387655822438399,0.119793250228033,0.47491638795986602,0,0.25387655822438399,null,0.214698659606881,8.0267558528428096E-2,null,0.49887788449313297,0.47491638795986602,null,1.04287050996144E-2,0,null,0,7.1146245059288502E-2,null,9.52169277030635E-3,"Region Midtjylland"]
[null,"Struer",2021,0.13474540210864699,1.31661180784134E-2,0.458272571976168,1.31661180784134E-2,0.12395316861797399,1.4582725719761699E-2,0.458272571976168,null,0,0.27128036331819499,null,0.31186354526420201,0.12395316861797399,null,0.41083037656355298,1.4582725719761699E-2,null,0,0.11874505228948801,null,0.12226995225611099,"Region Midtjylland"]
[null,"Svendborg",2021,1.7267060186462201E-2,0.34956616052060702,0.116612436731743,0.34956616052060702,0.110574837310195,0,0.116612436731743,null,0.39664945267128399,0.406272595806218,null,0.30997481471685301,0.110574837310195,null,0.18598665327276401,0,null,2.3222701331423699E-2,1.6973969631236398E-2,null,3.9697504953323901E-2,"Region Midtjylland"]
[null,"Syddjurs",2021,3.1134505543733901E-2,8.2480721190398607E-2,8.0569132182035402E-2,8.2480721190398607E-2,0.38855218855218798,9.0974258716194203E-2,8.0569132182035402E-2,null,0.1125756866278,0.32722928206799201,null,0.38374471042573099,0.38855218855218798,null,0.148103056091898,9.0974258716194203E-2,null,-1.28410297648145E-2,3.0194417291191499E-2,null,1.9858137226294498E-2,"Region Midtjylland"]
[null,"Sønderborg",2021,1.86447370680035E-2,0.17634368732408601,0.30879948763757098,0.17634368732408601,2.1067534087270199E-3,0.175349299715167,0.30879948763757098,null,0.16870742564107399,0.31909729829942901,null,0.25984104994402202,2.1067534087270199E-3,null,0.24568438738246801,0.175349299715167,null,0.156811984972929,1.8303473615020299E-2,null,0.128695494407189,"Region Midtjylland"]
[null,"Thisted",2021,3.76665596403917E-2,0.161712661238856,0.46380707420371697,0.161712661238856,0.17024115724535399,0,0.46380707420371697,null,0,0.167939817053124,null,0.44505922637699802,0.17024115724535399,null,0.382868891321692,0,null,0.108589097136432,3.6299290258949103E-2,null,5.7614614412813099E-3,"Region Midtjylland"]
[null,"Tønder",2021,0,0.31352026651860099,0.46987784564131002,0.31352026651860099,0,1.8212104386451999E-2,0.46987784564131002,null,0.185027938664618,0.198389783453637,null,0.25163923566270802,0,null,0.27591205204042502,1.8212104386451999E-2,null,1.0811350254482901E-4,0,null,0,"Region Midtjylland"]
[null,"Tårnby",2021,8.5125184094256304E-2,5.4085233441910997E-2,0.155401737242128,5.4085233441910997E-2,0.37052117263843598,0.14081161780673199,0.155401737242128,null,0,0.200732899022801,null,4.3388214603890001E-4,0.37052117263843598,null,0,0.14081161780673199,null,1.4498859918709E-3,7.8447339847991293E-2,null,0,"Region Midtjylland"]
[null,"Vallensbæk",2021,4.9553744664338401E-2,0.158243058379857,0.19687950604503299,0.158243058379857,4.84342071209376E-2,0.125374348356565,0.19687950604503299,null,0.444760462140465,0.42385477132399202,null,0,4.84342071209376E-2,null,3.8896538365953402E-3,0.125374348356565,null,2.4299649073515901E-2,4.7214108773616301E-2,null,7.1493103398767598E-4,"Region Nordjylland"]
[null,"Varde",2021,4.14020517830972E-2,0.18960361205582299,0,0.18960361205582299,0.365104960713029,0.10522458074352101,0,null,0.28240993886161903,0.30031077753019803,null,0.126345788007029,0.365104960713029,null,0.26438278412759098,0.10522458074352101,null,5.7940967492338999E-2,3.9756068957429301E-2,null,1.2285732978270399E-2,"Region Midtjylland"]
[null,"Vejen",2021,6.3760435724349696E-2,0.262805179401008,6.9862607492339607E-2,0.262805179401008,0.117386577048532,7.4152416724325404E-2,6.9862607492339607E-2,null,0.202001565729546,0.41585450232282301,null,0.30511098871470199,0.117386577048532,null,0.24431575674155701,7.4152416724325404E-2,null,8.8562633568841406E-2,5.9938717010971601E-2,null,7.9195778691328697E-2,"Region Nordjylland"]
[null,"Vejle",2021,3.2853783372527298E-2,0.116520458045939,7.3461461193330205E-2,0.116520458045939,0.69517176722694696,0.10537065559499099,7.3461461193330205E-2,null,0.124978945949565,-2.23330877921382E-2,null,0.24617856385570699,0.69517176722694696,null,2.77445861672376E-2,0.10537065559499099,null,3.9827556167801398E-2,3.1808745730931502E-2,null,0,"Region Midtjylland"]
[null,"Vesthimmerlands",2021,2.9251893046784199E-2,0.300232004395873,0,0.300232004395873,0,0,0,null,0.20822937831491101,0.671347457109714,null,0.43217358457870603,0,null,0.10845219259413599,0,null,0.128385845152067,2.8420538494413599E-2,null,2.8384648260043801E-2,"Region Nordjylland"]
[null,"Viborg",2021,0.111488692841567,9.5465726549351204E-2,0.42572176909364301,9.5465726549351204E-2,0.13404638841584299,0.12628842878910099,0.42572176909364301,null,5.73451673196139E-2,0.118171949847131,null,0.14517066591140099,0.13404638841584299,null,4.6874709716860301E-2,0.12628842878910099,null,6.3455086346308998E-4,0.100305737304931,null,1.06137590450945E-2,"Region Nordjylland"]
[null,"Vordingborg",2021,0,0.20805548146172301,0.104561216324353,0.20805548146172301,0.34423725114575998,0,0.104561216324353,null,1.8773970677413501E-2,0.34314605106816398,null,0.58471550765562297,0.34423725114575998,null,0.32280184477684798,0,null,5.1985859846124301E-3,0,null,2.3160153781638802E-2,"Region Nordjylland"]
[null,"Ærø",2021,0,1,0,1,0,0,0,null,0.12668679873333799,0,null,0.37687800777966601,0,null,0.185582179808534,0,null,0.15456443132070199,0,null,3.5601877531430202E-2,"Region Nordjylland"]
[null,"Aabenraa",2021,8.4777194934562597E-4,0.59013182275398401,0.36365080205410599,0.59013182275398401,5.3470273704272304E-3,4.0023293980623702E-2,0.36365080205410599,null,0,0,null,0,5.3470273704272304E-3,null,0.33615936291118897,4.0023293980623702E-2,null,0,8.4705384085976003E-4,null,3.3369589098002403E-2,"Region Nordjylland"]
[null,"Aalborg",2021,3.4685081390669399E-2,0.18227886631643,0.28138035219048102,0.18227886631643,0.229177470632004,5.5122770625239598E-2,0.28138035219048102,null,8.3806442306482196E-2,0.21851818448287499,null,0.35090132008241398,0.229177470632004,null,0.115964453893369,5.5122770625239598E-2,null,4.68577497964585E-2,3.3522355752970599E-2,null,0.188439223619426,"Region Nordjylland"]
[null,"Aarhus",2021,0.114655978200599,0.11395686643489999,0.15275547128834999,0.11395686643489999,0.188290774920336,8.5420036328388196E-2,0.15275547128834999,null,0.54664718734363804,0.356714640226726,null,7.1067821067856599E-2,0.188290774920336,null,0.34645502645500398,8.5420036328388196E-2,null,0,0.10286221080129999,null,3.5829965133446599E-2,"Region Nordjylland"]
[null,"Albertslund",2020,-8.03664711082536E-5,0.22986658093554099,0.138120880887317,0.22986658093554099,0.19102636232117001,1.7239993570165601E-2,0.138120880887317,null,0.227136322782172,0.42382655521620299,null,0.46095788002608601,0.19102636232117001,null,0.14226844523813001,1.7239993570165601E-2,null,1.13089092716265E-2,-8.0372930397042296E-5,null,6.2697348113884402E-2,"Region Nordjylland"]
[null,"Allerød",2020,0,0.60610116557916505,0.14745412971947999,0.60610116557916505,3.2513524064469397E-2,3.34616028107746E-2,0.14745412971947999,null,0,0.18046957782611101,null,2.1682837879311601,3.2513524064469397E-2,null,-1.9838350372726801,3.34616028107746E-2,null,0.349691374354961,0,null,-4.4934144865127501E-4,"Region Nordjylland"]
[null,"Assens",2020,1.3731600415494901E-2,0.10299152775348,0.234273860995177,0.10299152775348,0.15132581910879001,9.3794516782045895E-2,0.234273860995177,null,3.0656827235397099E-2,0.40406867767975402,null,0.146326632968169,0.15132581910879001,null,3.1982767382110499E-3,9.3794516782045895E-2,null,1.8331287854273601E-2,1.35455976807538E-2,null,0.187305477812789,"Region Hovedstaden"]
[null,"Ballerup",2020,1.0677368357047299E-2,0.68314723011021805,9.6982239976897505E-2,0.68314723011021805,4.6698272127833701E-2,1.25138374163739E-3,9.6982239976897505E-2,null,0,0.161356307455359,null,0.29751499788555902,4.6698272127833701E-2,null,6.0921634990887003E-3,1.25138374163739E-3,null,1.37330075620712E-3,1.0564566588054099E-2,null,0.219248933621465,"Region Hovedstaden"]
[null,"Billund",2020,2.46672785681505E-2,7.8042772365916502E-2,2.07143656925316E-2,7.8042772365916502E-2,0.29867875937744898,1.45560407569141E-2,2.07143656925316E-2,null,0.25261516552865299,0.56393460978613796,null,0.465057019921574,0.29867875937744898,null,0.12633360638331201,1.45560407569141E-2,null,5.7514798011457202E-2,2.4073452021050299E-2,null,1.0185143947625E-2,"Region Hovedstaden"]
[null,"Bornholm",2020,4.2884371029224898E-2,4.0389887298202899E-2,0.12960706670728001,4.0389887298202899E-2,0.23344501979896401,0.14794395370088301,0.12960706670728001,null,0.15639341883920099,0.40749314651233598,null,0.21554202902001399,0.23344501979896401,null,-4.2668719295480001E-4,0.14794395370088301,null,0.134544972193062,4.1120925982333197E-2,null,0.159369725025272,"Region Hovedstaden"]
[null,"Brøndby",2020,2.7756736283952001E-2,0.60810739668333802,0,0.60810739668333802,0.36488549618320598,0,0,null,5.6403584007483701E-2,0,null,0.53058037422237603,0.36488549618320598,null,7.1019941729801403E-2,0,null,9.9123175686969503E-2,2.70071071334562E-2,null,4.91471193201179E-2,"Region Hovedstaden"]
[null,"Brønderslev",2020,2.6468331770522501E-2,4.5924511065897101E-2,0.158929535356891,4.5924511065897101E-2,0.28138105717726197,7.7980318066686094E-2,0.158929535356891,null,0.133592596289205,0.40999875430801802,null,0.30359434255568402,0.28138105717726197,null,5.8781908570022502E-2,7.7980318066686094E-2,null,0.123849468659593,2.5785824025245999E-2,null,5.80294676268523E-2,"Region Hovedstaden"]
[null,"Egedal",2020,2.0235329386195E-3,0.29962602842184,0.35804038893044099,0.29962602842184,1.19670905011219E-3,1.14435302916978E-2,0.35804038893044099,null,0.210331970846383,0.32767389678384401,null,0.14287824699419799,1.19670905011219E-3,null,0.28976530440328901,1.14435302916978E-2,null,0,2.01944652206432E-3,null,0,"Region Hovedstaden"]
[null,"Esbjerg",2020,0.19594004656577399,0.248149500111537,9.24337368944049E-2,0.248149500111537,0.123866885684736,3.1929995335726297E-2,9.24337368944049E-2,null,0.10024237288632799,0.33978219869805898,null,0.44292029720260501,0.123866885684736,null,0.19115509039308201,3.1929995335726297E-2,null,8.4775701978479404E-2,0.16383768327553699,null,3.14810527931524E-2,"Region Hovedstaden"]
[null,"Fanø",2020,1.48367952522255E-3,0,0.71407407407407397,0,0.284444444444444,0,0.71407407407407397,null,0.359894276034396,0,null,0.28096768169923803,0.284444444444444,null,0.146439418476973,0,null,2.2204460492503101E-16,1.4814814814814801E-3,null,4.5842654806249397E-2,"Region Hovedstaden"]
[null,"Favrskov",2020,9.5438645342058107E-2,4.07180872190007E-2,0.237413615060767,4.07180872190007E-2,0.171181189927715,1.1978711573596E-2,0.237413615060767,null,5.6595100353668201E-2,0.45158471681626799,null,0.31627833695871699,0.171181189927715,null,0.29403288416637002,1.1978711573596E-2,null,7.5506739512838398E-3,8.7123679402653101E-2,null,0,"Region Hovedstaden"]
[null,"Faxe",2020,0,1.5438455349959801,0,1.5438455349959801,-7.6693483507642801,1.00321802091714,0,null,9.9960931300140405E-3,6.1222847948511703,null,0.17766444178635199,-7.6693483507642801,null,0.328672499019035,1.00321802091714,null,0.17027422320295199,0,null,0,"Region Hovedstaden"]
[null,"Fredensborg",2020,0.24044185151183101,0.66549682471470195,5.5865921787709499E-3,0.66549682471470195,5.8253354342739797E-3,2.38265768992026E-2,5.5865921787709499E-3,null,0,0.10542902163013899,null,0.51669368129520898,5.8253354342739797E-3,null,0.349772879844295,2.38265768992026E-2,null,0,0.19383564914291199,null,0.12378180296390399,"Region Hovedstaden"]
[null,"Fredericia",2020,1.18326058625184E-2,0.379367448326621,0.103080980516427,0.379367448326621,0.16286058920941299,5.0865822991842703E-2,0.103080980516427,null,0,0.29213092633860099,null,0.81090230281951403,0.16286058920941299,null,0,5.0865822991842703E-2,null,0,1.16942326170957E-2,null,0,"Region Hovedstaden"]
[null,"Frederiksberg",2020,0.29333566791477,0.43759437646446198,0,0.43759437646446198,1.7058057797448602E-2,1.1871908357198599E-3,0,null,0.248075573333807,0.31735485550637899,null,0.32450860940699,1.7058057797448602E-2,null,0.15905924157981099,1.1871908357198599E-3,null,7.3571147207349696E-2,0.226805519395991,null,0,"Region Hovedstaden"]
[null,"Frederikshavn",2020,1.3321676866075501E-2,5.6499322131383298E-2,0.2849307752352,5.6499322131383298E-2,0.148894868739986,6.6379770757158701E-2,0.2849307752352,null,1.66652667053242E-2,0.43014872026621798,null,0.49874811276146203,0.148894868739986,null,4.5390350073393697E-2,6.6379770757158701E-2,null,-1.3965129012829499E-3,1.31465428700546E-2,null,7.4063203802381905E-2,"Region Hovedstaden"]
[null,"Frederikssund",2020,0.218779585162234,0,1.4123296377374501E-4,0,4.7595508791751999E-2,7.9796624532165808E-3,1.4123296377374501E-4,null,0.31058629915534602,0.76477649883482801,null,0.254551475839293,4.7595508791751999E-2,null,2.62673670021751E-2,7.9796624532165808E-3,null,5.3924709923219197E-2,0.17950709695643,null,8.3636509305044598E-2,"Region Hovedstaden"]
[null,"Furesø",2020,3.2188743084449703E-2,0.28686600221483899,5.4662236987818399E-2,0.28686600221483899,6.0465116279069801E-2,1.6035437430786299E-2,5.4662236987818399E-2,null,0.24601436649408001,0.55078626799556996,null,0.34512882860607902,6.0465116279069801E-2,null,0.19643308689371999,1.6035437430786299E-2,null,2.5497478849359798E-2,3.11849390919158E-2,null,4.0619973505986499E-2,"Region Hovedstaden"]
[null,"Faaborg-Midtfyn",2020,0.26689846434041098,0.22471983533178699,0.19449799065573201,0.22471983533178699,8.4947887738099097E-4,0.10507400267912601,0.19449799065573201,null,0.110630855486576,0.26418793086548797,null,0.37781132528198202,8.4947887738099097E-4,null,0.192798048195755,0.10507400267912601,null,7.9361064226339594E-5,0.21067076159048601,null,3.68704908683362E-2,"Region Hovedstaden"]
[null,"Gentofte",2020,4.9822064056939501E-2,0.205958686440678,7.3437500000000003E-2,0.205958686440678,7.7052436440677996E-2,0.110712394067797,7.3437500000000003E-2,null,3.46662334501424E-2,0.485381355932203,null,0.401009655483335,7.7052436440677996E-2,null,0.17911661405634099,0.110712394067797,null,6.1071123344024897E-2,4.7457627118644097E-2,null,1.58525054891876E-2,"Region Hovedstaden"]
[null,"Gladsaxe",2020,9.29105168900142E-2,0.36423223619155198,0.16462777228422101,0.36423223619155198,4.6616753778782299E-2,0.13049865800254301,0.16462777228422101,null,-7.7796041391472698E-2,0.20901257239723101,null,0.66813160146319295,4.6616753778782299E-2,null,-5.3540034596476702E-2,0.13049865800254301,null,4.0838144860640697E-2,8.5012007345670298E-2,null,6.1009073891408902E-2,"Region Hovedstaden"]
[null,"Glostrup",2020,0,0.23983615843827599,0.23791886356704001,0.23983615843827599,0.32293346115299099,0,0.23791886356704001,null,0.47172069033908298,0.19931151684169199,null,0.28494667294405901,0.32293346115299099,null,8.8181499436565502E-2,0,null,1.6997972605449499E-4,0,null,0.124233704824235,"Region Hovedstaden"]
[null,"Greve",2020,0.10979126183163,0.17763845350052199,0.18266542404473399,0.17763845350052199,4.9422463215566701E-3,2.4965404275749101E-2,0.18266542404473399,null,-8.4884747099700106E-2,0.51085882120364901,null,0.25324765880752398,4.9422463215566701E-3,null,0.49646070256255798,2.4965404275749101E-2,null,4.7876975496938803E-3,9.8929650653788601E-2,null,6.6303100474286197E-2,"Region Hovedstaden"]
[null,"Gribskov",2020,0,0.220575596385682,0.11741887528745,0.220575596385682,0.24066804487700599,3.0870363057768701E-2,0.11741887528745,null,0,0.39046712039209303,null,0,0.24066804487700599,null,0,3.0870363057768701E-2,null,0.640285860358347,0,null,0.35971413964176702,"Region Hovedstaden"]
[null,"Guldborgsund",2020,2.77179349080557E-2,0.13677029328641699,0.115442924254618,0.13677029328641699,0.17160156469333099,5.6841790039117303E-2,0.115442924254618,null,2.7779284980280001E-2,0.49237305583110302,null,0.372645501428089,0.17160156469333099,null,0.224296227182677,5.6841790039117303E-2,null,3.1360090590322E-2,2.6970371895412602E-2,null,1.0686622676514899E-2,"Region Hovedstaden"]
[null,"Haderslev",2020,9.9939905416351005E-2,0.15487671623355001,0.42888023183999202,0.15487671623355001,0.15238253598745799,0,0.42888023183999202,null,-7.9758606924229994E-2,0.17300109268848901,null,0.39334009476891701,0.15238253598745799,null,0,0,null,4.84037216891736E-3,9.0859423250510704E-2,null,5.68280496282796E-2,"Region Hovedstaden"]
[null,"Halsnæs",2020,0,0.24228100170974601,4.7430353012169399E-2,0.24228100170974601,0.38764960273559301,8.7096449763652793E-3,4.7430353012169399E-2,null,0.287739652766277,0.31392939756612698,null,0.107122588364206,0.38764960273559301,null,0.25184793447436998,8.7096449763652793E-3,null,-2.3165766687132101E-3,0,null,2.9172651803230899E-2,"Region Hovedstaden"]
[null,"Hedensted",2020,0,0.22002392957866801,2.7989060764037298E-2,0.22002392957866801,0.32997179728228399,0.25155969575249998,2.7989060764037298E-2,null,-0.142808633446592,0.17045551662251099,null,-1.50852757306552E-2,0.32997179728228399,null,0.80483417876666896,0.25155969575249998,null,0,0,null,0.22109224327149901,"Region Sjælland"]
[null,"Helsingør",2020,0.120685593120509,0,0,0,0.41052188994586603,0,0,null,0,0.481789036632154,null,0,0.41052188994586603,null,0,0,null,0,0.107689073421979,null,-7.1428571428555201E-2,"Region Sjælland"]
[null,"Herlev",2020,0,0.115411485259187,0,0.115411485259187,0,0,0,null,8.5908362551137402E-2,0.88458851474081301,null,0.398271869484006,0,null,4.58921773791197E-2,0,null,1.2918845004255001E-2,0,null,7.9755122964428396E-2,"Region Hovedstaden"]
[null,"Herning",2020,0,0.193999533815058,0.279278079318038,0.193999533815058,0.17292131464153701,6.6481302653924296E-2,0.279278079318038,null,0.32241343900804498,0.28731976957144301,null,0.29192733093761802,0.17292131464153701,null,0.200921882056946,6.6481302653924296E-2,null,7.6186454635028197E-2,0,null,-1.3716875300726599E-3,"Region Sjælland"]
[null,"Hillerød",2020,0,0.37553761662145202,2.3886720042347601E-2,0.37553761662145202,1.15132667240124E-2,3.3084099781644898E-5,2.3886720042347601E-2,null,0.313078308832274,0.58902931251240598,null,0.28879002942866799,1.15132667240124E-2,null,2.4770498387351101E-2,3.3084099781644898E-5,null,6.03513412617609E-2,0,null,2.26749871272219E-4,"Region Sjælland"]
[null,"Hjørring",2020,9.7759754710449606E-2,0.24935804449089499,0.35250340123796098,0.24935804449089499,2.2182378433898899E-2,2.8957824649289601E-2,0.35250340123796098,null,0.18130633544583899,0.25794448098460199,null,6.7525482137759097E-4,2.2182378433898899E-2,null,0.44652199110959101,2.8957824649289601E-2,null,0.18221997016243599,8.9053870203353494E-2,null,9.2615756070813404E-2,"Region Hovedstaden"]
[null,"Holbæk",2020,9.7427531185961799E-2,7.0032632342276996E-2,0.240319071791153,7.0032632342276996E-2,0.25384336475706998,1.45576504713561E-2,0.240319071791153,null,9.9824756362359296E-2,0.33246918056562702,null,0.45739226203053801,0.25384336475706998,null,0.22087645517895299,1.45576504713561E-2,null,5.1562562109982203E-2,8.8778100072516297E-2,null,7.5801067369852204E-2,"Region Sjælland"]
[null,"Holstebro",2020,5.7693180786343397E-2,0.12772167791644801,0.34168929142477,0.12772167791644801,0.197602669900308,3.2096751692832701E-2,0.34168929142477,null,0.28788444136216601,0.24634337407578299,null,0.48391468294705903,0.197602669900308,null,6.8756923192994006E-5,3.2096751692832701E-2,null,-1.6424395998767799E-2,5.4546234989859103E-2,null,3.0038864649794699E-2,"Region Sjælland"]
[null,"Horsens",2020,4.7354440376193602E-2,0.30471738206544802,0.137038509521133,0.30471738206544802,0.201472382545275,9.5965342801913802E-5,0.137038509521133,null,8.9534579235284198E-2,0.31146237473095401,null,0.21586162855771901,0.201472382545275,null,0.50244583553961797,9.5965342801913802E-5,null,1.8139663262291002E-2,4.5213385794387398E-2,null,1.04103131878652E-2,"Region Sjælland"]
[null,"Hvidovre",2020,0.31869530628480502,0,0,0,0.46875,0.28957528957529,0,null,0.18351643736991699,0,null,0.25746890825475099,0.46875,null,0.181488899728251,0.28957528957529,null,6.7425533019850103E-2,0.24167471042471,null,1.6309411337839901E-2,"Region Sjælland"]
[null,"Høje-Taastrup",2020,7.8576502669630399E-2,0.229540239653268,0.20693464774369,0.229540239653268,0.208273136738336,4.6103509815586001E-3,0.20693464774369,null,5.1241541600997899E-2,0.27778958103169898,null,0.35837337498989502,0.208273136738336,null,0.19000909292836399,4.6103509815586001E-3,null,1.51799765656921E-2,7.2852043851449E-2,null,1.62261802411603E-2,"Region Sjælland"]
[null,"Hørsholm",2020,2.0464288603089902E-2,0.30722891566265098,2.55231452124287E-2,0.30722891566265098,0.22340678503487599,7.4112238427393798E-2,2.55231452124287E-2,null,0,0.34967501585288502,null,0.45879697214431298,0.22340678503487599,null,2.44197900844139E-2,7.4112238427393798E-2,null,0,2.0053899809765401E-2,null,4.33945043930795E-2,"Region Sjælland"]
[null,"Ikast-Brande",2020,0.116440898125812,0.42142441618881399,-0.112025263857725,0.42142441618881399,-5.8422670988116002E-2,5.1857392171528301E-2,-0.112025263857725,null,0.102765344376728,0.59286960857641502,null,0.52129545242337405,-5.8422670988116002E-2,null,0.19543482816712299,5.1857392171528301E-2,null,7.1107484579663094E-2,0.10429651790908299,null,-1.08318170353172E-4,"Region Sjælland"]
[null,"Ishøj",2020,7.5819309123117797E-3,0.29479470679934799,0.13806158209969899,0.29479470679934799,8.0570109122449204E-2,0.19228289789842601,0.13806158209969899,null,0.134405964628627,0.28676582627143499,null,0.42023237153068199,8.0570109122449204E-2,null,0.192230094974676,0.19228289789842601,null,3.3512358918463799E-3,7.5248778086430598E-3,null,-9.5958885646307802E-4,"Region Sjælland"]
[null,"Jammerbugt",2020,0.107533064979873,0,0.61859640013845596,0,5.7935271720318503E-2,4.7594323295257899E-4,0.61859640013845596,null,0.24818006483508301,0.225899965385947,null,0.27653329533347898,5.7935271720318503E-2,null,0.14141229496291899,4.7594323295257899E-4,null,2.2961031285456499E-2,9.7092419522326098E-2,null,3.0227405317987201E-2,"Region Sjælland"]
[null,"Kalundborg",2020,3.9014434746425998E-2,0.123814064362336,0.18502979737783101,0.123814064362336,0.28633134684147798,1.0955899880810501E-2,0.18502979737783101,null,0.171097651285052,0.35631942789034599,null,0.519300811160612,0.28633134684147798,null,8.1514690373873898E-3,1.0955899880810501E-2,null,0,3.7549463647199001E-2,null,2.0781571657710898E-2,"Region Sjælland"]
[null,"Kerteminde",2020,4.5772751750134599E-3,0,0,0,0,0.99544358080943396,0,null,0,0,null,0.24623513761093799,0,null,0.33125483188789001,0.99544358080943396,null,0,4.5564191905655303E-3,null,0.14793544724261701,"Region Sjælland"]
[null,"Kolding",2020,8.9438739504270302E-3,0.330916150398264,2.9263139863533801E-2,0.330916150398264,0.28146858138007802,2.73360550432524E-2,2.9263139863533801E-2,null,0.316852330198998,0.32215148314157599,null,0.24673954223803199,0.28146858138007802,null,0.14969270968572301,2.73360550432524E-2,null,1.8665711974557901E-2,8.8645901732948892E-3,null,0.23075250517138099,"Region Sjælland"]
[null,"København",2020,4.0464975676535897E-2,0.50143669517872003,1.6139622453145801E-3,0.50143669517872003,6.0360396105500203E-2,9.6531837037169804E-2,1.6139622453145801E-3,null,8.9613834943250495E-2,0.30116586693834801,null,0.37608335777744301,6.0360396105500203E-2,null,0.118426601767531,9.6531837037169804E-2,null,-3.76007207870899E-3,3.8891242494947603E-2,null,2.2841646607879799E-2,"Region Sjælland"]
[null,"Køge",2020,4.7066463862731403E-2,0.363001289438033,9.77687825419883E-2,0.363001289438033,7.6631791992426604E-2,1.89335204922715E-3,9.77687825419883E-2,null,0.135913706288363,0.41575399480960401,null,0.28464447338733101,7.6631791992426604E-2,null,0.19705936724992101,1.89335204922715E-3,null,0.142628327283259,4.4950789168720501E-2,null,0.15563996397289501,"Region Hovedstaden"]
[null,"Langeland",2020,-9.6974398758727695E-4,0.236750145602796,0.39895165987186998,0.236750145602796,5.2756746262861601E-2,7.1490972626674407E-2,0.39895165987186998,null,0,0.241021160939623,null,0.489171849179456,5.2756746262861601E-2,null,0.306641159567761,7.1490972626674407E-2,null,0.105309924226121,-9.7068530382449995E-4,null,4.5485503662092697E-2,"Region Syddanmark"]
[null,"Lejre",2020,5.0176295090859802E-2,0.82877066115702502,-8.9531680440771297E-2,0.82877066115702502,0,1.23106060606061E-2,-8.9531680440771297E-2,null,0.14860517053546099,0.200671487603306,null,0.32004103344658602,0,null,0.217725486738573,1.23106060606061E-2,null,9.2668716466993997E-5,4.7778925619834697E-2,null,0,"Region Syddanmark"]
[null,"Lemvig",2020,5.8151345860843098E-2,0.29325653947684199,0.26343892488600901,0.29325653947684199,0.25095992320614302,-2.39980801535877E-3,0.26343892488600901,null,0,0.139788816894648,null,1.7355285841558199E-4,0.25095992320614302,null,0,-2.39980801535877E-3,null,1.1152969168237699E-3,5.4955603551715901E-2,null,0,"Region Syddanmark"]
[null,"Lolland",2020,0.27835131568734001,0,-0.101341915113243,0,0.88359948995081705,0,-0.101341915113243,null,0.35559814699786302,0,null,0,0.88359948995081705,null,3.0874025693057301E-3,0,null,1.9038062516875301E-2,0.21774242516242601,null,5.5130925145757703E-4,"Region Syddanmark"]
[null,"Lyngby-Taarbæk",2020,0,0.22508768728584999,0.27283417472578703,0.22508768728584999,0.18518743790929201,7.0210652231210605E-2,0.27283417472578703,null,0.22582039125759901,0.24668004784785999,null,0.221306036344629,0.18518743790929201,null,0.21165487377842801,7.0210652231210605E-2,null,4.9610155906179898E-2,0,null,2.35711672723973E-2,"Region Syddanmark"]
[null,"Læsø",2020,0,1,0,1,0,0,0,null,0.161950991001405,0,null,0.36128518854984298,0,null,0.19628422968638401,0,null,7.6317809009783105E-2,0,null,8.9924798336920006E-2,"Region Syddanmark"]
[null,"Mariagerfjord",2020,9.1373727127306806E-2,0.22621813891967299,0.108819218532156,0.22621813891967299,8.1078182533157003E-2,5.5410574482536697E-3,0.108819218532156,null,9.3678265328222196E-2,0.49461981196153398,null,0.29094522113756199,8.1078182533157003E-2,null,2.0690556685208202E-2,5.5410574482536697E-3,null,3.59137663022411E-2,8.3723590605226494E-2,null,0,"Region Syddanmark"]
[null,"Middelfart",2020,0,-5.0776234387766997E-3,0.36436325434807998,-5.0776234387766997E-3,0.22837632776934699,4.6574063266020801E-2,0.36436325434807998,null,0.157141972068985,0.36576397805532901,null,0.46778390509744799,0.22837632776934699,null,8.0577652908630198E-2,4.6574063266020801E-2,null,0.14060794380776501,0,null,3.6496234210190402E-2,"Region Syddanmark"]
[null,"Morsø",2020,0,0.31086373096724701,0.33734527330485298,0.31086373096724701,2.6125534012487701E-2,7.0777193558987803E-2,0.33734527330485298,null,4.1684874178301398E-2,0.25488826815642501,null,0.13270599902328301,2.6125534012487701E-2,null,3.5367704786580099E-2,7.0777193558987803E-2,null,3.7553938133128001E-4,0,null,1.74302643979019E-2,"Region Syddanmark"]
[null,"Norddjurs",2020,2.25216771142224E-4,4.5220850377153197E-2,0.33966300146357897,4.5220850377153197E-2,0.419934701842609,0.19495628025668901,0.33966300146357897,null,1.41633890845654E-2,0,null,0.60316193551821595,0.419934701842609,null,0.24482522676808599,0.19495628025668901,null,3.6390101892287401E-3,2.2516605996922699E-4,null,3.1060280370425599E-2,"Region Syddanmark"]
[null,"Nordfyns",2020,0.14308755760368699,0.10370892965127999,8.1636766780891004E-2,0.10370892965127999,0.20328562789760099,5.1400927232412803E-2,8.1636766780891004E-2,null,9.72309016203355E-2,0.43479137270711499,null,0.41818141894236799,0.20328562789760099,null,0.13844254196681099,5.1400927232412803E-2,null,0.148597404572685,0.12517637573069901,null,3.50314182590181E-2,"Region Syddanmark"]
[null,"Nyborg",2020,2.8018544648256399E-2,0.19658823529411801,0.41619607843137302,0.19658823529411801,0.11427450980392199,1.48627450980392E-2,0.41619607843137302,null,0,0.23082352941176501,null,0,0.11427450980392199,null,0.25295471562094501,1.48627450980392E-2,null,0,2.7254901960784301E-2,null,3.5219577014787201E-2,"Region Syddanmark"]
[null,"Næstved",2020,3.0269489894129E-2,0.131498435237517,0.30641319071418599,0.131498435237517,0,-1.3253771778224101E-2,0.30641319071418599,null,6.2958723714935202E-2,0.54596197860712803,null,0.370386050016698,0,null,8.7595470544421503E-2,-1.3253771778224101E-2,null,4.7216075215207202E-2,2.93801672193937E-2,null,0.15135501310938099,"Region Syddanmark"]
[null,"Odder",2020,3.1086472203512797E-4,0.117418552856477,0.11524317605013699,0.117418552856477,0.62547262650851998,2.0044543429844099E-2,0.11524317605013699,null,0.406765642686025,0.12151033303983,null,0.28427128427131299,0.62547262650851998,null,0.28026455026451902,2.0044543429844099E-2,null,0,3.1076811519138101E-4,null,2.86985227781234E-2,"Region Syddanmark"]
[null,"Odense",2020,1.07033639143731E-2,0.31754988492231401,0.19954685920370499,0.31754988492231401,0.19611245348495401,5.6613919739587501E-2,0.19954685920370499,null,0.172219564369854,0.219586867520847,null,0.376799157133973,0.19611245348495401,null,0.106410911753528,5.6613919739587501E-2,null,8.5317444040216E-3,1.0590015128593E-2,null,6.0688596048190199E-2,"Region Syddanmark"]
[null,"Odsherred",2020,2.7424436923795099E-2,0.34961381190368002,6.4288959563834597E-2,0.34961381190368002,0.220536119945479,2.7033166742389801E-3,6.4288959563834597E-2,null,0,0.336165379373012,null,1.6080431988937101,0.220536119945479,null,-1.3220928314813101,2.7033166742389801E-3,null,0.30125807691587198,2.6692412539754701E-2,null,8.0325218923871206E-5,"Region Syddanmark"]
[null,"Randers",2020,1.4906950246866699E-2,9.8138272990925299E-2,0.27596906477063599,9.8138272990925299E-2,0.20187420089188299,0.14285714285714299,0.27596906477063599,null,2.4294843634308502E-2,0.26647332148314501,null,0.19631822854876199,0.20187420089188299,null,2.2946837066175601E-3,0.14285714285714299,null,1.4135595643276501E-2,1.46879970062681E-2,null,0.17275886597019499,"Region Syddanmark"]
[null,"Rebild",2020,4.6431399162990598E-2,0.45484516024428501,0,0.45484516024428501,-2.9076365994703601E-2,0,0,null,0,0.52986002269902199,null,0.29610469476996398,-2.9076365994703601E-2,null,4.2645144493622701E-3,0,null,1.02798750377764E-3,4.4371183051397103E-2,null,0.197279222241804,"Region Syddanmark"]
[null,"Ringkøbing-Skjern",2020,0,0.13936571750856799,0.125309115099278,0.13936571750856799,0.224356100594369,5.5344256605301602E-2,0.125309115099278,null,0.19022482322633,0.45562481019248302,null,0.53433020682891197,0.224356100594369,null,9.4375719733591296E-2,5.5344256605301602E-2,null,4.3344070422580899E-2,0,null,1.03270322856471E-2,"Region Syddanmark"]
[null,"Ringsted",2020,4.9058700483723398E-2,5.3992584976789097E-2,0.30093155123531801,5.3992584976789097E-2,0.19830513755179599,6.5956319905287095E-2,0.30093155123531801,null,0.116176434146794,0.334049911206655,null,0.187808126713264,0.19830513755179599,null,-3.20411574975504E-4,6.5956319905287095E-2,null,0.116279749891,4.6764495124154898E-2,null,0.120856618540941,"Region Syddanmark"]
[null,"Roskilde",2020,-2.6796489864381102E-3,6.3571662974813398E-2,0.218270571827057,6.3571662974813398E-2,0.28812864057756998,9.3834604971695795E-3,0.218270571827057,null,4.2404885411695403E-2,0.42333251292148699,null,0.53072131416199497,0.28812864057756998,null,5.3569005835221603E-2,9.3834604971695795E-3,null,7.4751016061782097E-2,-2.6868487980966399E-3,null,5.9105002067575199E-2,"Region Midtjylland"]
[null,"Rudersdal",2020,3.05092874402818E-2,0.25070256144056402,0.28449710920579202,0.25070256144056402,0.18032111980238799,2.0799398571607602E-2,0.28449710920579202,null,9.9221442908117297E-2,0.23407378237599999,null,0.34516494697726302,0.18032111980238799,null,4.5563318457588799E-2,2.0799398571607602E-2,null,0.113275574040248,2.9606028603647899E-2,null,4.7322477171817902E-2,"Region Syddanmark"]
[null,"Rødovre",2020,0.14387872698797299,0.29806251614569901,0.161611986566779,0.29806251614569901,0,0,0.161611986566779,null,0.15791476412955799,0.41454404546628798,null,0.14445298204257601,0,null,0.21797587709338001,0,null,0,0.12578145182123501,null,0,"Region Syddanmark"]
[null,"Samsø",2020,-11.677884615384601,0,0,0,-9.3651508329581301E-2,0,0,null,7.5114754962641E-2,0,null,0.46550940334783802,-9.3651508329581301E-2,null,0.14483656246382301,0,null,7.5588544629450694E-2,1.0936515083295799,null,3.61840289631878E-2,"Region Midtjylland"]
[null,"Silkeborg",2020,4.1064702906290398E-2,0.32230891762736602,-1.8359026971570499E-3,0.32230891762736602,0,0,-1.8359026971570499E-3,null,0.26957185629163399,0.64008207564999098,null,0.32914090926063,0,null,0.110190260865139,0,null,4.6285714285720898E-4,3.9444909419800701E-2,null,4.5008759057877802E-2,"Region Midtjylland"]
[null,"Skanderborg",2020,4.6811271783463101E-3,8.3498639110578005E-2,8.9495778936199699E-3,8.3498639110578005E-2,0.30888729990312302,1.6284541218803301E-2,8.9495778936199699E-3,null,4.3180828094929097E-2,0.577720625547816,null,0.29832473677076599,0.30888729990312302,null,0.218308084581849,1.6284541218803301E-2,null,5.5723873113140403E-3,4.6593163260598798E-3,null,0,"Region Midtjylland"]
[null,"Skive",2020,2.8453225261735899E-2,7.6471554059601002E-2,0.31840571381659999,7.6471554059601002E-2,0.45497085625153899,6.1366061899679802E-2,0.31840571381659999,null,6.9972651910097401E-3,6.11197767014202E-2,null,0.186911394196692,0.45497085625153899,null,0.248475412134013,6.1366061899679802E-2,null,0.12596776726620401,2.7666037271160002E-2,null,0,"Region Midtjylland"]
[null,"Slagelse",2020,2.76795757673148E-2,0.14024731897371701,0.21556363446828999,0.14024731897371701,0.28212345099878799,9.1330805415477598E-2,0.21556363446828999,null,0,0.24380073752654999,null,0.60492202322936395,0.28212345099878799,null,0.26217394402351601,9.1330805415477598E-2,null,0,2.6934052617176799E-2,null,0.125475184848927,"Region Midtjylland"]
[null,"Solrød",2020,1.11429688518181E-2,0.33666301475800697,0.24321711671070401,0.33666301475800697,1.3404652961268301E-2,0,0.24321711671070401,null,0,0.39569504414513101,null,0.76149780819628199,1.3404652961268301E-2,null,0,0,null,1.9236392176179301E-5,1.10201714248888E-2,null,0,"Region Midtjylland"]
[null,"Sorø",2020,1.8996335352628801E-2,0.18086850152905201,0.24462385321100899,0.18086850152905201,0.179204892966361,4.6434250764526001E-2,0.24462385321100899,null,0.186211661701705,0.33022629969418998,null,0.386491627506444,0.179204892966361,null,0.120550106584844,4.6434250764526001E-2,null,8.0741072792815102E-2,1.8642201834862399E-2,null,0,"Region Midtjylland"]
[null,"Stevns",2020,0.16884816753926701,0.21332586786114199,0,0.21332586786114199,0.28779395296752502,0,0,null,1.2459899348819199E-2,0.35442329227323599,null,0.39894606611795802,0.28779395296752502,null,3.6447974303616397E-2,0,null,1.6330981317338501E-3,0.14445688689809599,null,0.15532192883838999,"Region Midtjylland"]
[null,"Struer",2020,0.14785831960461299,1.3634732687477599E-2,0.38006817366343698,1.3634732687477599E-2,0.15146214567635399,1.7357373519913899E-2,0.38006817366343698,null,0.23326132360122601,0.30866523143164698,null,0.29527293353649497,0.15146214567635399,null,1.9867259890807201E-2,1.7357373519913899E-2,null,6.2962694723346202E-2,0.12881234302117001,null,7.1414616474477596E-2,"Region Midtjylland"]
[null,"Svendborg",2020,2.0620766526622699E-2,0.32851682278321498,0.121875918847398,0.32851682278321498,0.142794136178435,0,0.121875918847398,null,0.18290611856831199,0.38660898055193799,null,0.43531173533818901,0.142794136178435,null,0.14882566640619599,0,null,1.9064476676868801E-2,2.0204141639013701E-2,null,3.5723953988865603E-2,"Region Midtjylland"]
[null,"Syddjurs",2020,3.3748551564310503E-2,0.104245481294662,9.1471673438886597E-2,0.104245481294662,0.38071552005978199,9.2826117416281398E-2,9.1471673438886597E-2,null,8.2781541616775201E-2,0.29809443743870001,null,0.42894961676797999,0.38071552005978199,null,0.14554859929501199,9.2826117416281398E-2,null,6.8012184876519596E-5,3.2646770351688399E-2,null,3.4921751978543601E-2,"Region Midtjylland"]
[null,"Sønderborg",2020,2.2430856725285601E-2,0.139354578083001,0.51402246702195398,0.139354578083001,0,0.14631531517533899,0.51402246702195398,null,2.6422588293868898E-2,0.17836888799117501,null,0.43853026199661799,0,null,0.13408028424714799,0.14631531517533899,null,4.5522440287886198E-2,2.19387517285312E-2,null,1.5398136283301301E-2,"Region Midtjylland"]
[null,"Thisted",2020,4.8489273943675901E-2,0.18080861316066901,0.42678060533052298,0.18080861316066901,0.157205240174672,0,0.42678060533052298,null,-5.8531058094018797E-2,0.188958741153441,null,0.66724945681116399,0.157205240174672,null,-4.0181541902924799E-2,0,null,3.7863080880621097E-2,4.6246800180695699E-2,null,5.1877970798578601E-2,"Region Midtjylland"]
[null,"Tønder",2020,0,0.33706875189294899,0.46967152179300098,0.33706875189294899,0,2.3623998458107299E-2,0.46967152179300098,null,0.35120453135422702,0.169635727855943,null,0.32214962215302001,0,null,6.8032070297050495E-2,2.3623998458107299E-2,null,1.18985808238145E-4,0,null,0.19147605975919599,"Region Midtjylland"]
[null,"Tårnby",2020,0.36112908443869302,4.70616198229247E-2,0.133697783587854,4.70616198229247E-2,0.20001188424742999,0.12537881038683199,0.133697783587854,null,-7.2982208622928396E-2,0.22853407807950599,null,0.20179646569420101,0.20001188424742999,null,0.38157592356938602,0.12537881038683199,null,3.4887423368315002E-3,0.26531582387545299,null,6.1781026070368901E-2,"Region Midtjylland"]
[null,"Vallensbæk",2020,4.2608725127961801E-2,0.26077768385460698,0.154854021717927,0.26077768385460698,2.9975941218544799E-2,0.125820924637493,0.154854021717927,null,0,0.38770401196436699,null,0,2.9975941218544799E-2,null,0,0.125820924637493,null,0.46243861704005002,4.0867416607061599E-2,null,0.53756138296000699,"Region Midtjylland"]
[null,"Varde",2020,4.0802234707008597E-2,0.14529115527275999,0,0.14529115527275999,0.37709960495763101,0.11130544917222,0,null,2.09372662433829E-2,0.32710111275293302,null,0.34861407435966602,0.37709960495763101,null,0.167715121323013,0.11130544917222,null,3.1643203817611203E-2,3.9202677844455802E-2,null,1.0967298835985699E-2,"Region Nordjylland"]
[null,"Vejen",2020,3.1686148390953899E-2,0.202701622572137,7.0797698025737293E-2,0.202701622572137,0.130545120294141,9.7034609543601602E-2,7.0797698025737293E-2,null,-5.9257443250459098E-2,0.46820797698025701,null,0.45458924178132099,0.130545120294141,null,0,9.7034609543601602E-2,null,4.9042152215351097E-3,3.0712972584125999E-2,null,0.11120894048298199,"Region Midtjylland"]
[null,"Vejle",2020,2.6677445432498E-2,0.112373453318335,0.15087176602924601,0.112373453318335,0.52446569178852598,5.5539932508436501E-2,0.15087176602924601,null,0.21792069139328901,0.13076490438695201,null,8.0234769453284102E-2,0.52446569178852598,null,0.190437951331035,5.5539932508436501E-2,null,-1.7410212911546099E-3,2.5984251968503898E-2,null,2.5189566401064001E-2,"Region Nordjylland"]
[null,"Vesthimmerlands",2020,3.9765095429981599E-2,0.47212041098359703,0,0.47212041098359703,0,0,0,null,-0.10788207031689,0.48963528210058299,null,5.2265412282537201E-3,0,null,0.60311581497853695,0,null,0,3.8244306915820502E-2,null,0.193438833405047,"Region Midtjylland"]
[null,"Viborg",2020,9.0141743955037198E-2,0.105010197915093,0.39495203202900703,0.105010197915093,0.12916414866293999,0.133092234476507,0.39495203202900703,null,0,0.15509329203807201,null,0,0.12916414866293999,null,0,0.133092234476507,null,0,8.26880948783804E-2,null,3.5874439461906597E-2,"Region Nordjylland"]
[null,"Vordingborg",2020,0,0.31484410879216201,0.167678726335664,0.31484410879216201,0.30323518905954999,0,0.167678726335664,null,6.4188627207777002E-2,0.214241975812624,null,0.35881837909791198,0.30323518905954999,null,3.3316829140318298E-2,0,null,1.44044280656077E-2,0,null,5.9970354622521399E-2,"Region Nordjylland"]
[null,"Ærø",2020,0,0.996877168632894,0,0.996877168632894,0,3.12283136710618E-3,0,null,0.24305871198367901,0,null,0.26388886218045798,0,null,0.15089119463856099,3.12283136710618E-3,null,5.5483926637393197E-2,0,null,2.6029882872133899E-3,"Region Nordjylland"]
[null,"Aabenraa",2020,1.44657987187435E-3,0.55272389599669802,0.41601320676846898,0.55272389599669802,1.7024349979364399E-3,2.8115971935617001E-2,0.41601320676846898,null,0.235582481069116,0,null,0.30994408112891902,1.7024349979364399E-3,null,1.86076569880704E-2,2.8115971935617001E-2,null,4.5335916444827297E-2,1.4444903012794099E-3,null,1.88958226060174E-4,"Region Nordjylland"]
[null,"Aalborg",2020,2.3156646239868999E-2,0.17579420937870899,0.27007258977118997,0.17579420937870899,0.24293560762882599,5.2689685628329298E-2,0.27007258977118997,null,0.12815484466067101,0.23587535535867099,null,5.0644111603320697E-4,0.24293560762882599,null,0.34108239796753997,5.2689685628329298E-2,null,0.13850671702026299,2.2632552234274499E-2,null,0.219082621415993,"Region Nordjylland"]
[null,"Aarhus",2020,0.11363303711448,0.11474635198102399,0.16918734372897501,0.11474635198102399,0.21487559339961301,7.6045901044258096E-2,0.16918734372897501,null,7.7235029969060107E-2,0.32310667580431701,null,0.50921318441574204,0.21487559339961301,null,0.16871059787088399,7.6045901044258096E-2,null,4.1423531678212597E-2,0.102038134041814,null,6.4529857292857401E-2,"Region Nordjylland"]
[null,"Albertslund",2019,-2.6568024360834602E-4,0.22321027024817,0.12884827670796001,0.22321027024817,0.20767406680567499,3.2401161126783602E-2,0.12884827670796001,null,0.21715267869822699,0.40813197595976902,null,0.42153592459011702,0.20767406680567499,null,5.3906205100661601E-5,3.2401161126783602E-2,null,-1.26418262134767E-2,-2.6575084835847698E-4,null,2.2722241474205901E-2,"Region Nordjylland"]
[null,"Allerød",2019,0,0.53918809032338799,0.14486770501032101,0.53918809032338799,3.7030086945643297E-2,2.9461437417902001E-2,0.14486770501032101,null,6.6444938361861702E-2,0.249452680302746,null,0.214794105138465,3.7030086945643297E-2,null,0.37580823745923903,2.9461437417902001E-2,null,2.57067448883781E-2,0,null,1.7393226817665301E-2,"Region Nordjylland"]
[null,"Assens",2019,1.7573029842616699E-2,7.3585756141537104E-2,0.21951769213432501,7.3585756141537104E-2,0.108913680414695,0.10665990534144699,0.21951769213432501,null,0.13774671360975799,0.47405341446923599,null,0.27993468864896398,0.108913680414695,null,0.136475655223876,0.10665990534144699,null,6.5734867093882904E-2,1.7269551498760399E-2,null,2.0337482967011801E-2,"Region Nordjylland"]
[null,"Ballerup",2019,1.12715651562769E-2,0.718007893943169,6.2351660744023797E-2,0.718007893943169,6.17746947981275E-2,3.9338587220204297E-3,6.2351660744023797E-2,null,3.8055880250436103E-2,0.142785958746935,null,0.43145556958810999,6.17746947981275E-2,null,0.14297737790687401,3.9338587220204297E-3,null,1.23933256661664E-2,1.11459330457246E-2,null,1.19597087941887E-2,"Region Hovedstaden"]
[null,"Billund",2019,2.1036963532622199E-2,5.9380922299431503E-2,2.07979007726323E-2,5.9380922299431503E-2,0.41804752417513003,0,2.07979007726323E-2,null,0,0.48117012488459099,null,0.47771996033952002,0.41804752417513003,null,1.9720720814067502E-2,0,null,0,2.0603527868215201E-2,null,4.5680875842431398E-2,"Region Hovedstaden"]
[null,"Bornholm",2019,4.25267346431236E-2,9.28753180661578E-2,9.1125954198473302E-2,9.28753180661578E-2,0.21389949109414799,0.13801420695504699,9.1125954198473302E-2,null,7.6172708449064402E-2,0.42329304495335002,null,0.57077035840785595,0.21389949109414799,null,0.14593322649662399,0.13801420695504699,null,5.4300103092231197E-2,4.0791984732824402E-2,null,3.07282670606046E-3,"Region Hovedstaden"]
[null,"Brøndby",2019,2.8797255070155001E-2,0.56030016080042899,0,0.56030016080042899,0.411708653445298,0,0,null,9.6906784688840703E-2,0,null,0.42493431527491199,0.411708653445298,null,0.142236322644123,0,null,2.34586512429225E-3,2.7991185754273101E-2,null,-6.7171219952422102E-4,"Region Hovedstaden"]
[null,"Brønderslev",2019,1.39749640878309E-2,1.22239987047419E-2,0.215275950699237,1.22239987047419E-2,0.30021655097043198,7.1563012284713901E-2,0.215275950699237,null,0.18717501760882299,0.38693813118536402,null,0.108344999875783,0.30021655097043198,null,0.10355819866791199,7.1563012284713901E-2,null,1.84728238133278E-2,1.3782356155511899E-2,null,5.00449055218724E-2,"Region Hovedstaden"]
[null,"Egedal",2019,5.0932455727942304E-4,0.27270235344793797,0.29494459020245101,0.27270235344793797,0,6.6178486118181499E-3,0.29494459020245101,null,0.12749664296322299,0.42522614245995999,null,0.53972373782808403,0,null,5.8742329751613198E-3,6.6178486118181499E-3,null,0,5.0906527783216499E-4,null,3.2041450545111899E-2,"Region Hovedstaden"]
[null,"Esbjerg",2019,0.30813436245161002,0.199590103668848,0.104091610910962,0.199590103668848,0.13201235203293901,3.2056466436291502E-2,0.104091610910962,null,0,0.29669693404896702,null,0.18060672995767399,0.13201235203293901,null,0.25167928721222699,3.2056466436291502E-2,null,0,0.23555253290199199,null,0.17360094222911501,"Region Hovedstaden"]
[null,"Fanø",2019,0.127102803738318,0,0.88723051409618603,0,0,0,0.88723051409618603,null,0.23705520772668401,0,null,0.18350426975919701,0,null,0.113398766098683,0,null,1.4108722617692099E-2,0.112769485903814,null,0.42180750538943801,"Region Hovedstaden"]
[null,"Favrskov",2019,0.10217039074569501,5.4340951436727597E-2,0.241722363720278,5.4340951436727597E-2,0.167774909830601,1.35211363908309E-2,0.241722363720278,null,6.66519832586943E-2,0.42994136852361498,null,0.36842200512915302,0.167774909830601,null,8.8750147443157401E-2,1.35211363908309E-2,null,5.3208856073965203E-3,9.2699270097946998E-2,null,2.5825155989465099E-2,"Region Hovedstaden"]
[null,"Faxe",2019,-4.0400412981999402E-4,-0.17998922220226299,0,-0.17998922220226299,1.43236931920244,-5.4607508532423202E-2,0,null,0.103119986935667,-0.197368421052632,null,0.30944789683064,1.43236931920244,null,0.14843434711737299,-5.4607508532423202E-2,null,0.128444669593588,-4.0416741512484301E-4,null,0.18258443353860099,"Region Hovedstaden"]
[null,"Fredensborg",2019,0.27421588312677397,0.60828103349906304,4.1432336240389098E-2,0.60828103349906304,3.9122992908957504E-3,2.90977259760372E-2,4.1432336240389098E-2,null,0,0.102072975249273,null,0.53328447198191498,3.9122992908957504E-3,null,0.23041342781385801,2.90977259760372E-2,null,0.10203075131581001,0.21520362974434201,null,8.5209545882918306E-2,"Region Hovedstaden"]
[null,"Fredericia",2019,1.3021128195837801E-2,0.43336164885769202,7.6697813743461393E-2,0.43336164885769202,0.16980372870747101,5.4857602718290301E-2,7.6697813743461393E-2,null,0.112182402406305,0.252425448204945,null,0.38844283123043499,0.16980372870747101,null,0.159538921436706,5.4857602718290301E-2,null,7.7223930389162796E-5,1.28537577681406E-2,null,0,"Region Hovedstaden"]
[null,"Frederiksberg",2019,0.289636116189874,0.47581332878523003,0,0.47581332878523003,0,2.5156696371466301E-3,0,null,0,0.297083528759647,null,-8.6776429207846602E-5,0,null,0,2.5156696371466301E-3,null,7.8070784177663999E-4,0.224587472817976,null,0,"Region Hovedstaden"]
[null,"Frederikshavn",2019,1.1421485445764301E-2,6.8679959562065795E-2,0.282226667527048,6.8679959562065795E-2,0.16010625712503501,6.5959002817749704E-2,0.282226667527048,null,0.26643583185526198,0.41173560474070198,null,0,0.16010625712503501,null,2.28515130201612E-3,6.5959002817749704E-2,null,1.3776475960234799E-2,1.12925082273989E-2,null,3.8768746892747801E-4,"Region Hovedstaden"]
[null,"Frederikssund",2019,0.43543908365151002,0,0,0,7.0124531495586997E-3,0,0,null,0.16923084365357999,0.68963849594970394,null,0.31626628468220003,7.0124531495586997E-3,null,0.15892696342926599,0,null,4.1279344320020797E-2,0.30334905090073699,null,3.4856601566520602E-2,"Region Hovedstaden"]
[null,"Furesø",2019,0,0.369968114786768,7.7097449182941397E-2,0.369968114786768,6.9151056197688299E-2,1.3924870466321199E-2,7.7097449182941397E-2,null,0.12190041627326299,0.46985850936628099,null,0.41745938838498398,6.9151056197688299E-2,null,0.14825270263121099,1.3924870466321199E-2,null,6.4072984450721293E-2,0,null,0.100653817982511,"Region Hovedstaden"]
[null,"Faaborg-Midtfyn",2019,0.224483917426788,0.49286442405708503,0.205363443895554,0.49286442405708503,-3.1757233592096001E-3,0.120481455343841,0.205363443895554,null,6.2377584706887E-2,1.13698737551949E-3,null,0.33571187841943101,-3.1757233592096001E-3,null,1.36365272031789E-2,0.120481455343841,null,3.19999764366816E-2,0.18332941268721101,null,0,"Region Hovedstaden"]
[null,"Gentofte",2019,5.6784529492677399E-2,0.17936114173710599,4.6245252970721497E-2,0.17936114173710599,8.1694842582383895E-2,0.115153742496631,4.6245252970721497E-2,null,0.106054565823044,0.52381171138061999,null,0.50339422561617697,8.1694842582383895E-2,null,5.2703113223124397E-2,0.115153742496631,null,0.15283004246346699,5.3733308832537102E-2,null,4.4607820160333503E-2,"Region Hovedstaden"]
[null,"Gladsaxe",2019,6.9603152963339396E-2,0.316377372482677,0.17918472341313099,0.316377372482677,5.0473917174573002E-2,0.12745938680447699,0.17918472341313099,null,2.6024581036988799E-2,0.261430789552965,null,0.120241332135166,5.0473917174573002E-2,null,2.3860699856296502E-2,0.12745938680447699,null,1.1652789919947E-4,6.5073810572176802E-2,null,2.42467697507074E-2,"Region Hovedstaden"]
[null,"Glostrup",2019,0,0.25031103262832599,0.25336115904803902,0.25031103262832599,0.340931893887707,0,0.25336115904803902,null,9.5528074917172797E-3,0.15539591443592701,null,0.62160836338081504,0.340931893887707,null,0.166848608759324,0,null,2.0794343938450601E-3,0,null,3.89604069592107E-2,"Region Hovedstaden"]
[null,"Greve",2019,0.109607703501873,0.196445014928705,0.14395736250244201,0.196445014928705,1.05477579038424E-2,2.7932025560175201E-2,0.14395736250244201,null,6.7775004507325307E-2,0.52233724921170899,null,0.45948483010508301,1.05477579038424E-2,null,9.1302904125100795E-2,2.7932025560175201E-2,null,0.142630377824666,9.8780589893127199E-2,null,3.4460958986606102E-2,"Region Hovedstaden"]
[null,"Gribskov",2019,0,0.27137280774094202,8.2110066523723102E-2,0.27137280774094202,8.7772829732255697E-2,3.4059046676562801E-2,8.2110066523723102E-2,null,0,0.52468524932651595,null,0,8.7772829732255697E-2,null,0.1697500683307,3.4059046676562801E-2,null,0,0,null,3.7069564931571999E-2,"Region Hovedstaden"]
[null,"Guldborgsund",2019,3.5363670227466601E-2,0.152058864490971,0.122777494081055,0.152058864490971,0.26408941089085902,7.8826424028596603E-2,0.122777494081055,null,4.2111005123381097E-2,0.34809201058446698,null,0.38987077995098202,0.26408941089085902,null,5.9226487195466901E-2,7.8826424028596603E-2,null,4.7574400633956002E-2,3.4155795924051803E-2,null,0.11427080259935,"Region Hovedstaden"]
[null,"Haderslev",2019,1.44705160285161E-2,0.16295520651541601,0.41652123327516,0.16295520651541601,0.192623618382781,0,0.41652123327516,null,0.266884098028356,0.21363583478766701,null,0.497474747474769,0.192623618382781,null,0.21407407407406301,0,null,0,1.42641070389761E-2,null,2.15670804228019E-2,"Region Hovedstaden"]
[null,"Halsnæs",2019,0,0.28299758886209803,7.2373026366959706E-2,0.28299758886209803,0.346912187913199,1.28140312670141E-2,7.2373026366959706E-2,null,0.11730280595754999,0.28490316559072898,null,0.292640434241832,0.346912187913199,null,7.0553378268939995E-2,1.28140312670141E-2,null,5.7545795364166699E-3,0,null,5.8679843982496899E-2,"Region Hovedstaden"]
[null,"Hedensted",2019,0,0.275324938046832,0,0.275324938046832,0.40762656147271498,0.16583219541799399,0,null,0,0.15121630506245901,null,1.0478026098564901,0.40762656147271498,null,-0.66035062568994396,0.16583219541799399,null,0.25282477947679599,0,null,6.0999188649901704E-4,"Region Hovedstaden"]
[null,"Helsingør",2019,0.14065024885269201,0,0,0,0.40970136567121901,0,0,null,1.79328600332198E-2,0.46699155663852199,null,0.246309824129369,0.40970136567121901,null,1.3910906750242999E-3,0,null,9.9399034322793494E-3,0.123307077690259,null,0.15821225412759801,"Region Sjælland"]
[null,"Herlev",2019,0,0.186154191953248,0,0.186154191953248,0,0,0,null,0,0.813845808046752,null,0.294694391654369,0,null,2.4368653996353902E-3,0,null,6.8267425134815895E-4,0,null,0.175309510862142,"Region Sjælland"]
[null,"Herning",2019,0,0.18853526280223501,0.303199116575742,0.18853526280223501,0.15812634944703599,5.66644141545663E-2,0.303199116575742,null,0.12783448092399399,0.29347485702042098,null,0.60360339373625005,0.15812634944703599,null,6.2417833083870299E-2,5.66644141545663E-2,null,2.9173342833708201E-2,0,null,1.0468920623669199E-2,"Region Hovedstaden"]
[null,"Hillerød",2019,0,0.466198729511411,1.21951219512195E-2,0.466198729511411,3.4820798368755401E-2,1.17637832326876E-4,1.21951219512195E-2,null,7.5959449454373398E-2,0.48666771233628697,null,0.160074224406515,3.4820798368755401E-2,null,-2.1413595699618101E-4,1.17637832326876E-4,null,9.8014527588944106E-2,0,null,8.2343512056610293E-2,"Region Sjælland"]
[null,"Hjørring",2019,0.10225606687236,0.235349003414595,0.36853807670928301,0.235349003414595,4.05681727944096E-2,3.4473517033272498E-2,0.36853807670928301,null,2.8406186815907099E-2,0.22830143730644001,null,0.53086225410161303,4.05681727944096E-2,null,3.6118069940641803E-2,3.4473517033272498E-2,null,5.0378856436587703E-2,9.2769792741999493E-2,null,6.9062884815036099E-2,"Region Sjælland"]
[null,"Holbæk",2019,7.4757137008225699E-2,4.8986164741736102E-2,0.26250627694758499,4.8986164741736102E-2,0.256982563072501,1.4995411334868701E-2,0.26250627694758499,null,6.4850289527015603E-2,0.34697234679918998,null,0.38673555139885701,0.256982563072501,null,3.2344728345151501E-2,1.4995411334868701E-2,null,0.102701679420903,6.9557237104119402E-2,null,3.6615486716787202E-2,"Region Hovedstaden"]
[null,"Holstebro",2019,4.9991811333114998E-2,9.5847143692727593E-2,0.245067264573991,9.5847143692727593E-2,0.22927471241957501,2.7510235913433399E-2,0.245067264573991,null,0.105497557412718,0.354689023201404,null,0.146027717090953,0.22927471241957501,null,0.146186449783443,2.7510235913433399E-2,null,0,4.7611620198869199E-2,null,0,"Region Sjælland"]
[null,"Horsens",2019,3.5223354413742997E-2,0.26148974623231902,0.12117817508327,0.26148974623231902,0.23194575137040499,1.49362966945975E-5,0.12117817508327,null,4.99871370389613E-2,0.35134650714701798,null,0.48809850949307099,0.23194575137040499,null,9.8518034534563995E-2,1.49362966945975E-5,null,6.64013872804219E-2,3.4024883870293197E-2,null,4.0887005133223298E-2,"Region Sjælland"]
[null,"Hvidovre",2019,0.28261498409025199,0,0,0,0.49075327018493498,0.28890392422192102,0,null,0.17924943654887199,0,null,0.37731413682202197,0.49075327018493498,null,7.3941103253318402E-2,0.28890392422192102,null,9.2571428571430801E-4,0.22034280559314401,null,4.4174863309506297E-2,"Region Sjælland"]
[null,"Høje-Taastrup",2019,2.71918125153107E-2,0.34567279665059097,0.39392654618686701,0.34567279665059097,3.7972335576872102E-2,6.2271450527319897E-3,0.39392654618686701,null,2.9766555836189899E-2,0.18972918543643,null,0.28037113658282198,3.7972335576872102E-2,null,0.14258328499735701,6.2271450527319897E-3,null,3.59410067134425E-3,2.64719910965075E-2,null,0,"Region Sjælland"]
[null,"Hørsholm",2019,2.1202305330023999E-2,0.28086508753862,5.2523171987641601E-2,0.28086508753862,0.19089598352214199,7.7322348094747695E-2,5.2523171987641601E-2,null,3.9984372520054396E-3,0.37763130792996902,null,0.19615834660703199,0.19089598352214199,null,0.168278325248991,7.7322348094747695E-2,null,8.1661311329440905E-2,2.0762100926879499E-2,null,0,"Region Sjælland"]
[null,"Ikast-Brande",2019,4.0394580757944699E-2,0.42438790206433002,-4.05064810369659E-2,0.42438790206433002,-6.9431108977436401E-2,2.61641862698032E-2,-4.05064810369659E-2,null,0,0.620559289486318,null,0.69315036516351802,-6.9431108977436401E-2,null,0.17457500820270899,2.61641862698032E-2,null,0,3.8826212193951E-2,null,0.12716856673394999,"Region Sjælland"]
[null,"Ishøj",2019,9.6131147540983591E-3,0.26904641284439401,0.15537196523907901,0.26904641284439401,9.5826351272358806E-2,0.194653365028643,0.15537196523907901,null,0,0.27558032292843898,null,0.71209331357304995,9.5826351272358806E-2,null,0,0.194653365028643,null,3.8472784352351603E-5,9.5215826870867597E-3,null,0,"Region Sjælland"]
[null,"Jammerbugt",2019,0.110631307204881,1.1368438847096599E-2,0.52244104471304198,1.1368438847096599E-2,0.11313498436311401,0,0.52244104471304198,null,0.12434775006958899,0.25344434113768899,null,0.448474645605899,0.11313498436311401,null,8.2040971589861997E-2,0,null,8.7910998378282201E-2,9.9611190939058403E-2,null,0,"Region Sjælland"]
[null,"Kalundborg",2019,6.7146922803272904E-2,0.20101675139594999,-0.27577298108175702,0.20101675139594999,0.77727310609217404,2.6252187682306899E-3,-0.27577298108175702,null,8.2545319923159593E-3,0.231935994666222,null,0.29914401947442598,0.77727310609217404,null,2.7505598533842601E-2,2.6252187682306899E-3,null,4.6627091647506499E-3,6.2921910159179903E-2,null,0.236580653874398,"Region Sjælland"]
[null,"Kerteminde",2019,3.3149171270718202E-3,0,0,0,0,0.996696035242291,0,null,0.15593634804713499,0,null,0.335994391233712,0,null,1.34671527794392E-2,0.996696035242291,null,7.2000679523473096E-2,3.3039647577092499E-3,null,5.9192723643914001E-2,"Region Sjælland"]
[null,"Kolding",2019,1.06876176871632E-2,0.30174230354114201,3.438351236059E-2,0.30174230354114201,0.24339569306676301,3.1942231587603398E-2,3.438351236059E-2,null,0.11979787064254301,0.37796165904301798,null,0.52549464207027097,0.24339569306676301,null,0.10121824591865899,3.1942231587603398E-2,null,1.26314745043778E-2,1.0574600400884E-2,null,3.0827934471744801E-2,"Region Sjælland"]
[null,"København",2019,3.7554818802061199E-2,0.518080876943119,0,0.518080876943119,5.72766974235746E-2,9.1328441927492898E-2,0,null,5.4932227746974198E-2,0.29711848046925099,null,0.480087908253992,5.72766974235746E-2,null,9.8299150394254298E-2,9.1328441927492898E-2,null,5.6663305526703102E-5,3.6195503236562697E-2,null,3.2973013088751599E-2,"Region Sjælland"]
[null,"Køge",2019,2.0308496552198501E-2,0.301226952506152,0.13885799035965901,0.301226952506152,8.8802373007044896E-2,1.9044729834496201E-2,0.13885799035965901,null,1.81789431375954E-2,0.432163683554117,null,0.47605086850991502,8.8802373007044896E-2,null,8.9043954437954695E-2,1.9044729834496201E-2,null,2.9973757231751101E-2,1.9904270738530998E-2,null,1.4943767077415199E-2,"Region Sjælland"]
[null,"Langeland",2019,0,0.24932639598624901,0.36086592957353902,0.24932639598624901,4.8081389947040802E-2,6.4573074421629698E-2,0.36086592957353902,null,-3.9266074796572098E-2,0.27715321007154098,null,0.66636731215913603,4.8081389947040802E-2,null,-2.68230492093764E-2,6.4573074421629698E-2,null,3.4888016900602302E-2,0,null,4.2746867705744797E-2,"Region Hovedstaden"]
[null,"Lejre",2019,5.7182116055385299E-2,0.63067386522695501,-0.123675264947011,0.63067386522695501,0,1.3997200559888001E-3,-0.123675264947011,null,0.23068837236937201,0.43751249750049998,null,0.359352571361995,0,null,4.7882641157535502E-2,1.3997200559888001E-3,null,6.7991890421795196E-5,5.4089182163567298E-2,null,0.25871841469418699,"Region Syddanmark"]
[null,"Lemvig",2019,2.02605956471936E-2,0.177741912848221,0.39134095852922601,0.177741912848221,0.31436390428741801,-3.15767314574416E-3,0.39134095852922601,null,-6.1079670146160198E-2,9.9852641919865301E-2,null,0.150345272580893,0.31436390428741801,null,0.26669114457621401,-3.15767314574416E-3,null,2.18978712396911E-3,1.98582555610133E-2,null,5.7258951666449703E-2,"Region Syddanmark"]
[null,"Lolland",2019,0.36419447470046501,0,-0.26457138709443301,0,1.0711330478333501,0,-0.26457138709443301,null,0,-7.3528344342019297E-2,null,0,1.0711330478333501,null,0,0,null,0.28459137372169602,0.26696668360310699,null,0.71540862627830404,"Region Syddanmark"]
[null,"Lyngby-Taarbæk",2019,0,0.20033673368327201,0.25855204516192898,0.20033673368327201,0.18379716747548799,6.6693077151629199E-2,0.25855204516192898,null,1.4095247506487499E-2,0.29062097652768099,null,0.32458264729123698,0.18379716747548799,null,0.111134015463364,6.6693077151629199E-2,null,3.1926317044900503E-2,0,null,1.1247974995456499E-2,"Region Syddanmark"]
[null,"Læsø",2019,0,1,0,1,0,0,0,null,-3.8756279576695397E-2,0,null,0.51583838879372501,0,null,0,0,null,4.9680582741528402E-3,0,null,0.16558983133767,"Region Syddanmark"]
[null,"Mariagerfjord",2019,0.117602179836512,0.28886288277745298,9.3231909498732196E-2,0.28886288277745298,4.4763019309537702E-2,6.0951823678564504E-3,9.3231909498732196E-2,null,0.148101730020301,0.46181977764774701,null,5.3346950542362499E-2,4.4763019309537702E-2,null,0.129027968187685,6.0951823678564504E-3,null,-1.16546591359623E-3,0.105227228398674,null,2.1206480998897E-2,"Region Syddanmark"]
[null,"Middelfart",2019,5.6920055781654697E-5,5.2591138051737402E-2,0.34727795327129402,5.2591138051737402E-2,0.23808304163465099,0.10273485301232201,0.34727795327129402,null,-7.2955507187202798E-2,0.25925609721392201,null,2.5538358187169801E-2,0.23808304163465099,null,0.40139745119040499,0.10273485301232201,null,0,5.69168160733089E-5,null,0.16578542353859399,"Region Syddanmark"]
[null,"Morsø",2019,0,0.25498712767334503,0.38858605761624598,0.25498712767334503,3.3194782033396097E-2,6.6634066360799105E-2,0.38858605761624598,null,0,0.25659796631621301,null,0,3.3194782033396097E-2,null,0,6.6634066360799105E-2,null,0,0,null,0.14317745035234,"Region Syddanmark"]
[null,"Norddjurs",2019,0,3.3902448962959901E-2,0.28389226192901701,3.3902448962959901E-2,0.46293957051464901,0.216902326718553,0.28389226192901701,null,4.2468891864416498E-2,2.3633918748217301E-3,null,0.31936488871181701,0.46293957051464901,null,2.0741480901513398E-2,0.216902326718553,null,1.58900111269604E-2,0,null,4.0185586280614402E-2,"Region Syddanmark"]
[null,"Nordfyns",2019,0.156381932797409,0.110527631907977,8.6721680420105002E-2,0.110527631907977,0.23825956489122299,4.6661665416354102E-2,8.6721680420105002E-2,null,0.16370398495928401,0.38259564891222803,null,0.235850393423291,0.23825956489122299,null,0.100860507220176,4.6661665416354102E-2,null,3.4781398639765398E-2,0.135233808452113,null,6.5776641044994503E-3,"Region Syddanmark"]
[null,"Nyborg",2019,2.89492345555416E-2,0.192078485425873,0.43669680139457601,0.192078485425873,0.109295820326752,1.4716017351116901E-2,0.43669680139457601,null,0.15808665330598601,0.21907812056593801,null,0.331098132829169,0.109295820326752,null,1.2444815588788001E-2,1.4716017351116901E-2,null,3.03204916278936E-2,2.8134754935744102E-2,null,1.5116658084814199E-4,"Region Syddanmark"]
[null,"Næstved",2019,3.7103683510816901E-2,0.11148517415512101,0.34271656092192199,0.11148517415512101,1.4243169752686799E-4,-1.7389615434416701E-2,0.34271656092192199,null,7.5003353875501902E-2,0.52726919590832599,null,3.3762741068882302E-4,1.4243169752686799E-4,null,0.23564280482545999,-1.7389615434416701E-2,null,9.4793463878104903E-2,3.5776252751521402E-2,null,0.34554948676120001,"Region Syddanmark"]
[null,"Odder",2019,0,0.12914495160643699,0.11253650993643,0.12914495160643699,0.55071301758204005,1.03659584216253E-2,0.11253650993643,null,5.4645303575760799E-2,0.19723956245346799,null,0.56103410680094601,0.55071301758204005,null,0.11654474056280199,1.03659584216253E-2,null,3.12845012464429E-2,0,null,5.3258647215866303E-2,"Region Syddanmark"]
[null,"Odense",2019,1.66845997739067E-2,0.236529753771133,0.238619617929963,0.236529753771133,0.22790906411596101,4.4865096589234502E-2,0.238619617929963,null,0.146420916034288,0.23566567532084801,null,0.359157166233189,0.22790906411596101,null,3.9055487008332599E-5,4.4865096589234502E-2,null,-8.8592564281846399E-3,1.6410792272861199E-2,null,1.5405618298617099E-2,"Region Syddanmark"]
[null,"Odsherred",2019,1.2374982249000899E-2,0.37150071138007701,6.65290663887943E-2,0.37150071138007701,0.20419614051259399,2.4707933390778099E-2,6.65290663887943E-2,null,4.3355297488439297E-2,0.32084243432258602,null,0.213726581719211,0.20419614051259399,null,0.24917063937883199,2.4707933390778099E-2,null,3.3273826514467003E-2,1.222371400517E-2,null,2.4376140447465399E-2,"Region Syddanmark"]
[null,"Randers",2019,1.3806363938644799E-2,0.11148504121153401,0.24821036420157999,0.11148504121153401,0.19363716738442199,0.145095970110943,0.24821036420157999,null,9.1976989849584398E-2,0.28795311296808601,null,0.30240046904317802,0.19363716738442199,null,9.1462410719500994E-2,0.145095970110943,null,6.4044201167915704E-2,1.3618344123434999E-2,null,2.4365554596185401E-2,"Region Syddanmark"]
[null,"Rebild",2019,4.4008409250175198E-2,0.42368103101087401,0,0.42368103101087401,8.4575110753121296E-2,0,0,null,2.48702188998777E-2,0.44959054906698898,null,0.50453776418635199,8.4575110753121296E-2,null,9.5945662885398506E-2,0,null,9.6066747666414508E-3,4.2153309169016003E-2,null,7.6932373472171599E-3,"Region Syddanmark"]
[null,"Ringkøbing-Skjern",2019,0,6.7925412607545796E-2,0.146915068126276,6.7925412607545796E-2,0.26231127180208202,9.7469117203977093E-2,0.146915068126276,null,0,0.42537913026011798,null,0.49664294853472102,0.26231127180208202,null,1.50216515437194E-2,9.7469117203977093E-2,null,0,0,null,4.7967247291783401E-2,"Region Syddanmark"]
[null,"Ringsted",2019,7.30676977052232E-2,5.96183358911056E-2,0.26869953960098703,5.96183358911056E-2,0.24027490491759501,5.3312871155001003E-2,0.26869953960098703,null,4.9580072521401099E-2,0.310002001734837,null,0.62024526439235195,0.24027490491759501,null,9.6431624826124093E-2,5.3312871155001003E-2,null,3.7492721604799301E-2,6.8092346700473802E-2,null,6.25397158247321E-3,"Region Syddanmark"]
[null,"Roskilde",2019,0,0.23610069379336199,0.19758266141633801,0.23610069379336199,0.177870491905744,0,0.19758266141633801,null,5.9407604749054599E-2,0.38844615288455497,null,0.42963625901914099,0.177870491905744,null,9.2242550313557103E-2,0,null,1.34049435673855E-3,0,null,-3.8383554258525398E-4,"Region Syddanmark"]
[null,"Rudersdal",2019,2.6958057972911099E-2,0.229913985345651,0.25595731124561999,0.229913985345651,0.23934374004459999,1.7457789104810498E-2,0.25595731124561999,null,0.126169970382563,0.23107677604332599,null,-5.9843295581856602E-2,0.23934374004459999,null,6.5704102372919196E-2,1.7457789104810498E-2,null,1.3984616341201E-2,2.6250398215992399E-2,null,6.9862405725764604E-2,"Region Midtjylland"]
[null,"Rødovre",2019,0,0.435124096764059,0.18318672112263101,0.435124096764059,0,0,0.18318672112263101,null,8.3895634641393699E-2,0.38168918211330999,null,0.56014666449556205,0,null,3.5969969129343599E-3,0,null,0,0,null,4.3301329432516397E-2,"Region Syddanmark"]
[null,"Samsø",2019,null,0,0,0,0,0,0,null,0,0,null,0.11497832230441001,0,null,0.17210374253656399,0,null,0,1,null,0.19926643721562001,"Region Syddanmark"]
[null,"Silkeborg",2019,3.0174961579382899E-2,0.37914909487333998,0,0.37914909487333998,0,0,0,null,0.15725808525439799,0.59155980147459597,null,0.120268997280377,0,null,7.7104822511643106E-2,0,null,9.5517332608263707E-3,2.92911036520641E-2,null,0.612862505607495,"Region Midtjylland"]
[null,"Skanderborg",2019,2.4645057594428099E-3,7.8371011704345003E-2,1.4034525145636301E-2,7.8371011704345003E-2,0.302100368767035,1.8481107369996301E-2,1.4034525145636301E-2,null,4.36901315741451E-2,0.584554540110096,null,0.36076065248086497,0.302100368767035,null,5.9073693118790502E-2,1.8481107369996301E-2,null,1.4401843293502E-2,2.4584469028913502E-3,null,2.8808665371050399E-2,"Region Midtjylland"]
[null,"Skive",2019,2.8189053399137399E-2,6.1362162162162198E-2,0.290118918918919,6.1362162162162198E-2,0.43796756756756799,6.1837837837837799E-2,0.290118918918919,null,7.0326267582956403E-2,0.121297297297297,null,0.33425132027394999,0.43796756756756799,null,9.9809326984825503E-2,6.1837837837837799E-2,null,0.11426101190391701,2.7416216216216201E-2,null,0.209528903104307,"Region Midtjylland"]
[null,"Slagelse",2019,2.45786036066876E-2,0.10782348381578601,0.18246331489054601,0.10782348381578601,0.405393847058509,8.4342340897548995E-2,0.18246331489054601,null,0,0.19598802555261499,null,0.57739709478437395,0.405393847058509,null,0.15418569605992599,8.4342340897548995E-2,null,9.87515784054986E-2,2.39889877849945E-2,null,0.12493358810373,"Region Midtjylland"]
[null,"Solrød",2019,3.4628616547290103E-2,0.28427364404469901,0.147124557100027,0.28427364404469901,1.17743254292723E-2,0,0.147124557100027,null,7.5759634277147797E-2,0.52335786317797806,null,0.456844629014313,1.17743254292723E-2,null,0.10135235613485399,0,null,6.1779144311328206E-5,3.3469610248024001E-2,null,0,"Region Midtjylland"]
[null,"Sorø",2019,1.8772544166820299E-2,0.17591874709257299,0.184498888716597,0.17591874709257299,0.25737840492066,6.8666976792267506E-2,0.184498888716597,null,0,0.295110353026309,null,-3.4710571683116398E-4,0.25737840492066,null,0,6.8666976792267506E-2,null,4.46118766729509E-4,1.8426629451594598E-2,null,0,"Region Midtjylland"]
[null,"Stevns",2019,0.10664409648751599,0.13193116634799201,0,0.13193116634799201,0.447801147227534,0,0,null,0.17727351671266001,0.32390057361376701,null,0,0.447801147227534,null,1.48290003472651E-3,0,null,8.5148894035942408E-3,9.6367112810707506E-2,null,2.24065686397379E-4,"Region Midtjylland"]
[null,"Struer",2019,0.114575917224358,1.2860367074053599E-2,0.37337648511689298,1.2860367074053599E-2,0.17357237150278901,2.6018822126644799E-2,0.37337648511689298,null,0.11264129604956,0.311374185581059,null,0.4112265330198,0.17357237150278901,null,0.10619905308010399,2.6018822126644799E-2,null,3.2948532733861703E-2,0.102797768598561,null,4.6142035860647503E-2,"Region Midtjylland"]
[null,"Svendborg",2019,1.8083217170463399E-2,0.31718433490884501,9.3349088453747495E-2,0.31718433490884501,0.13183659689399099,0,9.3349088453747495E-2,null,8.1849841545121704E-2,0.43986795708605297,null,0.47363358822012502,0.13183659689399099,null,0.100221175576039,0,null,5.1828159891662999E-2,1.77620226573636E-2,null,0.111382837628103,"Region Midtjylland"]
[null,"Syddjurs",2019,7.0609550282934599E-2,7.8123188909752603E-2,0.12819621206852599,7.8123188909752603E-2,0.27744163942786898,9.4628740988014895E-2,0.12819621206852599,null,3.1076904085544799E-2,0.35565755615828598,null,0.38047853570128598,0.27744163942786898,null,6.5824977211477202E-3,9.4628740988014895E-2,null,2.8086186571121299E-2,6.5952662447550797E-2,null,0,"Region Midtjylland"]
[null,"Sønderborg",2019,2.2848438690022801E-2,0.137427563210204,0.48449286153646898,0.137427563210204,0,0.14987536016057501,0.48449286153646898,null,5.49671595771173E-2,0.205866165949043,null,0.53900454613491899,0,null,2.4828573537625701E-2,0.14987536016057501,null,0.165052141119165,2.23380491437081E-2,null,5.2719406110480101E-2,"Region Midtjylland"]
[null,"Thisted",2019,3.3996398000688002E-2,0.177446816838562,0.43356752842632601,0.177446816838562,0.15907000410982999,0,0.43356752842632601,null,1.0364287895672701E-2,0.197037008043525,null,0.107776665247052,0.15907000410982999,null,1.23536949260163E-2,0,null,-1.4248358293245101E-4,3.2878642581756302E-2,null,3.1063275103512901E-2,"Region Midtjylland"]
[null,"Tønder",2019,0,0.32733678535205202,0.44368227192654702,0.32733678535205202,0,1.70020818875781E-2,0.44368227192654702,null,4.9422258988709401E-3,0.211978860833823,null,0.64005479124341502,0,null,8.88719907505333E-2,1.70020818875781E-2,null,5.1985859846093196E-4,0,null,4.6860533547997497E-2,"Region Midtjylland"]
[null,"Tårnby",2019,0.13495593789341201,6.5000369740442196E-2,0.15854470161946299,6.5000369740442196E-2,0.26281150632256201,0.13547289802558601,0.15854470161946299,null,3.8319107394315197E-2,0.25926199807735001,null,0.50078824126779897,0.26281150632256201,null,4.4163266283376898E-2,0.13547289802558601,null,0.13666335107664901,0.11890852621459699,null,3.3890499714193799E-2,"Region Midtjylland"]
[null,"Vallensbæk",2019,4.9910728777795801E-2,0.16959109530803099,0.153783721109995,0.16959109530803099,4.1276957563577299E-2,0.132951998144856,0.153783721109995,null,0,0.45485815876942098,null,0,4.1276957563577299E-2,null,8.6545421040454998E-2,0.132951998144856,null,0,4.753806910412E-2,null,3.8919552848356798E-2,"Region Midtjylland"]
[null,"Varde",2019,1.7525006199884299E-2,2.23413762287757E-3,0,2.23413762287757E-3,0.30087740677552999,8.5933057112681802E-2,0,null,2.1263286531826998E-2,0.59373222845072704,null,0.40935550988527297,0.30087740677552999,null,3.0857503846512199E-2,8.5933057112681802E-2,null,4.7932726052704697E-2,1.72231700381834E-2,null,7.7186592089304895E-2,"Region Midtjylland"]
[null,"Vejen",2019,3.4807149576669798E-2,0.156528925619835,7.7933884297520697E-2,0.156528925619835,0.101818181818182,0.136198347107438,7.7933884297520697E-2,null,0.127002553370687,0.49388429752066099,null,0.71067821067828196,0.101818181818182,null,0.147883597883606,0.136198347107438,null,0,3.3636363636363603E-2,null,1.44356380674786E-2,"Region Nordjylland"]
[null,"Vejle",2019,2.29723759777553E-2,0.21036453702527599,0.143045852915026,0.21036453702527599,0.45672551759176899,0,0.143045852915026,null,6.2386047545246001E-2,0.16740759557983001,null,0.20848171134969101,0.45672551759176899,null,3.4695844784337702E-2,0,null,2.9774146688126301E-3,2.2456496888098601E-2,null,5.6671091916803702E-2,"Region Midtjylland"]
[null,"Vesthimmerlands",2019,9.0014889680999896E-2,0.483483732097028,0,0.483483732097028,0,0,0,null,0,0.43393492838811198,null,0.48756202081926903,0,null,1.391580101199E-3,0,null,0.20439148203770699,8.2581339514860505E-2,null,1.13965855407416E-3,"Region Nordjylland"]
[null,"Viborg",2019,8.7119423824495501E-2,0.119195017833053,0.401557851163306,0.119195017833053,0.110564928944985,0.14145399441908599,0.401557851163306,null,1.15708764321312E-2,0.147090347975533,null,0.29630141970996199,0.110564928944985,null,4.8749764343103402E-4,0.14145399441908599,null,5.7442112212839902E-3,8.0137859664036401E-2,null,0.14366564228500101,"Region Midtjylland"]
[null,"Vordingborg",2019,0,0.26823247812102602,0.154162615004862,0.26823247812102602,0.31328695738898399,0,0.154162615004862,null,0,0.26431794948512699,null,0.29328408853877302,0.31328695738898399,null,6.09216349908959E-4,0,null,3.3736099891879001E-4,0,null,0.153339799482474,"Region Nordjylland"]
[null,"Ærø",2019,0,1,0,1,0,0,0,null,6.5444138621657502E-2,0,null,0.67287658064356004,0,null,3.0459946434135101E-2,0,null,1.50026152448319E-2,0,null,1.0610808961691301E-2,"Region Nordjylland"]
[null,"Aabenraa",2019,1.2398487384539101E-4,0.53610611789499796,0.42360379346680699,0.53610611789499796,8.6778652451496904E-3,3.1488253889543197E-2,0.42360379346680699,null,3.5742464761952399E-2,0,null,0.13234032209976501,8.6778652451496904E-3,null,-1.07860339016858E-4,3.1488253889543197E-2,null,7.9749305286881594E-2,1.2396950350213799E-4,null,4.3830405572293799E-2,"Region Nordjylland"]
[null,"Aalborg",2019,2.3579455939502201E-2,0.19213426139699799,0.25587308102314998,0.19213426139699799,0.24711690295805999,4.9720953830542897E-2,0.25587308102314998,null,1.4407488220115301E-2,0.232118527639537,null,0.53100319404123197,0.24711690295805999,null,1.8667134046054901E-2,4.9720953830542897E-2,null,2.60066968114003E-2,2.3036273151711001E-2,null,7.9020767562493405E-2,"Region Nordjylland"]
[null,"Aarhus",2019,9.9222296790493894E-2,8.9838531266610205E-2,0.210092514114149,8.9838531266610205E-2,0.21358334171323501,8.6972604904397302E-2,0.210092514114149,null,3.0479136145913799E-2,0.30924710175115999,null,0.42830615582045101,0.21358334171323501,null,1.9126138232714099E-2,8.6972604904397302E-2,null,9.2127784801554896E-2,9.0265906250448905E-2,null,2.59084962617528E-2,"Region Nordjylland"]
[null,"Albertslund",2018,-1.1903580993949E-4,0.236691204190559,0.11986348935494801,0.236691204190559,0.24718744419532099,3.1369670033135601E-2,0.11986348935494801,null,5.3080350695893203E-2,0.365007242207187,null,0.14760245213932999,0.24718744419532099,null,7.4397022473533497E-2,3.1369670033135601E-2,null,0,-1.1904998115042E-4,null,0,"Region Nordjylland"]
[null,"Allerød",2018,0,0.45494392161918301,0.14432125821838299,0.45494392161918301,2.59120794121439E-2,3.8287997937346899E-2,0.14432125821838299,null,2.4859519115274498E-2,0.33653474281294299,null,0.510687615638304,2.59120794121439E-2,null,5.2199506605305097E-2,3.8287997937346899E-2,null,5.7214229931396701E-2,0,null,4.5589981303256998E-2,"Region Nordjylland"]
[null,"Assens",2018,4.0178979088667702E-2,8.0004682058935406E-2,0.28859040763175597,8.0004682058935406E-2,0.10868229303836401,0.13013197553624201,0.28859040763175597,null,8.8927016806081893E-2,0.35396365551751402,null,0.425487364383415,0.10868229303836401,null,3.7691945641498102E-2,0.13013197553624201,null,1.38857142857141E-3,3.8626986217188998E-2,null,4.3340967561134702E-2,"Region Nordjylland"]
[null,"Ballerup",2018,1.5696195041126699E-2,0.77110855411684198,2.2838166538007802E-2,0.77110855411684198,5.8551932068106702E-2,-4.3695471692616903E-3,2.2838166538007802E-2,null,1.6352283577454298E-2,0.13641726262435,null,0.26241753639487098,5.8551932068106702E-2,null,6.6858485412836899E-2,-4.3695471692616903E-3,null,1.6158140313744501E-3,1.5453631821955501E-2,null,0,"Region Nordjylland"]
[null,"Billund",2018,2.4288204532248701E-2,3.5511685954163798E-2,2.5357385976854999E-2,3.5511685954163798E-2,0.45121397776264999,0,2.5357385976854999E-2,null,9.9960931300113699E-4,0.46420467438166602,null,0.205405299017375,0.45121397776264999,null,8.8081238363997699E-2,0,null,3.7354855392692302E-2,2.3712275924665301E-2,null,0,"Region Hovedstaden"]
[null,"Bornholm",2018,3.2044377423524298E-2,0.12910295882690601,0.253692010645515,0.12910295882690601,0.19177581798257101,0.15480352763137301,0.253692010645515,null,0,0.23957626676407701,null,0.78137870709767299,0.19177581798257101,null,8.6976072381929698E-2,0.15480352763137301,null,0,3.1049418149558999E-2,null,0.12886194861897399,"Region Hovedstaden"]
[null,"Brøndby",2018,3.1352926273118802E-2,0.55794386783762195,0,0.55794386783762195,0.41165632868635998,0,0,null,0,0,null,0.66268881894980303,0.41165632868635998,null,0,0,null,5.7709176528524003E-5,3.0399803476017902E-2,null,0,"Region Hovedstaden"]
[null,"Brønderslev",2018,1.45554681353265E-2,1.40622980483392E-2,8.2796949722114502E-2,1.40622980483392E-2,0.30042652190771602,8.5640429106889002E-2,8.2796949722114502E-2,null,6.24838384374726E-2,0.50272715522812506,null,0.51045766370535295,0.30042652190771602,null,4.3531836594894499E-2,8.5640429106889002E-2,null,9.5080923963747593E-2,1.4346645986816601E-2,null,0,"Region Hovedstaden"]
[null,"Egedal",2018,0,0.33290821935881099,0.31989093627688098,0.33290821935881099,0,7.4321650028585304E-3,0.31989093627688098,null,4.04916463581095E-3,0.339768679361449,null,0.199341972830922,0,null,1.8563222764065301E-2,7.4321650028585304E-3,null,7.69232019776656E-3,0,null,0.317839378910378,"Region Hovedstaden"]
[null,"Esbjerg",2018,0.363100670090997,0.18144953040417799,9.8251688058302603E-2,0.18144953040417799,0.15870617265058601,3.3560320587616398E-2,9.8251688058302603E-2,null,7.86113724930146E-2,0.26165381893303202,null,0.37671584893091398,0.15870617265058601,null,7.0670456680712599E-3,3.3560320587616398E-2,null,8.1038664323596493E-2,0.26637846936628501,null,4.6970830813346999E-2,"Region Hovedstaden"]
[null,"Fanø",2018,0,0,0,0,1,0,0,null,5.6689622716760403E-2,0,null,0.61567754880235304,1,null,5.3610825431121598E-2,0,null,6.1984723318886398E-3,0,null,2.5931914954622201E-2,"Region Hovedstaden"]
[null,"Favrskov",2018,4.4433690415960903E-3,7.4130039638219097E-2,0.34198366292184001,7.4130039638219097E-2,0.154917548124302,1.4782208790486801E-2,0.34198366292184001,null,2.70829138771802E-2,0.40976282767229499,null,0.53122619974000396,0.154917548124302,null,5.10497014935112E-2,1.4782208790486801E-2,null,4.5314426176886601E-5,4.4237128528567997E-3,null,3.1024274198959E-2,"Region Hovedstaden"]
[null,"Faxe",2018,0,-0.187519105637801,0,-0.187519105637801,1.6145246517315199,-4.79933621555527E-2,0,null,9.9352979813183105E-3,-0.37901218393816299,null,0.513571475023198,1.6145246517315199,null,4.4007624628761698E-2,-4.79933621555527E-2,null,1.44250741756125E-2,0,null,1.44893978715289E-2,"Region Hovedstaden"]
[null,"Fredensborg",2018,0.179285464913302,0.54547248756611699,7.8511091813373304E-2,0.54547248756611699,0,5.5656430093944899E-3,7.8511091813373304E-2,null,-2.0001091499125299E-2,0.21842188363464099,null,0.66548516750710796,0,null,-1.3464556515827999E-2,5.5656430093944899E-3,null,3.19129529205835E-2,0.15202889397647401,null,3.3615764612910902E-2,"Region Hovedstaden"]
[null,"Fredericia",2018,1.01088646967341E-2,0.38099074422185197,0.237499328642784,0.38099074422185197,0.12734303668295799,3.73453640546395E-2,0.237499328642784,null,0.11017221338451599,0.206813828168358,null,0.396555520570956,0.12734303668295799,null,2.77332120180134E-2,3.73453640546395E-2,null,1.6997972605445299E-5,1.00076982294072E-2,null,0.32596076962917703,"Region Hovedstaden"]
[null,"Frederiksberg",2018,0.28530479373127399,0.49360648205220198,0,0.49360648205220198,0,1.07585928657081E-3,0,null,-4.9177131669392103E-2,0.28334323273301898,null,9.8894079467584106E-2,0,null,0.15180636558307001,1.07585928657081E-3,null,8.9083191110628202E-4,0.22197442592820901,null,5.2736877262530499E-2,"Region Hovedstaden"]
[null,"Frederikshavn",2018,4.0270512792453701E-3,8.3389645776566795E-2,0.32768392370572202,8.3389645776566795E-2,0.12792370572207101,6.9482288828337901E-2,0.32768392370572202,null,0,0.38750953678474098,null,0,0.12792370572207101,null,0,6.9482288828337901E-2,null,0.106744130403399,4.0108991825613099E-3,null,0.89325586959660097,"Region Hovedstaden"]
[null,"Frederikssund",2018,0,0,0,0,1,0,0,null,7.2532287695903398E-3,0,null,0.300551220222815,1,null,5.45529096037001E-2,0,null,3.2209430272189601E-2,0,null,1.15286511549274E-2,"Region Hovedstaden"]
[null,"Furesø",2018,0,0.38404836646901502,0.118707127078247,0.38404836646901502,6.07603767003837E-2,5.2086966631787003E-2,0.118707127078247,null,-1.8255115902924501E-2,0.38439716312056699,null,0.57708753580612904,6.07603767003837E-2,null,0,5.2086966631787003E-2,null,5.0319013267705898E-3,0,null,0.21997072219237199,"Region Hovedstaden"]
[null,"Faaborg-Midtfyn",2018,8.6597320320191795E-2,0.29077371572644201,0.13185471162937301,0.29077371572644201,8.2729278285534195E-4,0.129806177119445,0.13185471162937301,null,7.82827686473411E-2,0.36704223132682001,null,2.64591316314409E-2,8.2729278285534195E-4,null,6.7617985044350404E-2,0.129806177119445,null,-5.8991053603763E-4,7.9695871415064595E-2,null,1.7223395596731798E-2,"Region Hovedstaden"]
[null,"Gentofte",2018,5.5453905700211102E-2,0.17965728763835201,7.9160554740632105E-2,0.17965728763835201,9.4079210561408194E-2,0.125083344445926,7.9160554740632105E-2,null,-3.8028944057515397E-2,0.46947926390185402,null,4.5850175146078698E-2,9.4079210561408194E-2,null,0.199679087402274,0.125083344445926,null,0,5.2540338711828199E-2,null,0.13813201367213401,"Region Hovedstaden"]
[null,"Gladsaxe",2018,2.1955703779716101E-2,0.29962554651381701,0.11013953099177901,0.29962554651381701,0.129322427462712,0.106855218291739,0.11013953099177901,null,0,0.33257326946007598,null,0,0.129322427462712,null,0,0.106855218291739,null,0,2.1484007279877801E-2,null,0.25048046124280199,"Region Hovedstaden"]
[null,"Glostrup",2018,0,0.25995618496205303,0.24720287927392201,0.25995618496205303,0.359439793443393,0,0.24720287927392201,null,2.07491565210631E-2,0.13340114232063199,null,0.27991139832573703,0.359439793443393,null,8.1661326627084901E-3,0,null,1.7375594188313099E-2,0,null,2.0400817938707402E-2,"Region Hovedstaden"]
[null,"Greve",2018,0.112809519371175,0.177341001730973,0.11555642414428501,0.177341001730973,3.8807303590373599E-3,2.4708247249986E-2,0.11555642414428501,null,8.4349257934888996E-2,0.57713998548215995,null,0.20781192466613199,3.8807303590373599E-3,null,5.08298198017769E-2,2.4708247249986E-2,null,1.40788706421375E-2,0.10137361103355901,null,1.0552339921785499E-2,"Region Hovedstaden"]
[null,"Gribskov",2018,0,0.268530037875646,3.5774515495839203E-2,0.268530037875646,0.112493433966437,4.0695584860800098E-2,3.5774515495839203E-2,null,8.0590825542856306E-2,0.542506427801277,null,0.35225218452941898,0.112493433966437,null,6.2819741895072702E-3,4.0695584860800098E-2,null,1.5305066810963599E-2,0,null,1.1337493563611E-4,"Region Hovedstaden"]
[null,"Guldborgsund",2018,3.05022211384527E-2,0.13568180415234901,0.11168954093705601,0.13568180415234901,0.25393526615773998,7.5392497788020305E-2,0.11168954093705601,null,2.1851863090347499E-2,0.39370151649210899,null,1.68813705344439E-4,0.25393526615773998,null,0.13020321168338,7.5392497788020305E-2,null,5.10802107359467E-2,2.9599374472725801E-2,null,0.47201635210640802,"Region Hovedstaden"]
[null,"Haderslev",2018,1.42480466387673E-2,0.18808433505056299,0.40934459072696,0.18808433505056299,0.172581568402977,0,0.40934459072696,null,3.2055577182468702E-2,0.21594161419576399,null,0.61285502918613599,0.172581568402977,null,6.4378883254732996E-2,0,null,2.1145470814676801E-2,1.40478916237359E-2,null,4.1987437138875101E-2,"Region Hovedstaden"]
[null,"Halsnæs",2018,0,0.354360198274279,8.8562511474206004E-2,0.354360198274279,0.26352120433266002,3.63502845603084E-3,8.8562511474206004E-2,null,7.5689153370376502E-2,0.28992105746282398,null,0.29677840787624599,0.26352120433266002,null,2.4204768916000201E-5,3.63502845603084E-3,null,-5.0766866428926301E-3,0,null,8.0889951230300704E-3,"Region Hovedstaden"]
[null,"Hedensted",2018,0,0.28212137780207802,0,0.28212137780207802,0.44034991798797202,0.15423728813559301,0,null,2.0265656615016801E-2,0.12329141607435801,null,0.21265905829995799,0.44034991798797202,null,0.12253304129845299,0.15423728813559301,null,4.0840908140555902E-2,0,null,3.1359054077267197E-2,"Region Hovedstaden"]
[null,"Helsingør",2018,0.136518771331058,0,0,0,0.40180180180180203,0,0,null,4.6207266089410802E-2,0.47807807807807801,null,0.32486624943739201,0.40180180180180203,null,4.6449166215140301E-2,0,null,6.2353535241947998E-2,0.12012012012011999,null,2.83936262253572E-2,"Region Hovedstaden"]
[null,"Herlev",2018,0,0.25577152219243399,0,0.25577152219243399,0,0,0,null,1.16845575493159E-2,0.74422847780756596,null,0.57761995878456696,0,null,4.8913947863908902E-2,0,null,6.8200238671165501E-3,0,null,3.4267659002455999E-3,"Region Sjælland"]
[null,"Herning",2018,0,0.175613626388467,0.28795705459333498,0.175613626388467,0.243239137040413,5.70242074344171E-2,0.28795705459333498,null,0,0.23616597454336699,null,0.51556593672992101,0.243239137040413,null,1.0322582273371199E-2,5.70242074344171E-2,null,0,0,null,5.0253618741136201E-2,"Region Sjælland"]
[null,"Hillerød",2018,3.56706220783891E-2,0.44979515311436702,2.1699881952642198E-2,0.44979515311436702,0.146205124644122,2.0831886674536499E-4,2.1699881952642198E-2,null,2.29874365937448E-2,0.34764946878689001,null,0.66972017037683396,0.146205124644122,null,4.6930023155624702E-2,2.0831886674536499E-4,null,2.0685340117374499E-2,3.44420526352337E-2,null,9.4351164588859504E-3,"Region Hovedstaden"]
[null,"Hjørring",2018,0.10728744939271299,0.27353478868695602,0.37051295838262199,0.27353478868695602,3.1519518227766399E-2,3.8111624905903897E-2,0.37051295838262199,null,2.1908424809254302E-2,0.18942897085708099,null,0.43433820276337098,3.1519518227766399E-2,null,4.2248777982990801E-2,3.8111624905903897E-2,null,3.3512358918486002E-4,9.6892138939670899E-2,null,-9.5958885646285603E-5,"Region Sjælland"]
[null,"Holbæk",2018,6.3985051140833998E-2,3.1871036917900601E-2,0.25548592239291601,3.1871036917900601E-2,0.27214242138539202,1.6785905754903602E-2,0.25548592239291601,null,6.5164923156317001E-2,0.36357754238071499,null,-0.22803159103955301,0.27214242138539202,null,2.7850006077912302E-2,1.6785905754903602E-2,null,9.4964088690723293E-3,6.0137171168173298E-2,null,8.9679905929649806E-2,"Region Sjælland"]
[null,"Holstebro",2018,1.7500338279734799E-2,7.5025488718471603E-2,0.25182853849904702,7.5025488718471603E-2,0.28165033911077603,2.88133339243761E-2,0.25182853849904702,null,4.0294626319578697E-2,0.345482955804779,null,0.58056959116304097,0.28165033911077603,null,1.3197608507074E-3,2.88133339243761E-2,null,0,1.7199343942550599E-2,null,5.4561208319917398E-2,"Region Hovedstaden"]
[null,"Horsens",2018,2.56150609712615E-2,0.222135695512509,0.126308909624397,0.222135695512509,0.25467591884412699,0,0.126308909624397,null,0,0.371904159308034,null,4.9349914651145403E-2,0.25467591884412699,null,9.2528197860900704E-2,0,null,0,2.4975316710934298E-2,null,0.22493193220211799,"Region Sjælland"]
[null,"Hvidovre",2018,0.29717971797179699,0,0,0,0.51324158667746,0.25766161674569199,0,null,7.7460962782083698E-2,0,null,5.7033724801542E-2,0.51324158667746,null,4.08108789246171E-2,0.25766161674569199,null,4.9947439039588204E-3,0.22909679657684701,null,0.80391750582555199,"Region Sjælland"]
[null,"Høje-Taastrup",2018,2.6701912795532901E-2,0.333641912807012,0.38018919778979998,0.333641912807012,5.0308097318251498E-2,5.5833598518818502E-3,0.38018919778979998,null,2.0728279889588901E-2,0.20426996846703499,null,0.35309929983257698,5.0308097318251498E-2,null,2.9397238794416601E-2,5.5833598518818502E-3,null,2.3482800979611099E-2,2.60074637660196E-2,null,3.1792174752634801E-2,"Region Sjælland"]
[null,"Hørsholm",2018,2.0212898148531701E-2,0.26653404246681001,4.9206284763103403E-2,0.26653404246681001,0.20900491250862699,5.83817141001177E-2,4.9206284763103403E-2,null,3.7532548230259997E-2,0.39706061467256698,null,0.35905474371726598,0.20900491250862699,null,5.1184306852263703E-2,5.83817141001177E-2,null,0.100077354214246,1.9812431488774301E-2,null,0.23647337267001201,"Region Sjælland"]
[null,"Ikast-Brande",2018,3.66933527413877E-2,0.29801673199555401,-0.12233077868133201,0.29801673199555401,-5.9907564500087801E-2,5.14830632422629E-2,-0.12233077868133201,null,0,0.79734394196454705,null,0.62150971758683204,-5.9907564500087801E-2,null,7.7957964305994706E-2,5.14830632422629E-2,null,9.5472405495187707E-2,3.5394605979055797E-2,null,0.16465763032455499,"Region Sjælland"]
[null,"Ishøj",2018,1.33687943262411E-2,0.23095496378206201,8.2846344962732299E-2,0.23095496378206201,0.11566994436085,2.2535605556916399E-2,8.2846344962732299E-2,null,3.9336866148005398E-2,0.53480071386079697,null,0.52524642679816202,0.11566994436085,null,4.31657908329868E-2,2.2535605556916399E-2,null,4.6334358233496998E-5,1.31924274766421E-2,null,0,"Region Sjælland"]
[null,"Jammerbugt",2018,0.102491199566748,2.63621106062467E-2,0.47378116173400497,2.63621106062467E-2,0.16410823201932101,0,0.47378116173400497,null,0,0.24278521429448599,null,-6.0743500445448195E-4,0.16410823201932101,null,0,0,null,1.11529691682488E-4,9.2963281345941298E-2,null,0,"Region Sjælland"]
[null,"Kalundborg",2018,9.3720129994265003E-2,0.26082586847279898,-0.33681450731920498,0.26082586847279898,0.80323355909984695,0,-0.33681450731920498,null,8.8111201570086506E-2,0.187065763600612,null,0,0.80323355909984695,null,6.8064876743711999E-4,0,null,3.2533028469519101E-3,8.5689316145947103E-2,null,6.0443903867224397E-5,"Region Sjælland"]
[null,"Kerteminde",2018,null,0,0,0,0,0,0,null,5.6051748445526101E-2,0,null,0.50618678135740003,0,null,5.3471142730956003E-2,0,null,2.4617721147706099E-2,1,null,5.7427470154770802E-2,"Region Sjælland"]
[null,"Kolding",2018,1.05771872424386E-2,0.27661414890330599,3.5020080321285098E-2,0.27661414890330599,0.25307383379672499,2.85696632684584E-2,3.5020080321285098E-2,null,4.1799266816966003E-2,0.39625579240037101,null,0.52980778805526496,0.25307383379672499,null,5.2189648520865703E-2,2.85696632684584E-2,null,3.9583335332601201E-2,1.04664813098548E-2,null,0.122111857273691,"Region Sjælland"]
[null,"København",2018,3.3826711318752499E-2,0.54044697429197996,0,0.54044697429197996,5.4262119162039803E-2,0.10012864008105,0,null,-2.23776535790421E-4,0.27244236191187199,null,0.425245192983155,5.4262119162039803E-2,null,-4.7153176088166098E-4,0.10012864008105,null,2.4172396705561799E-2,3.2719904553059002E-2,null,0,"Region Sjælland"]
[null,"Køge",2018,2.56100463140938E-2,0.349873273123193,9.6830043194231302E-2,0.349873273123193,0.13872130796415999,1.8866240673972801E-2,9.6830043194231302E-2,null,3.8797533311765199E-3,0.37073858565665901,null,0.57461486665364703,0.13872130796415999,null,-3.0459661478801098E-3,1.8866240673972801E-2,null,0.177274239774867,2.4970549387784199E-2,null,6.0830992060623097E-2,"Region Sjælland"]
[null,"Langeland",2018,0,0.65491253163164298,7.0964902629552198E-2,0.65491253163164298,0,6.7829244141269701E-2,7.0964902629552198E-2,null,-5.2960052456398898E-3,0.206293321597535,null,9.5311998358933905E-2,0,null,8.4668999573267499E-4,6.7829244141269701E-2,null,-4.0149506506426098E-4,0,null,3.7879780456318499E-2,"Region Sjælland"]
[null,"Lejre",2018,4.4187008688456798E-2,0.53712655519454799,-5.8087011649100601E-2,0.53712655519454799,0,1.5849116411759999E-3,-5.8087011649100601E-2,null,3.3164430602283801E-4,0.47705840399397698,null,0.658501219106014,0,null,1.0895372741771299E-2,1.5849116411759999E-3,null,-1.0397171969227499E-3,4.2317140819399301E-2,null,5.4760660136782498E-2,"Region Hovedstaden"]
[null,"Lemvig",2018,7.70831727433901E-3,0.14136005507534599,0.38193222672684202,0.14136005507534599,0.33787194982023999,-2.6007802340702198E-3,0.38193222672684202,null,8.8632102813051006E-3,0.13378719498202399,null,0.54209165243051405,0.33787194982023999,null,-2.9763715583328602E-3,-2.6007802340702198E-3,null,0.13069632432862999,7.6493536296183004E-3,null,3.3320040441781697E-2,"Region Syddanmark"]
[null,"Lolland",2018,0.30127620783956199,0,-0.144775248102744,0,0.855049620548745,0,-0.144775248102744,null,0,5.8201984821949798E-2,null,0,0.855049620548745,null,3.3407737502102498E-3,0,null,0,0.23152364273204901,null,4.0769540765141603E-2,"Region Syddanmark"]
[null,"Lyngby-Taarbæk",2018,0,0.17048998248536901,0.333055662352087,0.17048998248536901,0.20876585928489,2.2235037805972101E-2,0.333055662352087,null,4.1556794027286498E-4,0.26545345807168202,null,0.42884023981955699,0.20876585928489,null,2.48852049755755E-3,2.2235037805972101E-2,null,4.8291051471453503E-2,0,null,4.01023815792741E-2,"Region Syddanmark"]
[null,"Læsø",2018,0,1,0,1,0,0,0,null,-1.2878991286982E-2,0,null,0.92388167388173803,0,null,8.1693121693149406E-2,0,null,0,0,null,7.30419571215712E-3,"Region Syddanmark"]
[null,"Mariagerfjord",2018,0.101744186046512,0.34256816182937599,9.5231115020033202E-2,0.34256816182937599,1.9349164467898E-2,1.6124303723248301E-2,9.5231115020033202E-2,null,7.46928913294198E-3,0.43437896999902298,null,0.12432298845754999,1.9349164467898E-2,null,-1.16168870025035E-3,1.6124303723248301E-2,null,2.00249801207697E-4,9.2348284960422203E-2,null,5.4662339851110402E-2,"Region Syddanmark"]
[null,"Middelfart",2018,4.5833903406758804E-3,6.2274429690159998E-2,0.43428668709567603,6.2274429690159998E-2,0.239564181137215,4.8144364998297599E-2,0.43428668709567603,null,0,0.21116785835887,null,-7.2678568217952502E-2,0.239564181137215,null,0.66313378589256899,4.8144364998297599E-2,null,0.155958184598632,4.5624787197820899E-3,null,1.6693252216493099E-3,"Region Syddanmark"]
[null,"Morsø",2018,1.0592869674600301E-3,0.27859528454746901,0.38067524222082599,0.27859528454746901,2.77933930756258E-2,7.4832181475480306E-2,0.38067524222082599,null,5.2088928310425296E-3,0.237045732614662,null,0.34629301529056999,2.77933930756258E-2,null,-4.1609538816223001E-4,7.4832181475480306E-2,null,1.5485190102868501E-3,1.05816606593697E-3,null,0.129119030442404,"Region Syddanmark"]
[null,"Norddjurs",2018,7.5106087348379596E-5,9.1735195824415194E-2,-9.8531786264128299E-2,9.1735195824415194E-2,0.76662536142089999,0.240096128571965,-9.8531786264128299E-2,null,0,0,null,0.29187378542317799,0.76662536142089999,null,-1.21843269981792E-3,0.240096128571965,null,-7.9522535106901804E-6,7.5100446847658806E-5,null,0.131370088102813,"Region Syddanmark"]
[null,"Nordfyns",2018,2.6033757105046199E-4,0.12367153949594401,0.21415867782935,0.12367153949594401,0.37426799115082598,4.3248167266733202E-2,0.21415867782935,null,3.05379631932112E-3,0.24439335444410701,null,0.74214976755089901,0.37426799115082598,null,-1.4979402155859099E-3,4.3248167266733202E-2,null,8.31887655959207E-4,2.6026981303951802E-4,null,1.07526972997134E-2,"Region Syddanmark"]
[null,"Nyborg",2018,4.7315518509438603E-2,0.14948501872659201,0.512593632958801,0.14948501872659201,0.11694756554307099,1.6619850187265899E-2,0.512593632958801,null,-4.47451993046855E-3,0.15917602996254701,null,0.10460641979301501,0.11694756554307099,null,-1.58472103753415E-6,1.6619850187265899E-2,null,6.1484082984826202E-2,4.5177902621722901E-2,null,5.3172990879630797E-3,"Region Syddanmark"]
[null,"Næstved",2018,4.8788304236357001E-2,0.14379046926155001,0.37581666060385599,0.14379046926155001,1.3095671153146599E-4,-3.1371407784649002E-2,0.37581666060385599,null,4.0878962432699999E-4,0.46511458712259002,null,0.53114413398085003,1.3095671153146599E-4,null,1.2161981514751099E-3,-3.1371407784649002E-2,null,1.6345371862058801E-3,4.6518734085121902E-2,null,8.8978650309954305E-2,"Region Syddanmark"]
[null,"Odder",2018,2.0334360920085399E-2,0.12863866132124799,7.5707396432514104E-2,0.12863866132124799,0.56800883156121096,1.0632734878856499E-2,7.5707396432514104E-2,null,-3.8920172351879501E-3,0.197083260705363,null,0.469876760242045,0.56800883156121096,null,5.9075481202768296E-3,1.0632734878856499E-2,null,8.1553890182210195E-2,1.9929115100807599E-2,null,1.5201505806722099E-2,"Region Syddanmark"]
[null,"Odense",2018,1.5527489335338301E-2,0.24593122644686899,0.205672451813392,0.24593122644686899,0.21621535743563999,6.3295563591069998E-2,0.205672451813392,null,6.6314397905387101E-4,0.253595327821451,null,0.14917718718770701,0.21621535743563999,null,2.6075951635959899E-3,6.3295563591069998E-2,null,0,1.5290072891577799E-2,null,0,"Region Syddanmark"]
[null,"Odsherred",2018,1.51630178303958E-2,0.35326218772738299,4.3273506346511399E-2,0.35326218772738299,0.24688737973967201,2.4880750262753701E-2,4.3273506346511399E-2,null,-2.6809880840517102E-4,0.31675964103807902,null,0.53327672178353702,0.24688737973967201,null,5.8809786760463103E-3,2.4880750262753701E-2,null,4.8027072582367901E-2,1.4936534885601101E-2,null,5.0292957473292398E-2,"Region Syddanmark"]
[null,"Randers",2018,1.2532937415566501E-2,7.0013210039630097E-2,0.22571994715984101,7.0013210039630097E-2,0.22464993394980201,0.153091149273448,0.22571994715984101,null,-1.3954029366800599E-3,0.31414795244385701,null,0.47366059194480697,0.22464993394980201,null,1.4427880296779001E-3,0.153091149273448,null,1.8514285714285E-3,1.23778071334214E-2,null,4.25070718127631E-2,"Region Syddanmark"]
[null,"Rebild",2018,4.4554455445544601E-2,0.47084756971233299,0,0.47084756971233299,4.9652816047613797E-2,0,0,null,2.93801131871518E-3,0.43684558580403399,null,0.244463936206927,4.9652816047613797E-2,null,-8.8663141716551798E-3,0,null,-3.6247260859534298E-4,4.2654028436019002E-2,null,0,"Region Syddanmark"]
[null,"Ringkøbing-Skjern",2018,0,0.139490102441655,7.4836324424247105E-2,0.139490102441655,0.18835400138642799,0.10963567742432399,7.4836324424247105E-2,null,-1.99921862600316E-3,0.48768389432334602,null,0.21465225142771499,0.18835400138642799,null,7.8841514789758094E-3,0.10963567742432399,null,-6.9516005440704003E-3,0,null,0,"Region Syddanmark"]
[null,"Ringsted",2018,6.8722361658898098E-2,6.4154178781778898E-2,0.25072690673227499,6.4154178781778898E-2,0.24137031238350901,5.7556102288824303E-2,0.25072690673227499,null,0,0.32188921195854803,null,0.86960704903182795,0.24137031238350901,null,-6.2286343887762996E-4,5.7556102288824303E-2,null,0,6.4303287855066005E-2,null,0.13055533050399701,"Region Syddanmark"]
[null,"Roskilde",2018,0,0.39040140149316099,0,0.39040140149316099,0.17969871971155299,0,0,null,0,0.42989987879528602,null,0.61328432432657098,0.17969871971155299,null,0,0,null,7.6945568704696294E-5,0,null,0,"Region Syddanmark"]
[null,"Rudersdal",2018,2.4082116067903701E-2,0.25265570119078201,0.34273537222650602,0.25265570119078201,4.0263856763471301E-2,2.8356035295125499E-2,0.34273537222650602,null,6.1992680535638599E-4,0.31247322881864098,null,0.57244068180480701,4.0263856763471301E-2,null,5.0227015999126899E-3,2.8356035295125499E-2,null,0.102250849549215,2.3515805705474201E-2,null,0,"Region Syddanmark"]
[null,"Rødovre",2018,0,0.51952433161845302,0.13120238396446501,0.51952433161845302,0,0,0.13120238396446501,null,-1.56202720692278E-4,0.349273284417081,null,9.9539926187389993E-2,0,null,9.6208469942915507E-3,0,null,1.07219312307834E-2,0,null,0.39909810394638601,"Region Midtjylland"]
[null,"Samsø",2018,null,0,0,0,0,0,0,null,1.28639693892296E-3,0,null,0.417437306628131,0,null,6.6693855670330005E-4,0,null,9.0076649123723498E-2,1,null,3.4748937982783397E-2,"Region Syddanmark"]
[null,"Silkeborg",2018,2.6640516466454201E-2,1.48451802913317E-2,0,1.48451802913317E-2,0,3.8366632173843798E-2,0,null,-6.4186252090081596E-3,0.92083897158322003,null,0.70586045553443399,0,null,6.0034049435841999E-3,3.8366632173843798E-2,null,-2.3452984060234899E-4,2.5949215951603901E-2,null,2.1035895437501399E-2,"Region Syddanmark"]
[null,"Skanderborg",2018,0,6.23991195891416E-2,4.5121056493030104E-3,6.23991195891416E-2,0.38650953778429897,1.57465150403522E-2,4.5121056493030104E-3,null,-7.66399992620848E-4,0.53083272193690401,null,0.58236449122601597,0.38650953778429897,null,3.80025259275385E-3,1.57465150403522E-2,null,3.39655468270701E-5,0,null,2.9075535309167001E-2,"Region Midtjylland"]
[null,"Skive",2018,2.7129249159506898E-2,0.145838068827567,0.30017729690412298,0.145838068827567,0.42778560712824498,5.8735282083920502E-2,0.30017729690412298,null,1.6916528250447999E-3,4.1051052416238597E-2,null,0.55109208153649603,0.42778560712824498,null,-1.0287051804311899E-3,5.8735282083920502E-2,null,-1.1236088805226499E-3,2.6412692639905401E-2,null,1.4035028665642799E-2,"Region Midtjylland"]
[null,"Slagelse",2018,2.44403971564538E-2,0.12572403509778099,0.28079658198084501,0.12572403509778099,0.28188621895968302,9.3823478809428207E-2,0.28079658198084501,null,-7.3610820167857604E-4,0.193912370247176,null,0.664603022855079,0.28188621895968302,null,-1.06063822279623E-4,9.3823478809428207E-2,null,2.8937888940564701E-2,2.3857314905086899E-2,null,2.4484661520077101E-2,"Region Midtjylland"]
[null,"Solrød",2018,3.5497076023391798E-2,0.22070367651211401,0.19692776867905301,0.22070367651211401,0,0,0.19692776867905301,null,-1.034394560034E-2,0.54808832665047702,null,0.43375846977993199,0,null,7.5837828784983703E-3,0,null,-3.3995945210904503E-5,3.4280228158355401E-2,null,0.39320312456416701,"Region Midtjylland"]
[null,"Sorø",2018,2.54294375210509E-2,0.16689111512563601,0.22049597635079601,0.16689111512563601,0.16327804237148999,8.3856134012153097E-2,0.22049597635079601,null,-3.7274593192623898E-2,0.340679914600099,null,4.7442886354275501E-2,0.16327804237148999,null,3.6921586589897998E-2,8.3856134012153097E-2,null,-4.08123301756103E-4,2.47988175398259E-2,null,4.8214802858611398E-2,"Region Midtjylland"]
[null,"Stevns",2018,0.10764035457999201,0.30716463414634099,0,0.30716463414634099,0.46913109756097598,0,0,null,0,0.126524390243902,null,0,0.46913109756097598,null,0,0,null,-7.1103112914954594E-2,9.7179878048780505E-2,null,1.0711031129149,"Region Midtjylland"]
[null,"Struer",2018,6.2053026338740602E-2,0.134181892835147,0.34736193800041099,0.134181892835147,0.214699240402381,2.3485937179223999E-2,0.34736193800041099,null,4.1121003269495299E-4,0.22184356394990801,null,0.27651979315438502,0.214699240402381,null,-2.02819625594941E-3,2.3485937179223999E-2,null,3.2492543499478797E-2,5.8427427632929602E-2,null,1.18093273143982E-2,"Region Midtjylland"]
[null,"Svendborg",2018,2.26236269183487E-2,0.42918080465341701,9.0605913717886594E-2,0.42918080465341701,0.13888511875908899,0,9.0605913717886594E-2,null,2.2460477708392498E-3,0.319205041202133,null,0.63833668281853295,0.13888511875908899,null,0,0,null,5.09574437938831E-3,2.2123121667474498E-2,null,0.27435161304706002,"Region Midtjylland"]
[null,"Syddjurs",2018,7.93905372894948E-2,0.121064176041888,0.15962640628316699,0.121064176041888,0.24474633835703699,0.146430340338216,0.15962640628316699,null,8.4638072743530302E-3,0.25458147597820702,null,-4.2868727948075502E-4,0.24474633835703699,null,6.2080019010011299E-3,0.146430340338216,null,-1.43551584792512E-5,7.35512630014859E-2,null,1.32403101945648E-2,"Region Midtjylland"]
[null,"Sønderborg",2018,2.42043622167529E-2,5.4109146351568597E-2,0.47831491026002199,5.4109146351568597E-2,0,0.15424006894151601,0.47831491026002199,null,-3.10238092782811E-3,0.28970351833744901,null,6.6161992104994696E-2,0,null,-2.0392763858580998E-3,0.15424006894151601,null,0,2.36323561094447E-2,null,0.110478603805682,"Region Syddanmark"]
[null,"Thisted",2018,3.2374691865242403E-2,0.180873925501433,0.45081184336198699,0.180873925501433,0.16348296720789601,0,0.45081184336198699,null,0,0.17347182425978999,null,0,0.16348296720789601,null,0,0,null,0,3.1359439668895303E-2,null,0.35778347213323503,"Region Syddanmark"]
[null,"Tønder",2018,0,0.37027946102119602,0.392396001125003,0.37027946102119602,0,7.0824064841093302E-3,0.392396001125003,null,-9.7057882229734105E-4,0.23024213136969099,null,0.240457907939643,0,null,-4.4092155760964199E-3,7.0824064841093302E-3,null,1.8861177249665899E-2,0,null,6.1604959680039396E-4,"Region Midtjylland"]
[null,"Tårnby",2018,0.10841807477635899,6.7186314409877906E-2,0.20004138787335299,6.7186314409877906E-2,0.23584189832379099,0.127543629716493,0.20004138787335299,null,4.9945309104941797E-3,0.27157342898530701,null,0.17977345590896501,0.23584189832379099,null,7.9913238339202096E-4,0.127543629716493,null,-6.6236573554903097E-3,9.7813340691177503E-2,null,1.45270157390716E-2,"Region Midtjylland"]
[null,"Vallensbæk",2018,0.14140825367218501,0.26412011030538302,7.2924113982228603E-2,0.26412011030538302,4.2692268409764103E-2,3.6870595444796199E-2,7.2924113982228603E-2,null,3.0949977797263299E-3,0.45950362577877601,null,0.37340623622967001,4.2692268409764103E-2,null,1.19132790224796E-4,3.6870595444796199E-2,null,2.8964199402992103E-4,0.123889286079052,null,7.5583290424077702E-5,"Region Midtjylland"]
[null,"Varde",2018,2.4826300627012399E-2,3.00399614165633E-3,0,3.00399614165633E-3,0.40132286068623402,0.13148684029213201,0,null,-3.1299627694821197E-2,0.439961416563318,null,5.5511151231257802E-17,0.40132286068623402,null,2.47636185413001E-2,0.13148684029213201,null,7.3669575937884701E-3,2.42248863166598E-2,null,0.59848321745161603,"Region Midtjylland"]
[null,"Vejen",2018,3.3798997651502301E-2,0.15885617930162299,8.8596922644558401E-2,0.15885617930162299,0.13506171104709699,0.13393756294058401,8.8596922644558401E-2,null,9.4658507891693892E-3,0.45085364996838301,null,0.66467595157133996,0.13506171104709699,null,1.22130259466502E-2,0.13393756294058401,null,1.1006440382907099E-2,3.2693974097754097E-2,null,3.07162270618839E-2,"Region Midtjylland"]
[null,"Vejle",2018,2.0637269960065902E-2,0.21391047389734,0.135493050235307,0.21391047389734,0.48095655029002998,0,0.135493050235307,null,4.9573907064370797E-3,0.149419940899639,null,0.23439964951931799,0.48095655029002998,null,9.3540508236712693E-6,0,null,-1.29411685760061E-3,2.02199846776841E-2,null,7.7237194744128601E-4,"Region Midtjylland"]
[null,"Vesthimmerlands",2018,7.8095495009441601E-2,0.50666207931940399,0,0.50666207931940399,0,0,0,null,-2.8239842584056899E-3,0.42089953709495798,null,0.21159153488070401,0,null,-4.1045567819537601E-3,0,null,4.8407989766644698E-2,7.2438383585637506E-2,null,3.8341967707067298E-2,"Region Midtjylland"]
[null,"Viborg",2018,4.94733258570971E-2,0.127016686861363,0.39561886407220498,0.127016686861363,0.11887838340663801,0.16347208838598301,0.39561886407220498,null,4.3754232923731701E-4,0.147872878364325,null,0.34733202983160499,0.11887838340663801,null,1.43592171076534E-3,0.16347208838598301,null,6.0662869315980798E-2,4.7141098909486402E-2,null,3.2421697854530897E-2,"Region Midtjylland"]
[null,"Vordingborg",2018,0,0.33970925784238698,0.20847609859951399,0.33970925784238698,9.2944346495459199E-2,4.3245401017930198E-4,0.20847609859951399,null,-1.5011038012424701E-3,0.35843784305246001,null,0.65070215338280901,9.2944346495459199E-2,null,1.8822328424335001E-3,4.3245401017930198E-4,null,4.0333729675916504E-3,0,null,-8.3970554672596598E-4,"Region Midtjylland"]
[null,"Ærø",2018,0,1,0,1,0,0,0,null,0,0,null,0.53448892492512101,0,null,5.6235130030231097E-3,0,null,0,0,null,5.2539990190488203E-2,"Region Midtjylland"]
[null,"Aabenraa",2018,0,0.59870238324661096,0.40129761675338899,0.59870238324661096,0,0,0.40129761675338899,null,-3.6051993339185598E-3,0,null,0.71919507636133095,0,null,-2.5715785148747701E-3,0,null,3.87795862994267E-3,0,null,1.26162613352987E-2,"Region Midtjylland"]
[null,"Aalborg",2018,2.36782486071619E-2,0.18226676076217399,0.26254340155257599,0.18226676076217399,0.25334086097388803,4.3500352858151001E-2,0.26254340155257599,null,-1.5590755130531901E-2,0.235218066337332,null,0.43904014650759898,0.25334086097388803,null,-7.7449943475755801E-3,4.3500352858151001E-2,null,-6.7024717836883197E-4,2.31305575158786E-2,null,1.9191777129268201E-4,"Region Midtjylland"]
[null,"Aarhus",2018,5.8715499458852002E-2,8.0463905224276697E-2,0.19366903297274801,8.0463905224276697E-2,0.27308929391943598,9.8683156008790796E-2,0.19366903297274801,null,4.1598759300569598E-3,0.29863542620223898,null,-0.39621988649719198,0.27308929391943598,null,-1.0004090217080401E-2,9.8683156008790796E-2,null,5.0082013969454699E-3,5.5459185672509403E-2,null,0.109497406133542,"Region Midtjylland"]
[null,"Solrød",2015,3.5140078944834903E-2,null,7.2478862415163603E-2,0.45303199404761901,null,0.33745025217595198,0,null,-3.3063820022505301E-3,0.51302083333333304,null,0.60099251783051899,0,null,-9.5747521151956505E-4,0,null,0,3.3947172619047603E-2,null,6.5821087207321896E-2,"Region Midtjylland"]
[null,"Stevns",2015,0.397959183673469,null,0.33986322555280402,0.71532846715328502,null,0.75272841262821499,0,null,0,0,null,-1.62784930021189E-2,0,null,1.2952653185237801E-2,0,null,0,0.28467153284671498,null,0.25059742718862299,"Region Midtjylland"]
[null,"Struer",2015,null,null,-6.3448165475733703E-2,0,null,8.6105114391195094E-3,0,null,-2.33615969020207E-3,0,null,-6.2015476772785396E-3,0,null,4.5169353375769097E-3,0,null,4.3775454709305E-4,1,null,0.99497250604360898,"Region Midtjylland"]
[null,"Svendborg",2015,3.2342313334048897E-2,null,3.6051921533247502E-2,0.57885981632299399,null,0.58973539734063296,0,null,-2.2335717949601998E-3,0.34163923063593798,null,0.345437947184289,0,null,-2.7921552995025E-4,4.8171893952521201E-2,null,3.2563758665716598E-2,3.1329059088546198E-2,null,3.4775684134220199E-2,"Region Nordjylland"]
[null,"Tårnby",2015,0.17857142857142899,null,0.41534820557413399,0.24468566259610999,null,0.259532178481933,0,null,4.7388288775494E-3,0.46246042514699198,null,0.38385816716057503,0,null,2.5592867197161699E-3,0.14133876074174601,null,8.5893696524575402E-2,0.15151515151515199,null,0.26341784223571801,"Region Midtjylland"]
[null,"Varde",2015,0.25123561741330902,null,0.258392808987296,6.5981987675778203E-2,null,3.6072521928403503E-2,0,null,0,0.65112972033496597,null,0.66562234038929102,0,null,1.7302325520631701E-3,8.2098277768999903E-2,null,9.2193232584876703E-2,0.200790014220256,null,0.20438167254536699,"Region Nordjylland"]
[null,"Vordingborg",2015,0,null,0,0.50902558456233904,null,0.41842756229564099,0,null,2.9140980188486799E-3,0.49097441543766102,null,0.59364822458204003,0,null,-1.50207744688657E-2,0,null,3.0889572155662301E-5,0,null,0,"Region Midtjylland"]
[null,"Ærø",2015,0,null,0,1,null,1.00109082367536,0,null,0,0,null,-8.6776429207780002E-4,0,null,0,0,null,-2.2305938336464299E-4,0,null,0,"Region Nordjylland"]
[null,"Aabenraa",2015,0,null,-1.03327133705367E-4,1,null,1.0032841776607,0,null,-1.0511135725153099E-3,0,null,0,0,null,-1.21602499852491E-4,0,null,-2.0082837096886399E-3,0,null,-1.0317787866287499E-4,"Region Nordjylland"]
[null,"Aalborg",2015,5.0571914496281699E-2,null,7.4549513160700798E-2,0.436491183519292,null,0.31364772307111399,0,null,-5.3779915849361303E-4,0.50088085450822895,null,0.601147029694999,0,null,7.4323238179374595E-4,1.44904534416811E-2,null,1.6286909561546999E-2,4.81375085307982E-2,null,6.8712904448897702E-2,"Region Nordjylland"]
[null,"Aarhus",2015,0.18179934738695799,null,0.15398363592556699,0.247699084016304,null,0.24793181086215599,0,null,1.7486920888245599E-3,0.57485646666958801,null,0.58598198789040601,0,null,4.1581214656929398E-3,2.3611780689836499E-2,null,2.73385107735429E-2,0.153832668624271,null,0.13284087691928201,"Region Nordjylland"]
[null,"Allerød",2014,0,null,0,0.51279391424619603,null,0.54877956129495997,0,null,-3.1524457157132701E-2,0.48713692946058101,null,0.47001185026501002,0,null,-7.5255612429110403E-3,6.9156293222683303E-5,null,2.0258606840001501E-2,0,null,0,"Region Nordjylland"]
[null,"Assens",2014,6.2685892850419797E-2,null,7.3429738854109403E-2,0.206724296747679,null,0.20946405513442601,0,null,-4.7207652914750001E-2,0.57592290795720302,null,0.61022518717238905,0,null,-3.0920505833385899E-2,0.15836462835683399,null,0.18949633843056499,5.8988166938283897E-2,null,6.8942578010769806E-2,"Region Nordjylland"]
[null,"Ballerup",2014,5.3023410771261298E-2,null,4.6892743802386498E-2,0.82152374694264996,null,0.90473350258834295,0,null,-2.0956298386952499E-2,0.128122756421957,null,8.2847331470816202E-2,0,null,-1.06603149345474E-2,0,null,-6.6050654719607095E-4,5.0353496635393499E-2,null,4.4696285809125803E-2,"Region Nordjylland"]
[null,"Billund",2014,6.9072324608951505E-2,null,6.6689774725432499E-2,0.40475155729392998,null,0.33435104185181802,0,null,-4.2789372868252702E-3,0.53063885267275102,null,0.67694764696860699,0,null,-6.7081245266990705E-2,0,null,-2.5992929923064302E-3,6.4609590033318801E-2,null,6.2660786725569295E-2,"Region Nordjylland"]
[null,"Bornholm",2014,4.0073982737361298E-2,null,3.3881491907132903E-2,0.28361679813961999,null,0.32983475388839201,0,null,-2.05926868316979E-2,0.60786101864940001,null,0.58339506359321602,0,null,-5.0116009400056803E-2,6.9992248415484903E-2,null,0.124729297580613,3.8529934795494998E-2,null,3.2749581169369699E-2,"Region Nordjylland"]
[null,"Brøndby",2014,3.2969990580002703E-2,null,4.4565450998501198E-2,0.96808233454924397,null,1.03724434485767,0,null,0,0,null,0,0,null,-7.9863873540034602E-2,0,null,0,3.1917665450755597E-2,null,4.2619528681926401E-2,"Region Midtjylland"]
[null,"Esbjerg",2014,2.9600865745750798E-2,null,-3.0967562038171099E-3,0.64253328387123398,null,0.54632009578941199,0,null,-2.04321506512741E-2,0.35258233378673598,null,0.44832496975384101,0,null,-2.588046285139E-2,-2.38654630889081E-2,null,4.8649376890202198E-2,2.87498454309385E-2,null,3.0181710692289698E-3,"Region Midtjylland"]
[null,"Fanø",2014,0,null,-4.2132567230623901E-4,0,null,0,0,null,-0.15276053594459399,1,null,1.13708513708519,0,null,1.55026455026643E-2,0,null,0,0,null,1.7275335683386599E-4,"Region Midtjylland"]
[null,"Favrskov",2014,7.3659398939304704E-2,null,5.5567488522778603E-2,0.95462861324551795,null,0.99422575317970496,0,null,-4.7447469279376299E-2,-2.3234540797658298E-2,null,4.0164265565437098E-2,0,null,-3.70192221848527E-2,0,null,-2.5769150663972301E-3,6.8605927552140497E-2,null,5.2653587785416199E-2,"Region Midtjylland"]
[null,"Faxe",2014,4.6960605270023499E-3,null,2.2091712539522601E-3,0.53674370293430296,null,0.19831928652249101,0,null,0,0.208776941054272,null,-0.63291915725540104,0,null,1.3248759916839401,0.24980524539080801,null,0.107524887159542,4.6741106206180201E-3,null,2.1989918892244601E-3,"Region Midtjylland"]
[null,"Fredensborg",2014,0.13692357182053899,null,0.127426697533366,0.512857214187041,null,0.49426292291933999,0,null,-1.1530907700461101E-3,0.36481201005275998,null,0.39628461087116301,0,null,-1.3196884197557201E-3,1.8973752975051199E-3,null,-2.6471732007102801E-3,0.120433400462693,null,0.11457241859981,"Region Midtjylland"]
[null,"Frederiksberg",2014,0.13309603934765701,null,0.11940668774539601,0.57481466250871005,null,0.60353548822491399,0,null,0,0.307723061809625,null,0.29046348230758301,0,null,-3.0460817495443502E-3,0,null,-3.5326550594016998E-4,0.11746227568166499,null,0.109400376723151,"Region Midtjylland"]
[null,"Frederikshavn",2014,1.2424284140969201E-2,null,1.1016335854111201E-2,0.24842777985518599,null,0.283813672685156,0,null,-5.9336545983001102E-2,0.73879049529183805,null,0.81142295445823698,0,null,-3.3455826865306897E-2,5.0990923615596405E-4,null,-1.3338839932917099E-2,1.2271815616820199E-2,null,1.08945856377355E-2,"Region Midtjylland"]
[null,"Faaborg-Midtfyn",2014,0,null,-4.42500898969342E-2,0.99847792998477902,null,0.95769124295324604,0,null,-4.46915046228753E-2,1.5220700152207001E-3,null,7.6872517486265196E-2,0,null,1.0469089694176101E-4,0,null,4.3218860682763698E-2,0,null,-3.3195807396367599E-2,"Region Midtjylland"]
[null,"Gentofte",2014,0.130856116031318,null,0.109941845695779,0.45428749787185801,null,0.42234066217558602,0,null,-1.35899089714613E-2,0.42829578344021302,null,0.53128507392046898,0,null,-1.6234737743104698E-2,1.7025140457408801E-3,null,-2.2737622438981499E-2,0.115714204642188,null,9.8936533057411694E-2,"Region Midtjylland"]
[null,"Gladsaxe",2014,1.18601911244927E-2,null,3.3039007579418501E-3,0.48134444214448302,null,0.45865233703018798,0,null,-3.8263170616275502E-2,0.44592216932312201,null,0.51144736466362395,0,null,-7.3110419921569303E-3,6.1012212792382503E-2,null,7.0979995562865397E-2,1.1721175740012401E-2,null,4.4945153516877702E-3,"Region Midtjylland"]
[null,"Glostrup",2014,0,null,0,0.72785665990534099,null,0.97018397264807299,0,null,-5.1754062737771299E-2,0.27214334009465901,null,0.150751922236085,0,null,-6.9181832146313099E-2,0,null,0,0,null,0,"Region Midtjylland"]
[null,"Guldborgsund",2014,5.6501902655748802E-2,null,5.8091457004477903E-2,0.392653076618454,null,0.41613158917972698,0,null,-2.5395716732092E-2,0.553866752154482,null,0.55586582792877004,0,null,-4.0437549253212503E-2,0,null,3.8839915233339198E-2,5.3480171227064402E-2,null,5.4995933643327902E-2,"Region Midtjylland"]
[null,"Haderslev",2014,4.9257823579464899E-2,null,4.3149376926980003E-2,0.63245629843215001,null,0.56070291097654501,0,null,-9.1717822679441993E-2,0.32059830600108102,null,0.521833819506199,0,null,-3.4806369582156597E-2,0,null,2.3142857142854898E-3,4.6945395566768799E-2,null,4.1673176064391602E-2,"Region Midtjylland"]
[null,"Halsnæs",2014,0,null,0,0.84046784546922404,null,0.87089779792566402,0,null,-1.0476260940024001E-2,0.15953215453077599,null,0.22651033601897599,0,null,-8.4591113756175701E-2,0,null,-2.3407592485651398E-3,0,null,0,"Region Midtjylland"]
[null,"Hedensted",2014,0,null,0,0.79969933854479902,null,0.90466983461365702,0,null,-4.99804656500746E-3,0.20030066145520101,null,0.22389920383805501,0,null,-7.2312935406046094E-2,0,null,-5.1258056480818902E-2,0,null,0,"Region Nordjylland"]
[null,"Helsingør",2014,0.12966371089175199,null,0.152696974063253,-5.4206161137440798E-2,null,-1.8623040952014901E-3,0,null,0,0.93942535545023698,null,0.95783539096598203,0,null,-8.8221799259656605E-2,0,null,0,0.114780805687204,null,0.13224871238902,"Region Midtjylland"]
[null,"Herlev",2014,0,null,0,0.39309651474530799,null,0.43602398833577599,0,null,0,0.60690348525469195,null,0.56387982970333905,0,null,0,0,null,9.6181960880875605E-5,0,null,0,"Region Nordjylland"]
[null,"Herning",2014,0,null,0,0.346315636785611,null,0.35088594318288802,0,null,-6.1243984826745701E-2,0.58004545014988895,null,0.63442369990426095,0,null,-3.3486433395054901E-2,7.3638913064500502E-2,null,0.10942077513468,0,null,0,"Region Midtjylland"]
[null,"Hillerød",2014,0.47918637653737001,null,0.84755620433981005,0.58746402302526401,null,0.509836848062591,0,null,-4.3615700771972897E-3,6.6197633514550699E-2,null,-2.6212045611373502E-4,0,null,6.7847122451425402E-4,2.2385673169171699E-2,null,1.3751542263800201E-2,0.32395267029101399,null,0.48035682898239401,"Region Nordjylland"]
[null,"Hjørring",2014,3.4465685600330101E-2,null,2.2145797800661199E-2,0.44705913635396699,null,0.50197130376842802,0,null,-7.6038578615197097E-2,0.44615507338864102,null,0.45815876432533298,0,null,-5.73316855466466E-3,7.3468410976387996E-2,null,9.9114633923850504E-2,3.3317379281003999E-2,null,2.2527045152216402E-2,"Region Nordjylland"]
[null,"Holstebro",2014,2.5139664804469299E-2,null,1.6117120682487499E-2,0.26276507522805398,null,0.30561518250486602,0,null,-6.9526873134776707E-2,0.71271176400900405,null,0.79604336226654504,0,null,-4.1604015543938999E-2,0,null,-6.6675320130933401E-3,2.4523160762942801E-2,null,1.61398759203806E-2,"Region Nordjylland"]
[null,"Horsens",2014,2.68154127891767E-2,null,2.7844767455608401E-2,0.41429325374438097,null,0.411412714371508,0,null,-2.8615713862421899E-2,0.55959162132158902,null,0.63350278271201399,0,null,-4.3449196307989303E-2,0,null,2.26166674772502E-5,2.6115124934029701E-2,null,2.7126796419374401E-2]
[null,"Hørsholm",2014,2.05934455270151E-2,null,1.38968346749703E-2,0.44217834671295297,null,0.46709597174785999,0,null,-6.5519923312287202E-3,0.53764374050770203,null,0.58861268804977795,0,null,-4.6065034989624103E-2,0,null,-1.6672291936661299E-2,2.01779127793448E-2,null,1.35806594597565E-2,"Region Midtjylland"]
[null,"Ikast-Brande",2014,2.8462377317339201E-2,null,1.42041289477142E-2,0.32536316403350601,null,0.26318143444201098,0,null,1.8528875095775301E-2,0.62130208885590099,null,0.66372087820305103,0,null,1.3252428871272299E-2,2.5660057257978999E-2,null,2.5962824960545E-2,2.7674689852613701E-2,null,1.53535584272468E-2,"Region Midtjylland"]
[null,"Jammerbugt",2014,0.71635355712965798,null,0.79073749663228898,0.159339673425444,null,0.21210384222126799,0,null,-0.13086010458519601,0.42329086667862897,null,0.47096141898889199,0,null,-1.25656462610166E-2,0,null,-8.4989863027254406E-5,0.417369459895927,null,0.46044547949912801,"Region Midtjylland"]
[null,"Kalundborg",2014,2.8905627182010601E-2,null,4.6598793373362903E-2,0.89573453384452995,null,1.06535790393781,0,null,-2.5372054715852198E-2,7.6171901091414307E-2,null,-4.00830675904729E-3,0,null,-7.7963192403274206E-2,0,null,-1.7070785146184901E-3,2.8093565064055501E-2,null,4.3692728454693998E-2,"Region Midtjylland"]
[null,"Kerteminde",2014,null,null,-2.99687311261909E-3,0,null,0,0,null,0,0,null,0,0,null,0,0,null,-0.24895035623325201,1,null,1.2489503562331401,"Region Midtjylland"]
[null,"Kolding",2014,9.8984002863514997E-3,null,1.22393523518501E-2,0.72802868165273904,null,0.76768608453318199,0,null,-6.4308087042022101E-3,0.23212508690377201,null,0.25248836608596298,0,null,-5.8609302115613097E-2,3.0044849162315802E-2,null,3.2775656726768097E-2,9.8013822811729E-3,null,1.2090003473869E-2,"Region Midtjylland"]
[null,"Lejre",2014,0.33679771049856899,null,0.48504084214445697,7.0760563380281694E-2,null,-5.62251326095407E-2,0,null,2.2747211444610099E-2,0.670760563380282,null,0.69958582983093698,0,null,0,6.5352112676056399E-3,null,5.1595874320060596E-3,0.25194366197183099,null,0.32873250390176201,"Region Midtjylland"]
[null,"Lemvig",2014,1.54647067830348E-2,null,9.0109786106484808E-3,0.98477080820265395,null,1.13405521651998,0,null,-6.1355154098634998E-2,0,null,-2.73165061904024E-2,0,null,-5.52019812423339E-2,0,null,5.6120021907935002E-4,1.5229191797346201E-2,null,9.2572247923978796E-3,"Region Nordjylland"]
[null,"Lolland",2014,0.119459967907929,null,8.3844768943848194E-2,0.80160142348754404,null,1.0026344549689801,0,null,3.1824182201873399E-2,9.1686437327006695E-2,null,8.64738090639037E-2,0,null,-0.20375764017399001,0,null,0,0.106712139185449,null,8.2825193939228797E-2,"Region Midtjylland"]
[null,"Læsø",2014,null,null,1.4981273408238801E-3,0,null,0.53491351697630296,0,null,0,0,null,0,0,null,0,0,null,0,1,null,0.46508648302369698,"Region Nordjylland"]
[null,"Mariagerfjord",2014,0,null,-2.1083171759393299E-2,0.71060474954331299,null,0.83749241886110304,0,null,-2.26903141656578E-2,0.28939525045668701,null,0.201004417553548,0,null,-1.69845638148978E-2,0,null,2.0346760311018602E-2,0,null,-1.9168718745106599E-2,"Region Midtjylland"]
[null,"Middelfart",2014,3.5764200858540499E-2,null,1.9087301290190001E-2,0.83863039444832599,null,0.98068125779377602,0,null,-7.4360196113872207E-2,0.192139948434978,null,0.151734987151805,0,null,-4.9231555034992901E-2,-6.5299631334184705E-2,null,-2.7326185353125299E-2,3.4529288450880699E-2,null,1.85016915563576E-2,"Region Nordjylland"]
[null,"Morsø",2014,0,null,3.7831677409283497E-5,0.72450000000000003,null,0.70057224184020594,0,null,-7.4400829983432004E-2,0.27550000000000002,null,0.39456028792991998,0,null,-6.0437086090559004E-3,0,null,-1.47257828229037E-2,0,null,3.7791645212031899E-5,"Region Nordjylland"]
[null,"Norddjurs",2014,1.2225237449118,null,1.82470764463244,0.438339438339438,null,0.47669211953780199,0,null,-8.4451118479989901E-2,0,null,-1.68813705344328E-4,0,null,-8.0675974600751502E-2,1.15995115995116E-2,null,-3.6346295548383999E-2,0.55006105006104999,null,0.72495008279679496,"Region Nordjylland"]
[null,"Nordfyns",2014,0.119047619047619,null,2.0627931086995201E-2,0.45484851456025099,null,0.31626740607313802,0,null,-1.3123875604129901E-2,0.43876850671634499,null,0.71649687395654404,0,null,-3.9952831361418403E-2,0,null,8.6740995113743203E-4,0.10638297872340401,null,1.94450169848892E-2,"Region Nordjylland"]
[null,"Næstved",2014,9.9651081646894603E-3,null,-6.6020642142614596E-3,0.74570228290310103,null,0.89781477576269697,0,null,-6.5774371957502395E-2,0.24443093250787701,null,0.17202089116237601,0,null,-5.4966672686611301E-6,0,null,2.4884529276905099E-3,9.8667845890221696E-3,null,-6.5442512281475001E-3,"Region Nordjylland"]
[null,"Odder",2014,4.60074034902168E-2,null,4.7144061059492898E-2,0.90672396359959595,null,0.84483181580316102,0,null,-2.59136251318282E-2,0,null,0.21052401146145,0,null,-0.13074215486233201,4.9292214357937299E-2,null,5.59750713927318E-2,4.3983822042467098E-2,null,4.5324881336867399E-2,"Region Nordjylland"]
[null,"Odense",2014,3.6139771632961899E-2,null,3.7723246420208398E-2,0.62785294156697702,null,0.62368972112494703,0,null,-4.5332181430921999E-2,0.32939442622515502,null,0.36979781022581898,0,null,-4.3577322793609603E-2,7.8733884780328497E-3,null,5.8972203390013501E-2,3.4879243729835203E-2,null,3.6449769483702703E-2,"Region Nordjylland"]
[null,"Odsherred",2014,0,null,-5.23961183166577E-3,0.26740173386078597,null,0.339911354275236,0,null,-1.4686765151804299E-2,0.73259826613921397,null,0.72378434798102398,0,null,-4.5149482179056101E-2,0,null,1.24672206806586E-3,0,null,-5.1061769936975301E-3,"Region Nordjylland"]
[null,"Rebild",2014,5.4134252947309301E-2,null,5.80180192108486E-2,0.32220024345709097,null,0.39083728150727398,0,null,0,0.62644552647595897,null,0.553411913120328,0,null,9.2444373267675005E-4,0,null,0,5.1354230066950703E-2,null,5.4826361639840102E-2,"Region Nordjylland"]
[null,"Ringkøbing-Skjern",2014,1.5455659221562499E-2,null,1.6034209838116101E-2,0.36928074245939702,null,0.31073304974672999,0,null,-3.0197835261581901E-2,0.61549883990719301,null,0.76866998234581296,0,null,-5.2073180185374199E-2,0,null,-1.2929422857489201E-2,1.5220417633410701E-2,null,1.57974062117123E-2,"Region Midtjylland"]
[null,"Roskilde",2014,0,null,4.7850874757826599E-4,0.551547542838427,null,0.66828243501399198,0,null,-5.3089935070317999E-2,0.448452457161573,null,0.44374209025182898,0,null,-5.7738766678127697E-2,0,null,-1.6756179459229701E-3,0,null,4.7979442823153901E-4,"Region Midtjylland"]
[null,"Rudersdal",2014,0.11456628477905099,null,0.14854205972943599,1.2159719868971,null,1.5392766395005399,0,null,-5.6845171296203E-2,-0.31876200158138501,null,-0.56440818195488895,0,null,-4.78581865120873E-2,0,null,5.1999392481683103E-4,0.102790014684288,null,0.12931490633742701,"Region Midtjylland"]
[null,"Solrød",2014,0.135554425228891,null,8.5438555479495207E-2,0.33691675998506898,null,0.35164569100513898,0,null,-4.6907390324079798E-2,0.54371033967898497,null,0.62141544449799102,0,null,-3.2347112737456398E-3,0,null,0,0.119372900335946,null,7.7080966094722897E-2,"Region Midtjylland"]
[null,"Stevns",2014,0.26124999999999998,null,0.37870639461391398,0.79286422200198203,null,0.87226686997061598,0,null,0,0,null,-8.1906900655383197E-2,0,null,-6.6622891490425204E-2,0,null,0,0.20713577799801799,null,0.276262922175121,"Region Midtjylland"]
[null,"Struer",2014,null,null,-0.106350812108644,0,null,1.4388391160586899E-3,0,null,-8.2133282162516294E-2,0,null,-6.9436820156113299E-2,0,null,-3.17770082494633E-2,0,null,-4.1192348097727196E-3,1,null,1.1860275062616701,"Region Midtjylland"]
[null,"Svendborg",2014,3.2790525536639498E-2,null,3.9205854990641803E-2,0.55124346018777304,null,0.63797058893011604,0,null,-2.51954234795164E-2,0.36436608614634802,null,0.33777659453599901,0,null,-2.9955669854324199E-2,5.2641009101985201E-2,null,4.1644716351822098E-2,3.1749444563893101E-2,null,3.7759193515805499E-2,"Region Midtjylland"]
[null,"Tårnby",2014,0.81705839592924701,null,0.47435198281233698,0.27403653820509399,null,0.30338668264788299,0,null,-2.8054890475147001E-2,0.27630350713428498,null,0.40866159060388402,0,null,-4.6065733412831399E-2,0,null,7.1710038834904594E-2,0.44965995466062098,null,0.29036231180142402,"Region Midtjylland"]
[null,"Varde",2014,0.30198125722110503,null,0.310623516990432,5.6070466048774102E-2,null,3.1742761569356397E-2,0,null,0,0.61552619470189995,null,0.70973496319175,0,null,-7.4497499201839901E-2,9.6463550910405593E-2,null,8.8914059674565699E-2,0.23193978833892101,null,0.244105714766192,"Region Midtjylland"]
[null,"Vordingborg",2014,0,null,0,0.36290401169400699,null,0.44465054272878002,0,null,-3.3508670110308003E-2,0.63709598830599301,null,0.66205002236588895,0,null,-7.3207339770732502E-2,0,null,1.5444786077831201E-5,0,null,0,"Region Midtjylland"]
[null,"Ærø",2014,0,null,0,1.0024297400178199,null,1.0016857420379801,0,null,0,-2.42974001781809E-3,null,-1.1280935797012301E-3,0,null,0,0,null,-5.5764845841177501E-4,0,null,0,"Region Midtjylland"]
[null,"Aabenraa",2014,0,null,-2.6717389668085001E-4,1,null,1.09867395240974,0,null,-9.0213428715117103E-2,0,null,0,0,null,-9.2385376714210199E-4,0,null,-7.2698702663291899E-3,0,null,-2.66799661192973E-4,"Region Midtjylland"]
[null,"Aalborg",2014,0.11334822071747599,null,8.7230168139949896E-2,0,null,0.32505030997866102,0,null,-5.7127346762513298E-2,0.89534469929798399,null,0.696107278032571,0,null,-5.1984677967368498E-2,2.8468829866390602E-3,null,7.9560979753878804E-3,0.10180841771537601,null,7.9998338743020994E-2,"Region Midtjylland"]
[null,"Aarhus",2014,0.15935760395159801,null,0.16766948325133799,0.26221525907056997,null,0.281355517723753,0,null,-3.83018826393169E-2,0.57118382344653496,null,0.64215618772554695,0,null,-4.3873405589479803E-2,2.9147552439670401E-2,null,1.5093686214480999E-2,0.137453365043225,null,0.14356989656487301,"Region Midtjylland"]
[]
[]
[]
[]
[]
[]
[]
[]
[]
[]
[]
[]
[]
[]
[]
[]
[]
[]
[]
[]
[]
[]
[]
[]
[]
[]
[]
[]
[]
[]
[]
[]
[]
[]
[]
[]
[]
[]
[]
[]
[null,null,null,3,4,5,6,7,8,9,10,11,12,13,14,15,16,17,18,19,20,21,22,23]
[null,null,null,19,19,19,"20.1","20.1","20.1","20.2","20.2","20.2","20.3","20.3","20.3","20.4","20.4","20.4","20.5","20.5","20.5","20.6","20.6","20.6"]
[null,"Landet","År","Før projektperiode","Projektperiode","Tendens","Før projektperiode","Projektperiode","Tendens","Før projektperiode","Projektperiode","Tendens","Før projektperiode","Projektperiode","Tendens","Før projektperiode","Projektperiode","Tendens","Før projektperiode","Projektperiode","Tendens","Før projektperiode","Projektperiode","Tendens"]
[null,"Hele landet",2022,{"$f":"AVERAGE(D8:D105)","v":-5.6212950379680403E-2},{"$f":"AVERAGE(E8:E105)","v":0.20316816055020001},0.121446154424338,0.23168277951977057,0.21463066313396101,2.33384069000507E-2,0.16625128654179755,{"$error":"#DIV/0!"},0.20601598040655131,0.31904312605714552,{"$error":"#DIV/0!"},0.34661444153366583,0.16283081268882027,{"$error":"#DIV/0!"},0.18687950566165401,5.9876940086058865E-2,{"$error":"#DIV/0!"},8.1032574679416672E-2,6.0315055106407132E-2,{"$error":"#DIV/0!"},3.030989109572162E-2]
[null,"Hele landet",2021,{"$f":"AVERAGE(D106:D203)","v":-9.5977704201101223E-3},{"$f":"AVERAGE(E106:E203)","v":0.24254715674032393},0.16147416846816995,0.24254715674032393,0.15291302905281223,5.9895469683220973E-2,0.16147416846816995,{"$error":"#DIV/0!"},0.16902216123858743,0.32144658678994209,{"$error":"#DIV/0!"},0.33702302620827235,0.15291302905281223,{"$error":"#DIV/0!"},0.17422913611340313,5.9895469683220973E-2,{"$error":"#DIV/0!"},5.9593360858894662E-2,6.1723589265531051E-2,{"$error":"#DIV/0!"},3.4851704115055747E-2]
[null,"Hele landet",2020,{"$f":"AVERAGE(D204:D301)","v":-6.3346504494451922E-2},{"$f":"AVERAGE(E204:E301)","v":0.24736815768078368},0.16882949490156443,0.24736815768078368,8.9230948165208795E-2,6.6686539756351026E-2,0.16882949490156443,{"$error":"#DIV/0!"},0.10915128056695714,0.36829237367295942,{"$error":"#DIV/0!"},0.33329617014622998,8.9230948165208795E-2,{"$error":"#DIV/0!"},0.13377712661685057,6.6686539756351026E-2,{"$error":"#DIV/0!"},5.0849738121802615E-2,5.9592485823132736E-2,{"$error":"#DIV/0!"},6.400465131725247E-2]
[null,"Hele landet",2019,{"$f":"AVERAGE(D302:D399)","v":5.4772078154910801E-2},{"$f":"AVERAGE(E302:E399)","v":0.23642629045053903},0.16183454826209678,0.23642629045053903,0.19123367573659728,5.5145906946497701E-2,{"$f":"AVERAGE(J302:J399)","v":0.16183454826209678},{"$error":"#DIV/0!"},6.3018291339115573E-2,0.29867712814760772,{"$error":"#DIV/0!"},0.3541068607087956,0.19123367573659728,{"$error":"#DIV/0!"},7.3357058620555887E-2,5.5145906946497701E-2,{"$error":"#DIV/0!"},3.7294024402128353E-2,5.6682450456661475E-2,{"$error":"#DIV/0!"},7.3034025292670585E-2]
[null,"Hele landet",2018,{"$f":"AVERAGE(D400:D580)","v":7.219936968902492E-2},{"$f":"AVERAGE(E400:E580)","v":0.23370244329102335},0.13280423288399187,0.35299410641337936,0.22288848244186216,0.26058153471615386,8.381965504809967E-2,{"$error":"#DIV/0!"},-5.429178839633726E-3,0.31634799239931166,{"$error":"#DIV/0!"},0.35656652253211424,0.12487125823550109,{"$error":"#DIV/0!"},1.0960046357323458E-2,3.1962217878479339E-2,{"$error":"#DIV/0!"},1.873639145649084E-2,9.000477002522872E-2,{"$error":"#DIV/0!"},0.11465124459918578]